BEGIN:VCALENDAR
VERSION:2.0
PRODID:-//South Sound Blues Association - ECPv6.15.18//NONSGML v1.0//EN
CALSCALE:GREGORIAN
METHOD:PUBLISH
X-ORIGINAL-URL:https://southsoundblues.org
X-WR-CALDESC:Events for South Sound Blues Association
REFRESH-INTERVAL;VALUE=DURATION:PT1H
X-Robots-Tag:noindex
X-PUBLISHED-TTL:PT1H
BEGIN:VTIMEZONE
TZID:America/Los_Angeles
BEGIN:DAYLIGHT
TZOFFSETFROM:-0800
TZOFFSETTO:-0700
TZNAME:PDT
DTSTART:20230312T100000
END:DAYLIGHT
BEGIN:STANDARD
TZOFFSETFROM:-0700
TZOFFSETTO:-0800
TZNAME:PST
DTSTART:20231105T090000
END:STANDARD
BEGIN:DAYLIGHT
TZOFFSETFROM:-0800
TZOFFSETTO:-0700
TZNAME:PDT
DTSTART:20240310T100000
END:DAYLIGHT
BEGIN:STANDARD
TZOFFSETFROM:-0700
TZOFFSETTO:-0800
TZNAME:PST
DTSTART:20241103T090000
END:STANDARD
BEGIN:DAYLIGHT
TZOFFSETFROM:-0800
TZOFFSETTO:-0700
TZNAME:PDT
DTSTART:20250309T100000
END:DAYLIGHT
BEGIN:STANDARD
TZOFFSETFROM:-0700
TZOFFSETTO:-0800
TZNAME:PST
DTSTART:20251102T090000
END:STANDARD
END:VTIMEZONE
BEGIN:VEVENT
DTSTART;TZID=America/Los_Angeles:20240804T120000
DTEND;TZID=America/Los_Angeles:20240804T170000
DTSTAMP:20260423T232424
CREATED:20240723T225121Z
LAST-MODIFIED:20240723T225251Z
UID:13072-1722772800-1722790800@southsoundblues.org
SUMMARY:WBS international Blues Challenge Finals and Blues Picnic at the Conway Muse
DESCRIPTION:The 2024 international Blues Challenge Finals and Blues Picnic is Sunday AUG 4th at the Conway Muse with a noon start Time – All 21 + are welcome\, $10 cover /donation to IBC fund. FREE BBQ ~~ provided by the WBS\, bring a side dish to share and enjoy a day of blues topped off with the Mark Dufresne band!
URL:https://southsoundblues.org/event/wbs-international-blues-challenge-finals-and-blues-picnic-at-the-conway-muse/
LOCATION:Conway Muse\, 18444 Spruce St\, Conway\, WA\, 98238
CATEGORIES:Featured,Special Event
END:VEVENT
BEGIN:VEVENT
DTSTART;TZID=America/Los_Angeles:20240814T190000
DTEND;TZID=America/Los_Angeles:20240814T220000
DTSTAMP:20260423T232424
CREATED:20240815T022542Z
LAST-MODIFIED:20240815T022542Z
UID:13196-1723662000-1723672800@southsoundblues.org
SUMMARY:Celebration and Benefit for Chris Coons
DESCRIPTION:WEDNESDAY August 14th 7-10pm at The Spar Tavern in Tacoma a Celebration and Benefit for CHRIS COONS. Beloved SPAR Soundman and friend to all musicians.
URL:https://southsoundblues.org/event/celebration-and-benefit-for-chris-coons/
LOCATION:The Spar\, 2121 N 30th St\, Tacoma\, WA\, 98403
CATEGORIES:Special Event
END:VEVENT
BEGIN:VEVENT
DTSTART;TZID=America/Los_Angeles:20240815T190000
DTEND;TZID=America/Los_Angeles:20240815T190000
DTSTAMP:20260423T232424
CREATED:20240515T060600Z
LAST-MODIFIED:20240707T231747Z
UID:12722-1723748400-1723748400@southsoundblues.org
SUMMARY:Blues Vespers Guitarist Showcase with Eric Rice\, Tom Boyle\, and Tim Sherman at the Spanish Ballroom
DESCRIPTION:Blues Vespers Guitarist Showcase with Eric Rice\, Tom Boyle\, and Tim Sherman at the Spanish Ballroom August 15th\, 6pm\nEric Rice has been performing blues professionally for over 20 years. Currently he is the guitarist for the amazing Stacey Jones Band as well as the leader of Eric’s Maine Connection\, along with Andrew Cloutier and Scotty Harris. \nTom Boyle‘s ‘less is more’ guitar style\, steeped in the Chicago and Texas electric blues guitar traditions\, was heard all throughout the ‘80s and ‘90s as part of the thriving Pioneer Square blues scene with several great blues bands\, including ‘Drivin’ Wheel’\, ‘Nitelife ‘and ‘The Led Jaxson Band. \nTim Sherman has performed for decades in the NW and west coast blues scene. He is the recipient of multiple BB Awards from the Washington Blues Society for Best Electric Guitarist as well as his work with the very best traditional and authentic NW blues bands since the 1980’s.\n\n6 PM Doors\, 7 PM Start\,  $10 Adv or $15 DOS\,  All Ages Event
URL:https://southsoundblues.org/event/blues-vespers-guitarist-showcase-with-eric-rice-tom-boyle-and-tim-sherman-at-the-spanish-ballroom/
LOCATION:McMenaminsTacoma Elks\, 565 Broadway\, Tacoma\, WA\, 98402
CATEGORIES:Local South Sound Blues,Special Event
END:VEVENT
BEGIN:VEVENT
DTSTART;TZID=America/Los_Angeles:20240824T173000
DTEND;TZID=America/Los_Angeles:20240824T173000
DTSTAMP:20260423T232424
CREATED:20240530T234027Z
LAST-MODIFIED:20240530T235314Z
UID:12778-1724520600-1724520600@southsoundblues.org
SUMMARY:Buddy Guy\, Damn Right Farewell tour at Remlinger Farms\, Carnation\, WA
DESCRIPTION:Buddy Guy – Damn Right Farewell tour\, Saturday • Aug 24\, 2024 • 5:30 PM at the Remlinger Farms — Carnation\, WA\n  see ticketmaster for tickets \nRemlinger Farms is located at 32610 NE 32nd Street in Carnation\, Washington 98014 \n#425-333-4135
URL:https://southsoundblues.org/event/buddy-guy-damn-right-farewell-tour-at-remlinger-farms-carnation-wa/
LOCATION:remlinger farms\, 32610 NE 32nd Street\, Carnation\, WA\, 98014
CATEGORIES:Special Event
END:VEVENT
BEGIN:VEVENT
DTSTART;TZID=America/Los_Angeles:20240826T193000
DTEND;TZID=America/Los_Angeles:20240826T193000
DTSTAMP:20260423T232424
CREATED:20240820T224502Z
LAST-MODIFIED:20240826T225032Z
UID:13265-1724700600-1724700600@southsoundblues.org
SUMMARY:A celebration of Life for Chris Coons at Jazzbones
DESCRIPTION:A Celebration of Life for Chris Coons Mon Aug 26\n \nJoin us on Monday\, August 26th to celebrate the life of our dear friend. Chris wish was to have all his friends and family gather & listen to some of his favorite bands.  https://wl.seetickets.us/event/a-celebration-of-life-for-chris-coons/616400?afflky=Jazzbones \nStay Grounded (Acoustic) \nChampagne Sunday (Acoustic) \nStonePony \nBlues Power Revue (Blues Brothers Tribute) \nWe also are accepting donations for his family \nDoors at 7:00PM / Show at 7:30PM
URL:https://southsoundblues.org/event/a-celebration-of-life-for-chris-coons-at-jazzbones/
LOCATION:Jazzbones\, 2803 6th Ave\, Tacoma\, WA\, 98406
CATEGORIES:Local South Sound Blues,Special Event
END:VEVENT
BEGIN:VEVENT
DTSTART;TZID=America/Los_Angeles:20240827T190000
DTEND;TZID=America/Los_Angeles:20240827T190000
DTSTAMP:20260423T232424
CREATED:20240618T200029Z
LAST-MODIFIED:20240618T200225Z
UID:12880-1724785200-1724785200@southsoundblues.org
SUMMARY:Charlie Musselwhite at the Kirkland Performance Center
DESCRIPTION:Kirkland Performance Center welcomes legendary American blues musician Charlie Musselwhite. August 27th at 7pm.\nStarting out in the early 60s\, from Mississippi to Memphis\, Chicago to California\, Musselwhite’s life has been steeped in the blues. More than 20 albums later he is at the top of his game\, a revered elder statesman of the blues nowhere near ready to hang up his harps\, his depth of expression as a singer and an instrumentalist unexcelled and only growing deeper.\nTickets\nwww.kpcenter.org/event/charlie-musselwhite\n\n\n\n\nEvent by Kirkland Performance Center
URL:https://southsoundblues.org/event/charlie-musselwhite-at-the-kirkland-performance-center/
LOCATION:Kirkland Performance Center\, 350 Kirkland Ave\, Kirkland\, WA\, 98033
CATEGORIES:Featured,Special Event
END:VEVENT
END:VCALENDAR