BEGIN:VCALENDAR
VERSION:2.0
PRODID:-//South Sound Blues Association - ECPv6.15.18//NONSGML v1.0//EN
CALSCALE:GREGORIAN
METHOD:PUBLISH
X-ORIGINAL-URL:https://southsoundblues.org
X-WR-CALDESC:Events for South Sound Blues Association
REFRESH-INTERVAL;VALUE=DURATION:PT1H
X-Robots-Tag:noindex
X-PUBLISHED-TTL:PT1H
BEGIN:VTIMEZONE
TZID:America/Los_Angeles
BEGIN:DAYLIGHT
TZOFFSETFROM:-0800
TZOFFSETTO:-0700
TZNAME:PDT
DTSTART:20230312T100000
END:DAYLIGHT
BEGIN:STANDARD
TZOFFSETFROM:-0700
TZOFFSETTO:-0800
TZNAME:PST
DTSTART:20231105T090000
END:STANDARD
BEGIN:DAYLIGHT
TZOFFSETFROM:-0800
TZOFFSETTO:-0700
TZNAME:PDT
DTSTART:20240310T100000
END:DAYLIGHT
BEGIN:STANDARD
TZOFFSETFROM:-0700
TZOFFSETTO:-0800
TZNAME:PST
DTSTART:20241103T090000
END:STANDARD
BEGIN:DAYLIGHT
TZOFFSETFROM:-0800
TZOFFSETTO:-0700
TZNAME:PDT
DTSTART:20250309T100000
END:DAYLIGHT
BEGIN:STANDARD
TZOFFSETFROM:-0700
TZOFFSETTO:-0800
TZNAME:PST
DTSTART:20251102T090000
END:STANDARD
END:VTIMEZONE
BEGIN:VEVENT
DTSTART;TZID=America/Los_Angeles:20240920T200000
DTEND;TZID=America/Los_Angeles:20240920T200000
DTSTAMP:20260423T215705
CREATED:20240918T224816Z
LAST-MODIFIED:20240918T224903Z
UID:13456-1726862400-1726862400@southsoundblues.org
SUMMARY:An Evening with Hot Tuna at the Rialto Theater\, Tacoma
DESCRIPTION:Presented by PCI Concerts\, An Evening With Hot Tuna\, An Acoustic Show September 20th at 8pm\, Doors at 7pm\n\n\n\n\n\nBuy Tickets\n\n\n\nTicket Prices Starting at $65.00 (not including fees) On Sale Now\n\n\n\n\n\n\n  \nhttps://www.tacomacitytheaters.org/events/detail/an-evening-with-hot-tuna-acoustic
URL:https://southsoundblues.org/event/an-evening-with-hot-tuna-at-the-rialto-theater-tacoma/
LOCATION:Rialto Theater\, 310 S 9th St\, Tacoma\, WA\, 98402
CATEGORIES:Featured,Special Event
END:VEVENT
END:VCALENDAR