BEGIN:VCALENDAR
VERSION:2.0
PRODID:-//South Sound Blues Association - ECPv6.15.18//NONSGML v1.0//EN
CALSCALE:GREGORIAN
METHOD:PUBLISH
X-WR-CALNAME:South Sound Blues Association
X-ORIGINAL-URL:https://southsoundblues.org
X-WR-CALDESC:Events for South Sound Blues Association
REFRESH-INTERVAL;VALUE=DURATION:PT1H
X-Robots-Tag:noindex
X-PUBLISHED-TTL:PT1H
BEGIN:VTIMEZONE
TZID:America/Los_Angeles
BEGIN:DAYLIGHT
TZOFFSETFROM:-0800
TZOFFSETTO:-0700
TZNAME:PDT
DTSTART:20230312T100000
END:DAYLIGHT
BEGIN:STANDARD
TZOFFSETFROM:-0700
TZOFFSETTO:-0800
TZNAME:PST
DTSTART:20231105T090000
END:STANDARD
BEGIN:DAYLIGHT
TZOFFSETFROM:-0800
TZOFFSETTO:-0700
TZNAME:PDT
DTSTART:20240310T100000
END:DAYLIGHT
BEGIN:STANDARD
TZOFFSETFROM:-0700
TZOFFSETTO:-0800
TZNAME:PST
DTSTART:20241103T090000
END:STANDARD
BEGIN:DAYLIGHT
TZOFFSETFROM:-0800
TZOFFSETTO:-0700
TZNAME:PDT
DTSTART:20250309T100000
END:DAYLIGHT
BEGIN:STANDARD
TZOFFSETFROM:-0700
TZOFFSETTO:-0800
TZNAME:PST
DTSTART:20251102T090000
END:STANDARD
END:VTIMEZONE
BEGIN:VEVENT
DTSTART;TZID=America/Los_Angeles:20241104T200000
DTEND;TZID=America/Los_Angeles:20241104T200000
DTSTAMP:20260423T185143
CREATED:20240525T184337Z
LAST-MODIFIED:20240525T184337Z
UID:12768-1730750400-1730750400@southsoundblues.org
SUMMARY:Joanne Shaw Taylor at the Neptune Theatre\, Seattle
DESCRIPTION:Joanne Shaw Taylor\, Monday\, Nov 4th\, 8:00 PM\, Neptune Theatre — Seattle
URL:https://southsoundblues.org/event/joanne-shaw-taylor-at-the-neptune-theatre-seattle/
LOCATION:Neptune Theatre\, 1303 NE 45th St\, Seattle\, WA\, 98105
CATEGORIES:Special Event
END:VEVENT
BEGIN:VEVENT
DTSTART;TZID=America/Los_Angeles:20241108T200000
DTEND;TZID=America/Los_Angeles:20241108T230000
DTSTAMP:20260423T185143
CREATED:20241014T004755Z
LAST-MODIFIED:20241014T005315Z
UID:13654-1731096000-1731106800@southsoundblues.org
SUMMARY:Billy Stoops & The Dirt Angels at Jazzbones New Album Release Event
DESCRIPTION:Billy Stoops & The Dirt Angels at Jazzbones November 8th\, 8pm\nThe Dirt Angels will be sharing the music of their new CD with a live showcase performance. Billy Stoops with Trev Cutler\, Leanne Trevalyan\, Barbra Blue\, and Troy Moss at Jazzbones in Tacoma.
URL:https://southsoundblues.org/event/billy-stoops-the-dirt-angels-at-jazzbones/
LOCATION:Jazzbones\, 2803 6th Ave\, Tacoma\, WA\, 98406
CATEGORIES:Local South Sound Blues,Special Event
END:VEVENT
BEGIN:VEVENT
DTSTART;TZID=America/Los_Angeles:20241117T170000
DTEND;TZID=America/Los_Angeles:20241117T170000
DTSTAMP:20260423T185143
CREATED:20241002T224455Z
LAST-MODIFIED:20241107T224531Z
UID:13523-1731862800-1731862800@southsoundblues.org
SUMMARY:Taylor Hardin Blues Band and Unplugged at the Spanish Ballroom
DESCRIPTION:Taylor Hardin Blues Band and Unplugged at the Spanish Ballroom\, Sunday\, November 17th\, Doors at 4:00 PM\, Show at 5:00 PM\n \nThe Taylor Hardin Blues Band is a high-energy\, soulful group led by accomplished guitarist and vocalist Taylor John Hardin. Known for their electrifying performances\, the band delivers a powerful mix of classic blues\, with a grunge twist. With a lineup that includes Brad Bentley on keys\, Reece Webber on drums and Roman Winkel on bass bass\, their sound is rich\, dynamic\, and deeply rooted in the traditions of American blues.\n\n\n\nBorn from a shared love for the music that defined their generation\, Unplugged is a 90s acoustic cover band that brings the era’s greatest hits back to life. The trio—Tyke\, Keith\, and Jeff—grew up immersed in the sounds of the 90s\, and now\, as seasoned musicians\, they’re delivering nostalgic\, stripped-down performances that capture the heart of the music they love.\n\n$12 advance or $15 day of show\, All Ages Welcome
URL:https://southsoundblues.org/event/taylor-hardin-blues-band-and-unplugged-at-the-spanish-ballroom/
LOCATION:McMenaminsTacoma Elks\, 565 Broadway\, Tacoma\, WA\, 98402
CATEGORIES:Featured,Local South Sound Blues,Special Event
END:VEVENT
BEGIN:VEVENT
DTSTART;TZID=America/Los_Angeles:20241127T200000
DTEND;TZID=America/Los_Angeles:20241127T200000
DTSTAMP:20260423T185143
CREATED:20241109T202026Z
LAST-MODIFIED:20241109T202123Z
UID:13784-1732737600-1732737600@southsoundblues.org
SUMMARY:Randy Hansen\, Celebrating Jimi Hendrix's Birthday\, at the Spanish Ballroom
DESCRIPTION:Randy Hansen\, Celebrating Jimi Hendrix’s Birthday\, at the Spanish Ballroom\, November 27th\, doors @ 7pm\, show at 8pm\, all ages \n  \n \nhttps://www.etix.com/ticket/p/58920049/jimi-hendrix-birthday-bash-wrandy-hansenall-ages-tacoma-mcmenamins-spanish-ballroom-elks-temple?utm_source=hive&utm_medium=email&utm_campaign=hive_email_id_359770_monthly-music-round-up-november-2024&h_sid=cf707bfb34-60341d01f9e6900f60899729&h_slt=eyJoaXZlX3VzZXJfaWQiOjQyMzUxMzEwLCJoYXNoIjoiYTRhYWJhNWEzMDFiOGZmIn0%3D \n  \n  \n 
URL:https://southsoundblues.org/event/randy-hansen-celebrating-jimi-hendrixs-birthday-at-the-spanish-ballroom/
LOCATION:McMenaminsTacoma Elks\, 565 Broadway\, Tacoma\, WA\, 98402
CATEGORIES:Local South Sound Blues,Special Event
END:VEVENT
END:VCALENDAR