BEGIN:VCALENDAR
VERSION:2.0
PRODID:-//South Sound Blues Association - ECPv6.15.18//NONSGML v1.0//EN
CALSCALE:GREGORIAN
METHOD:PUBLISH
X-ORIGINAL-URL:https://southsoundblues.org
X-WR-CALDESC:Events for South Sound Blues Association
REFRESH-INTERVAL;VALUE=DURATION:PT1H
X-Robots-Tag:noindex
X-PUBLISHED-TTL:PT1H
BEGIN:VTIMEZONE
TZID:America/Los_Angeles
BEGIN:DAYLIGHT
TZOFFSETFROM:-0800
TZOFFSETTO:-0700
TZNAME:PDT
DTSTART:20240310T100000
END:DAYLIGHT
BEGIN:STANDARD
TZOFFSETFROM:-0700
TZOFFSETTO:-0800
TZNAME:PST
DTSTART:20241103T090000
END:STANDARD
BEGIN:DAYLIGHT
TZOFFSETFROM:-0800
TZOFFSETTO:-0700
TZNAME:PDT
DTSTART:20250309T100000
END:DAYLIGHT
BEGIN:STANDARD
TZOFFSETFROM:-0700
TZOFFSETTO:-0800
TZNAME:PST
DTSTART:20251102T090000
END:STANDARD
BEGIN:DAYLIGHT
TZOFFSETFROM:-0800
TZOFFSETTO:-0700
TZNAME:PDT
DTSTART:20260308T100000
END:DAYLIGHT
BEGIN:STANDARD
TZOFFSETFROM:-0700
TZOFFSETTO:-0800
TZNAME:PST
DTSTART:20261101T090000
END:STANDARD
END:VTIMEZONE
BEGIN:VEVENT
DTSTART;TZID=America/Los_Angeles:20250803T190000
DTEND;TZID=America/Los_Angeles:20250803T220000
DTSTAMP:20260423T063532
CREATED:20250607T223006Z
LAST-MODIFIED:20250719T000642Z
UID:14998-1754247600-1754258400@southsoundblues.org
SUMMARY:Sunday Blues at the Spar with LTD spotlight series- "Blues lady" Eden Brent
DESCRIPTION:Sunday Blues at the Spar 7-10 pm\nLTD Presents: Blues lady Eden Brent is a piano-pounding\, juke-joint hollering powerhouse of American music. A legendary performer and southern songwriter\, she spent the first two decades of her career under the tutelage of Abie “Boogaloo” Ames\, before winning The International Blues Challenge and bouncing onto the global music scene. \nSince winning The Blues Foundation’s Challenge she lands steady honors\, three Blues Music Awards among them. Her new album Getaway Blues presents nine original songs recorded in London with a four-piece band. Laid down in London. Mixed up in Memphis. Made in Mississippi. \nhttps://www.edenbrent.com/biography \n 
URL:https://southsoundblues.org/event/sunday-blues-at-the-spar-25/
LOCATION:The Spar\, 2121 N 30th St\, Tacoma\, WA\, 98403
CATEGORIES:Local South Sound Blues,Special Event
END:VEVENT
BEGIN:VEVENT
DTSTART;TZID=America/Los_Angeles:20250809T190000
DTEND;TZID=America/Los_Angeles:20250809T190000
DTSTAMP:20260423T063532
CREATED:20250208T002927Z
LAST-MODIFIED:20250717T203248Z
UID:14295-1754766000-1754766000@southsoundblues.org
SUMMARY:Tedeschi Trucks Band at the Gorge Amphitheater
DESCRIPTION:Tedeschi Trucks Band at the Gorge Amphitheater August 9th\, 7pm\n  \nhttps://www.stubhub.com/tedeschi-trucks-band-george-tickets-8-9-2025/event/156999846/ \n  \n\n\n754 Silica Road NW \n George\, WA 98848 \n\n\ngorgeinfo@livenation.com \n\n\n206.607.3440
URL:https://southsoundblues.org/event/tedeschi-trucks-band-at-the-gorge-amphitheater/
LOCATION:Gorge Amphitheater\, 754 Silica Road NW\, George\, WA\, 98848
CATEGORIES:Special Event
END:VEVENT
BEGIN:VEVENT
DTSTART;TZID=America/Los_Angeles:20250816T190000
DTEND;TZID=America/Los_Angeles:20250816T223000
DTSTAMP:20260423T063532
CREATED:20250417T015014Z
LAST-MODIFIED:20250417T015014Z
UID:14689-1755370800-1755383400@southsoundblues.org
SUMMARY:Buddy Guy returns to The Paramount Theatre
DESCRIPTION:Buddy Guy returns to The Paramount Theatre on August 16!\n \n  \n\n\n\nSTG Presents\, Doors at 7pm\, Show at 8pm\, Reserved Seating\, All Ages\, Bar with Valid ID\n\n\n\n 
URL:https://southsoundblues.org/event/buddy-guy-returns-to-the-paramount-theatre/
LOCATION:Paramount Theater\, 911 Pine St\, Seattle\, WA\, 98101
CATEGORIES:Special Event
END:VEVENT
BEGIN:VEVENT
DTSTART;TZID=America/Los_Angeles:20250822T190000
DTEND;TZID=America/Los_Angeles:20250822T220000
DTSTAMP:20260423T063532
CREATED:20250806T221148Z
LAST-MODIFIED:20250810T191611Z
UID:15639-1755889200-1755900000@southsoundblues.org
SUMMARY:Joel Astley Band at Aurora Borealis\, (Double bill with Alison Joy Williams & Indigo Edge)\, Shoreline
DESCRIPTION:Joel Astley Band at Aurora Borealis\, (Double bill with Alison Joy Williams & Indigo Edge)\, 7-10 pm\nThis show is right around the corner! Do you have your tickets yet? Joel Astley is the 2024 and 2025 winner of the Washington Blues Society Challenge. Alison Joy Williams was a 2024 finalist of the Washington Blues Society Challenge from Coeur D’ Alene. Both artist recent releases\, Astley’s ‘SEATTLE TO GREASELAND’ 2023 and Williams ‘HOW YOU LOOK AT THINGS have received national recognition on multiple Blues Charts and great reviews. Don’t miss the chance to catch both artist in one night at Aurora Borealis Friday\, Aug. 22\, 2025 @7:30
URL:https://southsoundblues.org/event/joel-astley-band-at-aurora-borealis-shoreline/
LOCATION:Aurora Borealis\, 16708 Aurora Ave N\, Shoreline\, WA\, 98133
CATEGORIES:Featured,Special Event
END:VEVENT
BEGIN:VEVENT
DTSTART;VALUE=DATE:20250823
DTEND;VALUE=DATE:20250825
DTSTAMP:20260423T063532
CREATED:20250423T034203Z
LAST-MODIFIED:20250610T014825Z
UID:14726-1755914400-1756000799@southsoundblues.org
SUMMARY:Poverty Bay Blues & Brews Festival
DESCRIPTION:Poverty Bay Blues & Brews Festival August 23rd\, 11:00 am – 7:00 Pm at the Des Moines Beach Park\nhttps://www.drinktomusic.org/ \n \nBand line-up for this year’s festival!\nHank Shreve Band 11:30 to 1:00\nAllison Joy Williams Band 1:30 to 3:00\nJoel Astley 3:30 to 5:00\nHillstomp 5:30 to 7:00\n\n\npoverty bayBlues & Brews festAugust 23\, 2025Des Moines\,wa
URL:https://southsoundblues.org/event/poverty-bay-blues-brews-festival/
LOCATION:Des Moines Beach Park\, 22030D Cliff Ave S\, Des Moines\, WA\, 98198
CATEGORIES:Festival,Local South Sound Blues,Special Event
END:VEVENT
BEGIN:VEVENT
DTSTART;TZID=America/Los_Angeles:20250823T170000
DTEND;TZID=America/Los_Angeles:20250823T210000
DTSTAMP:20260423T063532
CREATED:20250610T013602Z
LAST-MODIFIED:20250610T013735Z
UID:15080-1755968400-1755982800@southsoundblues.org
SUMMARY:DOWNTOWN TACOMA BLUES & JAZZ FESTIVAL\, Day One
DESCRIPTION:DOWNTOWN TACOMA BLUES & JAZZ FESTIVAL\, Day One!\nSATURDAY AUGUST 23\, 5-9PM at Ebony & Ivory (1145 Broadway\, Indoors)\nhttps://www.ltdpresentslive.com/
URL:https://southsoundblues.org/event/downtown-tacoma-blues-jazz-festival-day-one/
LOCATION:Ebony & Ivory\, 1145 Broadway\, Tacoma\, WA\, 98402
CATEGORIES:Special Event
END:VEVENT
BEGIN:VEVENT
DTSTART;VALUE=DATE:20250824
DTEND;VALUE=DATE:20250826
DTSTAMP:20260423T063532
CREATED:20250127T204628Z
LAST-MODIFIED:20250728T214432Z
UID:14237-1756000800-1756087199@southsoundblues.org
SUMMARY:Downtown Tacoma Blues & Jazz Festival
DESCRIPTION:Downtown Tacoma Blues and Jazz festival Sunday August 24th!\nNOON-7PM on Broadway between 11th & 13th Street in Tacoma WA\nSTARRING: \nDANIELLE NICOLE \nD.K. HARRELL \nJOHN PRIMER & THE REAL DEAL BLUES BAND \nMARCEL SMITH & DERRICK “D’MAR” MARTIN \nCHRIS O’LEARY BAND \nELNAH JORDAN EXPERIENCE \n John Primer        Danielle Nicole \nNew downtown location! On Broadway between 11th and 13th streets. \nAUGUST 24 AT NOON\, THE DOWNTOWN TACOMA BLUES AND JAZZ FESTIVAL BEGINS AND WILL HAVE TWO STAGES OF MUSIC ALL DAY. \nDOWNTOWN TACOMA BLUES & JAZZ FESTIVAL\nSATURDAY AUGUST 23\, 5-9PM at Ebony & Ivory (1145 Broadway\, Indoors)\nSUNDAY AUGUST 24\, NOON-7PM on Broadway between 11th & 13th Street\, outdoors\nVIP PACKAGES AVAILABLE\nhttps://dtbjf.rsvpify.com/?securityToken=B6QEh4X9x9RLcb5IbCRXddKhbQpihYGg \n \n\nDowntown Tacoma Blues & Jazz Festival happening Sunday\, August 24th and brought to you by LTD Presents and title sponsors MJR Development & J Squared Investments.\nSponsors: Kat McNeill & Lance Bowman\, JD Pendergast Law\, South Sound Blues Association\, KNKX Public Radio\, Jerilyn Nikiel\, Bev & Dave Farrell and Susie Campbell.\n\n 
URL:https://southsoundblues.org/event/5th-annual-tacoma-dock-street-blues-jazz-festival/
LOCATION:Tacoma Blues & Jazz fest loacation\, 1114 Broadway\, Tacoma\, WA\, 98402
CATEGORIES:Festival,Local South Sound Blues,Special Event
END:VEVENT
BEGIN:VEVENT
DTSTART;TZID=America/Los_Angeles:20250829T193000
DTEND;TZID=America/Los_Angeles:20250829T220000
DTSTAMP:20260423T063532
CREATED:20250806T220206Z
LAST-MODIFIED:20250806T220206Z
UID:15635-1756495800-1756504800@southsoundblues.org
SUMMARY:Joel Astley Band- "The Road to Memphis Show" at the Triple Door\, Seattle
DESCRIPTION:Joel Astley Band- “The Road to Memphis Show” at the Triple Door August 29th 7:30 pm\nSince forming his first band in 2014\, Joel Astley has established himself on the national Blues scene as a top frontman\, harmonica player\, singer and songwriter. His award winning four-piece band performs year-round\, tours regularly\, and appear on numerous recordings. They have amassed dozens of awards\, nominations and other accolades\, most recently sweeping the 2024 and 2025 Washington Blues Society Best of the Blues Awards. \nThe Road to Memphis: Joel Astley Band w/ Sutton and Pittman\n 
URL:https://southsoundblues.org/event/joel-astley-band-the-road-to-memphis-show-at-the-triple-door-seattle/
LOCATION:The Triple Door\, 216 Union St\,\, Seattle\, WA\, 98101
CATEGORIES:Featured,Special Event
END:VEVENT
END:VCALENDAR