BEGIN:VCALENDAR
VERSION:2.0
PRODID:-//South Sound Blues Association - ECPv6.15.18//NONSGML v1.0//EN
CALSCALE:GREGORIAN
METHOD:PUBLISH
X-ORIGINAL-URL:https://southsoundblues.org
X-WR-CALDESC:Events for South Sound Blues Association
REFRESH-INTERVAL;VALUE=DURATION:PT1H
X-Robots-Tag:noindex
X-PUBLISHED-TTL:PT1H
BEGIN:VTIMEZONE
TZID:America/Los_Angeles
BEGIN:DAYLIGHT
TZOFFSETFROM:-0800
TZOFFSETTO:-0700
TZNAME:PDT
DTSTART:20230312T100000
END:DAYLIGHT
BEGIN:STANDARD
TZOFFSETFROM:-0700
TZOFFSETTO:-0800
TZNAME:PST
DTSTART:20231105T090000
END:STANDARD
BEGIN:DAYLIGHT
TZOFFSETFROM:-0800
TZOFFSETTO:-0700
TZNAME:PDT
DTSTART:20240310T100000
END:DAYLIGHT
BEGIN:STANDARD
TZOFFSETFROM:-0700
TZOFFSETTO:-0800
TZNAME:PST
DTSTART:20241103T090000
END:STANDARD
BEGIN:DAYLIGHT
TZOFFSETFROM:-0800
TZOFFSETTO:-0700
TZNAME:PDT
DTSTART:20250309T100000
END:DAYLIGHT
BEGIN:STANDARD
TZOFFSETFROM:-0700
TZOFFSETTO:-0800
TZNAME:PST
DTSTART:20251102T090000
END:STANDARD
END:VTIMEZONE
BEGIN:VEVENT
DTSTART;TZID=America/Los_Angeles:20241201T180000
DTEND;TZID=America/Los_Angeles:20241201T210000
DTSTAMP:20260423T235801
CREATED:20240822T231353Z
LAST-MODIFIED:20241031T013917Z
UID:13317-1733076000-1733086800@southsoundblues.org
SUMMARY:South Sound Blues Association Holiday Party featuring The Lloyd Jones Band at the Spanish Ballroom
DESCRIPTION:South Sound Blues Association Holiday Party at the Spanish Ballroom\nThe South Sound Blues Association returns to the Spanish Ballroom for their annual Holiday Party\, featuring the Lloyd Jones Band. Doors are 5:00\, show starts at 6:00 pm. Members us the promotion code to save for your ticket. questions? info@southsoundblues.org \nhttps://www.etix.com/ticket/p/31406786/the-lloyd-jones-band-south-sound-blues-association-holiday-partyall-ages-tacoma-mcmenamins-spanish-ballroom-elks-temple\nPortland-based blues and roots artist Lloyd Jones has recorded six critically acclaimed albums\, toured internationally\, and racked up dozens of major awards. He’s forged a 30-plus-year career as an impassioned singer and fierce guitar slinger\, a clever and soulful songwriter\, bandleader\, and record producer. He’s been a featured performer on six of Delbert McClinton’s blues cruises and is a regular fixture at the Portland Waterfront Blues Festival.  Many blues artists have recorded his songs\, including Gatemouth Brown\, Joe Louis Walker and Coco Montoya\, and he’s toured and shared stages with musical legends such as Big Mama Thornton\, B.B. King\, Etta James\, Bonnie Raitt\, Dr. John\,  Taj Mahal and many more. \n Lloyd Jones \nHis newest recording\, “Tennessee Run\,” recorded in Nashville\, features 14 original songs. It’s garnered rave reviews and received the Cascade Blues Association’s Muddy Award for National Album of the Year. Glide Magazine wrote\, “Jones and band bring unrelenting energy and contagious\, infectious hooks and groves that make it impossible to sit still… A “must-have” for lovers of high powered\, horn-fueled rowdy roadhouse fare.” \nFor this performance at the 2024 SSBA Holiday Party\, Lloyd is bringing his full six-piece band\, including a horn section. It promises to be a rocking\, high-energy show that will keep the dance floor packed all night.
URL:https://southsoundblues.org/event/south-sound-blues-association-holiday-party-at-the-spanish-ballroom-4/
LOCATION:McMenaminsTacoma Elks\, 565 Broadway\, Tacoma\, WA\, 98402
CATEGORIES:Featured,Local South Sound Blues,Special Event,SSBA Event
END:VEVENT
END:VCALENDAR