BEGIN:VCALENDAR
VERSION:2.0
PRODID:-//South Sound Blues Association - ECPv6.15.18//NONSGML v1.0//EN
CALSCALE:GREGORIAN
METHOD:PUBLISH
X-WR-CALNAME:South Sound Blues Association
X-ORIGINAL-URL:https://southsoundblues.org
X-WR-CALDESC:Events for South Sound Blues Association
REFRESH-INTERVAL;VALUE=DURATION:PT1H
X-Robots-Tag:noindex
X-PUBLISHED-TTL:PT1H
BEGIN:VTIMEZONE
TZID:America/Los_Angeles
BEGIN:DAYLIGHT
TZOFFSETFROM:-0800
TZOFFSETTO:-0700
TZNAME:PDT
DTSTART:20240310T100000
END:DAYLIGHT
BEGIN:STANDARD
TZOFFSETFROM:-0700
TZOFFSETTO:-0800
TZNAME:PST
DTSTART:20241103T090000
END:STANDARD
BEGIN:DAYLIGHT
TZOFFSETFROM:-0800
TZOFFSETTO:-0700
TZNAME:PDT
DTSTART:20250309T100000
END:DAYLIGHT
BEGIN:STANDARD
TZOFFSETFROM:-0700
TZOFFSETTO:-0800
TZNAME:PST
DTSTART:20251102T090000
END:STANDARD
BEGIN:DAYLIGHT
TZOFFSETFROM:-0800
TZOFFSETTO:-0700
TZNAME:PDT
DTSTART:20260308T100000
END:DAYLIGHT
BEGIN:STANDARD
TZOFFSETFROM:-0700
TZOFFSETTO:-0800
TZNAME:PST
DTSTART:20261101T090000
END:STANDARD
END:VTIMEZONE
BEGIN:VEVENT
DTSTART;TZID=America/Los_Angeles:20250930T190000
DTEND;TZID=America/Los_Angeles:20250930T210000
DTSTAMP:20260423T111347
CREATED:20250830T201554Z
LAST-MODIFIED:20250830T201554Z
UID:15849-1759258800-1759266000@southsoundblues.org
SUMMARY:Purdy's Tuesday Blues Showcase featuring Annie Eastwood & Her All-Star Band with guitarist Billy Stapleton\, Sumner
DESCRIPTION:Purdy’s Blues Showcase featuring Annie Eastwood & Her All-Star Band with award winning guitarist Billy Stapleton\, September 30th\, 7-9 pm\n\n Annie Eastwood Music/Stickshift Annie and South Sound Blues Association\n\n\n\n\n\n\n\n\nat\n\n\n\nPurdy’s Public House\, 16202 64th St E\, Sumner\, WA 98390\n\n\n\n\n\n\n\n\n\n\n\n\n\n\n\n\n\n\nEclectic Rhythm & Blues\, Rock\, Blues\, Soul and Jazz.\nSouth Sound Blues Association event at Purdy’s Public House in Sumner.Annie Eastwood & Her All-Star Band Featuring award winning guitarist Billy Stapleton\, keyboardist Bruce Laven\, bassist and vocalist Jeff Davies\, and drummer and vocalist Steve Peterson. This dynamic band of five veteran players performs music from Lucinda Williams to Alison Krauss\, Etta James to Ella\, Julie London to Emmylou Harris\, Mose Allison to Robben Ford\, Sonny Landreth to Eric Clapton\, Hendrix and Freddie King.
URL:https://southsoundblues.org/event/purdys-tuesday-blues-showcase-featuring-annie-eastwood-her-all-star-band-with-guitarist-billy-stapleton-sumner/
LOCATION:Purdy’s Public House & Arcade\, Sumner\, 16202 64th St E\, Sumner\, WA\, 98390
CATEGORIES:Local South Sound Blues,SSBA Event
END:VEVENT
END:VCALENDAR