BEGIN:VCALENDAR
VERSION:2.0
PRODID:-//South Sound Blues Association - ECPv6.15.18//NONSGML v1.0//EN
CALSCALE:GREGORIAN
METHOD:PUBLISH
X-WR-CALNAME:South Sound Blues Association
X-ORIGINAL-URL:https://southsoundblues.org
X-WR-CALDESC:Events for South Sound Blues Association
REFRESH-INTERVAL;VALUE=DURATION:PT1H
X-Robots-Tag:noindex
X-PUBLISHED-TTL:PT1H
BEGIN:VTIMEZONE
TZID:America/Los_Angeles
BEGIN:DAYLIGHT
TZOFFSETFROM:-0800
TZOFFSETTO:-0700
TZNAME:PDT
DTSTART:20230312T100000
END:DAYLIGHT
BEGIN:STANDARD
TZOFFSETFROM:-0700
TZOFFSETTO:-0800
TZNAME:PST
DTSTART:20231105T090000
END:STANDARD
BEGIN:DAYLIGHT
TZOFFSETFROM:-0800
TZOFFSETTO:-0700
TZNAME:PDT
DTSTART:20240310T100000
END:DAYLIGHT
BEGIN:STANDARD
TZOFFSETFROM:-0700
TZOFFSETTO:-0800
TZNAME:PST
DTSTART:20241103T090000
END:STANDARD
BEGIN:DAYLIGHT
TZOFFSETFROM:-0800
TZOFFSETTO:-0700
TZNAME:PDT
DTSTART:20250309T100000
END:DAYLIGHT
BEGIN:STANDARD
TZOFFSETFROM:-0700
TZOFFSETTO:-0800
TZNAME:PST
DTSTART:20251102T090000
END:STANDARD
END:VTIMEZONE
BEGIN:VEVENT
DTSTART;TZID=America/Los_Angeles:20240801T180000
DTEND;TZID=America/Los_Angeles:20240801T180000
DTSTAMP:20260423T215711
CREATED:20240706T203146Z
LAST-MODIFIED:20240706T203146Z
UID:12972-1722535200-1722535200@southsoundblues.org
SUMMARY:Stacy Jones Band at the Slippery Pig
DESCRIPTION:Stacy Jones Band at the Slippery Pig\, August 1st\, 6pm\n 
URL:https://southsoundblues.org/event/stacy-jones-band-at-the-slippery-pig/
LOCATION:Slippery Pig Brewery\, 18801 Front St NE\, Poulsbo\, WA\, 98370
CATEGORIES:Local South Sound Blues
END:VEVENT
BEGIN:VEVENT
DTSTART;TZID=America/Los_Angeles:20240801T183000
DTEND;TZID=America/Los_Angeles:20240801T200000
DTSTAMP:20260423T215711
CREATED:20240314T000721Z
LAST-MODIFIED:20240314T000721Z
UID:12458-1722537000-1722542400@southsoundblues.org
SUMMARY:Curran Apple Orchard concert series with musical guests\, The Soulful 88's
DESCRIPTION:Curran Apple Orchard concert series with musical guests\, The Soulful 88’s\, featuring Billy Spaulding\,  August 1st\, 6:30-8pm\n \nCurran Apple Orchard\, 3920 Grandview Drive West\, University Place \n 
URL:https://southsoundblues.org/event/curran-apple-orchard-concert-series-with-musical-guests-the-soulful-88s/
LOCATION:Curran Apple Orchard\, 3920 Grandview Dr W\, University Place\, WA\, 98466
CATEGORIES:Local South Sound Blues
END:VEVENT
BEGIN:VEVENT
DTSTART;TZID=America/Los_Angeles:20240801T190000
DTEND;TZID=America/Los_Angeles:20240801T210000
DTSTAMP:20260423T215711
CREATED:20240714T195044Z
LAST-MODIFIED:20240714T195044Z
UID:13054-1722538800-1722546000@southsoundblues.org
SUMMARY:WBS Gas Station Blues with John Del Toro Richardson at Historic Shell Station\, Issaquah
DESCRIPTION:WBS Gas Station Blues with John Del Toro Richardson\, August 1st\, at Historic Shell Station\, Issaquah\, WA.\, 7-9 pm
URL:https://southsoundblues.org/event/wbs-gas-station-blues-with-john-del-toro-richardson-at-historic-shell-station-issaquah/
LOCATION:Historic Shell Station\, 232 Front St N\, Issaquah\, WA\, 98027
CATEGORIES:Local South Sound Blues
END:VEVENT
BEGIN:VEVENT
DTSTART;TZID=America/Los_Angeles:20240801T200000
DTEND;TZID=America/Los_Angeles:20240801T200000
DTSTAMP:20260423T215711
CREATED:20240709T195645Z
LAST-MODIFIED:20240709T195645Z
UID:13017-1722542400-1722542400@southsoundblues.org
SUMMARY:Live music at the Snapdragon every Thursday\, Vashon
DESCRIPTION:Live music at the Snapdragon every Thursday\, 8pm
URL:https://southsoundblues.org/event/live-music-at-the-snapdragon-every-thursday-vashon-2/
LOCATION:Snapdragon\, 17817 Vashon Hwy\, Vashon\, WA\, 98070
CATEGORIES:Featured
END:VEVENT
BEGIN:VEVENT
DTSTART;TZID=America/Los_Angeles:20240802T190000
DTEND;TZID=America/Los_Angeles:20240802T210000
DTSTAMP:20260423T215711
CREATED:20240727T010533Z
LAST-MODIFIED:20240727T010533Z
UID:13080-1722625200-1722632400@southsoundblues.org
SUMMARY:CD Woodbury Trio at Kimball Coffeehouse
DESCRIPTION:CD Woodbury Trio at Kimball Coffeehouse August 2nd\, 7-9 pm
URL:https://southsoundblues.org/event/cd-woodbury-trio-at-kimball-coffeehouse/
LOCATION:Kimball’s Coffeehouse\, 6659 Kimball Dr\, Gig Harbor\, WA\, 98335
CATEGORIES:Local South Sound Blues
END:VEVENT
BEGIN:VEVENT
DTSTART;VALUE=DATE:20240803
DTEND;VALUE=DATE:20240805
DTSTAMP:20260423T215711
CREATED:20240105T204758Z
LAST-MODIFIED:20240105T204758Z
UID:11960-1722650400-1722736799@southsoundblues.org
SUMMARY:Rainier Music Festival at Ashford County Park Amphitheater
DESCRIPTION:The Rainier Music Festival is scheduled for August 3rd\, 2024. More info to come… Ashford County Park Amphitheater.
URL:https://southsoundblues.org/event/rainier-music-festival-at-ashford-county-park-amphitheater/
LOCATION:Ashford County Park\, 29801 SR706\, Ashford\, WA\, 98304
CATEGORIES:Festival
END:VEVENT
BEGIN:VEVENT
DTSTART;TZID=America/Los_Angeles:20240803T190000
DTEND;TZID=America/Los_Angeles:20240803T220000
DTSTAMP:20260423T215711
CREATED:20240727T011059Z
LAST-MODIFIED:20240727T011059Z
UID:13082-1722711600-1722722400@southsoundblues.org
SUMMARY:Billy Stapleton's Powerhouse at the Rockfish\, Anacortes
DESCRIPTION:Aug 3rd\, The Rockfish\, Anacortes: Billy Stapleton’s Powerhouse Band\, 7-10pm\n 
URL:https://southsoundblues.org/event/billy-stapletons-powerhouse-at-the-rockfish-anacortes/
LOCATION:Rockfish Grill & Brewery\, 320 Commercial Ave\, Anacortes\, WA\, 98221
CATEGORIES:Featured
END:VEVENT
BEGIN:VEVENT
DTSTART;TZID=America/Los_Angeles:20240804T120000
DTEND;TZID=America/Los_Angeles:20240804T170000
DTSTAMP:20260423T215711
CREATED:20240723T225121Z
LAST-MODIFIED:20240723T225251Z
UID:13072-1722772800-1722790800@southsoundblues.org
SUMMARY:WBS international Blues Challenge Finals and Blues Picnic at the Conway Muse
DESCRIPTION:The 2024 international Blues Challenge Finals and Blues Picnic is Sunday AUG 4th at the Conway Muse with a noon start Time – All 21 + are welcome\, $10 cover /donation to IBC fund. FREE BBQ ~~ provided by the WBS\, bring a side dish to share and enjoy a day of blues topped off with the Mark Dufresne band!
URL:https://southsoundblues.org/event/wbs-international-blues-challenge-finals-and-blues-picnic-at-the-conway-muse/
LOCATION:Conway Muse\, 18444 Spruce St\, Conway\, WA\, 98238
CATEGORIES:Featured,Special Event
END:VEVENT
BEGIN:VEVENT
DTSTART;TZID=America/Los_Angeles:20240804T190000
DTEND;TZID=America/Los_Angeles:20240804T220000
DTSTAMP:20260423T215711
CREATED:20240307T224345Z
LAST-MODIFIED:20240307T224345Z
UID:12327-1722798000-1722808800@southsoundblues.org
SUMMARY:Sunday Blues at the Spar with Kim & Brian
DESCRIPTION:Sunday Blues at the Spar with Kim & Brian August 4th\, 7-10 pm
URL:https://southsoundblues.org/event/sunday-blues-at-the-spar-with-kim-brian/
LOCATION:The Spar\, 2121 N 30th St\, Tacoma\, WA\, 98403
CATEGORIES:Local South Sound Blues
END:VEVENT
BEGIN:VEVENT
DTSTART;TZID=America/Los_Angeles:20240807T180000
DTEND;TZID=America/Los_Angeles:20240807T200000
DTSTAMP:20260423T215711
CREATED:20240313T234155Z
LAST-MODIFIED:20240313T234155Z
UID:12447-1723053600-1723060800@southsoundblues.org
SUMMARY:Music on the Square with Mark Hurwitz and Gin Creek\, University Place
DESCRIPTION:August 7 – Mark Hurwitz and Gin Creek\, Music on the Square concert series\, 6-8 pm.\n \n3609 Market Place West\, University Place \n 
URL:https://southsoundblues.org/event/music-on-the-square-with-mark-hurwitz-and-gin-creek-university-place/
LOCATION:University place Market Square\, 3609 Market Pl W\, University Place\, WA\, 98466
CATEGORIES:Local South Sound Blues
END:VEVENT
BEGIN:VEVENT
DTSTART;TZID=America/Los_Angeles:20240807T193000
DTEND;TZID=America/Los_Angeles:20240807T193000
DTSTAMP:20260423T215711
CREATED:20240320T214215Z
LAST-MODIFIED:20240320T214215Z
UID:12481-1723059000-1723059000@southsoundblues.org
SUMMARY:Danielle Nicole Band at the Triple Door
DESCRIPTION:Danielle Nicole Band August 7th\, 7:30 pm at the Triple Door\, Seattle WA\n\n\n\n\n\n\nDanielle Nicole Band\n\n\n\n\n\nSeating and dinner service begins at 6pm {All Ages}\n\n\n\nhttps://tickets.thetripledoor.net/eventperformances.asp?evt=2044&fbclid=IwAR1fhf1buoKUGNncCZktpHGSsdm1CGkw4tkOmmYeCdyuzoSm54ZEbUYDdAQ\n$20 General // $25 Premium\n  \n 
URL:https://southsoundblues.org/event/danielle-nicole-band-at-the-triple-door/
LOCATION:The Triple Door\, 216 Union St\,\, Seattle\, WA\, 98101
CATEGORIES:Featured
END:VEVENT
BEGIN:VEVENT
DTSTART;TZID=America/Los_Angeles:20240808T180000
DTEND;TZID=America/Los_Angeles:20240808T200000
DTSTAMP:20260423T215711
CREATED:20240714T193223Z
LAST-MODIFIED:20240714T193223Z
UID:13050-1723140000-1723147200@southsoundblues.org
SUMMARY:Billy Stoops & The Dirt Angels at Enumclaw Park
DESCRIPTION:Billy Stoops & The Dirt Angels at Enumclaw Park\, \nConcerts in The Park will start every Thursday from\nJuly 18th-August 29th. 6:00pm-8:00pm.\nParks will alternate with each performance.\nThis year\, we’ll also have FOOD TRUCKS at every park! Come hungry and listen to music by incredible local artists at our amazing parks in Enumclaw.\nView our events page to see the bands and food trucks for each date!\nhttps://www.facebook.com/events/1564142127483310/1564142154149974/?active_tab=discussion
URL:https://southsoundblues.org/event/billy-stoops-the-dirt-angels-at-enumclaw-park/
LOCATION:WA
END:VEVENT
BEGIN:VEVENT
DTSTART;TZID=America/Los_Angeles:20240808T190000
DTEND;TZID=America/Los_Angeles:20240808T210000
DTSTAMP:20260423T215711
CREATED:20240714T195830Z
LAST-MODIFIED:20240714T195830Z
UID:13056-1723143600-1723150800@southsoundblues.org
SUMMARY:WBS Gas Station Blues with Christi Michelle at Historic Shell Station\, Issaquah
DESCRIPTION:WBS Gas Station Blues with Christi Michelle at Historic Shell Station\, Issaquah\, WA.\,  August 8th\, 7-9 pm
URL:https://southsoundblues.org/event/wbs-gas-station-blues-with-christi-michelle-at-historic-shell-station-issaquah/
LOCATION:Historic Shell Station\, 232 Front St N\, Issaquah\, WA\, 98027
CATEGORIES:Local South Sound Blues
END:VEVENT
BEGIN:VEVENT
DTSTART;TZID=America/Los_Angeles:20240809T190000
DTEND;TZID=America/Los_Angeles:20240809T210000
DTSTAMP:20260423T215711
CREATED:20240726T222018Z
LAST-MODIFIED:20240726T222018Z
UID:13078-1723230000-1723237200@southsoundblues.org
SUMMARY:A.J. Fullerton at The Snapdragon\, Vashon
DESCRIPTION:A.J. Fullerton at The Snapdragon\, August 9th\, 7-9 pm\nA.J. Fullerton is an American Roots-Rock artist originally from Colorado. Over the last decade he has carved out a niche as a finger style & slide guitarist\, singer-songwriter\, and producer. Touring both solo & with his full band\, he draws from numerous influences classic & contemporary. A.J. is one of the fastest rising names in the world of Roots\, Rock\, & Blues having been named one of “75 Modern Blues & Blues Rock Artists You Must Hear 2021” by Blues Muse Magazine\, & having opened for the likes of Robert Cray\, Jimmie Vaughan\, Samantha Fish\, Charlie Musselwhite\, Christone “Kingfish” Ingram\, Otis Taylor\, Patrick Sweany\, & many more.\nHis latest record The Forgiver & The Runaway debuted at #1 on the iTunes Blues Charts\, as well as charting #1 on the Colorado Roots Report. A.J. has received numerous accolades over the course of his career including receiving 24 Colorado Blues Society Members’ Choice awards.\nMost recently\, A.J. wrote & produced Memphis\, TN artist Tony Holiday’s album Motel Mississippi which debuted at #6 on the Billboard Blues Charts in April of 2023.
URL:https://southsoundblues.org/event/a-j-fullerton-at-the-snapdragon-vashon/
LOCATION:Snapdragon\, 17817 Vashon Hwy\, Vashon\, WA\, 98070
CATEGORIES:Local South Sound Blues
END:VEVENT
BEGIN:VEVENT
DTSTART;TZID=America/Los_Angeles:20240809T213000
DTEND;TZID=America/Los_Angeles:20240809T230000
DTSTAMP:20260423T215711
CREATED:20240727T055747Z
LAST-MODIFIED:20240727T055747Z
UID:13107-1723239000-1723244400@southsoundblues.org
SUMMARY:Annie Eastwood at Bakes Place\, Bellevue
DESCRIPTION:Annie Eastwood at Bakes Place\, August 9th\, 9:30-11 pm\n 
URL:https://southsoundblues.org/event/annie-eastwood-at-bakes-place-bellevue/
LOCATION:Bake’s Place\, 155 108th Ave NE Ste 110\, Bellevue\, WA\, 98004
CATEGORIES:Local South Sound Blues
END:VEVENT
BEGIN:VEVENT
DTSTART;VALUE=DATE:20240810
DTEND;VALUE=DATE:20240812
DTSTAMP:20260423T215711
CREATED:20240505T001431Z
LAST-MODIFIED:20240505T002450Z
UID:12662-1723255200-1723341599@southsoundblues.org
SUMMARY:Brew Five Three\, The 253's Beer & Music Festival\, at Chambers Creek Regional Park
DESCRIPTION:Brew Five Three festival at Chambers Creek Regional Park\,  August 10th\, Noon to 5:00 pm \nBrew Five Three returns to Chambers Bay with the stunning backdrop of the Puget Sound and Olympic Mountains. Sip beer\, cider and mead from dozens of regional brewers\, enjoy bites from local vendors and listen to live entertainment. \n\n\nAdvance tickets now through July 14: $48            https://tickets.tacomaartslive.org/Online/seatSelect.asp\nRegular tickets: $55\,  Day of tickets $60\, Designated driver tickets: $10 \nThis is a 21+ Event; valid ID is required for entry.  Brew Five Three is dog friendly. \n\n\n\n\n\n\n6320 Grandview Dr. W.\nUniversity Place\, WA 98467 \n253-798-4141  \nhttps://www.piercecountywa.gov/1317/Chambers-Creek-Regional-Park \n  \n 
URL:https://southsoundblues.org/event/brew-five-three-festival-at-chambers-bay/
LOCATION:Chabers Creek Regional Park\, 6320 Grandview Dr. W.\, University Place\, WA\, 98467
CATEGORIES:Festival
END:VEVENT
BEGIN:VEVENT
DTSTART;VALUE=DATE:20240810
DTEND;VALUE=DATE:20240812
DTSTAMP:20260423T215711
CREATED:20240727T061622Z
LAST-MODIFIED:20240727T061652Z
UID:13110-1723255200-1723341599@southsoundblues.org
SUMMARY:Festival @ Mt. Si\, with The Mark DuFresne Band and Johnny Wheels & The Swamp Donkeys\, North Bend
DESCRIPTION:Festival @ Mt. Si\, North Bend\, August 10th\, Mt. Si Festival\, North Bend\, music from noon -9:30pm.\nMark DuFresne Band 3:30-4:30 \nJohnny Wheels & The Swamp Donkeys 6:30-7:30 \nThe Festival is always held on the second weekend of August at Si View Park\, 400 SE Orchard Drive\, North Bend\, Washington. Admission is free.
URL:https://southsoundblues.org/event/festival-mt-si-with-the-mark-dufresne-band-and-johnny-wheels-the-swamp-donkeys-north-bend/
LOCATION:Si View Park picnic shelter\, 400 SE Orchard Drive\, North Bend\, WA\, 98045
CATEGORIES:Festival
END:VEVENT
BEGIN:VEVENT
DTSTART;TZID=America/Los_Angeles:20240810T120000
DTEND;TZID=America/Los_Angeles:20240810T210000
DTSTAMP:20260423T215711
CREATED:20240509T024756Z
LAST-MODIFIED:20240704T185642Z
UID:12697-1723291200-1723323600@southsoundblues.org
SUMMARY:Gig Harbor's Rockin' Rhythm & Blues Festival at the Gig Harbor Sportsman club
DESCRIPTION:Saturday August 10th at the Gig Harbor Sportsman Club\, Gig Harbors Rockin’ Rhythm and Blues Festival\, Noon -9pm.\n \nThis Blues Fest is so much more than supporting incredible live music. 100% of proceeds from the festival go directly to the Permission To Start Dreaming (PTSD) Foundation\, a nonprofit dedicated to the healing of veterans\, first responders and their family members – helping them overcome the trauma they faced while serving our country and communities. Read more about the foundation here: https://ptsdfoundation.org/ \n\n\n\n\n\n\n\n\nThe show kicks off at 12:00pm with the National Anthem. \nTHE BANDS \nThe Fabs\nThe Gigsters \nRoemen and the Whereabouts \nHD Fusion \nFlor de Luna \nMark Hurwitz & Gin Creek \nSPECIAL GUESTS\nIke Sutton\, Keil Scott\, Paul Forrest\, Gary Marcello\, Lawrence Lambert\, Christina Dykes \nhttps://www.eventbrite.com/e/gig-harbors-rockin-rb-festival-tickets-914293264767 \nNO REFUNDS – 100% OF PROCEEDS DONATED TO THE PTSD FOUNDATION.
URL:https://southsoundblues.org/event/gig-harbors-rockin-rhythm-blues-festival-at-the-gig-harbor-sportsman-club/
LOCATION:Gig Harbor Sportsman’s Club\, 9721 Burnham Drive NW\, Gig Harbor\, WA\, 98332
CATEGORIES:Festival,Local South Sound Blues
END:VEVENT
BEGIN:VEVENT
DTSTART;TZID=America/Los_Angeles:20240810T200000
DTEND;TZID=America/Los_Angeles:20240810T200000
DTSTAMP:20260423T215711
CREATED:20240602T031422Z
LAST-MODIFIED:20240602T031422Z
UID:12831-1723320000-1723320000@southsoundblues.org
SUMMARY:King Kom Beaux at Dawson's
DESCRIPTION:King Kom Beaux at Dawson’s Bar & Grill\, August 10th\, 8pm\n 
URL:https://southsoundblues.org/event/king-kom-beaux-at-dawsons-3/
LOCATION:Dawson’s Bar & Grill\, 5443 South Tacoma Way\, Tacoma\, WA\, 98409
CATEGORIES:Local South Sound Blues
END:VEVENT
BEGIN:VEVENT
DTSTART;TZID=America/Los_Angeles:20240811T190000
DTEND;TZID=America/Los_Angeles:20240811T220000
DTSTAMP:20260423T215711
CREATED:20240727T014228Z
LAST-MODIFIED:20240809T010505Z
UID:13093-1723402800-1723413600@southsoundblues.org
SUMMARY:Sunday Blues at the Spar with The Lucky Losers
DESCRIPTION:Sunday Blues at the Spar with The Lucky Losers\, August 11th\, 7-10 pm\nThe Lucky Losers\, a nationally touring band which has recorded five critically acclaimed albums since 2015.  The Lucky Losers are also recent winners of 5 Independent Blues Awards including 2021 Artist Of The Year & Song Of The Year.  The Lucky Losers recently released their fifth recording\, Standin’ Pat\, on The Vizztone Label. \n  \n 
URL:https://southsoundblues.org/event/sunday-blues-at-the-spar-with-the-lucky-losers/
LOCATION:The Spar\, 2121 N 30th St\, Tacoma\, WA\, 98403
CATEGORIES:Local South Sound Blues
END:VEVENT
BEGIN:VEVENT
DTSTART;TZID=America/Los_Angeles:20240814T180000
DTEND;TZID=America/Los_Angeles:20240814T200000
DTSTAMP:20260423T215711
CREATED:20240313T234603Z
LAST-MODIFIED:20240313T234603Z
UID:12449-1723658400-1723665600@southsoundblues.org
SUMMARY:Music on the Square with Billy Stoops and The Dirt Angels\, University Place
DESCRIPTION:August 14 – Billy Stoops and the Dirt Angels\, Music on the Square concert series\, 6 – 8pm\n \n3609 Market Place West\, University Place \n 
URL:https://southsoundblues.org/event/music-on-the-square-with-billy-stoops-and-the-dirt-angels-university-place/
LOCATION:University place Market Square\, 3609 Market Pl W\, University Place\, WA\, 98466
CATEGORIES:Local South Sound Blues
END:VEVENT
BEGIN:VEVENT
DTSTART;TZID=America/Los_Angeles:20240814T190000
DTEND;TZID=America/Los_Angeles:20240814T220000
DTSTAMP:20260423T215711
CREATED:20240815T022542Z
LAST-MODIFIED:20240815T022542Z
UID:13196-1723662000-1723672800@southsoundblues.org
SUMMARY:Celebration and Benefit for Chris Coons
DESCRIPTION:WEDNESDAY August 14th 7-10pm at The Spar Tavern in Tacoma a Celebration and Benefit for CHRIS COONS. Beloved SPAR Soundman and friend to all musicians.
URL:https://southsoundblues.org/event/celebration-and-benefit-for-chris-coons/
LOCATION:The Spar\, 2121 N 30th St\, Tacoma\, WA\, 98403
CATEGORIES:Special Event
END:VEVENT
BEGIN:VEVENT
DTSTART;TZID=America/Los_Angeles:20240815T180000
DTEND;TZID=America/Los_Angeles:20240815T180000
DTSTAMP:20260423T215711
CREATED:20240706T211518Z
LAST-MODIFIED:20240706T211518Z
UID:12982-1723744800-1723744800@southsoundblues.org
SUMMARY:Nick Cain at Buckley Eagles with Billy Shew\, Nate Sharp and Devan Bland
DESCRIPTION:Nick Cain at Buckley Eagles with Billy Shew\, Nate Sharp and Devan Bland August 15th at 6:00pm\n\n29021 WA-410\, Buckley\, WA 98321
URL:https://southsoundblues.org/event/nick-cain-at-buckley-eagles-with-billy-shew-nate-sharp-and-devan-bland/
LOCATION:Buckley Eagles\, 29021 WA-410\, Buckley\, WA\, 98321
CATEGORIES:Local South Sound Blues
END:VEVENT
BEGIN:VEVENT
DTSTART;TZID=America/Los_Angeles:20240815T190000
DTEND;TZID=America/Los_Angeles:20240815T190000
DTSTAMP:20260423T215711
CREATED:20240515T060600Z
LAST-MODIFIED:20240707T231747Z
UID:12722-1723748400-1723748400@southsoundblues.org
SUMMARY:Blues Vespers Guitarist Showcase with Eric Rice\, Tom Boyle\, and Tim Sherman at the Spanish Ballroom
DESCRIPTION:Blues Vespers Guitarist Showcase with Eric Rice\, Tom Boyle\, and Tim Sherman at the Spanish Ballroom August 15th\, 6pm\nEric Rice has been performing blues professionally for over 20 years. Currently he is the guitarist for the amazing Stacey Jones Band as well as the leader of Eric’s Maine Connection\, along with Andrew Cloutier and Scotty Harris. \nTom Boyle‘s ‘less is more’ guitar style\, steeped in the Chicago and Texas electric blues guitar traditions\, was heard all throughout the ‘80s and ‘90s as part of the thriving Pioneer Square blues scene with several great blues bands\, including ‘Drivin’ Wheel’\, ‘Nitelife ‘and ‘The Led Jaxson Band. \nTim Sherman has performed for decades in the NW and west coast blues scene. He is the recipient of multiple BB Awards from the Washington Blues Society for Best Electric Guitarist as well as his work with the very best traditional and authentic NW blues bands since the 1980’s.\n\n6 PM Doors\, 7 PM Start\,  $10 Adv or $15 DOS\,  All Ages Event
URL:https://southsoundblues.org/event/blues-vespers-guitarist-showcase-with-eric-rice-tom-boyle-and-tim-sherman-at-the-spanish-ballroom/
LOCATION:McMenaminsTacoma Elks\, 565 Broadway\, Tacoma\, WA\, 98402
CATEGORIES:Local South Sound Blues,Special Event
END:VEVENT
BEGIN:VEVENT
DTSTART;TZID=America/Los_Angeles:20240815T190000
DTEND;TZID=America/Los_Angeles:20240815T210000
DTSTAMP:20260423T215711
CREATED:20240714T200630Z
LAST-MODIFIED:20240714T200630Z
UID:13058-1723748400-1723755600@southsoundblues.org
SUMMARY:WBS Gas Station Blues with Eden Moody at Historic Shell Station\, Issaquah
DESCRIPTION:WBS Gas Station Blues with Eden Moody at Historic Shell Station\, Issaquah\, WA.\,  August 15th\, 7-9 pm
URL:https://southsoundblues.org/event/wbs-gas-station-blues-with-eden-moody-at-historic-shell-station-issaquah/
LOCATION:Historic Shell Station\, 232 Front St N\, Issaquah\, WA\, 98027
CATEGORIES:Local South Sound Blues
END:VEVENT
BEGIN:VEVENT
DTSTART;VALUE=DATE:20240816
DTEND;VALUE=DATE:20240819
DTSTAMP:20260423T215711
CREATED:20240229T005433Z
LAST-MODIFIED:20240229T010620Z
UID:12265-1723773600-1723946399@southsoundblues.org
SUMMARY:Peninsula Rhythm & Blues Festival
DESCRIPTION:Peninsula Rhythm & Blues Festival\, August 16th & 17th\n\n\n\n\nPort of Peninsula\n3311 275th Street\nOcean Park\, WA 98640\nat Nahcotta Boat Basin\n\n\n\n\n\n\n\n\n\n\n\n\n\n\n\n\n\n\n\n\n\n\n\n\n\n\n\nhttps://www.facebook.com/peninsulabluesfestival
URL:https://southsoundblues.org/event/peninsula-rhythm-blues-festival/
LOCATION:Port of Peninsula\, Nahcotta\, WA\, 3311 275th St\, Ocean Park\, WA\, 98640
CATEGORIES:Festival
END:VEVENT
BEGIN:VEVENT
DTSTART;TZID=America/Los_Angeles:20240816T180000
DTEND;TZID=America/Los_Angeles:20240816T200000
DTSTAMP:20260423T215711
CREATED:20240402T000949Z
LAST-MODIFIED:20240402T000949Z
UID:12504-1723831200-1723838400@southsoundblues.org
SUMMARY:Franklin Park Summer Sunset Concert Series with The Spin Offs\, Yakima\, WA
DESCRIPTION:Franklin Park Summer Sunset Concert Series with The Spin Offs\, August 16th\, 6-8 pm\, Yakima\, WA \n\nFranklin Park\n2101 Tieton Dr\, Yakima\, WA
URL:https://southsoundblues.org/event/franklin-park-summer-sunset-concert-series-with-the-spin-offs-yakima-wa/
LOCATION:Franklin Park\, 2101 Tieton Dr\, Yakima\, WA\, 98902
CATEGORIES:Featured
END:VEVENT
BEGIN:VEVENT
DTSTART;TZID=America/Los_Angeles:20240816T190000
DTEND;TZID=America/Los_Angeles:20240816T210000
DTSTAMP:20260423T215711
CREATED:20240727T011618Z
LAST-MODIFIED:20240727T011618Z
UID:13084-1723834800-1723842000@southsoundblues.org
SUMMARY:Mark DuFresne Band at Kimball Coffeehouse
DESCRIPTION:Aug 16th\, Kimball Coffee House\, Gig Harbor: Mark DuFresne Band\, 7-9pm\n \n 
URL:https://southsoundblues.org/event/mark-dufresne-band-at-kimball-coffeehouse/
LOCATION:Kimball’s Coffeehouse\, 6659 Kimball Dr\, Gig Harbor\, WA\, 98335
CATEGORIES:Local South Sound Blues
END:VEVENT
BEGIN:VEVENT
DTSTART;TZID=America/Los_Angeles:20240817T140000
DTEND;TZID=America/Los_Angeles:20240817T190000
DTSTAMP:20260423T215711
CREATED:20240229T004804Z
LAST-MODIFIED:20240229T005056Z
UID:12261-1723903200-1723921200@southsoundblues.org
SUMMARY:Kent Cajun Fest at Burlington Green Park
DESCRIPTION:Kent Cajun Fest\, August 17th\, 2024\, 2:00 pm – 7:00 pm\nGet ready to spice up your taste buds and experience the soul of Louisiana in the Pacific Northwest.  Dance\, dine\, and have a ragin’ Cajun good time where Southern culture and hospitality turn historic downtown Kent into our own “Little Louisiana”! \nLive music and dancing will keep festival-goers entertained throughout the day\, with performances by local and regional Cajun and Zydeco bands.  It’s a perfect opportunity for locals and visitors to experience the vibrant and lively culture of Louisiana\, Cajun-themed food trucks\, beer/wine garden\, vendors/artists\, and activities for the kids.  We promise a feast for the senses! \nThe event will be held in downtown Kent Burlington Green Park. \n  \n  \n\nCajun Fest ’22
URL:https://southsoundblues.org/event/kent-cajun-fest/
LOCATION:Burlington green Park\, 201 E. Meeker Street\, Kent\, WA\, 98032
CATEGORIES:Festival,Local South Sound Blues
END:VEVENT
BEGIN:VEVENT
DTSTART;TZID=America/Los_Angeles:20240817T160000
DTEND;TZID=America/Los_Angeles:20240817T190000
DTSTAMP:20260423T215711
CREATED:20240815T235102Z
LAST-MODIFIED:20240815T235102Z
UID:13231-1723910400-1723921200@southsoundblues.org
SUMMARY:Billy Stoops and The Dirt Angels at the Urban Elk
DESCRIPTION:Saturday August 17\, Urban Elk Restaurant & Allenmore Event Center… Billy Stoops and The Dirt Angels “Unleashed”\nEarly Show\, 4-7pm
URL:https://southsoundblues.org/event/billy-stoops-and-the-dirt-angels-at-the-urban-elk/
LOCATION:Urban Elk\, 2013 S Cedar St\, Tacoma\, WA\, 98405
CATEGORIES:Local South Sound Blues
END:VEVENT
END:VCALENDAR