BEGIN:VCALENDAR
VERSION:2.0
PRODID:-//South Sound Blues Association - ECPv6.15.18//NONSGML v1.0//EN
CALSCALE:GREGORIAN
METHOD:PUBLISH
X-ORIGINAL-URL:https://southsoundblues.org
X-WR-CALDESC:Events for South Sound Blues Association
REFRESH-INTERVAL;VALUE=DURATION:PT1H
X-Robots-Tag:noindex
X-PUBLISHED-TTL:PT1H
BEGIN:VTIMEZONE
TZID:America/Los_Angeles
BEGIN:DAYLIGHT
TZOFFSETFROM:-0800
TZOFFSETTO:-0700
TZNAME:PDT
DTSTART:20230312T100000
END:DAYLIGHT
BEGIN:STANDARD
TZOFFSETFROM:-0700
TZOFFSETTO:-0800
TZNAME:PST
DTSTART:20231105T090000
END:STANDARD
BEGIN:DAYLIGHT
TZOFFSETFROM:-0800
TZOFFSETTO:-0700
TZNAME:PDT
DTSTART:20240310T100000
END:DAYLIGHT
BEGIN:STANDARD
TZOFFSETFROM:-0700
TZOFFSETTO:-0800
TZNAME:PST
DTSTART:20241103T090000
END:STANDARD
BEGIN:DAYLIGHT
TZOFFSETFROM:-0800
TZOFFSETTO:-0700
TZNAME:PDT
DTSTART:20250309T100000
END:DAYLIGHT
BEGIN:STANDARD
TZOFFSETFROM:-0700
TZOFFSETTO:-0800
TZNAME:PST
DTSTART:20251102T090000
END:STANDARD
END:VTIMEZONE
BEGIN:VEVENT
DTSTART;TZID=America/Los_Angeles:20240201T190000
DTEND;TZID=America/Los_Angeles:20240201T213000
DTSTAMP:20260424T064534
CREATED:20231220T021022Z
LAST-MODIFIED:20231220T021022Z
UID:11876-1706814000-1706823000@southsoundblues.org
SUMMARY:LTD Presents Pearl Django at West of the Waterway
DESCRIPTION:Thursday\, Feb 1st – LTD Presents Event: Pearl Django at West of the Waterway – 7pm
URL:https://southsoundblues.org/event/ltd-presents-pearl-django-at-west-of-the-waterway/
LOCATION:Dock Street Deli West of the Waterway\, 1901 Dock Street\, Tacoma\, WA\, 98402
CATEGORIES:Featured
END:VEVENT
BEGIN:VEVENT
DTSTART;TZID=America/Los_Angeles:20240202T190000
DTEND;TZID=America/Los_Angeles:20240202T190000
DTSTAMP:20260424T064534
CREATED:20240109T185825Z
LAST-MODIFIED:20240109T185825Z
UID:11983-1706900400-1706900400@southsoundblues.org
SUMMARY:Dusty Luck at Kimball Coffeehouse
DESCRIPTION:Friday\, Feb 2nd – Dusty Luck – Kimball Coffeehouse – 7pm
URL:https://southsoundblues.org/event/dusty-luck-at-kimball-coffeehouse/
LOCATION:Kimball’s Coffeehouse\, 6659 Kimball Dr\, Gig Harbor\, WA\, 98335
CATEGORIES:Featured
END:VEVENT
BEGIN:VEVENT
DTSTART;TZID=America/Los_Angeles:20240202T190000
DTEND;TZID=America/Los_Angeles:20240202T210000
DTSTAMP:20260424T064534
CREATED:20231106T230121Z
LAST-MODIFIED:20231106T230159Z
UID:11595-1706900400-1706907600@southsoundblues.org
SUMMARY:Michele D'Amour and the Love Dealers on the Market Stage at the Crossroads Mall
DESCRIPTION:February 2nd\, Michele D’Amour and the Love Dealers on the Market Stage at the Crossroads Mall\, 7-9 pm\n\n\n\n\n\n\n\n\n\n\n\n\n\n\n\n\n\n\n\nFun\, funky r&b and blues\n\n\nBellevue\, Washington 
URL:https://southsoundblues.org/event/michele-damour-and-the-love-dealers-on-the-market-stage-at-the-crossroads-mall/
LOCATION:Crossroads Market Stage\, 15600 NE 8th St\, Bellevue\, WA\, 98008
CATEGORIES:Local South Sound Blues
END:VEVENT
BEGIN:VEVENT
DTSTART;TZID=America/Los_Angeles:20240202T213000
DTEND;TZID=America/Los_Angeles:20240202T213000
DTSTAMP:20260424T064534
CREATED:20231228T031137Z
LAST-MODIFIED:20231228T031137Z
UID:11912-1706909400-1706909400@southsoundblues.org
SUMMARY:Mark DuFresne Band featuring Billy Stapleton at Bake’s Place Bar & Bistro\, Bellevue
DESCRIPTION:Friday\, Feb 2nd – Mark DuFresne Band featuring Billy Stapleton at Bake’s Place Bar & Bistro\, Bellevue – 9:30pm
URL:https://southsoundblues.org/event/mark-dufresne-band-featuring-billy-stapleton-at-bakes-place-bar-bistro-bellevue/
LOCATION:Bake’s Place\, 155 108th Ave NE Ste 110\, Bellevue\, WA\, 98004
CATEGORIES:Local South Sound Blues
END:VEVENT
BEGIN:VEVENT
DTSTART;TZID=America/Los_Angeles:20240203T190000
DTEND;TZID=America/Los_Angeles:20240203T190000
DTSTAMP:20260424T064534
CREATED:20240109T185948Z
LAST-MODIFIED:20240109T185948Z
UID:11985-1706986800-1706986800@southsoundblues.org
SUMMARY:Tim Cox Band at The Spar
DESCRIPTION:Saturday\, Feb 3rd – Tim Cox Band – The Spar – 7pm
URL:https://southsoundblues.org/event/tim-cox-band-at-the-spar-3/
LOCATION:The Spar\, 2121 N 30th St\, Tacoma\, WA\, 98403
CATEGORIES:Featured
END:VEVENT
BEGIN:VEVENT
DTSTART;TZID=America/Los_Angeles:20240203T200000
DTEND;TZID=America/Los_Angeles:20240203T200000
DTSTAMP:20260424T064534
CREATED:20231221T220605Z
LAST-MODIFIED:20231221T220630Z
UID:11890-1706990400-1706990400@southsoundblues.org
SUMMARY:Billy Shew Band at Rock the Dock
DESCRIPTION:Billy Shew Band at Rock the Dock\, February 3rd 8pm
URL:https://southsoundblues.org/event/billy-shew-band-at-rock-the-dock/
LOCATION:Rock the Dock\, 535 Dock St # 118\, Tacoma\, WA\, 98402
CATEGORIES:Local South Sound Blues
END:VEVENT
BEGIN:VEVENT
DTSTART;TZID=America/Los_Angeles:20240203T200000
DTEND;TZID=America/Los_Angeles:20240203T233000
DTSTAMP:20260424T064534
CREATED:20240103T034045Z
LAST-MODIFIED:20240129T212357Z
UID:11930-1706990400-1707003000@southsoundblues.org
SUMMARY:Soulful 88's at Dawson's
DESCRIPTION:Soulful 88’s at Dawson’s February 3rd\, 8pm\n \nSweet Billy Spaulding\, Tom Boyle\, Patrick Mosley and Scott A Rongey have made up this group for years!! \nThey have some great originals and do some great obscure blues covers! \nHere is a chance to get out to see this TIGHT RAWKIN’ BLUES BAND!!
URL:https://southsoundblues.org/event/king-kom-beaux-at-dawsons-2/
LOCATION:Dawson’s Bar & Grill\, 5443 South Tacoma Way\, Tacoma\, WA\, 98409
CATEGORIES:Local South Sound Blues
END:VEVENT
BEGIN:VEVENT
DTSTART;TZID=America/Los_Angeles:20240204T190000
DTEND;TZID=America/Los_Angeles:20240204T220000
DTSTAMP:20260424T064534
CREATED:20231220T015153Z
LAST-MODIFIED:20231220T015153Z
UID:11861-1707073200-1707084000@southsoundblues.org
SUMMARY:Sunday Blues at the Spar with the Cory Wilds Band
DESCRIPTION:Sunday\, Feb 4th – Cory Wilds Band – The Spar – 7pm
URL:https://southsoundblues.org/event/sunday-blues-at-the-spar-with-the-cory-wilds-band-2/
LOCATION:The Spar\, 2121 N 30th St\, Tacoma\, WA\, 98403
CATEGORIES:Local South Sound Blues
END:VEVENT
BEGIN:VEVENT
DTSTART;TZID=America/Los_Angeles:20240205T200000
DTEND;TZID=America/Los_Angeles:20240205T220000
DTSTAMP:20260424T064534
CREATED:20240109T193314Z
LAST-MODIFIED:20240109T193314Z
UID:12011-1707163200-1707170400@southsoundblues.org
SUMMARY:Mike Witmer hosts “Mojo Mike’s Blues Revue” every Monday on KVSH 101.9 FM
DESCRIPTION:Mike Witmer hosts “Mojo Mike’s Blues Revue” every Monday on KVSH 101.9 FM 8-10 pm
URL:https://southsoundblues.org/event/mike-witmer-hosts-mojo-mikes-blues-revue-every-monday-on-kvsh-101-9-fm-14/
LOCATION:WA
CATEGORIES:Local South Sound Blues
END:VEVENT
BEGIN:VEVENT
DTSTART;TZID=America/Los_Angeles:20240206T190000
DTEND;TZID=America/Los_Angeles:20240206T220000
DTSTAMP:20260424T064534
CREATED:20240109T194209Z
LAST-MODIFIED:20240109T194209Z
UID:12018-1707246000-1707256800@southsoundblues.org
SUMMARY:Billy Shew and friends Jam every Tuesday at the Burien Eagles
DESCRIPTION:Billy Shew and friends Jam every Tuesday at the Burien Eagles\, 7pm
URL:https://southsoundblues.org/event/billy-shew-and-friends-jam-every-tuesday-at-the-burien-eagles-19/
LOCATION:Burien Eagles\, 920 SW 150th St\, Burien\, WA\, 98166
CATEGORIES:Local South Sound Blues
END:VEVENT
BEGIN:VEVENT
DTSTART;TZID=America/Los_Angeles:20240207T180000
DTEND;TZID=America/Los_Angeles:20240207T180000
DTSTAMP:20260424T064534
CREATED:20240109T190111Z
LAST-MODIFIED:20240109T190111Z
UID:11987-1707328800-1707328800@southsoundblues.org
SUMMARY:Velocity at The Spar
DESCRIPTION:Wednesday\, Feb 7th – Velocity – The Spar – 6pm
URL:https://southsoundblues.org/event/velocity-at-the-spar-4/
LOCATION:The Spar\, 2121 N 30th St\, Tacoma\, WA\, 98403
CATEGORIES:Featured
END:VEVENT
BEGIN:VEVENT
DTSTART;TZID=America/Los_Angeles:20240207T190000
DTEND;TZID=America/Los_Angeles:20240207T210000
DTSTAMP:20260424T064534
CREATED:20231216T213720Z
LAST-MODIFIED:20240122T213856Z
UID:11808-1707332400-1707339600@southsoundblues.org
SUMMARY:Billy Stoops and Leanne Trevalyan at the Mill
DESCRIPTION:Billy Stoops and Leanne Trevalyan at the Mill\, February 7th\, 7pm
URL:https://southsoundblues.org/event/billy-stoops-at-the-mill/
LOCATION:The Mill of Milton\, 900 Meridian E. #50\, Milton\, WA\, 98354
CATEGORIES:Featured,Local South Sound Blues
END:VEVENT
BEGIN:VEVENT
DTSTART;TZID=America/Los_Angeles:20240207T190000
DTEND;TZID=America/Los_Angeles:20240207T220000
DTSTAMP:20260424T064534
CREATED:20231228T022516Z
LAST-MODIFIED:20231228T022516Z
UID:11894-1707332400-1707343200@southsoundblues.org
SUMMARY:Joel Astley Band\, Kim & Brian Band\, with Toby C Brady at the Royal Room\, Seattle
DESCRIPTION:Joel Astley Band\, Kim & Brian Band\, with Toby C Brady at the Royal Room\, February 7th\, doors open at 6:30 pm\n  \n$20. tickets day of show\, $15. in advance. www.theroyalroomseattle.com                                                                              Royal Room\, 5000 Rainier Ave S. Seattle WA.\n  \n 
URL:https://southsoundblues.org/event/joel-astley-band-kim-brian-band-with-toby-c-brady-at-the-royal-room-seattle/
LOCATION:Royal Room\, 5000 Rainier Ave S\, Seattle\, WA\, 98118
CATEGORIES:Special Event
END:VEVENT
BEGIN:VEVENT
DTSTART;TZID=America/Los_Angeles:20240208T190000
DTEND;TZID=America/Los_Angeles:20240208T220000
DTSTAMP:20260424T064534
CREATED:20240109T192644Z
LAST-MODIFIED:20240109T192644Z
UID:12005-1707418800-1707429600@southsoundblues.org
SUMMARY:“Billy the Pocket Jam” Thursday nights at Dawson’s
DESCRIPTION:“Billy the Pocket Jam” Thursday nights at Dawson’s\, 7-10 pm
URL:https://southsoundblues.org/event/billy-the-pocket-jam-thursday-nights-at-dawsons-28/
LOCATION:Dawson’s Bar & Grill\, 5443 South Tacoma Way\, Tacoma\, WA\, 98409
CATEGORIES:Local South Sound Blues
END:VEVENT
BEGIN:VEVENT
DTSTART;TZID=America/Los_Angeles:20240209T190000
DTEND;TZID=America/Los_Angeles:20240209T210000
DTSTAMP:20260424T064534
CREATED:20231220T020404Z
LAST-MODIFIED:20231220T020621Z
UID:11869-1707505200-1707512400@southsoundblues.org
SUMMARY:Michele D'Amour & The Love Dealers at Kimball Coffeehouse
DESCRIPTION:Friday\, Feb 9th – Michele D’Amour & The Love Dealers – Kimball Coffeehouse – 7pm
URL:https://southsoundblues.org/event/michele-damour-the-love-dealers-at-kimball-coffeehouse/
LOCATION:Kimball’s Coffeehouse\, 6659 Kimball Dr\, Gig Harbor\, WA\, 98335
CATEGORIES:Local South Sound Blues
END:VEVENT
BEGIN:VEVENT
DTSTART;TZID=America/Los_Angeles:20240209T200000
DTEND;TZID=America/Los_Angeles:20240209T233000
DTSTAMP:20260424T064534
CREATED:20240124T021552Z
LAST-MODIFIED:20240124T021552Z
UID:12090-1707508800-1707521400@southsoundblues.org
SUMMARY:Heather Jones & The Groove Masters at Stockton's
DESCRIPTION:Heather Jones & The Groove Masters at Stockton’s February 9th\, 8- midnight.
URL:https://southsoundblues.org/event/heather-jones-the-groove-masters-at-stocktons/
LOCATION:Stockton’s Restaurant & Spirits\, 23220 Maple Valley Black Diamond Rd SE\, Maple Valley\, WA\, 98038
CATEGORIES:Local South Sound Blues
END:VEVENT
BEGIN:VEVENT
DTSTART;TZID=America/Los_Angeles:20240210T190000
DTEND;TZID=America/Los_Angeles:20240210T190000
DTSTAMP:20260424T064534
CREATED:20240109T190247Z
LAST-MODIFIED:20240109T190247Z
UID:11989-1707591600-1707591600@southsoundblues.org
SUMMARY:Blumeadows at The Spar
DESCRIPTION:Saturday\, Feb 10th – Blumeadows – The Spar – 7pm
URL:https://southsoundblues.org/event/blumeadows-at-the-spar-3/
LOCATION:The Spar\, 2121 N 30th St\, Tacoma\, WA\, 98403
CATEGORIES:Featured
END:VEVENT
BEGIN:VEVENT
DTSTART;TZID=America/Los_Angeles:20240210T200000
DTEND;TZID=America/Los_Angeles:20240210T223000
DTSTAMP:20260424T064534
CREATED:20231229T202217Z
LAST-MODIFIED:20231229T202217Z
UID:11914-1707595200-1707604200@southsoundblues.org
SUMMARY:Mid-Nite Bourbon at the Chalet Theatre
DESCRIPTION:Mid-Nite Bourbon at the Chalet Theatre warming up for Whiskey Creek\, (Lynard Skynard cover band) Doors at 7:00\, show starts at 8:00pm. For tickets: www.chalettheatre.com      $15. advance\, $20. day of the show.\n \n1712 Wells St.\, Enumclaw WA 98022
URL:https://southsoundblues.org/event/mid-nite-bourbon-at-the-chalet-theatre/
LOCATION:Chalet Theatre\, 1721 Wells St\, Enumclaw\, WA\, 98022
CATEGORIES:Local South Sound Blues
END:VEVENT
BEGIN:VEVENT
DTSTART;VALUE=DATE:20240211
DTEND;VALUE=DATE:20240213
DTSTAMP:20260424T064534
CREATED:20240109T192517Z
LAST-MODIFIED:20240110T231409Z
UID:12003-1707616800-1707703199@southsoundblues.org
SUMMARY:Superbowl watch at The Spar\, no music
DESCRIPTION:Superbowl watch at The Spar February 11th\, no music.
URL:https://southsoundblues.org/event/sunday-blues-at-the-spar-4/
LOCATION:The Spar\, 2121 N 30th St\, Tacoma\, WA\, 98403
END:VEVENT
BEGIN:VEVENT
DTSTART;TZID=America/Los_Angeles:20240211T190000
DTEND;TZID=America/Los_Angeles:20240211T230000
DTSTAMP:20260424T064534
CREATED:20240109T193438Z
LAST-MODIFIED:20240109T193438Z
UID:12013-1707678000-1707692400@southsoundblues.org
SUMMARY:Billy Shew Blues Jam\, every Sunday at Dawson’s
DESCRIPTION:Billy Shew Blues Jam\, every Sunday at Dawson’s\, 7-11 pm
URL:https://southsoundblues.org/event/billy-shew-blues-jam-every-sunday-at-dawsons-14/
LOCATION:Dawson’s Bar & Grill\, 5443 South Tacoma Way\, Tacoma\, WA\, 98409
CATEGORIES:Local South Sound Blues
END:VEVENT
BEGIN:VEVENT
DTSTART;TZID=America/Los_Angeles:20240212T180000
DTEND;TZID=America/Los_Angeles:20240212T210000
DTSTAMP:20260424T064534
CREATED:20240122T214640Z
LAST-MODIFIED:20240122T214640Z
UID:12075-1707760800-1707771600@southsoundblues.org
SUMMARY:Monday Jazz at Brother Don’s Bar and Grill
DESCRIPTION:Monday Jazz at Brother Don’s Bar and Grill\, 6-9 pm\, Bremerton\, WA
URL:https://southsoundblues.org/event/monday-jazz-at-brother-dons-bar-and-grill-2/
LOCATION:Brother Don’s Bar & Grill\, 4200 Kitsap Way\, Bremerton\, WA\, 98312
CATEGORIES:Featured
END:VEVENT
BEGIN:VEVENT
DTSTART;TZID=America/Los_Angeles:20240213T190000
DTEND;TZID=America/Los_Angeles:20240213T190000
DTSTAMP:20260424T064534
CREATED:20240109T190635Z
LAST-MODIFIED:20240109T190635Z
UID:11991-1707850800-1707850800@southsoundblues.org
SUMMARY:Washington Blues Society Blues Bash\, 'Mark DuFresne Band' featuring Billy Stapleton at The Aurora Borealis\, Shoreline
DESCRIPTION:Tuesday\, Feb 13th – WBS Blues Bash: Mark DuFresne Band feat. Billy Stapleton – Aurora Borealis\, Shoreline – 7pm
URL:https://southsoundblues.org/event/washington-blues-society-blues-bash-mark-dufresne-band-featuring-billy-stapleton-at-the-aurora-borealis-shoreline/
LOCATION:Aurora Borealis\, 16708 Aurora Ave N\, Shoreline\, WA\, 98133
CATEGORIES:Featured,Special Event
END:VEVENT
BEGIN:VEVENT
DTSTART;TZID=America/Los_Angeles:20240213T190000
DTEND;TZID=America/Los_Angeles:20240213T210000
DTSTAMP:20260424T064534
CREATED:20240109T194604Z
LAST-MODIFIED:20240109T194604Z
UID:12022-1707850800-1707858000@southsoundblues.org
SUMMARY:Rob Tudor and Dave McKibbin at the Twisted Fork Saloon every Tuesday
DESCRIPTION:Rob Tudor and Dave McKibbin at the Twisted Fork Saloon every Tuesday\, 7-9 pm
URL:https://southsoundblues.org/event/rob-tudor-and-dave-mckibbin-at-the-twisted-fork-saloon-every-tuesday-2/
LOCATION:Twisted Fork Saloon\, 5005 Main St\, Tacoma\, WA\, 98407
CATEGORIES:Local South Sound Blues
END:VEVENT
BEGIN:VEVENT
DTSTART;TZID=America/Los_Angeles:20240214T180000
DTEND;TZID=America/Los_Angeles:20240214T180000
DTSTAMP:20260424T064534
CREATED:20240109T202804Z
LAST-MODIFIED:20240109T202804Z
UID:12035-1707933600-1707933600@southsoundblues.org
SUMMARY:King Dre Trio\, Soulful Sound at The Spar
DESCRIPTION:Wednesday\, Feb 14th – King Dre Trio – Soulful Sound – The Spar\, 6pm
URL:https://southsoundblues.org/event/king-dre-trio-soulful-sound-at-the-spar/
LOCATION:The Spar\, 2121 N 30th St\, Tacoma\, WA\, 98403
CATEGORIES:Featured
END:VEVENT
BEGIN:VEVENT
DTSTART;TZID=America/Los_Angeles:20240214T190000
DTEND;TZID=America/Los_Angeles:20240214T220000
DTSTAMP:20260424T064534
CREATED:20230912T003853Z
LAST-MODIFIED:20230912T003853Z
UID:11356-1707937200-1707948000@southsoundblues.org
SUMMARY:Maia Santell and House Blend at the Mill\, Valentines Day
DESCRIPTION:Maia Santell and House Blend at the Mill on Valentines Day\, February 14th\, 7-10 pm
URL:https://southsoundblues.org/event/maia-santell-and-house-blend-at-the-mill-valentines-day/
LOCATION:The Mill of Milton\, 900 Meridian E. #50\, Milton\, WA\, 98354
CATEGORIES:Local South Sound Blues
END:VEVENT
BEGIN:VEVENT
DTSTART;TZID=America/Los_Angeles:20240215T200000
DTEND;TZID=America/Los_Angeles:20240215T233000
DTSTAMP:20260424T064534
CREATED:20240109T192839Z
LAST-MODIFIED:20240109T192839Z
UID:12007-1708027200-1708039800@southsoundblues.org
SUMMARY:Thursdays at the Stars Bar & Grill\, Jam hosted by Billy Shew
DESCRIPTION:Thursdays at the Stars Bar & Grill\, Jam hosted by Billy Shew\, 8-11:30 pm
URL:https://southsoundblues.org/event/thursdays-at-the-stars-bar-grill-jam-hosted-by-billy-shew-21/
LOCATION:Stars Bar & Grill\, 31216 Pacific Hwy S\, Federal Way\, WA\, 98003
CATEGORIES:Local South Sound Blues
END:VEVENT
BEGIN:VEVENT
DTSTART;TZID=America/Los_Angeles:20240216T190000
DTEND;TZID=America/Los_Angeles:20240216T210000
DTSTAMP:20260424T064534
CREATED:20231220T020739Z
LAST-MODIFIED:20231220T020739Z
UID:11874-1708110000-1708117200@southsoundblues.org
SUMMARY:Billy Stapleton’s Powerhouse Band at Kimball Coffeehouse
DESCRIPTION:Friday\, Feb 16th – Billy Stapleton’s Powerhouse Band – Kimball Coffeehouse – 7pm
URL:https://southsoundblues.org/event/billy-stapletons-powerhouse-band-at-kimball-coffeehouse/
LOCATION:Kimball’s Coffeehouse\, 6659 Kimball Dr\, Gig Harbor\, WA\, 98335
CATEGORIES:Local South Sound Blues
END:VEVENT
BEGIN:VEVENT
DTSTART;TZID=America/Los_Angeles:20240217T200000
DTEND;TZID=America/Los_Angeles:20240217T230000
DTSTAMP:20260424T064534
CREATED:20240212T202348Z
LAST-MODIFIED:20240212T202348Z
UID:12124-1708200000-1708210800@southsoundblues.org
SUMMARY:Mark Hurwitz and Gin Creek at Rock the Dock Pub & Grill
DESCRIPTION:Mark Hurwitz and Gin Creek at Rock The Dock Pub & Grill February 17th\, 8-11 pm\n\n\n\n\n\n\n\n\n\n\n\n\n\n\n\n\n\n\n\n\n\n\nPlaying blues\, rock\, and funk down on the Foss Waterway in Tacoma.
URL:https://southsoundblues.org/event/mark-hurwitz-and-gin-creek-at-rock-the-dock-pub-grill/
LOCATION:Rock the Dock\, 535 Dock St # 118\, Tacoma\, WA\, 98402
CATEGORIES:Local South Sound Blues
END:VEVENT
BEGIN:VEVENT
DTSTART;TZID=America/Los_Angeles:20240218T170000
DTEND;TZID=America/Los_Angeles:20240218T170000
DTSTAMP:20260424T064534
CREATED:20240111T212951Z
LAST-MODIFIED:20240111T213425Z
UID:12053-1708275600-1708275600@southsoundblues.org
SUMMARY:Blues Vespers with Polly O'Keary and the Rhythm Method at Kilworth Memorial Chapel
DESCRIPTION:February 18th\, 5:00 pm\, at the Kilworth Memorial Chapel\, University of Puget Sound- Blues Vespers with Polly O’Keary and the Rhythm Method.
URL:https://southsoundblues.org/event/blues-vespers-with-polly-okeary-and-the-rhythm-method-at-kilworth-memorial-chapel/
LOCATION:Kilworth Memorial Chapel\, 3410 N 18th St\, Tacoma\, WA\, 98416
CATEGORIES:Local South Sound Blues
END:VEVENT
BEGIN:VEVENT
DTSTART;TZID=America/Los_Angeles:20240218T170000
DTEND;TZID=America/Los_Angeles:20240218T200000
DTSTAMP:20260424T064534
CREATED:20240109T193823Z
LAST-MODIFIED:20240109T193921Z
UID:12015-1708275600-1708286400@southsoundblues.org
SUMMARY:Brother Don’s Sundays Blues Jam at Brother Don's Bar & Grill\, Bremerton
DESCRIPTION:Brother Don’s Sundays Blues Jam\, 5-8 pm\, Bremerton
URL:https://southsoundblues.org/event/brother-dons-sundays-blues-jam-at-brother-dons-bar-grill/
LOCATION:Brother Don’s Bar & Grill\, 4200 Kitsap Way\, Bremerton\, WA\, 98312
CATEGORIES:Local South Sound Blues
END:VEVENT
END:VCALENDAR