BEGIN:VCALENDAR
VERSION:2.0
PRODID:-//South Sound Blues Association - ECPv6.15.18//NONSGML v1.0//EN
CALSCALE:GREGORIAN
METHOD:PUBLISH
X-ORIGINAL-URL:https://southsoundblues.org
X-WR-CALDESC:Events for South Sound Blues Association
REFRESH-INTERVAL;VALUE=DURATION:PT1H
X-Robots-Tag:noindex
X-PUBLISHED-TTL:PT1H
BEGIN:VTIMEZONE
TZID:America/Los_Angeles
BEGIN:DAYLIGHT
TZOFFSETFROM:-0800
TZOFFSETTO:-0700
TZNAME:PDT
DTSTART:20240310T100000
END:DAYLIGHT
BEGIN:STANDARD
TZOFFSETFROM:-0700
TZOFFSETTO:-0800
TZNAME:PST
DTSTART:20241103T090000
END:STANDARD
BEGIN:DAYLIGHT
TZOFFSETFROM:-0800
TZOFFSETTO:-0700
TZNAME:PDT
DTSTART:20250309T100000
END:DAYLIGHT
BEGIN:STANDARD
TZOFFSETFROM:-0700
TZOFFSETTO:-0800
TZNAME:PST
DTSTART:20251102T090000
END:STANDARD
BEGIN:DAYLIGHT
TZOFFSETFROM:-0800
TZOFFSETTO:-0700
TZNAME:PDT
DTSTART:20260308T100000
END:DAYLIGHT
BEGIN:STANDARD
TZOFFSETFROM:-0700
TZOFFSETTO:-0800
TZNAME:PST
DTSTART:20261101T090000
END:STANDARD
END:VTIMEZONE
BEGIN:VEVENT
DTSTART;TZID=America/Los_Angeles:20250401T190000
DTEND;TZID=America/Los_Angeles:20250401T220000
DTSTAMP:20260423T104740
CREATED:20241228T085013Z
LAST-MODIFIED:20241228T085013Z
UID:14050-1743534000-1743544800@southsoundblues.org
SUMMARY:Jam every Tuesday at Brother Don’s Bar & Grill with the Tim Hall band
DESCRIPTION:Jam every Tuesday at Brother Don’s Bar & Grill with the Tim Hall band\, 7-10 pm.
URL:https://southsoundblues.org/event/jam-every-tuesday-at-brother-dons-bar-grill-with-the-tim-hall-band-12/
LOCATION:Brother Don’s Bar & Grill\, 4200 Kitsap Way\, Bremerton\, WA\, 98312
CATEGORIES:Local South Sound Blues
END:VEVENT
BEGIN:VEVENT
DTSTART;TZID=America/Los_Angeles:20250402T180000
DTEND;TZID=America/Los_Angeles:20250402T210000
DTSTAMP:20260423T104740
CREATED:20250127T203344Z
LAST-MODIFIED:20250307T190901Z
UID:14233-1743616800-1743627600@southsoundblues.org
SUMMARY:Jazz\, Wednesdays at the Spar with Tim Lerch Trio
DESCRIPTION:Jazz\, Wednesdays at the Spar\, 6-9 pm\,  Tim Lerch Trio
URL:https://southsoundblues.org/event/jazz-wednesdays-at-the-spar/
LOCATION:The Spar\, 2121 N 30th St\, Tacoma\, WA\, 98403
CATEGORIES:Featured
END:VEVENT
BEGIN:VEVENT
DTSTART;TZID=America/Los_Angeles:20250402T193000
DTEND;TZID=America/Los_Angeles:20250402T230000
DTSTAMP:20260423T104740
CREATED:20241031T000934Z
LAST-MODIFIED:20250130T204218Z
UID:13701-1743622200-1743634800@southsoundblues.org
SUMMARY:Janiva Magness at the Triple Door preceded by Mark Hurwitz & Gin Creek at the Musicquarium Lounge\, Seattle
DESCRIPTION:Seven-times Blues Music Awards winner Janiva Magness continues to renew and redefine her widely celebrated relationship with the music on a powerfully engaging\, emotionally rich collection. \nGet event tickets at the Triple Door \n$30 General / $34 Premium \nMark Hurwitz and Gin Creek gig at the The Triple Door Musicquarium Lounge in Seattle is April 2. On the main stage that night is the amazingly talented blues singer Janiva Magness and her band. Gin Creek plays for the 5 to 7pm Happy Hour. The Janiva Magness show starts at 7:30\, so come down early for a great night of music.
URL:https://southsoundblues.org/event/janiva-magness-at-the-triple-door-seattle/
LOCATION:The Triple Door\, 216 Union St\,\, Seattle\, WA\, 98101
CATEGORIES:Featured
END:VEVENT
BEGIN:VEVENT
DTSTART;TZID=America/Los_Angeles:20250403T190000
DTEND;TZID=America/Los_Angeles:20250403T220000
DTSTAMP:20260423T104740
CREATED:20250114T235256Z
LAST-MODIFIED:20250306T041857Z
UID:14165-1743706800-1743717600@southsoundblues.org
SUMMARY:LTD presents Tia Carroll & Her Awesome Band at The Historic Blue Mouse Theatre in Tacoma
DESCRIPTION:TIA CARROLL & HER AWESOME BAND at THE The Historic Blue Mouse Theatre in Tacoma \, THURSDAY APRIL 3rd\, 7pm\ninfo@ltdpresentslive.com\nLTD Presents: Tia Carroll LIVE at The Historic Blue Mouse Theatre in TacomaThursday\, April 3rd – 7:00pm (doors at 6:00pm)\nThis limited ticket event is an up close and intimate night with California’s Queen of Blues & Soul Tia Carroll and Her Awesome PNW Band\n–> https://tiacarrollbluemouseblues.rsvpify.com <–\n“Award winning California native Tia Carroll has quietly accumulated one of the most impressive entertainment resumes in the Bay Area and has become one of the most sought-after female singers on the West Coast. She has shared stages with legends Ray Charles\, Jimmy McCracklin\, Syl Johnson\, Sugar Pie DeSanto and B.B King\, Tommy Castro\, Elvin Bishop\, Igor Prado and Eric Gales.\nTickets:IN ADVANCE $30/$45DAY OF SHOW all tickets +$5
URL:https://southsoundblues.org/event/tia-carroll-her-awesome-band-at-the-slippery-pig/
LOCATION:Blue Mouse Theatre\, 2611 N Proctor\, Tacoma\, WA\, 98407
CATEGORIES:Local South Sound Blues
END:VEVENT
BEGIN:VEVENT
DTSTART;TZID=America/Los_Angeles:20250404T190000
DTEND;TZID=America/Los_Angeles:20250404T210000
DTSTAMP:20260423T104740
CREATED:20250227T213029Z
LAST-MODIFIED:20250227T213029Z
UID:14387-1743793200-1743800400@southsoundblues.org
SUMMARY:LTD Presents: Tia Carroll Band at the Port Townsend Event Center
DESCRIPTION:  \n\nLTD Presents: Tia Carroll & Her Awesome PNW Band LIVE at Palindrome Port Townsend Event Center\, Friday\, April 4th\,  7-9pm
URL:https://southsoundblues.org/event/ltd-presents-tia-carroll-band-at-the-port-townsend-event-center/
LOCATION:Palindrome Port Townsend Event Center\, 1893 S Jacob Miller Rd\, Port Townsend\, WA\, 98368
CATEGORIES:Local South Sound Blues
END:VEVENT
BEGIN:VEVENT
DTSTART;TZID=America/Los_Angeles:20250404T190000
DTEND;TZID=America/Los_Angeles:20250404T210000
DTSTAMP:20260423T104740
CREATED:20250307T192921Z
LAST-MODIFIED:20250307T192921Z
UID:14432-1743793200-1743800400@southsoundblues.org
SUMMARY:Mark Hurwitz & Gin Creek at Kimball Coffeehouse
DESCRIPTION:Fri\, Apr 4th – Mark Hurwitz & Gin Creek at the Kimball Coffeehouse \, 7-9 pm
URL:https://southsoundblues.org/event/mark-hurwitz-gin-creek-at-kimball-coffeehouse/
LOCATION:Kimball’s Coffeehouse\, 6659 Kimball Dr\, Gig Harbor\, WA\, 98335
CATEGORIES:Local South Sound Blues
END:VEVENT
BEGIN:VEVENT
DTSTART;TZID=America/Los_Angeles:20250404T200000
DTEND;TZID=America/Los_Angeles:20250404T230000
DTSTAMP:20260423T104740
CREATED:20250227T212506Z
LAST-MODIFIED:20250227T212506Z
UID:14385-1743796800-1743807600@southsoundblues.org
SUMMARY:John Stephan Band at the Salmon Bay Eagles
DESCRIPTION:John Stephan Band @ Salmon Bay Eagles April 4th\, 8-11 pm
URL:https://southsoundblues.org/event/john-stephan-band-at-the-salmon-bay-eagles-2/
LOCATION:Salmon Bay Eagles\, 5216 20th Ave NW\, Seattle\, WA\, 98107
CATEGORIES:Featured
END:VEVENT
BEGIN:VEVENT
DTSTART;TZID=America/Los_Angeles:20250405T100000
DTEND;TZID=America/Los_Angeles:20250405T153000
DTSTAMP:20260423T104740
CREATED:20250306T202643Z
LAST-MODIFIED:20250306T204325Z
UID:14412-1743847200-1743867000@southsoundblues.org
SUMMARY:West Coast Guitar Show\, Renton
DESCRIPTION:West Coast Guitar Show\, April 5th\, 10am-3:30 pm\, Cedar River Park\, Renton Community Center\,  $15. admission\nBuy\, Sell\, Trade\, Vintage\, New\, Used \nPedals\, guitars\, Basses\, Amps\, Banjos\, Mandolins\, Lap Steels\, Ukes \nwestcoastguitarshows.com
URL:https://southsoundblues.org/event/west-coast-guitar-show-renton/
LOCATION:Cedar River Park Renton Community Center\, 1715 SE Maple Valley Highway\, Renton\, WA\, 98057
CATEGORIES:Special Event
END:VEVENT
BEGIN:VEVENT
DTSTART;TZID=America/Los_Angeles:20250405T190000
DTEND;TZID=America/Los_Angeles:20250405T220000
DTSTAMP:20260423T104740
CREATED:20250312T232603Z
LAST-MODIFIED:20250312T232603Z
UID:14453-1743879600-1743890400@southsoundblues.org
SUMMARY:Mr. Blackwatch at the Spar
DESCRIPTION:Sat\, Apr 5th – Mr. Blackwatch at the Spar 7-10 pm
URL:https://southsoundblues.org/event/mr-blackwatch-at-the-spar/
LOCATION:The Spar\, 2121 N 30th St\, Tacoma\, WA\, 98403
CATEGORIES:Featured
END:VEVENT
BEGIN:VEVENT
DTSTART;TZID=America/Los_Angeles:20250405T190000
DTEND;TZID=America/Los_Angeles:20250405T223000
DTSTAMP:20260423T104740
CREATED:20250130T203303Z
LAST-MODIFIED:20250130T203303Z
UID:14256-1743879600-1743892200@southsoundblues.org
SUMMARY:Randy Hansen (A Tribute to Jimi Hendrix) at Jazzbones
DESCRIPTION:One full night of the incredible Randy Hansen! Randy Hansen (A Tribute to Jimi Hendrix) w/ his original band Stonehouse Wednesday!For over thirty years\, Hansen has been building a reputation as the foremost Hendrix tribute on Earth. As one of the few players officially recognized by the Hendrix family\, he has been successfully doing his act since the ’70s\, stunning audiences worldwide as he channels the spirit of Jimi and perfectly recreates the stage presence and skill of the legendary axeman. Aside from his loyal fanbase\, Hansen’s guitar work is respected throughout the music business. He’s played alongside some of the greats\, including Stevie Ray Vaughan\, Steve Miller\, Paul Rodgers\, Herbie Hancock\, and original Jimi Hendrix Experience members Noel Redding and Mitch Mitchell… Also original Band Of Gypsies members\, Buddy Miles and Billy Cox.\n\nSaturday\, April 5TH\, Advanced Tickets $25Doors 7PM\, Show 8PM\, 21+\nJAZZBONES 2803 6TH AVE TACOMAwww.jazzbones.com
URL:https://southsoundblues.org/event/randy-hansen-a-tribute-to-jimi-hendrix-at-jazzbones-2/
LOCATION:Jazzbones\, 2803 6th Ave\, Tacoma\, WA\, 98406
CATEGORIES:Featured,Local South Sound Blues
END:VEVENT
BEGIN:VEVENT
DTSTART;TZID=America/Los_Angeles:20250406T170000
DTEND;TZID=America/Los_Angeles:20250406T183000
DTSTAMP:20260423T104740
CREATED:20250314T222503Z
LAST-MODIFIED:20250314T222503Z
UID:14544-1743958800-1743964200@southsoundblues.org
SUMMARY:Blues Vespers features 'Big Blues Guitars' at Kilworth Memorial Chapel with Dave Brown
DESCRIPTION:Big Blues Guitars! Blues Vespers at Kilworth Memorial Chapel April 6th\, 5-6:30 pm. Dave Brown production.
URL:https://southsoundblues.org/event/blues-vespers-features-big-blues-guitars-at-kilworth-memorial-chapel-with-dave-brown/
LOCATION:Kilworth Memorial Chapel\, 3410 N 18th St\, Tacoma\, WA\, 98416
CATEGORIES:Local South Sound Blues
END:VEVENT
BEGIN:VEVENT
DTSTART;TZID=America/Los_Angeles:20250406T190000
DTEND;TZID=America/Los_Angeles:20250406T220000
DTSTAMP:20260423T104740
CREATED:20250307T191852Z
LAST-MODIFIED:20250307T191852Z
UID:14426-1743966000-1743976800@southsoundblues.org
SUMMARY:Sunday Blues at the Spar with Mr. Hasty
DESCRIPTION:Sun\, Apr 6th – Mr. Hasty Sunday Blues at the Spar\, 7-10 pm\n 
URL:https://southsoundblues.org/event/sunday-blues-at-the-spar-with-mr-hasty-3/
LOCATION:The Spar\, 2121 N 30th St\, Tacoma\, WA\, 98403
CATEGORIES:Local South Sound Blues
END:VEVENT
BEGIN:VEVENT
DTSTART;TZID=America/Los_Angeles:20250407T200000
DTEND;TZID=America/Los_Angeles:20250407T220000
DTSTAMP:20260423T104740
CREATED:20241228T065544Z
LAST-MODIFIED:20241228T065544Z
UID:14011-1744056000-1744063200@southsoundblues.org
SUMMARY:Mike Witmer hosts “Mojo Mike’s Blues Revue” every Monday on KVSH 101.9 FM
DESCRIPTION:Mike Witmer hosts “Mojo Mike’s Blues Revue” every Monday on KVSH 101.9 FM 8-10 pm
URL:https://southsoundblues.org/event/mike-witmer-hosts-mojo-mikes-blues-revue-every-monday-on-kvsh-101-9-fm-33/
LOCATION:KVSH\, 17643 Vashon Hwy SW\, Vashon Island\, WA\, 98070
CATEGORIES:Local South Sound Blues
END:VEVENT
BEGIN:VEVENT
DTSTART;TZID=America/Los_Angeles:20250408T190000
DTEND;TZID=America/Los_Angeles:20250408T220000
DTSTAMP:20260423T104740
CREATED:20250207T215617Z
LAST-MODIFIED:20250207T215617Z
UID:14291-1744138800-1744149600@southsoundblues.org
SUMMARY:Washington Blues Society Blues Bash featuring Michele D'Amour & the Love Dealers at Aurora Borealis
DESCRIPTION:Washington Blues Society Blues Bash featuring Michele D’Amour & the Love Dealers at Aurora Borealis April 8th\, 7-10 PM
URL:https://southsoundblues.org/event/washington-blues-society-blues-bash-featuring-michele-damour-the-love-dealers-at-aurora-borealis/
LOCATION:Aurora Borealis\, 16708 Aurora Ave N\, Shoreline\, WA\, 98133
CATEGORIES:Featured
END:VEVENT
BEGIN:VEVENT
DTSTART;TZID=America/Los_Angeles:20250409T170000
DTEND;TZID=America/Los_Angeles:20250409T190000
DTSTAMP:20260423T104740
CREATED:20250406T122013Z
LAST-MODIFIED:20250406T122013Z
UID:14582-1744218000-1744225200@southsoundblues.org
SUMMARY:The Blue Tide performing at The Triple Door (MQ Stage)
DESCRIPTION:The Blue Tide performing on The Triple Door MQ Stage\, April 9th\, 5-7 pm
URL:https://southsoundblues.org/event/the-blue-tide-performing-at-the-triple-door-mq-stage/
LOCATION:The Triple Door\, 216 Union St\,\, Seattle\, WA\, 98101
CATEGORIES:Featured
END:VEVENT
BEGIN:VEVENT
DTSTART;TZID=America/Los_Angeles:20250409T180000
DTEND;TZID=America/Los_Angeles:20250409T210000
DTSTAMP:20260423T104740
CREATED:20250113T224915Z
LAST-MODIFIED:20250113T224915Z
UID:14155-1744221600-1744232400@southsoundblues.org
SUMMARY:Billy Shew and Friends host an open Jam every Wednesday at Stockton’s
DESCRIPTION:Billy Shew and Friends host an open Jam every Wednesday at Stockton’s\, 6-9pm
URL:https://southsoundblues.org/event/billy-shew-and-friends-host-an-open-jam-every-wednesday-at-stocktons-31/
LOCATION:Stockton’s Restaurant & Spirits\, 23220 Maple Valley Black Diamond Rd SE\, Maple Valley\, WA\, 98038
CATEGORIES:Local South Sound Blues
END:VEVENT
BEGIN:VEVENT
DTSTART;TZID=America/Los_Angeles:20250409T180000
DTEND;TZID=America/Los_Angeles:20250409T210000
DTSTAMP:20260423T104740
CREATED:20250312T232852Z
LAST-MODIFIED:20250312T232852Z
UID:14455-1744221600-1744232400@southsoundblues.org
SUMMARY:Wednesday Jazz with 253 at the Spar
DESCRIPTION:Wed\, Apr 9th – 253 at the Spar\, 6-9 pm
URL:https://southsoundblues.org/event/wednesday-jazz-with-253-at-the-spar/
LOCATION:The Spar\, 2121 N 30th St\, Tacoma\, WA\, 98403
CATEGORIES:Featured
END:VEVENT
BEGIN:VEVENT
DTSTART;TZID=America/Los_Angeles:20250409T190000
DTEND;TZID=America/Los_Angeles:20250409T213000
DTSTAMP:20260423T104740
CREATED:20250407T140855Z
LAST-MODIFIED:20250407T140855Z
UID:14593-1744225200-1744234200@southsoundblues.org
SUMMARY:Octopus Ballet at The Mill in Milton
DESCRIPTION:An evening of great food\, craft cocktails\, and the music of Octopus Ballet at The Mill in Milton\, April 9th\, 7-9:30 pm.\nPerforming original music and select cover tunes\, Octopus Ballet melds their collective roots of acoustic rock\, jazz\, blues\, and folk to form a musical experience that touches the heart and grabs the soul.\nThe poignant lyrics of Leanne Trevalyan combines crystalline vocals and fingerstyle guitar playing to bring life to her pure and simple melodies. The multi-talented Sheryl adds texture and flavor to the group’s songs on saxophone and flute; while percussionist Chad Russel brings his many talents on djembe\, Cajon\, and more to select shows.\nTogether\, these three combine to form a sound greater than the sum of their parts. Octopus Ballet…it has legs.
URL:https://southsoundblues.org/event/octopus-ballet-at-the-mill-in-milton/
LOCATION:The Mill of Milton\, 900 Meridian E. #50\, Milton\, WA\, 98354
CATEGORIES:Featured
END:VEVENT
BEGIN:VEVENT
DTSTART;TZID=America/Los_Angeles:20250410T190000
DTEND;TZID=America/Los_Angeles:20250410T213000
DTSTAMP:20260423T104740
CREATED:20250407T141754Z
LAST-MODIFIED:20250407T141754Z
UID:14595-1744311600-1744320600@southsoundblues.org
SUMMARY:The Loose Floorboards acoustic duo at the Twisted Fork Saloon
DESCRIPTION:The Loose Floorboards acoustic duo at the Twisted Fork Saloon\, Thursday April 10th at 7pm
URL:https://southsoundblues.org/event/the-loose-floorboards-acoustic-duo-at-the-twisted-fork-saloon/
LOCATION:Twisted Fork Saloon\, 5005 Main St\, Tacoma\, WA\, 98407
CATEGORIES:Featured
END:VEVENT
BEGIN:VEVENT
DTSTART;TZID=America/Los_Angeles:20250410T190000
DTEND;TZID=America/Los_Angeles:20250410T220000
DTSTAMP:20260423T104740
CREATED:20250313T011006Z
LAST-MODIFIED:20250313T011006Z
UID:14520-1744311600-1744322400@southsoundblues.org
SUMMARY:“Billy the Pocket Jam” Thursday nights at Dawson’s
DESCRIPTION:“Billy the Pocket Jam” Thursday nights at Dawson’s\, 7-10 pm
URL:https://southsoundblues.org/event/billy-the-pocket-jam-thursday-nights-at-dawsons-5/
LOCATION:Dawson’s Bar & Grill\, 5443 South Tacoma Way\, Tacoma\, WA\, 98409
CATEGORIES:Local South Sound Blues
END:VEVENT
BEGIN:VEVENT
DTSTART;TZID=America/Los_Angeles:20250410T200000
DTEND;TZID=America/Los_Angeles:20250410T230000
DTSTAMP:20260423T104740
CREATED:20250411T000215Z
LAST-MODIFIED:20250411T000215Z
UID:14639-1744315200-1744326000@southsoundblues.org
SUMMARY:Eric's Maine Connection at the Salmon Bay Eagles
DESCRIPTION:Eric’s Maine Connection at the Salmon Bay Eagles April 10th\, 8 pm
URL:https://southsoundblues.org/event/erics-maine-connection-at-the-salmon-bay-eagles/
LOCATION:Salmon Bay Eagles\, 5216 20th Ave NW\, Seattle\, WA\, 98107
CATEGORIES:Local South Sound Blues
END:VEVENT
BEGIN:VEVENT
DTSTART;TZID=America/Los_Angeles:20250411T190000
DTEND;TZID=America/Los_Angeles:20250411T210000
DTSTAMP:20260423T104740
CREATED:20250307T193147Z
LAST-MODIFIED:20250307T193147Z
UID:14434-1744398000-1744405200@southsoundblues.org
SUMMARY:Dusty Luck at Kimball Coffeehouse
DESCRIPTION:Fri\, Apr 11th – Dusty Luck at Kimball Coffeehouse\, 7-9 pm
URL:https://southsoundblues.org/event/dusty-luck-at-kimball-coffeehouse-2/
LOCATION:Kimball’s Coffeehouse\, 6659 Kimball Dr\, Gig Harbor\, WA\, 98335
CATEGORIES:Featured
END:VEVENT
BEGIN:VEVENT
DTSTART;TZID=America/Los_Angeles:20250411T200000
DTEND;TZID=America/Los_Angeles:20250411T230000
DTSTAMP:20260423T104740
CREATED:20250411T000845Z
LAST-MODIFIED:20250411T000845Z
UID:14641-1744401600-1744412400@southsoundblues.org
SUMMARY:Silver Tongued Devils at the Salmon Bay Eagles
DESCRIPTION:Silver Tongued Devils at the Salmon Bay Eagles April 11th\, 8 pm
URL:https://southsoundblues.org/event/silver-tongued-devils-at-the-salmon-bay-eagles/
LOCATION:Salmon Bay Eagles\, 5216 20th Ave NW\, Seattle\, WA\, 98107
CATEGORIES:Local South Sound Blues
END:VEVENT
BEGIN:VEVENT
DTSTART;TZID=America/Los_Angeles:20250412T180000
DTEND;TZID=America/Los_Angeles:20250412T200000
DTSTAMP:20260423T104740
CREATED:20250410T234616Z
LAST-MODIFIED:20250410T234616Z
UID:14635-1744480800-1744488000@southsoundblues.org
SUMMARY:Reji Marc at Velvets Big Easy
DESCRIPTION:Velvet’s BigEasy\n\n\n\nSaturday\, April 12th\, from 6pm-8pm the very talented Reji Marc is coming to Velvets Big Easy! Come and fill your belly’s with New Orleans and Creole style of food and fill your ears with Soul!\n\n\n\n\n\n\n\n\n\n\n\n\n124 146th St S.\nTacoma\, Wa 98444\n253-503-0357
URL:https://southsoundblues.org/event/reji-marc-at-velvets-big-easy/
LOCATION:Velvet’s Big Easy\, 124 146th St S\, Parkland\, WA\, 98444
CATEGORIES:Featured
END:VEVENT
BEGIN:VEVENT
DTSTART;TZID=America/Los_Angeles:20250412T190000
DTEND;TZID=America/Los_Angeles:20250412T220000
DTSTAMP:20260423T104740
CREATED:20250307T194738Z
LAST-MODIFIED:20250307T194738Z
UID:14440-1744484400-1744495200@southsoundblues.org
SUMMARY:Ailment O'Neill Band at the Spar
DESCRIPTION:Sat\, Apr 12th – Ailment O’Neill Band at the Spar 7-10 pm
URL:https://southsoundblues.org/event/ailment-oneill-band-at-the-spar/
LOCATION:The Spar\, 2121 N 30th St\, Tacoma\, WA\, 98403
CATEGORIES:Featured
END:VEVENT
BEGIN:VEVENT
DTSTART;TZID=America/Los_Angeles:20250412T200000
DTEND;TZID=America/Los_Angeles:20250412T223000
DTSTAMP:20260423T104740
CREATED:20250312T235526Z
LAST-MODIFIED:20250312T235708Z
UID:14467-1744488000-1744497000@southsoundblues.org
SUMMARY:Taj Mahal and Leyla McCalla - Black Banjo at Meany Hall—Katharyn Alvord Gerlich Theater in Seattle
DESCRIPTION:APR 12 — Taj Mahal and Leyla McCalla – Black Banjo at Meany Hall—Katharyn Alvord Gerlich Theater in Seattle.\nhttps://meanycenter.org/tickets/2025-04/production/taj-mahal-and-leyla-mccalla \nTaj Mahal has recorded dozens of records\, won numerous awards and has been inducted into the Blues Foundation Hall of Fame. In Black Banjo\, he joins forces with Leyla McCalla\, a Grammy-winning multi-instrumentalist who first gained renown as a member of The Carolina Chocolate Drops alongside bandmate Rhiannon Giddens\, and has now created a distinctive sound all her own. \nCurated by Artistic Partner Rhiannon Giddens \n$25 tickets for this show are now sold out\, but great seats at great prices are still available!   
URL:https://southsoundblues.org/event/taj-mahal-and-leyla-mccalla-black-banjo-at-meany-hall-katharyn-alvord-gerlich-theater-in-seattle/
LOCATION:Meany Hall\, 4040 George Washington Lane Northeast\, Seattle\, WA\, 98195
CATEGORIES:Featured,Special Event
END:VEVENT
BEGIN:VEVENT
DTSTART;TZID=America/Los_Angeles:20250412T200000
DTEND;TZID=America/Los_Angeles:20250412T230000
DTSTAMP:20260423T104740
CREATED:20250410T235733Z
LAST-MODIFIED:20250410T235733Z
UID:14637-1744488000-1744498800@southsoundblues.org
SUMMARY:Red House at the Salmon Bay Eagles
DESCRIPTION:Red House at the Salmon Bay Eagles April 12th\, 8 pm
URL:https://southsoundblues.org/event/red-house-at-the-salmon-bay-eagles-3/
LOCATION:Salmon Bay Eagles\, 5216 20th Ave NW\, Seattle\, WA\, 98107
CATEGORIES:Local South Sound Blues
END:VEVENT
BEGIN:VEVENT
DTSTART;TZID=America/Los_Angeles:20250413T180000
DTEND;TZID=America/Los_Angeles:20250413T210000
DTSTAMP:20260423T104740
CREATED:20250411T003414Z
LAST-MODIFIED:20250411T003530Z
UID:14645-1744567200-1744578000@southsoundblues.org
SUMMARY:Tim Hall Blues Jam every Sunday at Zesty's
DESCRIPTION:Tim Hall Blues Jam every Sunday at Zesty’s Steakhouse\, 6-9pm
URL:https://southsoundblues.org/event/tim-hall-blues-jam-every-sunday-at-zestys/
LOCATION:Zesty’s Cajun Steakhouse\, 9905 Bridgeport Way Southwest\, Lakewood\, WA\, 98499
CATEGORIES:Local South Sound Blues
END:VEVENT
BEGIN:VEVENT
DTSTART;TZID=America/Los_Angeles:20250413T190000
DTEND;TZID=America/Los_Angeles:20250413T220000
DTSTAMP:20260423T104740
CREATED:20250307T192235Z
LAST-MODIFIED:20250307T192235Z
UID:14428-1744570800-1744581600@southsoundblues.org
SUMMARY:Sunday Blues at the Spar with Steve Bailey & The Blue Flames
DESCRIPTION:Sun\, Apr 13th – Steve Bailey & The Blue Flames\, Sunday Blues at the Spar\, 7-10 pm
URL:https://southsoundblues.org/event/sunday-blues-at-the-spar-with-steve-bailey-the-blue-flames/
LOCATION:The Spar\, 2121 N 30th St\, Tacoma\, WA\, 98403
CATEGORIES:Local South Sound Blues
END:VEVENT
BEGIN:VEVENT
DTSTART;TZID=America/Los_Angeles:20250413T190000
DTEND;TZID=America/Los_Angeles:20250413T220000
DTSTAMP:20260423T104740
CREATED:20250313T000043Z
LAST-MODIFIED:20250313T000043Z
UID:14470-1744570800-1744581600@southsoundblues.org
SUMMARY:Billy Shew Blues Jam\, every Sunday at Dawson’s
DESCRIPTION:Billy Shew Blues Jam\, every Sunday at Dawson’s\, 7-11 pm
URL:https://southsoundblues.org/event/billy-shew-blues-jam-every-sunday-at-dawsons-37/
LOCATION:Dawson’s Bar & Grill\, 5443 South Tacoma Way\, Tacoma\, WA\, 98409
CATEGORIES:Local South Sound Blues
END:VEVENT
END:VCALENDAR