BEGIN:VCALENDAR
VERSION:2.0
PRODID:-//South Sound Blues Association - ECPv6.15.18//NONSGML v1.0//EN
CALSCALE:GREGORIAN
METHOD:PUBLISH
X-WR-CALNAME:South Sound Blues Association
X-ORIGINAL-URL:https://southsoundblues.org
X-WR-CALDESC:Events for South Sound Blues Association
REFRESH-INTERVAL;VALUE=DURATION:PT1H
X-Robots-Tag:noindex
X-PUBLISHED-TTL:PT1H
BEGIN:VTIMEZONE
TZID:America/Los_Angeles
BEGIN:DAYLIGHT
TZOFFSETFROM:-0800
TZOFFSETTO:-0700
TZNAME:PDT
DTSTART:20220313T100000
END:DAYLIGHT
BEGIN:STANDARD
TZOFFSETFROM:-0700
TZOFFSETTO:-0800
TZNAME:PST
DTSTART:20221106T090000
END:STANDARD
BEGIN:DAYLIGHT
TZOFFSETFROM:-0800
TZOFFSETTO:-0700
TZNAME:PDT
DTSTART:20230312T100000
END:DAYLIGHT
BEGIN:STANDARD
TZOFFSETFROM:-0700
TZOFFSETTO:-0800
TZNAME:PST
DTSTART:20231105T090000
END:STANDARD
BEGIN:DAYLIGHT
TZOFFSETFROM:-0800
TZOFFSETTO:-0700
TZNAME:PDT
DTSTART:20240310T100000
END:DAYLIGHT
BEGIN:STANDARD
TZOFFSETFROM:-0700
TZOFFSETTO:-0800
TZNAME:PST
DTSTART:20241103T090000
END:STANDARD
END:VTIMEZONE
BEGIN:VEVENT
DTSTART;TZID=America/Los_Angeles:20230510T190000
DTEND;TZID=America/Los_Angeles:20230510T230000
DTSTAMP:20260425T080901
CREATED:20230429T195839Z
LAST-MODIFIED:20230509T052909Z
UID:10302-1683745200-1683759600@southsoundblues.org
SUMMARY:Wednesdays 'Jam Night' at the Des Moines Public House
DESCRIPTION:‘3 Dog Bite’ will be hosting ‘Jam Nite’ at ‘The Public House’ of Des Moines\, Wednesday\, May 10th\, from 7:00 – 11:00 p.m..\n\n\n\n\n\nWednesdays ‘Jam Night’ with rotating hosts\, at the Des Moines Public House\, 8-midnight\n22315 Marine View Dr S\, Des Moines\, WA 98198
URL:https://southsoundblues.org/event/wednesdays-jam-night-with-the-tim-turner-band-at-the-des-moines-public-house/
LOCATION:Des Moines Public House\, 22315 Marine View Dr S\, Des Moines\, WA\, 98198
CATEGORIES:Local South Sound Blues
END:VEVENT
BEGIN:VEVENT
DTSTART;TZID=America/Los_Angeles:20230510T180000
DTEND;TZID=America/Los_Angeles:20230510T180000
DTSTAMP:20260425T080901
CREATED:20230422T012659Z
LAST-MODIFIED:20230422T012659Z
UID:10264-1683741600-1683741600@southsoundblues.org
SUMMARY:Velocity at the Spar
DESCRIPTION:Wed\, May 10th at the Spar\, Velocity 6pm
URL:https://southsoundblues.org/event/velocity-at-the-spar-2/
LOCATION:The Spar\, 2121 N 30th St\, Tacoma\, WA\, 98403
CATEGORIES:Featured
END:VEVENT
BEGIN:VEVENT
DTSTART;TZID=America/Los_Angeles:20230509T200000
DTEND;TZID=America/Los_Angeles:20230509T233000
DTSTAMP:20260425T080901
CREATED:20230421T215416Z
LAST-MODIFIED:20230421T215416Z
UID:10240-1683662400-1683675000@southsoundblues.org
SUMMARY:Cory Wilds Band Tuesday open Jam Night at Elmer’s Bar and Grill
DESCRIPTION:Cory Wilds Band Tuesday open Jam Night at Elmer’s Bar and Grill\, 8-11:30 pm\n 
URL:https://southsoundblues.org/event/cory-wilds-band-tuesday-open-jam-night-at-elmers-bar-and-grill-5/
LOCATION:Elmer’s Bar & Grill\, 15027 Ambaum Blvd SW\, Burien\, WA\, 98166
CATEGORIES:Local South Sound Blues
END:VEVENT
BEGIN:VEVENT
DTSTART;TZID=America/Los_Angeles:20230508T190000
DTEND;TZID=America/Los_Angeles:20230508T190000
DTSTAMP:20260425T080901
CREATED:20230429T200728Z
LAST-MODIFIED:20230429T200728Z
UID:10305-1683572400-1683572400@southsoundblues.org
SUMMARY:Monday Jam at HD's Bar & Grill with host\, Al Alto
DESCRIPTION:Monday Night Jams at HD’s Bar & Grill with host\, Al Alto\n\n\n\n\n\n\n\n24131 NE State Route 3\, Belfair\, WA\, United States\, Washington\n\n\n\n(360) 552-2545\n\n\nhdspub@gmail.com
URL:https://southsoundblues.org/event/monday-jam-at-hds-bar-grill-with-host-al-alto/
LOCATION:HD’s Pub\, 24131 SR-3 \, Belfair\, WA\, 98528
CATEGORIES:Local South Sound Blues
END:VEVENT
BEGIN:VEVENT
DTSTART;TZID=America/Los_Angeles:20230507T190000
DTEND;TZID=America/Los_Angeles:20230507T230000
DTSTAMP:20260425T080901
CREATED:20230429T210311Z
LAST-MODIFIED:20230429T210311Z
UID:10325-1683486000-1683500400@southsoundblues.org
SUMMARY:Billy Shew Blues Jam\, every Sunday at Dawson’s
DESCRIPTION:Billy Shew Blues Jam\, every Sunday at Dawson’s\, 7-11 pm
URL:https://southsoundblues.org/event/billy-shew-blues-jam-every-sunday-at-dawsons/
LOCATION:Dawson’s Bar & Grill\, 5443 South Tacoma Way\, Tacoma\, WA\, 98409
CATEGORIES:Local South Sound Blues
END:VEVENT
BEGIN:VEVENT
DTSTART;TZID=America/Los_Angeles:20230507T190000
DTEND;TZID=America/Los_Angeles:20230507T220000
DTSTAMP:20260425T080901
CREATED:20230420T185546Z
LAST-MODIFIED:20230420T185546Z
UID:10196-1683486000-1683496800@southsoundblues.org
SUMMARY:Sunday Blues at the Spar with Highway16 Rockin'Blues
DESCRIPTION:Sun\, May 7th. The Spar\, Tacoma: SUNDAY BLUES: Highway 16 Band 7pm
URL:https://southsoundblues.org/event/sunday-blues-at-the-spar-with-highway16-rockinblues/
LOCATION:The Spar\, 2121 N 30th St\, Tacoma\, WA\, 98403
CATEGORIES:Local South Sound Blues
END:VEVENT
BEGIN:VEVENT
DTSTART;TZID=America/Los_Angeles:20230507T110000
DTEND;TZID=America/Los_Angeles:20230507T140000
DTSTAMP:20260425T080901
CREATED:20230328T005655Z
LAST-MODIFIED:20230328T005655Z
UID:10077-1683457200-1683468000@southsoundblues.org
SUMMARY:Ross Robinson at the Olympia Farmers Market
DESCRIPTION:May 7th\, Ross Robinson at the Olympia Farmers Market 11am-2pm
URL:https://southsoundblues.org/event/ross-robinson-at-the-olympia-farmers-market-6/
LOCATION:Olympia Farmers Market\, 700 Capitol Way N\, Olympia\, WA\, 98501
CATEGORIES:Local South Sound Blues
END:VEVENT
BEGIN:VEVENT
DTSTART;TZID=America/Los_Angeles:20230506T200000
DTEND;TZID=America/Los_Angeles:20230506T230000
DTSTAMP:20260425T080901
CREATED:20230323T005405Z
LAST-MODIFIED:20230323T005405Z
UID:10046-1683403200-1683414000@southsoundblues.org
SUMMARY:King Kom Beaux at Dawson's
DESCRIPTION:King Kom Beaux performs at Dawson’s Bar & Grill in Tacoma\, WA\n\nSat May 6th 8:00pm – 11:00pm (PDT)\n\n\n\n21+NO-CoverBluesRock\n\nDawson’s Bar & Grill\, 5443 South Tacoma Way Tacoma\, WA 98409
URL:https://southsoundblues.org/event/king-kom-beaux-at-dawsons/
LOCATION:Dawson’s Bar & Grill\, 5443 South Tacoma Way\, Tacoma\, WA\, 98409
CATEGORIES:Local South Sound Blues
END:VEVENT
BEGIN:VEVENT
DTSTART;TZID=America/Los_Angeles:20230506T200000
DTEND;TZID=America/Los_Angeles:20230506T220000
DTSTAMP:20260425T080901
CREATED:20230120T190737Z
LAST-MODIFIED:20230120T190737Z
UID:9658-1683403200-1683410400@southsoundblues.org
SUMMARY:Mark Hurwitz & Gin Creek at the Mill\, SSBA Blues Series
DESCRIPTION:Mark Hurwitz & Gin Creek at the Mill\, SSBA Blues Series\, May 6th\, 8-10 pm\n Mark Hurwitz
URL:https://southsoundblues.org/event/mark-hurwitz-gin-creek-at-the-mill-ssba-blues-series/
LOCATION:The Mill of Milton\, 900 Meridian E. #50\, Milton\, WA\, 98354
CATEGORIES:Local South Sound Blues
END:VEVENT
BEGIN:VEVENT
DTSTART;TZID=America/Los_Angeles:20230505T190000
DTEND;TZID=America/Los_Angeles:20230505T210000
DTSTAMP:20260425T080901
CREATED:20230109T221643Z
LAST-MODIFIED:20230109T222904Z
UID:9587-1683313200-1683320400@southsoundblues.org
SUMMARY:Michele D'Amour and The Love Dealers at Kimballs
DESCRIPTION:Michele D’Amour and The Love Dealers at Kimballs Coffee house\, Friday\, May 5th\, 7- 9 pm
URL:https://southsoundblues.org/event/michele-damour-and-the-love-dealers-at-kimballs-2/
LOCATION:Kimball’s Coffeehouse\, 6659 Kimball Dr\, Gig Harbor\, WA\, 98335
CATEGORIES:Local South Sound Blues
END:VEVENT
BEGIN:VEVENT
DTSTART;TZID=America/Los_Angeles:20230505T190000
DTEND;TZID=America/Los_Angeles:20230505T190000
DTSTAMP:20260425T080901
CREATED:20230422T014347Z
LAST-MODIFIED:20230422T014347Z
UID:10272-1683313200-1683313200@southsoundblues.org
SUMMARY:Max Renshaw at the Black Angus\, Puyallup
DESCRIPTION:Fri\, May 5th at the Black Angus\, Puyallup: Max Renshaw Solo 7pm\n 
URL:https://southsoundblues.org/event/max-renshaw-at-the-black-angus-puyallup-2/
LOCATION:Black Angus\, Puyallup\, 203 35th Ave SE\, Puyallup\, WA\, 98374
CATEGORIES:Featured
END:VEVENT
BEGIN:VEVENT
DTSTART;TZID=America/Los_Angeles:20230504T190000
DTEND;TZID=America/Los_Angeles:20230504T220000
DTSTAMP:20260425T080901
CREATED:20230422T012232Z
LAST-MODIFIED:20230422T012232Z
UID:10262-1683226800-1683237600@southsoundblues.org
SUMMARY:Big Al’s Blues Jam Every Thursday at the New Moon Craft Tavern
DESCRIPTION:Big Al’s Blues Jam Every Thursday at the New Moon Craft Tavern\, Port Angeles\, 7-10 pm
URL:https://southsoundblues.org/event/big-als-blues-jam-every-thursday-at-the-new-moon-craft-tavern-3/
LOCATION:New Moon Craft Tavern\, 130 S Lincoln St\, Port Angeles\, WA\, 98362
CATEGORIES:Local South Sound Blues
END:VEVENT
BEGIN:VEVENT
DTSTART;TZID=America/Los_Angeles:20230504T190000
DTEND;TZID=America/Los_Angeles:20230504T220000
DTSTAMP:20260425T080901
CREATED:20230422T011106Z
LAST-MODIFIED:20230422T011106Z
UID:10256-1683226800-1683237600@southsoundblues.org
SUMMARY:“BILLY THE POCKET JAM” Thursday nights at Dawson’s
DESCRIPTION:“Billy the Pocket Jam” Thursday nights at Dawson’s\, 7-10 pm
URL:https://southsoundblues.org/event/billy-the-pocket-jam-thursday-nights-at-dawsons-15/
LOCATION:Dawson’s Bar & Grill\, 5443 South Tacoma Way\, Tacoma\, WA\, 98409
CATEGORIES:Local South Sound Blues
END:VEVENT
BEGIN:VEVENT
DTSTART;TZID=America/Los_Angeles:20230503T190000
DTEND;TZID=America/Los_Angeles:20230503T220000
DTSTAMP:20260425T080901
CREATED:20230422T004654Z
LAST-MODIFIED:20230422T004654Z
UID:10250-1683140400-1683151200@southsoundblues.org
SUMMARY:Wednesdays Blues Jams with Brian Olver at Purdy’s
DESCRIPTION:Wednesdays Blues Jams with Brian Olver at Purdy’s\, 7-10 pm
URL:https://southsoundblues.org/event/wednesdays-blues-jams-with-brian-olver-at-purdys-3/
LOCATION:Purdy’s Public House & Arcade\, Sumner\, 16202 64th St E\, Sumner\, WA\, 98390
CATEGORIES:Local South Sound Blues
END:VEVENT
BEGIN:VEVENT
DTSTART;TZID=America/Los_Angeles:20230503T180000
DTEND;TZID=America/Los_Angeles:20230503T210000
DTSTAMP:20260425T080901
CREATED:20230422T013531Z
LAST-MODIFIED:20230429T191406Z
UID:10268-1683136800-1683147600@southsoundblues.org
SUMMARY:Annie Eastwood & Her All-Star Band at the Spar
DESCRIPTION:Wed\, May 3rd at The Spar\, Annie Eastwood Quartet 6-9pm\n\nAnnie Eastwood & Her All-Star Band �Eclectic Rhythm and Blues\, Rock\, Blues\, Soul and Jazz. �Featuring Billy Stapleton on Electric Guitar & Slide Guitar\, Jeff Davies on Electric & Upright Bass and Vocals\, and Steve Peterson on Drums and Vocals.\n 
URL:https://southsoundblues.org/event/annie-eastwood-quartet-at-the-spar/
LOCATION:The Spar\, 2121 N 30th St\, Tacoma\, WA\, 98403
CATEGORIES:Local South Sound Blues
END:VEVENT
BEGIN:VEVENT
DTSTART;VALUE=DATE:20230503
DTEND;VALUE=DATE:20230505
DTSTAMP:20260425T080901
CREATED:20230326T191858Z
LAST-MODIFIED:20230326T191858Z
UID:10063-1683079200-1683165599@southsoundblues.org
SUMMARY:Ross Robinson at the Tenino Arts Creative Market
DESCRIPTION:Ross Robinson at the Tenino Arts Creative Market\, April 3rd\, and every second Saturday except June
URL:https://southsoundblues.org/event/ross-robinson-at-the-tenino-arts-creative-market-2/
LOCATION:Tenino Arts Creative Market\, Sussex and Olympia St N\, Tenino\, WA\, 98589
CATEGORIES:Local South Sound Blues
END:VEVENT
BEGIN:VEVENT
DTSTART;TZID=America/Los_Angeles:20230502T190000
DTEND;TZID=America/Los_Angeles:20230502T220000
DTSTAMP:20260425T080901
CREATED:20230421T215240Z
LAST-MODIFIED:20230421T215240Z
UID:10238-1683054000-1683064800@southsoundblues.org
SUMMARY:Tim Hall Band jam session at Brother Don’s Bar & Grill
DESCRIPTION:Tim Hall Band jam session at Brother Don’s Bar & Grill\, 7-10 pm\n 
URL:https://southsoundblues.org/event/tim-hall-band-jam-session-at-brother-dons-bar-grill-3/
LOCATION:Brother Don’s Bar & Grill\, 4200 Kitsap Way\, Bremerton\, WA\, 98312
CATEGORIES:Local South Sound Blues
END:VEVENT
BEGIN:VEVENT
DTSTART;TZID=America/Los_Angeles:20230501T180000
DTEND;TZID=America/Los_Angeles:20230501T210000
DTSTAMP:20260425T080901
CREATED:20230420T180802Z
LAST-MODIFIED:20230429T204121Z
UID:10191-1682964000-1682974800@southsoundblues.org
SUMMARY:"Muddy Monday Blues Jam" every Monday at Chi-Town\, Tacoma
DESCRIPTION:“Muddy Monday Blues Jam” every Monday at Chi-Town\, Tacoma\, 6pm
URL:https://southsoundblues.org/event/muddy-monday-blues-jam-every-monday-at-chitown/
LOCATION:Chitown Pizza\, 15619 Pacific Ave S\, Tacoma\, WA\, 98444
CATEGORIES:Local South Sound Blues
END:VEVENT
BEGIN:VEVENT
DTSTART;TZID=America/Los_Angeles:20230430T190000
DTEND;TZID=America/Los_Angeles:20230430T220000
DTSTAMP:20260425T080901
CREATED:20230304T222501Z
LAST-MODIFIED:20230420T185803Z
UID:9951-1682881200-1682892000@southsoundblues.org
SUMMARY:Sunday Blues at the Spar with Billy Stapleton's POWERHOUSE
DESCRIPTION:April 30th – Powerhouse at the Spar\, 7-10 pm
URL:https://southsoundblues.org/event/sunday-blues-at-the-spar-with-heather-jones-the-groove-masters/
LOCATION:The Spar\, 2121 N 30th St\, Tacoma\, WA\, 98403
CATEGORIES:Local South Sound Blues
END:VEVENT
BEGIN:VEVENT
DTSTART;TZID=America/Los_Angeles:20230429T200000
DTEND;TZID=America/Los_Angeles:20230429T220000
DTSTAMP:20260425T080901
CREATED:20230206T194302Z
LAST-MODIFIED:20230206T194302Z
UID:9838-1682798400-1682805600@southsoundblues.org
SUMMARY:The Soulfull 88's at the Mill\, SSBA Blues Series
DESCRIPTION:The Soulfull 88’s at the Mill\, April 29th\, 8-10 pm
URL:https://southsoundblues.org/event/the-soulfull-88s-at-the-mill-ssba-blues-series/
LOCATION:The Mill of Milton\, 900 Meridian E. #50\, Milton\, WA\, 98354
CATEGORIES:Local South Sound Blues
END:VEVENT
BEGIN:VEVENT
DTSTART;TZID=America/Los_Angeles:20230428T200000
DTEND;TZID=America/Los_Angeles:20230428T200000
DTSTAMP:20260425T080901
CREATED:20230408T205349Z
LAST-MODIFIED:20230408T205349Z
UID:10124-1682712000-1682712000@southsoundblues.org
SUMMARY:Octopus Ballet at BELLA FEMMINA\, Gig Harbor
DESCRIPTION:Octopus Ballet\, April 28th\, 8:00pm\, at BELLA FEMMINA\, Gig Harbor\, WA
URL:https://southsoundblues.org/event/octopus-ballet-at-bella-femmina-gig-harbor/
LOCATION:Belle Femmina\, 3110 Harborview Dr\, Gig Harbor\, WA\, 98335 
CATEGORIES:Featured
END:VEVENT
BEGIN:VEVENT
DTSTART;TZID=America/Los_Angeles:20230428T190000
DTEND;TZID=America/Los_Angeles:20230428T210000
DTSTAMP:20260425T080901
CREATED:20230323T004140Z
LAST-MODIFIED:20230421T220337Z
UID:10044-1682708400-1682715600@southsoundblues.org
SUMMARY:Polly O'Keary & The Rhythm Method at Kimball Coffeehouse live music Friday
DESCRIPTION:Kimball Coffeehouse music Friday\, 7-9 pm\nApr28\n\nPolly O’Keary and The Rhythm Method at Kimball Coffee House\n Kimball Coffeehouse – 6659 Kimball Drive\, Suit\n\nGreat local entertainment every Friday night at Kimball Coffeehouse in Gig Harbor
URL:https://southsoundblues.org/event/kimball-coffeehouse-live-music-friday/
LOCATION:Kimball’s Coffeehouse\, 6659 Kimball Dr\, Gig Harbor\, WA\, 98335
CATEGORIES:Featured
END:VEVENT
BEGIN:VEVENT
DTSTART;TZID=America/Los_Angeles:20230428T183000
DTEND;TZID=America/Los_Angeles:20230428T210000
DTSTAMP:20260425T080901
CREATED:20230331T202334Z
LAST-MODIFIED:20230331T202529Z
UID:10095-1682706600-1682715600@southsoundblues.org
SUMMARY:Michele's D'Amour Birthday "pre-funk" at Sheridan Market & Roadhouse\, Lake Forest Park
DESCRIPTION:Friday\, April 28th – Michele’s D’Amour birthday pre-funk at Sheridan Market\, Lake Forest Park\, WA\, 6:30 to 9:00 p.m. \n  \nSheridan Market & Roadhouse                                                                                                                                                                                                                                                   15348 Bothell Way NE\nLake Forest Park WA 98155 \nPhone\n206.550.4879 \nEmail\nSheridanMkt@gmail.com \nThey serve food\, beer\, and wine \n 
URL:https://southsoundblues.org/event/micheles-damour-birthday-pre-funk-at-sheridan-market-lake-forest-park/
LOCATION:Sheridan Market\, 15348 Bothell Way NE\, Lake Forest Park\, WA\, 98155
CATEGORIES:Featured
END:VEVENT
BEGIN:VEVENT
DTSTART;TZID=America/Los_Angeles:20230427T190000
DTEND;TZID=America/Los_Angeles:20230427T220000
DTSTAMP:20260425T080901
CREATED:20230304T231824Z
LAST-MODIFIED:20230304T231824Z
UID:9983-1682622000-1682632800@southsoundblues.org
SUMMARY:Big Al’s Blues Jam Every Thursday at the New Moon Craft Tavern\, Port Angeles
DESCRIPTION:Big Al’s Blues Jam Every Thursday at the New Moon Craft Tavern\, Port Angeles\, 7-10 pm\n 
URL:https://southsoundblues.org/event/big-als-blues-jam-every-thursday-at-the-new-moon-craft-tavern-port-angeles-11/
LOCATION:New Moon Craft Tavern\, 130 S Lincoln St\, Port Angeles\, WA\, 98362
CATEGORIES:Local South Sound Blues
END:VEVENT
BEGIN:VEVENT
DTSTART;TZID=America/Los_Angeles:20230426T190000
DTEND;TZID=America/Los_Angeles:20230426T220000
DTSTAMP:20260425T080901
CREATED:20230304T230717Z
LAST-MODIFIED:20230304T230717Z
UID:9973-1682535600-1682546400@southsoundblues.org
SUMMARY:Every Wednesday Night Blues Jam at Bub’s Pub Sports Bar & Grill
DESCRIPTION:Every Wednesday Night Blues Jam at Bub’s Pub Sports Bar & Grill\, 7-10 pm\n 
URL:https://southsoundblues.org/event/every-wednesday-night-blues-jam-at-bubs-pub-sports-bar-grill-2/
LOCATION:Bub’s Pub Bar & Grill\, 1326 Harrison Ave\, Centralia\, WA\, 98531
CATEGORIES:Local South Sound Blues
END:VEVENT
BEGIN:VEVENT
DTSTART;TZID=America/Los_Angeles:20230426T183000
DTEND;TZID=America/Los_Angeles:20230426T203000
DTSTAMP:20260425T080901
CREATED:20230424T215745Z
LAST-MODIFIED:20230424T215745Z
UID:10294-1682533800-1682541000@southsoundblues.org
SUMMARY:Billy Stoops with Leanne Trevalyan at TK Irish Pub\, Puyallup
DESCRIPTION:Billy Stoops with Leanne Trevalyan at TK Irish Pub & Eatery\, 6:30-8:30 pm
URL:https://southsoundblues.org/event/billy-stoops-with-leanne-trevalyan-at-tk-irish-pub-puyallup/
LOCATION:Twisted Kilt\, 109 S Meridian\, Puyallup\, WA\, 98371
CATEGORIES:Local South Sound Blues
END:VEVENT
BEGIN:VEVENT
DTSTART;TZID=America/Los_Angeles:20230426T180000
DTEND;TZID=America/Los_Angeles:20230426T180000
DTSTAMP:20260425T080901
CREATED:20230304T223734Z
LAST-MODIFIED:20230304T223734Z
UID:9955-1682532000-1682532000@southsoundblues.org
SUMMARY:Farrell/Hudson Trio at the Spar
DESCRIPTION:April 26th – Farrell/Hudson Trio at the Spar\, 6pm
URL:https://southsoundblues.org/event/farrell-hudson-trio-at-the-spar-3/
LOCATION:The Spar\, 2121 N 30th St\, Tacoma\, WA\, 98403
CATEGORIES:Featured
END:VEVENT
BEGIN:VEVENT
DTSTART;TZID=America/Los_Angeles:20230425T190000
DTEND;TZID=America/Los_Angeles:20230425T210000
DTSTAMP:20260425T080901
CREATED:20230201T224029Z
LAST-MODIFIED:20230201T224029Z
UID:9764-1682449200-1682456400@southsoundblues.org
SUMMARY:“Tuesday Blues Showcase” at Purdy's with Mid-Nite Bourbon
DESCRIPTION:“Tuesday Blues Showcase” at Purdy’s with Mid-Nite Bourbon\, 7-9 pm
URL:https://southsoundblues.org/event/tuesday-blues-showcase-at-purdys-with-mid-nite-bourbon/
LOCATION:Purdy’s Public House & Arcade\, Sumner\, 16202 64th St E\, Sumner\, WA\, 98390
CATEGORIES:Local South Sound Blues
END:VEVENT
BEGIN:VEVENT
DTSTART;TZID=America/Los_Angeles:20230424T180000
DTEND;TZID=America/Los_Angeles:20230424T210000
DTSTAMP:20260425T080901
CREATED:20230420T180445Z
LAST-MODIFIED:20230420T180445Z
UID:10186-1682359200-1682370000@southsoundblues.org
SUMMARY:"Muddy Monday Blues Jam" every Monday at Chitown Pizza
DESCRIPTION:“Muddy Monday Blues Jam” every Monday at Chitown Pizza!\n \n6-9pm\, great stage\, and food\, (Pizza\, Dogs\, Italian Beef sandwich!)\n15619 Pacific Ave S\, Tacoma\, WA 98444
URL:https://southsoundblues.org/event/muddy-monday-blues-jam-every-monday-at-chitown-pizza/
LOCATION:Chitown Pizza\, 15619 Pacific Ave S\, Tacoma\, WA\, 98444
CATEGORIES:Local South Sound Blues
END:VEVENT
BEGIN:VEVENT
DTSTART;TZID=America/Los_Angeles:20230423T190000
DTEND;TZID=America/Los_Angeles:20230423T220000
DTSTAMP:20260425T080901
CREATED:20230304T224650Z
LAST-MODIFIED:20230304T224650Z
UID:9961-1682276400-1682287200@southsoundblues.org
SUMMARY:Tim Hall Blues Jam\, every Sunday at Dawson’s
DESCRIPTION:Tim Hall Blues Jam\, every Sunday at Dawson’s\, 7-10 pm
URL:https://southsoundblues.org/event/tim-hall-blues-jam-every-sunday-at-dawsons-6/
LOCATION:Dawson’s Bar & Grill\, 5443 South Tacoma Way\, Tacoma\, WA\, 98409
CATEGORIES:Local South Sound Blues
END:VEVENT
END:VCALENDAR