BEGIN:VCALENDAR
VERSION:2.0
PRODID:-//South Sound Blues Association - ECPv6.15.18//NONSGML v1.0//EN
CALSCALE:GREGORIAN
METHOD:PUBLISH
X-WR-CALNAME:South Sound Blues Association
X-ORIGINAL-URL:https://southsoundblues.org
X-WR-CALDESC:Events for South Sound Blues Association
REFRESH-INTERVAL;VALUE=DURATION:PT1H
X-Robots-Tag:noindex
X-PUBLISHED-TTL:PT1H
BEGIN:VTIMEZONE
TZID:America/Los_Angeles
BEGIN:DAYLIGHT
TZOFFSETFROM:-0800
TZOFFSETTO:-0700
TZNAME:PDT
DTSTART:20220313T100000
END:DAYLIGHT
BEGIN:STANDARD
TZOFFSETFROM:-0700
TZOFFSETTO:-0800
TZNAME:PST
DTSTART:20221106T090000
END:STANDARD
BEGIN:DAYLIGHT
TZOFFSETFROM:-0800
TZOFFSETTO:-0700
TZNAME:PDT
DTSTART:20230312T100000
END:DAYLIGHT
BEGIN:STANDARD
TZOFFSETFROM:-0700
TZOFFSETTO:-0800
TZNAME:PST
DTSTART:20231105T090000
END:STANDARD
BEGIN:DAYLIGHT
TZOFFSETFROM:-0800
TZOFFSETTO:-0700
TZNAME:PDT
DTSTART:20240310T100000
END:DAYLIGHT
BEGIN:STANDARD
TZOFFSETFROM:-0700
TZOFFSETTO:-0800
TZNAME:PST
DTSTART:20241103T090000
END:STANDARD
END:VTIMEZONE
BEGIN:VEVENT
DTSTART;TZID=America/Los_Angeles:20230722T140000
DTEND;TZID=America/Los_Angeles:20230722T153000
DTSTAMP:20260425T080840
CREATED:20230608T223312Z
LAST-MODIFIED:20230608T223312Z
UID:10632-1690034400-1690039800@southsoundblues.org
SUMMARY:James Howard Band at Allan Yorke Park\, Lake Tapps
DESCRIPTION:James Howard Band at the Allan Yorke Park\, Lake Tapps\, 2-3:30 pm\n 
URL:https://southsoundblues.org/event/james-howard-band-at-allan-yorke-park-lake-tapps/
LOCATION:Allan Yorke Park\,  7203 W Tapps Hwy E\, Bonney Lake\, WA\, 98391
CATEGORIES:Local South Sound Blues
END:VEVENT
BEGIN:VEVENT
DTSTART;TZID=America/Los_Angeles:20230721T203000
DTEND;TZID=America/Los_Angeles:20230721T233000
DTSTAMP:20260425T080840
CREATED:20230719T020603Z
LAST-MODIFIED:20230719T020603Z
UID:10916-1689971400-1689982200@southsoundblues.org
SUMMARY:The Filthy 5th at the Monte Bistro & Showbar Ballroom\, Everett
DESCRIPTION:Filthy 5th\, July 21st! The all-new Monte Bistro & Showbar Ballroom in Everett with 3 hours of Funk\, Soul\, and Blues. Doors at 8pm. \n \n1507 Wall St\, Everett\, WA 98201 \n(425) 426-6938
URL:https://southsoundblues.org/event/the-filthy-5th-at-the-monte-bistro-showbar-ballroom-everett/
LOCATION:Monte Bistro & Showbar Ballroom\, 1507 Wall St\, Everett\, WA\, 98201
CATEGORIES:Featured
END:VEVENT
BEGIN:VEVENT
DTSTART;TZID=America/Los_Angeles:20230721T200000
DTEND;TZID=America/Los_Angeles:20230721T230000
DTSTAMP:20260425T080840
CREATED:20230714T180824Z
LAST-MODIFIED:20230714T180824Z
UID:10859-1689969600-1689980400@southsoundblues.org
SUMMARY:Linda Myers Band at the Des Moines Public House
DESCRIPTION:Linda Myers Band at the Des Moines Public House\, Friday 8-11 pm
URL:https://southsoundblues.org/event/linda-myers-band-at-the-des-moines-public-house-2/
LOCATION:Des Moines Public House\, 22315 Marine View Dr S\, Des Moines\, WA\, 98198
CATEGORIES:Local South Sound Blues
END:VEVENT
BEGIN:VEVENT
DTSTART;TZID=America/Los_Angeles:20230721T200000
DTEND;TZID=America/Los_Angeles:20230721T200000
DTSTAMP:20260425T080840
CREATED:20230609T185336Z
LAST-MODIFIED:20230609T185654Z
UID:10638-1689969600-1689969600@southsoundblues.org
SUMMARY:Dennis Jones & His Incredible Band at the Valley\, Tacoma
DESCRIPTION:Dennis Jones & His Incredible Band at the Valley\, 8pm\nHigh-energy stage performance. Backed by a rhythm section that is second to none\, this IS Dennis Jones.  https://dennisjonescentral.com/home \n\n\nThe Valley Fri\, Jul 21 @ 8:00PM\n1206 Puyallup Ave\, Tacoma\, WA 98421
URL:https://southsoundblues.org/event/dennis-jones-his-incredible-band-at-the-valley-tacoma/
LOCATION:The Valley\, 1206 Puyallup Ave\, Tacoma\, WA\, 98421
CATEGORIES:Local South Sound Blues
END:VEVENT
BEGIN:VEVENT
DTSTART;TZID=America/Los_Angeles:20230721T183000
DTEND;TZID=America/Los_Angeles:20230721T210000
DTSTAMP:20260425T080840
CREATED:20230628T190924Z
LAST-MODIFIED:20230628T190924Z
UID:10731-1689964200-1689973200@southsoundblues.org
SUMMARY:Michele D'Amour & The Love Dealers at Sheridan Market\, Lake Forest Park
DESCRIPTION:Michele D’Amour & The Love Dealers\, Friday\, July 21 – Sheridan Market\, 6:30-9pm\n \n  \n 
URL:https://southsoundblues.org/event/michele-damour-the-love-dealers-at-sheridan-market-lake-forest-park/
LOCATION:Sheridan Market\, 15348 Bothell Way NE\, Lake Forest Park\, WA\, 98155
CATEGORIES:Local South Sound Blues
END:VEVENT
BEGIN:VEVENT
DTSTART;TZID=America/Los_Angeles:20230720T200000
DTEND;TZID=America/Los_Angeles:20230720T233000
DTSTAMP:20260425T080840
CREATED:20230711T215702Z
LAST-MODIFIED:20230711T215750Z
UID:10839-1689883200-1689895800@southsoundblues.org
SUMMARY:Mark Riley is a featured guest at this special Thursday Stars Bar & Grill Jam\, hosted by Billy Shew
DESCRIPTION:Thursdays at the Stars Bar & Grill\, Jam hosted by Billy Shew\, 8-11:30 pm
URL:https://southsoundblues.org/event/mark-riley-is-a-featured-guest-at-this-special-thursday-stars-bar-grill-jam-hosted-by-billy-shew/
LOCATION:Stars Bar & Grill\, 31216 Pacific Hwy S\, Federal Way\, WA\, 98003
CATEGORIES:Local South Sound Blues
END:VEVENT
BEGIN:VEVENT
DTSTART;TZID=America/Los_Angeles:20230720T190000
DTEND;TZID=America/Los_Angeles:20230720T220000
DTSTAMP:20260425T080840
CREATED:20230528T202000Z
LAST-MODIFIED:20230528T202000Z
UID:10523-1689879600-1689890400@southsoundblues.org
SUMMARY:Big Al’s Blues Jam Every Thursday at the New Moon Craft Tavern\, Port Angeles
DESCRIPTION:Big Al’s Blues Jam Every Thursday at the New Moon Craft Tavern\, Port Angeles\, 7-10 pm
URL:https://southsoundblues.org/event/big-als-blues-jam-every-thursday-at-the-new-moon-craft-tavern-port-angeles-12/
LOCATION:New Moon Craft Tavern\, 130 S Lincoln St\, Port Angeles\, WA\, 98362
CATEGORIES:Local South Sound Blues
END:VEVENT
BEGIN:VEVENT
DTSTART;TZID=America/Los_Angeles:20230719T190000
DTEND;TZID=America/Los_Angeles:20230719T220000
DTSTAMP:20260425T080840
CREATED:20230628T221510Z
LAST-MODIFIED:20230628T221510Z
UID:10757-1689793200-1689804000@southsoundblues.org
SUMMARY:Wednesday Night Jams at Des Moines Public House
DESCRIPTION:
URL:https://southsoundblues.org/event/wednesday-night-jams-at-des-moines-public-house/
LOCATION:Des Moines Public House\, 22315 Marine View Dr S\, Des Moines\, WA\, 98198
CATEGORIES:Local South Sound Blues
END:VEVENT
BEGIN:VEVENT
DTSTART;TZID=America/Los_Angeles:20230719T180000
DTEND;TZID=America/Los_Angeles:20230719T210000
DTSTAMP:20260425T080840
CREATED:20230528T200534Z
LAST-MODIFIED:20230711T215254Z
UID:10515-1689789600-1689800400@southsoundblues.org
SUMMARY:Billy Shew and Friends host an open Jam every Wednesday at Stockton’s
DESCRIPTION:Billy Shew and Friends host an open Jam every Wednesday at Stockton’s\, 6-9pm\nJuly 19th will feature Mark Riley\n 
URL:https://southsoundblues.org/event/billy-shew-and-friends-host-an-open-jam-every-wednesday-at-stocktons-7/
LOCATION:Stockton’s Restaurant & Spirits\, 23220 Maple Valley Black Diamond Rd SE\, Maple Valley\, WA\, 98038
CATEGORIES:Local South Sound Blues
END:VEVENT
BEGIN:VEVENT
DTSTART;TZID=America/Los_Angeles:20230719T180000
DTEND;TZID=America/Los_Angeles:20230719T180000
DTSTAMP:20260425T080840
CREATED:20230531T205045Z
LAST-MODIFIED:20230716T235223Z
UID:10580-1689789600-1689789600@southsoundblues.org
SUMMARY:LTD Presents Event: Farrell/Hudson & Friends at The Spar
DESCRIPTION:Wednesday July 19th – Farrell/Hudson & friends at the Spar\, 6pm\n 
URL:https://southsoundblues.org/event/farrell-hudson-trio-at-the-spar-4/
LOCATION:The Spar\, 2121 N 30th St\, Tacoma\, WA\, 98403
CATEGORIES:Featured
END:VEVENT
BEGIN:VEVENT
DTSTART;TZID=America/Los_Angeles:20230718T200000
DTEND;TZID=America/Los_Angeles:20230718T233000
DTSTAMP:20260425T080840
CREATED:20230528T194519Z
LAST-MODIFIED:20230528T194519Z
UID:10504-1689710400-1689723000@southsoundblues.org
SUMMARY:Cory Wilds Band Tuesday open Jam Night at Elmer’s Bar and Grill
DESCRIPTION:Cory Wilds Band Tuesday open Jam Night at Elmer’s Bar and Grill\, 8-11:30 pm\n 
URL:https://southsoundblues.org/event/cory-wilds-band-tuesday-open-jam-night-at-elmers-bar-and-grill-7/
LOCATION:Elmer’s Bar & Grill\, 15027 Ambaum Blvd SW\, Burien\, WA\, 98166
CATEGORIES:Local South Sound Blues
END:VEVENT
BEGIN:VEVENT
DTSTART;TZID=America/Los_Angeles:20230716T190000
DTEND;TZID=America/Los_Angeles:20230716T220000
DTSTAMP:20260425T080840
CREATED:20230531T195543Z
LAST-MODIFIED:20230531T195543Z
UID:10555-1689534000-1689544800@southsoundblues.org
SUMMARY:Sunday Blues at the Spar with the Mark Riley Trio
DESCRIPTION:Sunday July 16th – Mark Riley Trio at the Spar\, 7pm
URL:https://southsoundblues.org/event/sunday-blues-at-the-spar-with-the-mark-riley-trio/
LOCATION:The Spar\, 2121 N 30th St\, Tacoma\, WA\, 98403
CATEGORIES:Local South Sound Blues
END:VEVENT
BEGIN:VEVENT
DTSTART;TZID=America/Los_Angeles:20230715T200000
DTEND;TZID=America/Los_Angeles:20230715T230000
DTSTAMP:20260425T080840
CREATED:20230608T012257Z
LAST-MODIFIED:20230608T012257Z
UID:10627-1689451200-1689462000@southsoundblues.org
SUMMARY:Heather Jones & The Groove Masters at the Chameleon on Pearl
DESCRIPTION:Heather Jones & The Groove Masters at the Chameleon on Pearl\, Joeseppi’s\, July 15th\, 8-11 pm\n\n \n\nHeather Jones & The Groove Masters\n\n   
URL:https://southsoundblues.org/event/heather-jones-the-groove-masters-at-the-chameleon-on-pearl/
LOCATION:Joeseppi’s Italian Ristorante and Bar\, 2707 N Pearl St\, Tacoma\, WA\, 98406
CATEGORIES:Local South Sound Blues
END:VEVENT
BEGIN:VEVENT
DTSTART;TZID=America/Los_Angeles:20230715T200000
DTEND;TZID=America/Los_Angeles:20230715T200000
DTSTAMP:20260425T080840
CREATED:20230628T232504Z
LAST-MODIFIED:20230628T232504Z
UID:10768-1689451200-1689451200@southsoundblues.org
SUMMARY:CD Trio at Belle Femmina\, Gig Harbor
DESCRIPTION:CD Trio at Belle Femmina\, July 15th\, 8pm\n \n  \n 
URL:https://southsoundblues.org/event/cd-trio-at-belle-femmina-gig-harbor/
LOCATION:Belle Femmina\, 3110 Harborview Dr\, Gig Harbor\, WA\, 98335 
CATEGORIES:Local South Sound Blues
END:VEVENT
BEGIN:VEVENT
DTSTART;TZID=America/Los_Angeles:20230715T193000
DTEND;TZID=America/Los_Angeles:20230715T193000
DTSTAMP:20260425T080840
CREATED:20230531T223114Z
LAST-MODIFIED:20230531T223114Z
UID:10602-1689449400-1689449400@southsoundblues.org
SUMMARY:An Evening with Robert Cray at the Pacific Arts & Events Center\, Federal Way
DESCRIPTION:An Evening with Robert Cray at the PAEC\, July 15th\, 7:30 pm\nRobert Cray © Unknown \nThe Robert Cray Band has released over twenty acclaimed albums and has sold millions worldwide. The five-time Grammy winner has been inducted into the Blues Hall of Fame and earned the Americana Music Awards Lifetime Achievement for Performance. https://fwpaec.org/box-office/ \n\nAn Evening with Robert Cray
URL:https://southsoundblues.org/event/an-evening-with-robert-cray-at-the-pacific-arts-events-center-federal-way/
LOCATION:Federal Way Performing Arts & Events Center\, 31510 Pete von Reichbauer Way S\, Federal Way\, WA\, 98003
CATEGORIES:Local South Sound Blues
END:VEVENT
BEGIN:VEVENT
DTSTART;TZID=America/Los_Angeles:20230715T150000
DTEND;TZID=America/Los_Angeles:20230715T163000
DTSTAMP:20260425T080842
CREATED:20230505T004057Z
LAST-MODIFIED:20230505T004057Z
UID:10339-1689433200-1689438600@southsoundblues.org
SUMMARY:Allyn Days Festival- King Kom Beaux
DESCRIPTION:July 15th\, Allyn Days Festival- King Kom Beaux\, 3pm\, Allyn\, WA\n 
URL:https://southsoundblues.org/event/allyn-days-festival-king-kom-beaux/
LOCATION:Allyn Waterfront Park\, 18560 WA-3\, Allyn\, WA\, 98524
CATEGORIES:Local South Sound Blues
END:VEVENT
BEGIN:VEVENT
DTSTART;TZID=America/Los_Angeles:20230715T120000
DTEND;TZID=America/Los_Angeles:20230715T210000
DTSTAMP:20260425T080842
CREATED:20230508T223708Z
LAST-MODIFIED:20230508T224001Z
UID:10378-1689422400-1689454800@southsoundblues.org
SUMMARY:Orting Rock Festival
DESCRIPTION:The Seventh Annual Orting Rock Festival will be held in Orting City Park on Saturday July 15th\, Noon to Nine.\nhttps://www.facebook.com/ortingrockfestival
URL:https://southsoundblues.org/event/orting-rock-festival/
LOCATION:Orting Spar pole bar & grill\, 120 Washington Ave S\, Orting\, WA\, 98360
CATEGORIES:Festival
END:VEVENT
BEGIN:VEVENT
DTSTART;VALUE=DATE:20230715
DTEND;VALUE=DATE:20230717
DTSTAMP:20260425T080842
CREATED:20230326T193840Z
LAST-MODIFIED:20230326T193840Z
UID:10072-1689386400-1689472799@southsoundblues.org
SUMMARY:Ross Robinson at Lady of the Lake Pub\, Offut
DESCRIPTION:Ross Robinson at Lady of the Lake Pub\, Offut Lake July 15th and Aug 12th
URL:https://southsoundblues.org/event/ross-robinson-at-lady-of-the-lake-pub-offut/
LOCATION:Lady of the Lake Pub\, 4005 120th Ave SE\, Tenino\, WA\, 98589
CATEGORIES:Local South Sound Blues
END:VEVENT
BEGIN:VEVENT
DTSTART;TZID=America/Los_Angeles:20230714T200000
DTEND;TZID=America/Los_Angeles:20230714T230000
DTSTAMP:20260425T080842
CREATED:20230714T012725Z
LAST-MODIFIED:20230714T180658Z
UID:10857-1689364800-1689375600@southsoundblues.org
SUMMARY:Linda Myers Band at the Des Moines Public House
DESCRIPTION:Linda Myers Band at the Des Moines Public House\, Friday 8-11 pm
URL:https://southsoundblues.org/event/linda-myers-band-at-the-des-moines-public-house/
LOCATION:Des Moines Public House\, 22315 Marine View Dr S\, Des Moines\, WA\, 98198
CATEGORIES:Local South Sound Blues
END:VEVENT
BEGIN:VEVENT
DTSTART;TZID=America/Los_Angeles:20230714T190000
DTEND;TZID=America/Los_Angeles:20230714T210000
DTSTAMP:20260425T080842
CREATED:20230628T182504Z
LAST-MODIFIED:20230628T182809Z
UID:10716-1689361200-1689368400@southsoundblues.org
SUMMARY:Kimball Coffeehouse live music Friday's
DESCRIPTION:Kimball Coffeehouse live music Friday’s\, 7-9 pm
URL:https://southsoundblues.org/event/kimball-coffeehouse-live-music-fridays/
LOCATION:Kimball’s Coffeehouse\, 6659 Kimball Dr\, Gig Harbor\, WA\, 98335
CATEGORIES:Featured
END:VEVENT
BEGIN:VEVENT
DTSTART;TZID=America/Los_Angeles:20230714T180000
DTEND;TZID=America/Los_Angeles:20230714T210000
DTSTAMP:20260425T080842
CREATED:20230628T184923Z
LAST-MODIFIED:20230628T184923Z
UID:10722-1689357600-1689368400@southsoundblues.org
SUMMARY:Michele D'Amour and the Love Dealers at Prohibition Cellars
DESCRIPTION:Michele D’Amour and the Love Dealers at Prohibition Cellars\, July 14th\, 6-9 pm\n \n 
URL:https://southsoundblues.org/event/michele-damour-and-the-love-dealers-at-prohibition-cellars/
LOCATION:Prohibition cellars\, 19501 144th Ave NE. F-900\, Woodinville\, WA\, 98072
END:VEVENT
BEGIN:VEVENT
DTSTART;TZID=America/Los_Angeles:20230713T200000
DTEND;TZID=America/Los_Angeles:20230713T200000
DTSTAMP:20260425T080842
CREATED:20230710T215920Z
LAST-MODIFIED:20230710T215920Z
UID:10814-1689278400-1689278400@southsoundblues.org
SUMMARY:Tim Sherman Band at the Salmon Bay Eagles\, Ballard
DESCRIPTION:Tim Sherman Band\, Thursday\, July 13th at the fabulous Salmon Bay Eagles in Ballard at 8 pm.\nAll are welcome. The band features the great Brady Kish on bass\, the fantastic Conrad Ormsby on drums and blues keyboard master Jeff Conlin .
URL:https://southsoundblues.org/event/tim-sherman-band-at-the-salmon-bay-eagles-ballard/
LOCATION:Salmon Bay Eagles\, 5216 20th Ave NW\, Seattle\, WA\, 98107
CATEGORIES:Featured
END:VEVENT
BEGIN:VEVENT
DTSTART;TZID=America/Los_Angeles:20230713T190000
DTEND;TZID=America/Los_Angeles:20230713T220000
DTSTAMP:20260425T080842
CREATED:20230528T201538Z
LAST-MODIFIED:20230528T201538Z
UID:10521-1689274800-1689285600@southsoundblues.org
SUMMARY:Thursday’s Front Street Blues Revue at the Slippery Pig Brewery\, Poulsbo
DESCRIPTION:Thursday’s Front Street Blues Revue at the Slippery Pig Brewery\, Poulsbo\, 7-10 pm
URL:https://southsoundblues.org/event/thursdays-front-street-blues-revue-at-the-slippery-pig-brewery-poulsbo/
LOCATION:Slippery Pig Brewery\, 18801 Front St NE\, Poulsbo\, WA\, 98370
CATEGORIES:Local South Sound Blues
END:VEVENT
BEGIN:VEVENT
DTSTART;TZID=America/Los_Angeles:20230712T200000
DTEND;TZID=America/Los_Angeles:20230712T200000
DTSTAMP:20260425T080842
CREATED:20230528T195835Z
LAST-MODIFIED:20230528T195835Z
UID:10513-1689192000-1689192000@southsoundblues.org
SUMMARY:Wednesdays ‘Jam Night’ with rotating hosts\, at the Des Moines Public House
DESCRIPTION:Wednesdays ‘Jam Night’ with rotating hosts\, at the Des Moines Public House\, 8-midnight
URL:https://southsoundblues.org/event/wednesdays-jam-night-with-rotating-hosts-at-the-des-moines-public-house-2/
LOCATION:Des Moines Public House\, 22315 Marine View Dr S\, Des Moines\, WA\, 98198
CATEGORIES:Local South Sound Blues
END:VEVENT
BEGIN:VEVENT
DTSTART;TZID=America/Los_Angeles:20230712T190000
DTEND;TZID=America/Los_Angeles:20230712T220000
DTSTAMP:20260425T080842
CREATED:20230628T221438Z
LAST-MODIFIED:20230628T221438Z
UID:10756-1689188400-1689199200@southsoundblues.org
SUMMARY:Des Moines Public House\, Every Wednesday Night Jams
DESCRIPTION:
URL:https://southsoundblues.org/event/des-moines-public-house-every-wednesday-night-jams/
LOCATION:Des Moines Public House\, 22315 Marine View Dr S\, Des Moines\, WA\, 98198
END:VEVENT
BEGIN:VEVENT
DTSTART;TZID=America/Los_Angeles:20230711T190000
DTEND;TZID=America/Los_Angeles:20230711T190000
DTSTAMP:20260425T080842
CREATED:20230528T194729Z
LAST-MODIFIED:20230528T194729Z
UID:10506-1689102000-1689102000@southsoundblues.org
SUMMARY:Billy Shew and friends Jam every Tuesday at the Burien Eagles
DESCRIPTION:Billy Shew and friends Jam every Tuesday at the Burien Eagles\, 7pm
URL:https://southsoundblues.org/event/billy-shew-and-friends-jam-every-tuesday-at-the-burien-eagles-9/
LOCATION:Burien Eagles\, 920 SW 150th St\, Burien\, WA\, 98166
CATEGORIES:Local South Sound Blues
END:VEVENT
BEGIN:VEVENT
DTSTART;TZID=America/Los_Angeles:20230711T170000
DTEND;TZID=America/Los_Angeles:20230711T170000
DTSTAMP:20260425T080842
CREATED:20230628T231959Z
LAST-MODIFIED:20230628T231959Z
UID:10765-1689094800-1689094800@southsoundblues.org
SUMMARY:CD Woodbury Trio w/ Joel Astley and Mike Marinig\, Blues Brews and BBQ at Quil Ceda Creek Casino Tulalip WA
DESCRIPTION:CD Woodbury Trio w/ Joel Astley and Mike Marinig\, Blues Brews and BBQ at Quil Ceda Creek Casino Tulalip WA\, July 11th\, 5pm\n  \n  \n360-716-1700\n6221-31st Avenue NE | TULALIP\, WA 98271
URL:https://southsoundblues.org/event/cd-woodbury-trio-w-joel-astley-and-mike-marinig-blues-brews-and-bbq-at-quil-ceda-creek-casino-tulalip-wa/
LOCATION:Quil Ceda Creek Casino\, 6221-31st Avenue NE\, TULALIP\, WA\, 98271
END:VEVENT
BEGIN:VEVENT
DTSTART;TZID=America/Los_Angeles:20230710T190000
DTEND;TZID=America/Los_Angeles:20230710T213000
DTSTAMP:20260425T080842
CREATED:20230528T193955Z
LAST-MODIFIED:20230528T193955Z
UID:10500-1689015600-1689024600@southsoundblues.org
SUMMARY:Monday Night Jams at HD’s Bar & Grill with host\, Al Alto
DESCRIPTION:Monday Night Jams at HD’s Bar & Grill with host\, Al Alto\, 7pm
URL:https://southsoundblues.org/event/monday-night-jams-at-hds-bar-grill-with-host-al-alto-2/
LOCATION:HD’s Pub\, 24131 SR-3 \, Belfair\, WA\, 98528
CATEGORIES:Local South Sound Blues
END:VEVENT
BEGIN:VEVENT
DTSTART;TZID=America/Los_Angeles:20230709T190000
DTEND;TZID=America/Los_Angeles:20230709T220000
DTSTAMP:20260425T080842
CREATED:20230531T195223Z
LAST-MODIFIED:20230531T195223Z
UID:10553-1688929200-1688940000@southsoundblues.org
SUMMARY:Sunday Blues at the Spar\, Lisa Mann with Lara Price
DESCRIPTION:Sunday July 9th – Lisa Mann with Lara Price at the Spar\, 7pm
URL:https://southsoundblues.org/event/sunday-blues-at-the-spar-lisa-mann-with-lara-price/
LOCATION:The Spar\, 2121 N 30th St\, Tacoma\, WA\, 98403
CATEGORIES:Local South Sound Blues
END:VEVENT
BEGIN:VEVENT
DTSTART;TZID=America/Los_Angeles:20230709T120000
DTEND;TZID=America/Los_Angeles:20230709T170000
DTSTAMP:20260425T080842
CREATED:20230609T183630Z
LAST-MODIFIED:20230609T183630Z
UID:10636-1688904000-1688922000@southsoundblues.org
SUMMARY:Washington Blues Society's IBC Semi-Finals at Aurora Borealis
DESCRIPTION:Washington Blues Society’s IBC Semi-Finals at Aurora Borealis\, Noon -5 pm\n \nWashington Blues Society \n 
URL:https://southsoundblues.org/event/washington-blues-societys-ibc-semi-finals-at-aurora-borealis/
LOCATION:Aurora Borealis\, 16708 Aurora Ave N\, Shoreline\, WA\, 98133
CATEGORIES:IBC
END:VEVENT
END:VCALENDAR