BEGIN:VCALENDAR
VERSION:2.0
PRODID:-//South Sound Blues Association - ECPv6.15.18//NONSGML v1.0//EN
CALSCALE:GREGORIAN
METHOD:PUBLISH
X-WR-CALNAME:South Sound Blues Association
X-ORIGINAL-URL:https://southsoundblues.org
X-WR-CALDESC:Events for South Sound Blues Association
REFRESH-INTERVAL;VALUE=DURATION:PT1H
X-Robots-Tag:noindex
X-PUBLISHED-TTL:PT1H
BEGIN:VTIMEZONE
TZID:America/Los_Angeles
BEGIN:DAYLIGHT
TZOFFSETFROM:-0800
TZOFFSETTO:-0700
TZNAME:PDT
DTSTART:20220313T100000
END:DAYLIGHT
BEGIN:STANDARD
TZOFFSETFROM:-0700
TZOFFSETTO:-0800
TZNAME:PST
DTSTART:20221106T090000
END:STANDARD
BEGIN:DAYLIGHT
TZOFFSETFROM:-0800
TZOFFSETTO:-0700
TZNAME:PDT
DTSTART:20230312T100000
END:DAYLIGHT
BEGIN:STANDARD
TZOFFSETFROM:-0700
TZOFFSETTO:-0800
TZNAME:PST
DTSTART:20231105T090000
END:STANDARD
BEGIN:DAYLIGHT
TZOFFSETFROM:-0800
TZOFFSETTO:-0700
TZNAME:PDT
DTSTART:20240310T100000
END:DAYLIGHT
BEGIN:STANDARD
TZOFFSETFROM:-0700
TZOFFSETTO:-0800
TZNAME:PST
DTSTART:20241103T090000
END:STANDARD
END:VTIMEZONE
BEGIN:VEVENT
DTSTART;TZID=America/Los_Angeles:20230917T190000
DTEND;TZID=America/Los_Angeles:20230917T220000
DTSTAMP:20260425T031911
CREATED:20230809T200902Z
LAST-MODIFIED:20230831T183116Z
UID:11066-1694977200-1694988000@southsoundblues.org
SUMMARY:Sunday Blues at the Spar with The Jerry Miller Band
DESCRIPTION:September 17th at The Spar\, SUNDAY BLUES with the Jerry Miller Band 7-10 pm.
URL:https://southsoundblues.org/event/sunday-blues-at-the-spar-with-mitch-woods/
LOCATION:The Spar\, 2121 N 30th St\, Tacoma\, WA\, 98403
CATEGORIES:Local South Sound Blues
END:VEVENT
BEGIN:VEVENT
DTSTART;TZID=America/Los_Angeles:20230917T093000
DTEND;TZID=America/Los_Angeles:20230917T153000
DTSTAMP:20260425T031911
CREATED:20230901T193017Z
LAST-MODIFIED:20230901T193017Z
UID:11309-1694943000-1694964600@southsoundblues.org
SUMMARY:Tacoma Guitar Festival at the Kent Commons
DESCRIPTION:Tacoma Guitar Festival at the Kent Commons\, September 17th\, 9:30-3:30 pm\n\n\n\n\n\n\n\n\n\n\n\nHUNDREDS OF GUITARS! Two weeks to go until the guitar show.\nSunday\, Sept. 17th Doors open 9:30am – 3:30pm\nThe 32nd Seattle-Tacoma Guitar Show at the Kent Commons (across the street from the ShoWare Center in Kent).\nOver 110 Vendor tables full of guitars! Plus\, basses\, amps\, pedals\, vinyl records and more.\nBUY / SELL / TRADE / VINTAGE / NEW / USED\n$15.00 Admission at the Door. Free Parking!\nThe first 200 folks get either a free set of Martin Acoustic Light or Darco Electric 10’s guitar strings.\nPlus\, free Vintage Guitar magazines while they last.\nBring a guitar or two that you would like to try and sell or trade (the older the better).\n525 Fourth Ave. N\nKent\, WA 98032
URL:https://southsoundblues.org/event/tacoma-guitar-festival-at-the-kent-commons/
LOCATION:Kent Commons\, 525 Fourth Ave. N\, Kent\, WA\, 98032
CATEGORIES:Festival
END:VEVENT
BEGIN:VEVENT
DTSTART;TZID=America/Los_Angeles:20230916T200000
DTEND;TZID=America/Los_Angeles:20230916T233000
DTSTAMP:20260425T031911
CREATED:20230810T021506Z
LAST-MODIFIED:20230810T021506Z
UID:11111-1694894400-1694907000@southsoundblues.org
SUMMARY:Cory Wilds Band at Stocktons
DESCRIPTION:Cory Wilds Band at Stocktons September 16th\, 8-11:30 pm\n\n\n 
URL:https://southsoundblues.org/event/cory-wilds-band-at-stocktons-8/
LOCATION:Stockton’s Restaurant & Spirits\, 23220 Maple Valley Black Diamond Rd SE\, Maple Valley\, WA\, 98038
CATEGORIES:Local South Sound Blues
END:VEVENT
BEGIN:VEVENT
DTSTART;TZID=America/Los_Angeles:20230916T200000
DTEND;TZID=America/Los_Angeles:20230916T230000
DTSTAMP:20260425T031911
CREATED:20230721T204027Z
LAST-MODIFIED:20230721T204027Z
UID:10929-1694894400-1694905200@southsoundblues.org
SUMMARY:Retro-Gruve with Linda Carroll at Bella Femmina\, Gig Harbor
DESCRIPTION:Retro-Gruve with Linda Carroll at Bella Femmina\, September 16th\, 8-11 pm
URL:https://southsoundblues.org/event/retro-gruve-with-linda-carroll-at-bella-femmina-gig-harbor/
LOCATION:Belle Femmina\, 3110 Harborview Dr\, Gig Harbor\, WA\, 98335 
CATEGORIES:Local South Sound Blues
END:VEVENT
BEGIN:VEVENT
DTSTART;TZID=America/Los_Angeles:20230916T200000
DTEND;TZID=America/Los_Angeles:20230916T200000
DTSTAMP:20260425T031911
CREATED:20230816T225712Z
LAST-MODIFIED:20230816T225712Z
UID:11166-1694894400-1694894400@southsoundblues.org
SUMMARY:Mark Hurwitz & Gin Creek at the Lake City Pub\, Lakewood
DESCRIPTION:Mark Hurwitz & Gin Creek at the Lake City Pub\, September 16th\, 8pm\n \n 
URL:https://southsoundblues.org/event/mark-hurwitz-gin-creek-at-the-lake-city-pub-lakewood/
LOCATION:Lake City Pub\, 9106 Veterans Dr\, Lakewood\, WA\, 98498
CATEGORIES:Local South Sound Blues
END:VEVENT
BEGIN:VEVENT
DTSTART;TZID=America/Los_Angeles:20230915T200000
DTEND;TZID=America/Los_Angeles:20230915T230000
DTSTAMP:20260425T031911
CREATED:20230810T022423Z
LAST-MODIFIED:20230810T022423Z
UID:11113-1694808000-1694818800@southsoundblues.org
SUMMARY:Annie Eastwood & Her All-Star Band Featuring Billy Stapleton at Aurora Borealis
DESCRIPTION:Annie Eastwood & Her All-Star Band Featuring Billy Stapleton at Aurora Borealis\, Friday\, September 15th\, 8- 11:00pm\nAnnie Eastwood & Her All-Star Band Featuring Award Winning Guitarist Billy Stapleton\n\n\nMusic from Blind Faith to Delbert McClinton\, Robben Ford to Boz Scaggs\, Robert Plant to Sonny Landreth\, Mose Allison to Ronnie Earl and Julie London to Lucinda Williams\, Annie Eastwood and Her All-Star Band play an eclectic variety of Rhythm & Blues\, Rock\, Blues\, Soul\, Swing and Jazz. Vocalist Annie Eastwood is backed by the extraordinary Jeff Davies on upright and electric bass and vocals and Steve Peterson on drums and vocals\, featuring Washington Blues Society award winning guitarist Billy Stapleton on rhythm\, lead and slide guitars.
URL:https://southsoundblues.org/event/annie-eastwood-her-all-star-band-featuring-billy-stapleton-at-aurora-borealis/
LOCATION:Aurora Borealis\, 16708 Aurora Ave N\, Shoreline\, WA\, 98133
CATEGORIES:Featured
END:VEVENT
BEGIN:VEVENT
DTSTART;TZID=America/Los_Angeles:20230915T190000
DTEND;TZID=America/Los_Angeles:20230915T210000
DTSTAMP:20260425T031911
CREATED:20230908T211512Z
LAST-MODIFIED:20230908T211512Z
UID:11348-1694804400-1694811600@southsoundblues.org
SUMMARY:T-Town Aces at Kimball's Coffeehouse
DESCRIPTION:T-Town Aces at Kimball’s Coffeehouse September 15th\, 7-9 pm\nExpertly fronted by the namesake of the Washington Blues Society’s Best Male Vocalist award\, and former lead vocalist for the legendary “Roomful of Blues” band\, Mark DuFresne\, this six-piece blues machine of seasoned PNW all-star musicians is celebrated by the dance community\, local blues associations\, and music lovers alike. In 2022 the T-Town Aces were voted “Best Traditional Blues Band” by the WBS.\nMark DuFresne – Vocals/Harmonica\nDennis Ellis – Sax/Vocals\nTom Boyle – Guitar\nBilly Spaulding – Keys\nLes White – Bass\nDavid Hudson – Drums\n\nThe T-Town Aces boast a blues pedigree that is second to none in the Seattle/Tacoma area. Each of these gentlemen have been on the blues scene for decades\, backing the likes of Hubert Sumlin\, Pinetop Perkins\, Jody Williams\, Steve Cropper\, Jimmy McCracklin\, Chris Cain\, Mitch Woods\, Larry Davis\, Johnny Burgin\, Lazy Lester\, Little Geoge Suref\, Cash McCall\, Junior Watson\, Candye Kane\, Mark Dufresne\, Duffy Bishop\, Billy Flynn……..and that’s just to name a few.
URL:https://southsoundblues.org/event/t-town-aces-at-kimballs-coffeehouse/
LOCATION:Kimball’s Coffeehouse\, 6659 Kimball Dr\, Gig Harbor\, WA\, 98335
CATEGORIES:Local South Sound Blues
END:VEVENT
BEGIN:VEVENT
DTSTART;TZID=America/Los_Angeles:20230915T190000
DTEND;TZID=America/Los_Angeles:20230915T210000
DTSTAMP:20260425T031911
CREATED:20230816T225334Z
LAST-MODIFIED:20230818T000624Z
UID:11163-1694804400-1694811600@southsoundblues.org
SUMMARY:Mark Hurwitz and Gin Creek at Chi-Town\, Tacoma
DESCRIPTION:Mark Hurwitz and Gin Creek at Chi-Town Pizza September 15th\, 7pm\n \n  \n  \n 
URL:https://southsoundblues.org/event/mark-hurwitz-and-gin-creek-at-chi-town-tacoma/
LOCATION:Chitown Pizza\, 15619 Pacific Ave S\, Tacoma\, WA\, 98444
CATEGORIES:Local South Sound Blues,Special Event
END:VEVENT
BEGIN:VEVENT
DTSTART;TZID=America/Los_Angeles:20230914T200000
DTEND;TZID=America/Los_Angeles:20230914T233000
DTSTAMP:20260425T031911
CREATED:20230809T215256Z
LAST-MODIFIED:20230809T215256Z
UID:11103-1694721600-1694734200@southsoundblues.org
SUMMARY:Thursdays at the Stars Bar & Grill\, Jam hosted by Billy Shew
DESCRIPTION:Thursdays at the Stars Bar & Grill\, Jam hosted by Billy Shew\, 8-11:30 pm
URL:https://southsoundblues.org/event/thursdays-at-the-stars-bar-grill-jam-hosted-by-billy-shew-15/
LOCATION:Stars Bar & Grill\, 31216 Pacific Hwy S\, Federal Way\, WA\, 98003
CATEGORIES:Local South Sound Blues
END:VEVENT
BEGIN:VEVENT
DTSTART;TZID=America/Los_Angeles:20230913T190000
DTEND;TZID=America/Los_Angeles:20230913T220000
DTSTAMP:20260425T031911
CREATED:20230619T233628Z
LAST-MODIFIED:20230819T020417Z
UID:10677-1694631600-1694642400@southsoundblues.org
SUMMARY:Devon Allman & Donavon Frankenreiter at the Spanish Ballroom
DESCRIPTION:Devon Allman & Donavon Frankenreiter at the Spanish Ballroom\, Tacoma\n6:30 pm doors\, 7:30 pm show\, $39.50 advance\, $45 day of show\, $49.50 21+ Mezzanine\, All ages welcome WEDNESDAY\, SEPTEMBER 13th\, 2023 \nTickets:  https://event.etix.com/ticket/online/performanceSale.do?performance_id=8015406&method=restoreToken \nFor four decades Donavon Frankenreiter has been travelling the globe\, first as a professional surfer and now as a musician. With over a dozen albums under his belt\, Frankenreiter has worked it on the touring trail worldwide for three decades. Donavon is a brand ambassador for Flying Embers as well as Sanuk Footwear and co-owner of Humble Brands\, Caddis Eyewear\, and several other companies. \nBlues Music Award-winning singer\, guitarist\, songwriter\, and producer Devon Allman (son of Rock legend Gregg Allman) has appeared at the world’s biggest festivals and has co-founded the supergroups Royal Southern Brotherhood and The Allman Betts Band amassing a recording catalog of eleven albums. He writes a column for Guitar Player Magazine\, is endorsed by Gibson guitars\, and serves on the board of directors for the National Blues Museum. \n 
URL:https://southsoundblues.org/event/devon-allman-donavon-frankenreiter-at-the-spanish-ballroom/
LOCATION:McMenaminsTacoma Elks\, 565 Broadway\, Tacoma\, WA\, 98402
CATEGORIES:Featured,Local South Sound Blues,Special Event
END:VEVENT
BEGIN:VEVENT
DTSTART;TZID=America/Los_Angeles:20230913T190000
DTEND;TZID=America/Los_Angeles:20230913T190000
DTSTAMP:20260425T031911
CREATED:20230731T223701Z
LAST-MODIFIED:20230731T223701Z
UID:11003-1694631600-1694631600@southsoundblues.org
SUMMARY:Farrell/Hudson & Friends at The Spar
DESCRIPTION:Wednesday\, Sept 13th – LTD Presents LIVE Event: Farrell/Hudson & Friends – The Spar – 7pm
URL:https://southsoundblues.org/event/farrell-hudson-friends-at-the-spar/
LOCATION:The Spar\, 2121 N 30th St\, Tacoma\, WA\, 98403
CATEGORIES:Local South Sound Blues
END:VEVENT
BEGIN:VEVENT
DTSTART;TZID=America/Los_Angeles:20230913T180000
DTEND;TZID=America/Los_Angeles:20230913T210000
DTSTAMP:20260425T031911
CREATED:20230809T214322Z
LAST-MODIFIED:20230809T214322Z
UID:11095-1694628000-1694638800@southsoundblues.org
SUMMARY:Billy Shew and Friends host an open Jam every Wednesday at Stockton’s
DESCRIPTION:Billy Shew and Friends host an open Jam every Wednesday at Stockton’s\, 6-9pm
URL:https://southsoundblues.org/event/billy-shew-and-friends-host-an-open-jam-every-wednesday-at-stocktons-9/
LOCATION:Stockton’s Restaurant & Spirits\, 23220 Maple Valley Black Diamond Rd SE\, Maple Valley\, WA\, 98038
CATEGORIES:Local South Sound Blues
END:VEVENT
BEGIN:VEVENT
DTSTART;TZID=America/Los_Angeles:20230912T190000
DTEND;TZID=America/Los_Angeles:20230912T220000
DTSTAMP:20260425T031911
CREATED:20230717T005312Z
LAST-MODIFIED:20230717T005441Z
UID:10908-1694545200-1694556000@southsoundblues.org
SUMMARY:Tuesday Bluesday at Brother Don's Bar & Grill\, Jam with The Tim Hall Band\, Bremerton
DESCRIPTION:Tuesday Bluesday at Brother Don’s Bar & Grill\, Jam with The Tim Hall Band\, Bremerton 7-10 pm
URL:https://southsoundblues.org/event/tuesday-bluesday-at-brother-dons-bar-grill-jam-with-the-tim-hall-band-2/
LOCATION:Brother Don’s Bar & Grill\, 4200 Kitsap Way\, Bremerton\, WA\, 98312
CATEGORIES:Local South Sound Blues
END:VEVENT
BEGIN:VEVENT
DTSTART;TZID=America/Los_Angeles:20230912T190000
DTEND;TZID=America/Los_Angeles:20230912T200000
DTSTAMP:20260425T031911
CREATED:20230711T201016Z
LAST-MODIFIED:20230711T201016Z
UID:10822-1694545200-1694548800@southsoundblues.org
SUMMARY:Ross Robinson will perform the WBS Blues Bash at Aurora Borealis
DESCRIPTION:Ross Robinson will perform the Washington Blues Bash at Aurora Borealis\, September 12th\, 7pm\n \n 
URL:https://southsoundblues.org/event/ross-robinson-will-perform-the-wbs-blues-bash-at-aurora-borealis/
LOCATION:Aurora Borealis\, 16708 Aurora Ave N\, Shoreline\, WA\, 98133
CATEGORIES:Featured
END:VEVENT
BEGIN:VEVENT
DTSTART;TZID=America/Los_Angeles:20230911T200000
DTEND;TZID=America/Los_Angeles:20230911T220000
DTSTAMP:20260425T031911
CREATED:20230809T212816Z
LAST-MODIFIED:20230809T212816Z
UID:11083-1694462400-1694469600@southsoundblues.org
SUMMARY:Mike Witmer hosts “Mojo Mike’s Blues Revue” every Monday on KVSH 101.9 FM
DESCRIPTION:Mike Witmer hosts “Mojo Mike’s Blues Revue” every Monday on KVSH 101.9 FM 8-10 pm
URL:https://southsoundblues.org/event/mike-witmer-hosts-mojo-mikes-blues-revue-every-monday-on-kvsh-101-9-fm-8/
LOCATION:WA
CATEGORIES:Local South Sound Blues
END:VEVENT
BEGIN:VEVENT
DTSTART;TZID=America/Los_Angeles:20230910T190000
DTEND;TZID=America/Los_Angeles:20230910T220000
DTSTAMP:20260425T031911
CREATED:20230809T212346Z
LAST-MODIFIED:20230809T212346Z
UID:11079-1694372400-1694383200@southsoundblues.org
SUMMARY:Billy Shew Blues Jam\, every Sunday at Dawson’s
DESCRIPTION:Billy Shew Blues Jam\, every Sunday at Dawson’s\, 7-11 pm
URL:https://southsoundblues.org/event/billy-shew-blues-jam-every-sunday-at-dawsons-7/
LOCATION:Dawson’s Bar & Grill\, 5443 South Tacoma Way\, Tacoma\, WA\, 98409
CATEGORIES:Local South Sound Blues
END:VEVENT
BEGIN:VEVENT
DTSTART;TZID=America/Los_Angeles:20230910T190000
DTEND;TZID=America/Los_Angeles:20230910T220000
DTSTAMP:20260425T031911
CREATED:20230731T223517Z
LAST-MODIFIED:20230731T223517Z
UID:11001-1694372400-1694383200@southsoundblues.org
SUMMARY:Enders Brothers at The Spar
DESCRIPTION:Sunday\, Sept 10th – Enders Brothers (debut) – The Spar – 7pm
URL:https://southsoundblues.org/event/enders-brothers-at-the-spar/
LOCATION:The Spar\, 2121 N 30th St\, Tacoma\, WA\, 98403
CATEGORIES:Local South Sound Blues
END:VEVENT
BEGIN:VEVENT
DTSTART;TZID=America/Los_Angeles:20230909T200000
DTEND;TZID=America/Los_Angeles:20230909T230000
DTSTAMP:20260425T031911
CREATED:20230816T224255Z
LAST-MODIFIED:20230816T224750Z
UID:11159-1694289600-1694300400@southsoundblues.org
SUMMARY:Mark Hurwitz & Gin Creek at Rock the Dock
DESCRIPTION:Mark Hurwitz & Gin Creek at Rock the Dock September 9th\, 8pm\n \n  \n 
URL:https://southsoundblues.org/event/mark-hurwitz-gin-creek-at-rock-the-dock/
LOCATION:Rock the Dock\, 535 Dock St # 118\, Tacoma\, WA\, 98402
CATEGORIES:Local South Sound Blues
END:VEVENT
BEGIN:VEVENT
DTSTART;TZID=America/Los_Angeles:20230909T200000
DTEND;TZID=America/Los_Angeles:20230909T200000
DTSTAMP:20260425T031911
CREATED:20230902T190130Z
LAST-MODIFIED:20230902T190130Z
UID:11321-1694289600-1694289600@southsoundblues.org
SUMMARY:Harlis Sweetwater at The Valley\, Tacoma
DESCRIPTION:Harlis Sweetwater is at ‘The Valley’\, in Tacoma\, September 9th\, with special guests. The show starts at 8pm.
URL:https://southsoundblues.org/event/harlis-sweetwater-at-the-valley-tacoma/
LOCATION:The Valley\, 1206 Puyallup Ave\, Tacoma\, WA\, 98421
CATEGORIES:Local South Sound Blues
END:VEVENT
BEGIN:VEVENT
DTSTART;TZID=America/Los_Angeles:20230909T193000
DTEND;TZID=America/Los_Angeles:20230909T193000
DTSTAMP:20260425T031911
CREATED:20230731T223336Z
LAST-MODIFIED:20230731T223336Z
UID:10999-1694287800-1694287800@southsoundblues.org
SUMMARY:Billy Stapleton's POWERHOUSE Band - Rockfish & Anacortes Brewery\, Anacortes
DESCRIPTION:Saturday\, Sept 9th – Billy Stapleton’s POWERHOUSE Band – Rockfish & Anacortes Brewery\, Anacortes – 7:30pm
URL:https://southsoundblues.org/event/billy-stapletons-powerhouse-band-rockfish-anacortes-brewery-anacortes/
LOCATION:Rockfish Grill & Brewery\, 320 Commercial Ave\, Anacortes\, WA\, 98221
CATEGORIES:Featured
END:VEVENT
BEGIN:VEVENT
DTSTART;TZID=America/Los_Angeles:20230909T170000
DTEND;TZID=America/Los_Angeles:20230909T193000
DTSTAMP:20260425T031911
CREATED:20230525T214724Z
LAST-MODIFIED:20230907T202710Z
UID:10486-1694278800-1694287800@southsoundblues.org
SUMMARY:Cory Wilds Band on the Johnson Farm Outdoor Stage\, Anderson Island
DESCRIPTION:Cory Wilds Band on the Johnson Farm Outdoor Stage\, Anderson Island\, 5:00- 7:30 pm
URL:https://southsoundblues.org/event/cory-wilds-band-on-the-johnson-farm-outdoor-stage-anderson-island/
LOCATION:Johnson Farm Archival Building\, 9306 Otso Point Rd\, Anderson Island\, WA\, 98303
CATEGORIES:Local South Sound Blues,Special Event
END:VEVENT
BEGIN:VEVENT
DTSTART;TZID=America/Los_Angeles:20230908T190000
DTEND;TZID=America/Los_Angeles:20230908T220000
DTSTAMP:20260425T031911
CREATED:20230809T195746Z
LAST-MODIFIED:20230809T195746Z
UID:11062-1694199600-1694210400@southsoundblues.org
SUMMARY:King Kom Beaux at Kimball Coffeehouse\, Gig Harbor
DESCRIPTION:Sept 8th at the Kimball Coffeehouse\, Gig Harbor\, King Kom Beaux- 7pm
URL:https://southsoundblues.org/event/king-kom-beaux-at-kimball-coffeehouse-gig-harbor/
LOCATION:WA
CATEGORIES:Local South Sound Blues
END:VEVENT
BEGIN:VEVENT
DTSTART;TZID=America/Los_Angeles:20230908T190000
DTEND;TZID=America/Los_Angeles:20230908T210000
DTSTAMP:20260425T031911
CREATED:20230816T223219Z
LAST-MODIFIED:20230816T223219Z
UID:11153-1694199600-1694206800@southsoundblues.org
SUMMARY:King Kom Beaux at Kimball's Coffeehouse
DESCRIPTION:King Kom Beaux at Kimball’s Coffeehouse September 8th\, 7-9 pm
URL:https://southsoundblues.org/event/king-kom-beaux-at-kimballs-coffeehouse/
LOCATION:Kimball’s Coffeehouse\, 6659 Kimball Dr\, Gig Harbor\, WA\, 98335
CATEGORIES:Local South Sound Blues
END:VEVENT
BEGIN:VEVENT
DTSTART;VALUE=DATE:20230908
DTEND;VALUE=DATE:20230910
DTSTAMP:20260425T031911
CREATED:20230326T193620Z
LAST-MODIFIED:20230326T193620Z
UID:10070-1694138400-1694224799@southsoundblues.org
SUMMARY:Ross Robinson at Looking Glass Coffee\, Snohomish
DESCRIPTION:Ross Robinson at Looking Glass Coffee\, Snohomish\, September 8th
URL:https://southsoundblues.org/event/ross-robinson-at-looking-glass-coffee-snohomish-3/
LOCATION:Looking Glass Coffee\, 801 1st St\, Snohomish\, WA\, 98290
CATEGORIES:Featured
END:VEVENT
BEGIN:VEVENT
DTSTART;TZID=America/Los_Angeles:20230907T200000
DTEND;TZID=America/Los_Angeles:20230907T220000
DTSTAMP:20260425T031911
CREATED:20230814T182953Z
LAST-MODIFIED:20230814T183039Z
UID:11139-1694116800-1694124000@southsoundblues.org
SUMMARY:Jonathan Pitman and Steve Itterly at Snapdragon\, Vashon
DESCRIPTION:Jonathan Pitman and Steve Itterly at Snapdragon\, August 17th\, 8pm\nHarmonica ace\, Jonathan Pitman and multi award winning guitarist\, Steve Itterly will be bringing 2 hours of foot stomping Country Blues every Thursday at Snapdragon\, 17817 Vashon Hwy SW\, Vashon\, WA (206) 463-1310
URL:https://southsoundblues.org/event/jonathan-pitman-and-steve-itterly-at-snapdragon-vashon-2/
LOCATION:Snapdragon\, 17817 Vashon Hwy\, Vashon\, WA\, 98070
CATEGORIES:Local South Sound Blues
END:VEVENT
BEGIN:VEVENT
DTSTART;TZID=America/Los_Angeles:20230907T190000
DTEND;TZID=America/Los_Angeles:20230907T220000
DTSTAMP:20260425T031911
CREATED:20230809T215055Z
LAST-MODIFIED:20230809T215055Z
UID:11101-1694113200-1694124000@southsoundblues.org
SUMMARY:“Billy the Pocket Jam” Thursday nights at Dawson’s
DESCRIPTION:“Billy the Pocket Jam” Thursday nights at Dawson’s\, 7-10 pm
URL:https://southsoundblues.org/event/billy-the-pocket-jam-thursday-nights-at-dawsons-21/
LOCATION:Dawson’s Bar & Grill\, 5443 South Tacoma Way\, Tacoma\, WA\, 98409
CATEGORIES:Local South Sound Blues
END:VEVENT
BEGIN:VEVENT
DTSTART;TZID=America/Los_Angeles:20230907T180000
DTEND;TZID=America/Los_Angeles:20230910T220000
DTSTAMP:20260425T031911
CREATED:20230829T231951Z
LAST-MODIFIED:20230829T232354Z
UID:11296-1694109600-1694383200@southsoundblues.org
SUMMARY:Sunbanks Blues & Roots Festival\, Electric City\, WA
DESCRIPTION:Sunbanks Blues & Roots Festival- a four-day music festival located against the backdrop of Banks Lake near Grand Coulee Dam at the beautiful Sunbanks Lake Resort in Electric City\, Washington! \nSeptember 7-10th includes an excellent lineup! Check out the details and we’ll see you there!  https://www.sunbanksfestival.com/ \nChris Duarte\nDelgado Brothers with Kid Ramos\nTeresa James & the Rhythm Tramps\nToo Slim & the Taildraggers\nJoe Cook Blues Band\nThat Stoops Trevalyan Thang\nHarlis Sweetwater\nSammy Eubanks\nRafael Tranquilino\nCruz Contreras\nBlue Healers\nJoel Astley\nCoyote Kings\nKevin Jones Duo\nNorris & Nicely\nLew Schmngy
URL:https://southsoundblues.org/event/sunbanks-blues-roots-festival-electric-city-wa/
LOCATION:Sunbanks Resort\, 57662 Hwy 155 N\, Electric City\, WA\, 99123
CATEGORIES:Festival
END:VEVENT
BEGIN:VEVENT
DTSTART;TZID=America/Los_Angeles:20230906T190000
DTEND;TZID=America/Los_Angeles:20230906T220000
DTSTAMP:20260425T031911
CREATED:20230809T214043Z
LAST-MODIFIED:20230809T214149Z
UID:11093-1694026800-1694037600@southsoundblues.org
SUMMARY:Wednesdays Blues Jams with Brian Olver and Glenn Hummel at Purdy’s
DESCRIPTION:Wednesdays Blues Jams with Brian Olver and Glenn Hummel at Purdy’s\, 7-10 pm
URL:https://southsoundblues.org/event/wednesdays-blues-jams-with-brian-olver-and-glenn-hummel-at-purdys-3/
LOCATION:Purdy’s Public House & Arcade\, Sumner\, 16202 64th St E\, Sumner\, WA\, 98390
CATEGORIES:Local South Sound Blues
END:VEVENT
BEGIN:VEVENT
DTSTART;TZID=America/Los_Angeles:20230906T190000
DTEND;TZID=America/Los_Angeles:20230906T220000
DTSTAMP:20260425T031911
CREATED:20230731T223118Z
LAST-MODIFIED:20230731T223118Z
UID:10997-1694026800-1694037600@southsoundblues.org
SUMMARY:LTD Presents a Special Event: John Primer & Steve Bell at The Spar
DESCRIPTION:Wednesday\, Sept 6th – LTD Presents LIVE Special Event: John Primer & Steve Bell – The Spar 7pm
URL:https://southsoundblues.org/event/ltd-presents-a-special-event-john-primer-steve-bell-at-the-spar/
LOCATION:The Spar\, 2121 N 30th St\, Tacoma\, WA\, 98403
CATEGORIES:Local South Sound Blues,Special Event
END:VEVENT
BEGIN:VEVENT
DTSTART;TZID=America/Los_Angeles:20230905T190000
DTEND;TZID=America/Los_Angeles:20230905T190000
DTSTAMP:20260425T031911
CREATED:20230901T195245Z
LAST-MODIFIED:20230901T195245Z
UID:11312-1693940400-1693940400@southsoundblues.org
SUMMARY:Billy Shew and friends Jam every Tuesday at the Burien Eagles
DESCRIPTION:Billy Shew and friends Jam every Tuesday at the Burien Eagles\, 7pm
URL:https://southsoundblues.org/event/billy-shew-and-friends-jam-every-tuesday-at-the-burien-eagles-13/
LOCATION:Burien Eagles\, 920 SW 150th St\, Burien\, WA\, 98166
CATEGORIES:Local South Sound Blues
END:VEVENT
END:VCALENDAR