BEGIN:VCALENDAR
VERSION:2.0
PRODID:-//South Sound Blues Association - ECPv6.15.18//NONSGML v1.0//EN
CALSCALE:GREGORIAN
METHOD:PUBLISH
X-WR-CALNAME:South Sound Blues Association
X-ORIGINAL-URL:https://southsoundblues.org
X-WR-CALDESC:Events for South Sound Blues Association
REFRESH-INTERVAL;VALUE=DURATION:PT1H
X-Robots-Tag:noindex
X-PUBLISHED-TTL:PT1H
BEGIN:VTIMEZONE
TZID:America/Los_Angeles
BEGIN:DAYLIGHT
TZOFFSETFROM:-0800
TZOFFSETTO:-0700
TZNAME:PDT
DTSTART:20220313T100000
END:DAYLIGHT
BEGIN:STANDARD
TZOFFSETFROM:-0700
TZOFFSETTO:-0800
TZNAME:PST
DTSTART:20221106T090000
END:STANDARD
BEGIN:DAYLIGHT
TZOFFSETFROM:-0800
TZOFFSETTO:-0700
TZNAME:PDT
DTSTART:20230312T100000
END:DAYLIGHT
BEGIN:STANDARD
TZOFFSETFROM:-0700
TZOFFSETTO:-0800
TZNAME:PST
DTSTART:20231105T090000
END:STANDARD
BEGIN:DAYLIGHT
TZOFFSETFROM:-0800
TZOFFSETTO:-0700
TZNAME:PDT
DTSTART:20240310T100000
END:DAYLIGHT
BEGIN:STANDARD
TZOFFSETFROM:-0700
TZOFFSETTO:-0800
TZNAME:PST
DTSTART:20241103T090000
END:STANDARD
END:VTIMEZONE
BEGIN:VEVENT
DTSTART;TZID=America/Los_Angeles:20231009T200000
DTEND;TZID=America/Los_Angeles:20231009T220000
DTSTAMP:20260425T033658
CREATED:20230819T022827Z
LAST-MODIFIED:20230819T022827Z
UID:11233-1696881600-1696888800@southsoundblues.org
SUMMARY:Mike Witmer hosts “Mojo Mike’s Blues Revue” every Monday on KVSH 101.9 FM
DESCRIPTION:Mike Witmer hosts “Mojo Mike’s Blues Revue” every Monday on KVSH 101.9 FM 8-10 pm
URL:https://southsoundblues.org/event/mike-witmer-hosts-mojo-mikes-blues-revue-every-monday-on-kvsh-101-9-fm-9/
LOCATION:WA
CATEGORIES:Local South Sound Blues
END:VEVENT
BEGIN:VEVENT
DTSTART;TZID=America/Los_Angeles:20231008T190000
DTEND;TZID=America/Los_Angeles:20231008T230000
DTSTAMP:20260425T033658
CREATED:20230819T021610Z
LAST-MODIFIED:20230819T021610Z
UID:11225-1696791600-1696806000@southsoundblues.org
SUMMARY:Billy Shew Blues Jam\, every Sunday at Dawson’s
DESCRIPTION:Billy Shew Blues Jam\, every Sunday at Dawson’s\, 7-11 pm
URL:https://southsoundblues.org/event/billy-shew-blues-jam-every-sunday-at-dawsons-8/
LOCATION:Dawson’s Bar & Grill\, 5443 South Tacoma Way\, Tacoma\, WA\, 98409
CATEGORIES:Local South Sound Blues
END:VEVENT
BEGIN:VEVENT
DTSTART;TZID=America/Los_Angeles:20231008T190000
DTEND;TZID=America/Los_Angeles:20231008T220000
DTSTAMP:20260425T033658
CREATED:20230907T212924Z
LAST-MODIFIED:20230907T212924Z
UID:11338-1696791600-1696802400@southsoundblues.org
SUMMARY:Sunday Blues at the Spar with Billy Stapleton's Powerhouse
DESCRIPTION:Oct 8th. The Spar Sunday Blues with Billy Stapleton’s Powerhouse Band -7-10 pm
URL:https://southsoundblues.org/event/sunday-blues-at-the-spar-with-billy-stapletons-powerhouse/
LOCATION:The Spar\, 2121 N 30th St\, Tacoma\, WA\, 98403
CATEGORIES:Local South Sound Blues
END:VEVENT
BEGIN:VEVENT
DTSTART;TZID=America/Los_Angeles:20231008T153000
DTEND;TZID=America/Los_Angeles:20231008T170000
DTSTAMP:20260425T033658
CREATED:20230920T010606Z
LAST-MODIFIED:20230920T010606Z
UID:11408-1696779000-1696784400@southsoundblues.org
SUMMARY:Michele D'Amour & The Love Dealers at the Shelton Oysterfest
DESCRIPTION:Michele D’Amour & The Love Dealers\, Sunday\, Oct. 8th on the Shelton Oysterfest\, Microbrew stage\, 3:30 – 5:00 p.m.\n  \n  \n 
URL:https://southsoundblues.org/event/michele-damour-the-love-dealers-at-the-shelton-oysterfest/
LOCATION:Port of Shelton Airport’s Sanderson Field\, 250 W Sanderson Way\, Shelton\, WA\, 98584
CATEGORIES:Local South Sound Blues
END:VEVENT
BEGIN:VEVENT
DTSTART;TZID=America/Los_Angeles:20231008T130000
DTEND;TZID=America/Los_Angeles:20231008T140000
DTSTAMP:20260425T033658
CREATED:20230823T202637Z
LAST-MODIFIED:20230823T202637Z
UID:11274-1696770000-1696773600@southsoundblues.org
SUMMARY:BLUES TO DO podcast – Live with Marlee Walker Sundays from the Seattle Drum School\, Georgetown
DESCRIPTION:BLUES TO DO podcast – Live with Marlee Walker Sundays from the Seattle Drum School\, Georgetown\, at 1pm.\nInternational Broadcaster and “Keeping the Blues Alive” award-winning Radio Personality & Publisher – Marlee Walker will Live stream starting September 3rd. Marlee will interview weekly guests and give updates for the PNW live music calendar\, with contests and prizes.  We can visit in-person at the L.A.B.\, 1010 S. Bailey Street\, Seattle Drum School Georgetown\, WA 98108. They will be serving free coffee & treats to the first 10 attendees. Doors open at 12:30 for all Ages. Donations welcome. ONLINE: Watch LIVE at:   YouTube.com/@BluesToDo
URL:https://southsoundblues.org/event/blues-to-do-podcast-live-with-marlee-walker-sundays-from-the-seattle-drum-school-georgetown/
LOCATION:Seattle Drum School\, 1010 S. Bailey Street\, Seattle\, WA\, 98108
CATEGORIES:Featured,Seminars and Workshops
END:VEVENT
BEGIN:VEVENT
DTSTART;TZID=America/Los_Angeles:20231007T200000
DTEND;TZID=America/Los_Angeles:20231007T220000
DTSTAMP:20260425T033658
CREATED:20230809T182832Z
LAST-MODIFIED:20230809T182924Z
UID:11057-1696708800-1696716000@southsoundblues.org
SUMMARY:SSBA Blues Series at the Mill with the Joel Astley Band
DESCRIPTION:Joel Astley Band at the Mill\, October 7th\, 8-10 pm
URL:https://southsoundblues.org/event/ssba-blues-series-at-the-mill-with-the-joel-astley-band/
LOCATION:The Mill of Milton\, 900 Meridian E. #50\, Milton\, WA\, 98354
CATEGORIES:Local South Sound Blues
END:VEVENT
BEGIN:VEVENT
DTSTART;TZID=America/Los_Angeles:20231007T190000
DTEND;TZID=America/Los_Angeles:20231007T190000
DTSTAMP:20260425T033658
CREATED:20230912T005200Z
LAST-MODIFIED:20230912T005200Z
UID:11367-1696705200-1696705200@southsoundblues.org
SUMMARY:Tupelo at The Spar
DESCRIPTION:Tupelo at The Spar\, October 7th\, 7pm
URL:https://southsoundblues.org/event/tupelo-at-the-spar-2/
LOCATION:The Spar\, 2121 N 30th St\, Tacoma\, WA\, 98403
CATEGORIES:Featured
END:VEVENT
BEGIN:VEVENT
DTSTART;TZID=America/Los_Angeles:20231007T170000
DTEND;TZID=America/Los_Angeles:20231007T183000
DTSTAMP:20260425T033658
CREATED:20230920T004733Z
LAST-MODIFIED:20230920T004733Z
UID:11405-1696698000-1696703400@southsoundblues.org
SUMMARY:Michele D'Amour & The Love Dealers at The Dungeness Crab and Seafood Fest\, Port Angeles
DESCRIPTION:Michele D’Amour & The Love Dealers\, Saturday\, Oct. 7 at the Dungeness Crab and Seafood Fest\, Port Angeles\, main stage\, 5:20 – 6:35 p.m.\n122 N Lincoln St\, Port Angeles\, WA 98362
URL:https://southsoundblues.org/event/michele-damour-the-love-dealers-at-the-dungeness-crab-and-seafood-fest-port-angeles/
LOCATION:Dungeness Crab & Seafood Festival Office\, 122 N Lincoln St\, Port Angeles\, WA\, 98362
CATEGORIES:Local South Sound Blues
END:VEVENT
BEGIN:VEVENT
DTSTART;TZID=America/Los_Angeles:20231006T190000
DTEND;TZID=America/Los_Angeles:20231006T210000
DTSTAMP:20260425T033658
CREATED:20230912T004915Z
LAST-MODIFIED:20230912T004915Z
UID:11365-1696618800-1696626000@southsoundblues.org
SUMMARY:Champagne Sunday at Kimball Coffeehouse
DESCRIPTION:October 6th at Kimball Coffeehouse\, Champagne Sunday\, 7pm
URL:https://southsoundblues.org/event/champagne-sunday-at-kimball-coffeehouse-2/
LOCATION:Kimball’s Coffeehouse\, 6659 Kimball Dr\, Gig Harbor\, WA\, 98335
CATEGORIES:Featured
END:VEVENT
BEGIN:VEVENT
DTSTART;TZID=America/Los_Angeles:20231005T200000
DTEND;TZID=America/Los_Angeles:20231005T213000
DTSTAMP:20260425T033658
CREATED:20230709T072955Z
LAST-MODIFIED:20230709T073010Z
UID:10810-1696536000-1696541400@southsoundblues.org
SUMMARY:ZZ Top at the Muckleshoot Casino Resort\, Auburn
DESCRIPTION:THURSDAY\, OCTOBER 5\,  8 – 9:30 PM\n\nZZ Top\, OCTOBER 5th\, 8 – 9:30 pm\, Muckleshoot Casino Resort\nhttps://www.ticketmaster.com/zz-top-auburn-washington-10-05-2023/event/0F005ED7BA912B2B \n\n2402 Auburn Way S\, Auburn\, WA 98002
URL:https://southsoundblues.org/event/zz-top-at-the-muckleshoot-casino-resort-auburn/
LOCATION:Muckleshoot Casino Resort\, 2402 Auburn Way S\, Auburn\, WA\, 98002
CATEGORIES:Featured,Local South Sound Blues,Special Event
END:VEVENT
BEGIN:VEVENT
DTSTART;TZID=America/Los_Angeles:20231005T200000
DTEND;TZID=America/Los_Angeles:20231005T200000
DTSTAMP:20260425T033658
CREATED:20230915T010959Z
LAST-MODIFIED:20230915T011136Z
UID:11393-1696536000-1696536000@southsoundblues.org
SUMMARY:ZZ Top at the Muckleshoot Events Center\, Auburn
DESCRIPTION:ZZ Top at the Muckleshoot Events Center\, Auburn\, 8pm\n\n\n\n\n\n  \n\n\n“That Little Ol’ Band from Texas” has been at it for well over a half century\, delivering rock\, blues\, and boogie on the road and in the studio to millions of devoted fans. Muckleshoot Events Center – tickets      https://muckleshootcasino.com/entertainment/zz-top\n\n\n\n\n\nMUCKLESHOOT\nINDIAN CASINO\n2402 Auburn Way S.\nAuburn\, WA 98002\nPhone: 800.804.4944
URL:https://southsoundblues.org/event/zz-top-at-the-muckleshoot-events-center-auburn/
LOCATION:Muckleshoot Casino Resort\, 2402 Auburn Way S\, Auburn\, WA\, 98002
CATEGORIES:Special Event
END:VEVENT
BEGIN:VEVENT
DTSTART;TZID=America/Los_Angeles:20231005T190000
DTEND;TZID=America/Los_Angeles:20231005T220000
DTSTAMP:20260425T033658
CREATED:20230819T025154Z
LAST-MODIFIED:20230819T025226Z
UID:11257-1696532400-1696543200@southsoundblues.org
SUMMARY:“Billy the Pocket Jam” Thursday nights at Dawson’s
DESCRIPTION:“Billy the Pocket Jam” Thursday nights at Dawson’s\, 7-10 pm
URL:https://southsoundblues.org/event/billy-the-pocket-jam-thursday-nights-at-dawsons-22/
LOCATION:Dawson’s Bar & Grill\, 5443 South Tacoma Way\, Tacoma\, WA\, 98409
CATEGORIES:Local South Sound Blues
END:VEVENT
BEGIN:VEVENT
DTSTART;TZID=America/Los_Angeles:20231004T190000
DTEND;TZID=America/Los_Angeles:20231004T220000
DTSTAMP:20260425T033658
CREATED:20230819T024305Z
LAST-MODIFIED:20230819T024305Z
UID:11247-1696446000-1696456800@southsoundblues.org
SUMMARY:Wednesdays Blues Jams with Brian Olver and Glenn Hummel at Purdy’s
DESCRIPTION:Wednesdays Blues Jams with Brian Olver and Glenn Hummel at Purdy’s\, 7-10 pm
URL:https://southsoundblues.org/event/wednesdays-blues-jams-with-brian-olver-and-glenn-hummel-at-purdys-5/
LOCATION:Purdy’s Public House & Arcade\, Sumner\, 16202 64th St E\, Sumner\, WA\, 98390
CATEGORIES:Local South Sound Blues
END:VEVENT
BEGIN:VEVENT
DTSTART;TZID=America/Los_Angeles:20231003T190000
DTEND;TZID=America/Los_Angeles:20231003T190000
DTSTAMP:20260425T033658
CREATED:20230901T195402Z
LAST-MODIFIED:20230901T195402Z
UID:11314-1696359600-1696359600@southsoundblues.org
SUMMARY:Billy Shew and friends Jam every Tuesday at the Burien Eagles
DESCRIPTION:Billy Shew and friends Jam every Tuesday at the Burien Eagles\, 7pm
URL:https://southsoundblues.org/event/billy-shew-and-friends-jam-every-tuesday-at-the-burien-eagles-14/
LOCATION:Burien Eagles\, 920 SW 150th St\, Burien\, WA\, 98166
CATEGORIES:Local South Sound Blues
END:VEVENT
BEGIN:VEVENT
DTSTART;TZID=America/Los_Angeles:20231002T190000
DTEND;TZID=America/Los_Angeles:20231002T190000
DTSTAMP:20260425T033658
CREATED:20230819T022236Z
LAST-MODIFIED:20230819T022236Z
UID:11229-1696273200-1696273200@southsoundblues.org
SUMMARY:Monday Night Jams at HD’s Bar & Grill\, Belfair
DESCRIPTION:Monday Night Jams at HD’s Bar & Grill\, Belfair\, WA 7pm
URL:https://southsoundblues.org/event/monday-night-jams-at-hds-bar-grill-belfair-3/
LOCATION:HD’s Pub\, 24131 SR-3 \, Belfair\, WA\, 98528
CATEGORIES:Local South Sound Blues
END:VEVENT
BEGIN:VEVENT
DTSTART;TZID=America/Los_Angeles:20231001T190000
DTEND;TZID=America/Los_Angeles:20231001T220000
DTSTAMP:20260425T033658
CREATED:20230907T211705Z
LAST-MODIFIED:20230907T211705Z
UID:11329-1696186800-1696197600@southsoundblues.org
SUMMARY:Sunday Blues at the Spar with the Cory Wilds Band
DESCRIPTION:Sunday Blues at the Spar with the Cory Wilds Band\, October 1st\, 7-10 pm
URL:https://southsoundblues.org/event/sunday-blues-at-the-spar-with-the-cory-wilds-band/
LOCATION:The Spar\, 2121 N 30th St\, Tacoma\, WA\, 98403
CATEGORIES:Local South Sound Blues
END:VEVENT
BEGIN:VEVENT
DTSTART;VALUE=DATE:20231001
DTEND;VALUE=DATE:20231003
DTSTAMP:20260425T033658
CREATED:20230819T014848Z
LAST-MODIFIED:20230819T185006Z
UID:11219-1696125600-1696211999@southsoundblues.org
SUMMARY:Washington Blues Society Snohomish Blues invasion
DESCRIPTION:WBS\, Snohomish Blues invasion\, October 1st\, 1-9 pm\n\nWashington Blues Society presents: Snohomish Blues invasion Sunday\, October 1st\, 1:00pm\nCarnegie Hall\nSpada Brewery\nOxford Saloon\nCCR -Sports\n-music – silent auction -raffles!  All donations go to the IBC fund to send acts to compete in Memphis in Jan 2024. LINE UP –TBA\n105 Cedar Ave\, Snohomish\, WA 98290
URL:https://southsoundblues.org/event/washington-blues-society-snohomish-blues-invasion/
LOCATION:Oxford Saloon\, 913 1st St\, Snohomish\, WA\, 98290
CATEGORIES:Featured,IBC,Special Event
END:VEVENT
BEGIN:VEVENT
DTSTART;TZID=America/Los_Angeles:20230930T210000
DTEND;TZID=America/Los_Angeles:20230930T210000
DTSTAMP:20260425T033658
CREATED:20230816T230212Z
LAST-MODIFIED:20230816T230212Z
UID:11168-1696107600-1696107600@southsoundblues.org
SUMMARY:Mark Hurwitz & Gin Creek at Dawson's
DESCRIPTION:Mark Hurwitz & Gin Creek at Dawson’s September 30th\, 9pm\n 
URL:https://southsoundblues.org/event/mark-hurwitz-gin-creek-at-dawsons/
LOCATION:Dawson’s Bar & Grill\, 5443 South Tacoma Way\, Tacoma\, WA\, 98409
CATEGORIES:Local South Sound Blues
END:VEVENT
BEGIN:VEVENT
DTSTART;TZID=America/Los_Angeles:20230929T213000
DTEND;TZID=America/Los_Angeles:20230929T213000
DTSTAMP:20260425T033658
CREATED:20230809T201915Z
LAST-MODIFIED:20230809T201915Z
UID:11074-1696023000-1696023000@southsoundblues.org
SUMMARY:Billy Stapleton's Powerhouse at Bake's Place Bar & Bistro\, Bellevue
DESCRIPTION:September 29th\, at Bake’s Place Bar & Bistro\, Billy Stapleton’s POWERHOUSE\, 9:30pm
URL:https://southsoundblues.org/event/billy-stapletons-powerhouse-at-bakes-place-bar-bistro-bellevue/
LOCATION:Bake’s Place\, 155 108th Ave NE Ste 110\, Bellevue\, WA\, 98004
CATEGORIES:Featured
END:VEVENT
BEGIN:VEVENT
DTSTART;TZID=America/Los_Angeles:20230928T190000
DTEND;TZID=America/Los_Angeles:20230928T220000
DTSTAMP:20260425T033658
CREATED:20230809T215709Z
LAST-MODIFIED:20230809T215709Z
UID:11107-1695927600-1695938400@southsoundblues.org
SUMMARY:Big Al’s Blues Jam Every Thursday at the New Moon Craft Tavern\, Port Angeles
DESCRIPTION:Big Al’s Blues Jam Every Thursday at the New Moon Craft Tavern\, Port Angeles\, 7-10 pm
URL:https://southsoundblues.org/event/big-als-blues-jam-every-thursday-at-the-new-moon-craft-tavern-port-angeles-14/
LOCATION:New Moon Craft Tavern\, 130 S Lincoln St\, Port Angeles\, WA\, 98362
CATEGORIES:Local South Sound Blues
END:VEVENT
BEGIN:VEVENT
DTSTART;TZID=America/Los_Angeles:20230927T190000
DTEND;TZID=America/Los_Angeles:20230927T220000
DTSTAMP:20260425T033658
CREATED:20230809T214805Z
LAST-MODIFIED:20230809T214805Z
UID:11099-1695841200-1695852000@southsoundblues.org
SUMMARY:Wednesdays Blues Jams with Brian Olver and Glenn Hummel at Purdy’s
DESCRIPTION:Wednesdays Blues Jams with Brian Olver and Glenn Hummel at Purdy’s\, 7-10 pm
URL:https://southsoundblues.org/event/wednesdays-blues-jams-with-brian-olver-and-glenn-hummel-at-purdys-4/
LOCATION:Purdy’s Public House & Arcade\, Sumner\, 16202 64th St E\, Sumner\, WA\, 98390
CATEGORIES:Local South Sound Blues
END:VEVENT
BEGIN:VEVENT
DTSTART;TZID=America/Los_Angeles:20230926T190000
DTEND;TZID=America/Los_Angeles:20230926T210000
DTSTAMP:20260425T033658
CREATED:20230711T203056Z
LAST-MODIFIED:20230711T203145Z
UID:10825-1695754800-1695762000@southsoundblues.org
SUMMARY:Tuesday night "Blues Showcase" featuring Red House at Purdy's Public House & Arcade\, Sumner\, WA
DESCRIPTION:Tuesday night “Blues Showcase” featuring ‘Red House’ at Purdy’s Public House & Arcade\, September 26th\, 7-9 pm\n Red House Blues Band
URL:https://southsoundblues.org/event/tuesday-night-blues-showcase-featuring-red-house-at-purdys-public-house-arcade-sumner-wa/
LOCATION:Purdy’s Public House & Arcade\, Sumner\, 16202 64th St E\, Sumner\, WA\, 98390
CATEGORIES:Local South Sound Blues,SSBA Event
END:VEVENT
BEGIN:VEVENT
DTSTART;TZID=America/Los_Angeles:20230925T180000
DTEND;TZID=America/Los_Angeles:20230925T210000
DTSTAMP:20260425T033658
CREATED:20230811T213741Z
LAST-MODIFIED:20230811T213741Z
UID:11125-1695664800-1695675600@southsoundblues.org
SUMMARY:Monday Night Jams with host Al Alto at HD’s Pub\, Belfair
DESCRIPTION:Monday Night Jams with host Al Alto at HD’s Pub\, Belfair WA 6-9 pm
URL:https://southsoundblues.org/event/monday-night-jams-with-host-al-alto-at-hds-pub-belfair-3/
LOCATION:HD’s Pub\, 24131 SR-3 \, Belfair\, WA\, 98528
CATEGORIES:Local South Sound Blues
END:VEVENT
BEGIN:VEVENT
DTSTART;TZID=America/Los_Angeles:20230924T190000
DTEND;TZID=America/Los_Angeles:20230924T220000
DTSTAMP:20260425T033658
CREATED:20230809T201210Z
LAST-MODIFIED:20230809T201210Z
UID:11068-1695582000-1695592800@southsoundblues.org
SUMMARY:Sunday Blues at the Spar with Dr Jop Funkin' Shop
DESCRIPTION:Sept 24th at The Spar\, SUNDAY BLUES with Dr Jop Funkin’ Shop 7pm
URL:https://southsoundblues.org/event/sunday-blues-at-the-spar-with-dr-jop-funkin-shop/
LOCATION:The Spar\, 2121 N 30th St\, Tacoma\, WA\, 98403
CATEGORIES:Local South Sound Blues
END:VEVENT
BEGIN:VEVENT
DTSTART;TZID=America/Los_Angeles:20230923T200000
DTEND;TZID=America/Los_Angeles:20230923T230000
DTSTAMP:20260425T033658
CREATED:20230619T221016Z
LAST-MODIFIED:20230619T221016Z
UID:10669-1695499200-1695510000@southsoundblues.org
SUMMARY:The Spin-Offs at the Salmon Bay Eagles\, Ballard
DESCRIPTION:9/23\, 8-11 pm\, The Spin-Offs at the Salmon Bay Eagles\, 5216 – 20th Ave NW\, Seattle (Ballard)\, WA
URL:https://southsoundblues.org/event/the-spin-offs-at-the-salmon-bay-eagles-ballard/
LOCATION:Salmon Bay Eagles\, 5216 20th Ave NW\, Seattle\, WA\, 98107
CATEGORIES:Featured,Local South Sound Blues
END:VEVENT
BEGIN:VEVENT
DTSTART;TZID=America/Los_Angeles:20230923T190000
DTEND;TZID=America/Los_Angeles:20230923T220000
DTSTAMP:20260425T033658
CREATED:20230809T201633Z
LAST-MODIFIED:20230809T201633Z
UID:11072-1695495600-1695506400@southsoundblues.org
SUMMARY:Twang Junkies at the Spar
DESCRIPTION:September 23rd at The Spar\, Twang Junkies\, 7pm
URL:https://southsoundblues.org/event/twang-junkies-at-the-spar-2/
LOCATION:The Spar\, 2121 N 30th St\, Tacoma\, WA\, 98403
CATEGORIES:Local South Sound Blues
END:VEVENT
BEGIN:VEVENT
DTSTART;TZID=America/Los_Angeles:20230923T180000
DTEND;TZID=America/Los_Angeles:20230923T233000
DTSTAMP:20260425T033658
CREATED:20230711T211923Z
LAST-MODIFIED:20230807T214458Z
UID:10833-1695492000-1695511800@southsoundblues.org
SUMMARY:North Bend Blues Walk featuring The Mark DuFresne band\,  Joel Astley Band\, Ross Robinson\, King Kom Beaux\, Michelle D'Amour & The Love Dealers\, Eric Rice Maine Connection\, Steve Itterly and Jonathan Pitman\,  WhiteWing Duo\, Mark Hurwitz & Gin Creek\, and others in North Bend\, WA
DESCRIPTION:North Bend Blues Walk\, Saturday\, September 23rd\, 6-11 pm\n\n\nBlues are Back in North Bend…\nSept 23rd\, 2023\,\n6pm to Midnight\n\n\n\n\nThe North Bend Blues Walk is a one-day Blues Festival in downtown North Bend\, Washington featuring 20 venues\, 23 bands and more than 70 musicians. One ticket gets you in to all venues all night long\, starting at 6pm and going until 12 midnight. Check the schedule for a schedule of staggered start and end times. \nhttps://www.northbendblueswalk.com/tickets \n\n\n\n\nMARK DUFRESNE BAND with Billy Stapleton \n \n\nNorth Bend\, WA
URL:https://southsoundblues.org/event/north-bend-blues-walk-featuring-the-mark-dufresne-band-and-others-in-north-bend-wa/
LOCATION:North Bend Blues Walk\, 112 W 2nd St\, North Bend\, WA\, 98045
CATEGORIES:Festival
END:VEVENT
BEGIN:VEVENT
DTSTART;TZID=America/Los_Angeles:20230922T200000
DTEND;TZID=America/Los_Angeles:20230922T220000
DTSTAMP:20260425T033658
CREATED:20230619T220542Z
LAST-MODIFIED:20230619T220615Z
UID:10665-1695412800-1695420000@southsoundblues.org
SUMMARY:The Spin-Offs at The Vogue Coffee Bar\, Chelan\, WA
DESCRIPTION:  September 22nd\, 8-10 pm\, The Spin-Offs at The Vogue Coffee Bar\, 117 Woodin Ave.\, Chelan\, WA 98816
URL:https://southsoundblues.org/event/the-spin-offs-at-the-vogue-coffee-bar-chelan-wa/
LOCATION:Vogue Coffee Barr\, 117 Woodin Ave.\, Chelan\, WA\, 98816
CATEGORIES:Featured
END:VEVENT
BEGIN:VEVENT
DTSTART;TZID=America/Los_Angeles:20230922T190000
DTEND;TZID=America/Los_Angeles:20230922T220000
DTSTAMP:20260425T033658
CREATED:20230919T215827Z
LAST-MODIFIED:20230919T221407Z
UID:11402-1695409200-1695420000@southsoundblues.org
SUMMARY:Andy Koch's 'Badd Dog Blues Society' at the Highway Twenty Roadhouse\, Port Townsend
DESCRIPTION:Andy “Badd Dog” Koch on vocals\, guitar & Harmonica\, Jim Nyby on piano & Vocals. Tom Svornich on drums and Todd Fisher on bass! Blues Time at the Highway Twenty Roadhouse\, September 22nd\, 7-10 pm.\n\n\nCover $7- Awesome Venue with a Beautiful Dance Floor and Great Service.\n\n\n 
URL:https://southsoundblues.org/event/andy-kochs-badd-dog-blues-society-at-the-highway-twenty-roadhouse-port-townsend/
LOCATION:Highway Twenty Roadhouse\, 2152 W Sims Way\, Port Townsend\, WA\, 98368
CATEGORIES:Local South Sound Blues
END:VEVENT
BEGIN:VEVENT
DTSTART;TZID=America/Los_Angeles:20230922T170000
DTEND;TZID=America/Los_Angeles:20230922T220000
DTSTAMP:20260425T033658
CREATED:20230809T205121Z
LAST-MODIFIED:20230809T205121Z
UID:11076-1695402000-1695420000@southsoundblues.org
SUMMARY:The Trailer Park Kings at Binford's Field of Dreams Car Show\, Kent
DESCRIPTION:The Trailer Park Kings will perform at the Binford Field of Dreams Car Show in Kent! Come rock with them on Friday\, September 22nd\, for a night of Live music\, classic cars\, dancing\, burnout pit\, food\, and beer trucks etc.\nThis is a FREE ALL AGES show. The event starts at 4pm\, goes to around 10pm.\nHope to see you! There is always a fun time at Binford!\n  \n  \n  \n  \nBinford Metals\, LLC\n26133 78th Ave South\nKent\, WA 98032 \nhttps://binfordmetals.com/
URL:https://southsoundblues.org/event/the-trailer-park-kings-at-binfords-field-of-dreams-car-show-kent/
LOCATION:Binford Metals\, 26133 78th Ave South\, Kent\, WA\, 98032
CATEGORIES:Featured
END:VEVENT
END:VCALENDAR