BEGIN:VCALENDAR
VERSION:2.0
PRODID:-//South Sound Blues Association - ECPv6.15.18//NONSGML v1.0//EN
CALSCALE:GREGORIAN
METHOD:PUBLISH
X-ORIGINAL-URL:https://southsoundblues.org
X-WR-CALDESC:Events for South Sound Blues Association
REFRESH-INTERVAL;VALUE=DURATION:PT1H
X-Robots-Tag:noindex
X-PUBLISHED-TTL:PT1H
BEGIN:VTIMEZONE
TZID:America/Los_Angeles
BEGIN:DAYLIGHT
TZOFFSETFROM:-0800
TZOFFSETTO:-0700
TZNAME:PDT
DTSTART:20230312T100000
END:DAYLIGHT
BEGIN:STANDARD
TZOFFSETFROM:-0700
TZOFFSETTO:-0800
TZNAME:PST
DTSTART:20231105T090000
END:STANDARD
BEGIN:DAYLIGHT
TZOFFSETFROM:-0800
TZOFFSETTO:-0700
TZNAME:PDT
DTSTART:20240310T100000
END:DAYLIGHT
BEGIN:STANDARD
TZOFFSETFROM:-0700
TZOFFSETTO:-0800
TZNAME:PST
DTSTART:20241103T090000
END:STANDARD
BEGIN:DAYLIGHT
TZOFFSETFROM:-0800
TZOFFSETTO:-0700
TZNAME:PDT
DTSTART:20250309T100000
END:DAYLIGHT
BEGIN:STANDARD
TZOFFSETFROM:-0700
TZOFFSETTO:-0800
TZNAME:PST
DTSTART:20251102T090000
END:STANDARD
END:VTIMEZONE
BEGIN:VEVENT
DTSTART;TZID=America/Los_Angeles:20240319T190000
DTEND;TZID=America/Los_Angeles:20240319T210000
DTSTAMP:20260425T082647
CREATED:20240221T204236Z
LAST-MODIFIED:20240221T204236Z
UID:12204-1710874800-1710882000@southsoundblues.org
SUMMARY:Rob Tudor and Dave McKibbin at the Twisted Fork Saloon every Tuesday
DESCRIPTION:Rob Tudor and Dave McKibbin at the Twisted Fork Saloon every Tuesday\, 7-9 pm
URL:https://southsoundblues.org/event/rob-tudor-and-dave-mckibbin-at-the-twisted-fork-saloon-every-tuesday-3/
LOCATION:Twisted Fork Saloon\, 5005 Main St\, Tacoma\, WA\, 98407
CATEGORIES:Local South Sound Blues
END:VEVENT
BEGIN:VEVENT
DTSTART;TZID=America/Los_Angeles:20240320T180000
DTEND;TZID=America/Los_Angeles:20240320T180000
DTSTAMP:20260425T082647
CREATED:20240221T024420Z
LAST-MODIFIED:20240221T024420Z
UID:12192-1710957600-1710957600@southsoundblues.org
SUMMARY:King Grand at the Spar
DESCRIPTION:Mar 20th\, The Spar\, Tacoma\, King Grand\, 6pm
URL:https://southsoundblues.org/event/king-grand-at-the-spar-3/
LOCATION:The Spar\, 2121 N 30th St\, Tacoma\, WA\, 98403
CATEGORIES:Featured
END:VEVENT
BEGIN:VEVENT
DTSTART;TZID=America/Los_Angeles:20240321T200000
DTEND;TZID=America/Los_Angeles:20240321T220000
DTSTAMP:20260425T082647
CREATED:20240221T210928Z
LAST-MODIFIED:20240221T210928Z
UID:12217-1711051200-1711058400@southsoundblues.org
SUMMARY:Thursday Night Jam at the Realm Venue\, hosted by Billy Shew
DESCRIPTION:Thursday Night Jam at the Realm Venue\, hosted by Billy Shew\, 8-10 pm
URL:https://southsoundblues.org/event/thursday-night-jam-at-the-realm-venue-hosted-by-billy-shew-2/
LOCATION:Realm Venue\, 5602 So. Washington St.\, Tacoma\, WA\, 98409
CATEGORIES:Local South Sound Blues
END:VEVENT
BEGIN:VEVENT
DTSTART;TZID=America/Los_Angeles:20240322T190000
DTEND;TZID=America/Los_Angeles:20240322T190000
DTSTAMP:20260425T082647
CREATED:20240221T021717Z
LAST-MODIFIED:20240221T021928Z
UID:12172-1711134000-1711134000@southsoundblues.org
SUMMARY:Annie Eastwood's All-Star Band feat. Billy Stapleton at the Kimball Coffeehouse
DESCRIPTION:Mar 22nd\,  at the Kimball Coffeehouse\, Gig Harbor\, Annie Eastwood’s All-Star Band feat. Billy Stapleton\, 7pm
URL:https://southsoundblues.org/event/annie-eastwoods-all-star-band-feat-billy-stapleton-at-the-kimball-coffeehouse/
LOCATION:Kimball’s Coffeehouse\, 6659 Kimball Dr\, Gig Harbor\, WA\, 98335
CATEGORIES:Local South Sound Blues
END:VEVENT
BEGIN:VEVENT
DTSTART;TZID=America/Los_Angeles:20240322T193000
DTEND;TZID=America/Los_Angeles:20240322T193000
DTSTAMP:20260425T082647
CREATED:20231113T213506Z
LAST-MODIFIED:20231113T213506Z
UID:11721-1711135800-1711135800@southsoundblues.org
SUMMARY:Melissa Etheridge at the Pantages Theater
DESCRIPTION:Melissa Etheridge at the Pantages Theater March 22nd\, 7:30 pm\n 
URL:https://southsoundblues.org/event/melissa-etheridge-at-the-pantages-theater/
LOCATION:Pantages Theater\, 901 Broadway\, Tacoma\, WA\, 98402
CATEGORIES:Featured
END:VEVENT
BEGIN:VEVENT
DTSTART;TZID=America/Los_Angeles:20240323T190000
DTEND;TZID=America/Los_Angeles:20240323T220000
DTSTAMP:20260425T082647
CREATED:20240221T024728Z
LAST-MODIFIED:20240221T024728Z
UID:12196-1711220400-1711231200@southsoundblues.org
SUMMARY:Twang Junkies at the Spar
DESCRIPTION:Mar 23rd\, at The Spar\, Tacoma\, Twang Junkies\, 7pm
URL:https://southsoundblues.org/event/twang-junkies-at-the-spar-4/
LOCATION:The Spar\, 2121 N 30th St\, Tacoma\, WA\, 98403
CATEGORIES:Featured
END:VEVENT
BEGIN:VEVENT
DTSTART;TZID=America/Los_Angeles:20240323T200000
DTEND;TZID=America/Los_Angeles:20240323T200000
DTSTAMP:20260425T082647
CREATED:20240103T035944Z
LAST-MODIFIED:20240103T035944Z
UID:11938-1711224000-1711224000@southsoundblues.org
SUMMARY:King Kom Beaux at The Bethel Saloon
DESCRIPTION:King Kom Beaux at The Bethel Saloon March 23rd\, 8pm
URL:https://southsoundblues.org/event/king-kom-beaux-at-the-bethel-saloon-2/
LOCATION:Bethel Saloon\, 3840 Bethel Rd SE\, Port Orchard\, WA\, 98366
CATEGORIES:Local South Sound Blues
END:VEVENT
BEGIN:VEVENT
DTSTART;TZID=America/Los_Angeles:20240323T200000
DTEND;TZID=America/Los_Angeles:20240323T220000
DTSTAMP:20260425T082647
CREATED:20240216T202153Z
LAST-MODIFIED:20240216T202153Z
UID:12136-1711224000-1711231200@southsoundblues.org
SUMMARY:Macon Bacon on the Mill Town Stage\, Milton
DESCRIPTION:Join The Mill Town Stage in associations with River Productions and Entertainment as we welcome newcomers to the stage\, MACON BACON! Macon Bacon bills themselves as Southern Fried Blues\, Rock\, Roots and Country. \n \nThey hit the MTS for the first time March 23rd at 8pm. A small entertainment fee will apply to your bill. \n 
URL:https://southsoundblues.org/event/macon-bacon-on-the-mill-town-stage-milton/
LOCATION:The Mill of Milton\, 900 Meridian E. #50\, Milton\, WA\, 98354
CATEGORIES:Local South Sound Blues
END:VEVENT
BEGIN:VEVENT
DTSTART;TZID=America/Los_Angeles:20240324T190000
DTEND;TZID=America/Los_Angeles:20240324T220000
DTSTAMP:20260425T082647
CREATED:20240221T015547Z
LAST-MODIFIED:20240221T015547Z
UID:12160-1711306800-1711317600@southsoundblues.org
SUMMARY:Sunday Blues at the Spar with the Doug Lynn Band Reunion
DESCRIPTION:Mar 24th\, at The Spar\, Tacoma\, Doug Lynn Band Reunion\, 7pm
URL:https://southsoundblues.org/event/sunday-blues-at-the-spar-with-the-doug-lynn-band-reunion/
LOCATION:The Spar\, 2121 N 30th St\, Tacoma\, WA\, 98403
CATEGORIES:Local South Sound Blues
END:VEVENT
BEGIN:VEVENT
DTSTART;TZID=America/Los_Angeles:20240325T200000
DTEND;TZID=America/Los_Angeles:20240325T220000
DTSTAMP:20260425T082647
CREATED:20240223T014123Z
LAST-MODIFIED:20240223T014123Z
UID:12226-1711396800-1711404000@southsoundblues.org
SUMMARY:Mike Witmer hosts “Mojo Mike’s Blues Revue” every Monday on KVSH 101.9 FM
DESCRIPTION:Mike Witmer hosts “Mojo Mike’s Blues Revue” every Monday on KVSH 101.9 FM 8-10 pm
URL:https://southsoundblues.org/event/mike-witmer-hosts-mojo-mikes-blues-revue-every-monday-on-kvsh-101-9-fm-16/
LOCATION:WA
END:VEVENT
BEGIN:VEVENT
DTSTART;TZID=America/Los_Angeles:20240326T190000
DTEND;TZID=America/Los_Angeles:20240326T210000
DTSTAMP:20260425T082647
CREATED:20231203T225132Z
LAST-MODIFIED:20231203T225313Z
UID:11779-1711479600-1711486800@southsoundblues.org
SUMMARY:Tuesday "Blues Showcase" with the Spin-Offs at Purdy's Public House and Arcade\, Sumner
DESCRIPTION:Tuesday “Blues Showcase” with the Spin-Offs at Purdy’s Public House and Arcade\, March 26th\, 7-9 pm.\n \n  \n 
URL:https://southsoundblues.org/event/tuesday-blues-showcase-with-the-spin-offs-at-purdys-public-house-and-arcade-sumner/
LOCATION:Purdy’s Public House\, 17136 Hwy 410 E\, Sumner\, WA\, 98390
CATEGORIES:Local South Sound Blues,SSBA Event
END:VEVENT
BEGIN:VEVENT
DTSTART;TZID=America/Los_Angeles:20240327T180000
DTEND;TZID=America/Los_Angeles:20240327T180000
DTSTAMP:20260425T082647
CREATED:20240221T024552Z
LAST-MODIFIED:20240221T024552Z
UID:12194-1711562400-1711562400@southsoundblues.org
SUMMARY:How Now Brown Cow at the Spar
DESCRIPTION:Mar 27th\, The Spar\, Tacoma\, How Now Brown Cow\, 6pm
URL:https://southsoundblues.org/event/how-now-brown-cow-at-the-spar-3/
LOCATION:The Spar\, 2121 N 30th St\, Tacoma\, WA\, 98403
CATEGORIES:Featured
END:VEVENT
BEGIN:VEVENT
DTSTART;TZID=America/Los_Angeles:20240328T190000
DTEND;TZID=America/Los_Angeles:20240328T220000
DTSTAMP:20260425T082647
CREATED:20240221T205330Z
LAST-MODIFIED:20240221T205330Z
UID:12212-1711652400-1711663200@southsoundblues.org
SUMMARY:Thursday’s Front Street Blues Revue at the Slippery Pig Brewery\, Poulsbo
DESCRIPTION:Thursday’s Front Street Blues Revue at the Slippery Pig Brewery\, Poulsbo\, 7-10 pm
URL:https://southsoundblues.org/event/thursdays-front-street-blues-revue-at-the-slippery-pig-brewery-poulsbo-8/
LOCATION:Slippery Pig Brewery\, 18801 Front St NE\, Poulsbo\, WA\, 98370
CATEGORIES:Local South Sound Blues
END:VEVENT
BEGIN:VEVENT
DTSTART;TZID=America/Los_Angeles:20240329T190000
DTEND;TZID=America/Los_Angeles:20240329T210000
DTSTAMP:20260425T082647
CREATED:20240201T230814Z
LAST-MODIFIED:20240201T230814Z
UID:12119-1711738800-1711746000@southsoundblues.org
SUMMARY:Ross Robinson with Charles W. Valentine on Bass at the Pig Bar\, Olympia
DESCRIPTION:Ross Robinson and Charles W. Valentine at the South Bay Dickerson’s BBQ/ Pig Bar Lounge March 29th\, 7-9:15 pm\n Ross Robinson \n 
URL:https://southsoundblues.org/event/ross-robinson-with-charles-w-valentine-on-bass-at-the-pig-bar-olympia/
LOCATION:South Bay Dickerson’s BBQ / Pig Bar Lounge\, 619 Legion Way SE\, Olympia\, WA\, 98501
CATEGORIES:Local South Sound Blues
END:VEVENT
BEGIN:VEVENT
DTSTART;TZID=America/Los_Angeles:20240329T200000
DTEND;TZID=America/Los_Angeles:20240329T223000
DTSTAMP:20260425T082647
CREATED:20240221T022200Z
LAST-MODIFIED:20240221T022200Z
UID:12176-1711742400-1711751400@southsoundblues.org
SUMMARY:Powerhouse at the Easy Monkey\, Shoreline
DESCRIPTION:March 29th\, Easy Monkey\, Shoreline\, POWERHOUSE\, 8-10:30pm
URL:https://southsoundblues.org/event/powerhouse-at-the-easy-monkey-shoreline/
LOCATION:Easy Monkey Taphouse\, 17537 15th Ave NE Suite B\, Shoreline\, WA\, 98155
CATEGORIES:Featured
END:VEVENT
BEGIN:VEVENT
DTSTART;TZID=America/Los_Angeles:20240330T190000
DTEND;TZID=America/Los_Angeles:20240330T220000
DTSTAMP:20260425T082647
CREATED:20240221T022410Z
LAST-MODIFIED:20240221T022917Z
UID:12178-1711825200-1711836000@southsoundblues.org
SUMMARY:Groove Colony at the Spar
DESCRIPTION:Mar 30th at The Spar\, Tacoma\, Groove Colony\, 7pm
URL:https://southsoundblues.org/event/groove-colony-at-the-spar-3/
LOCATION:The Spar\, 2121 N 30th St\, Tacoma\, WA\, 98403
CATEGORIES:Featured
END:VEVENT
BEGIN:VEVENT
DTSTART;TZID=America/Los_Angeles:20240330T200000
DTEND;TZID=America/Los_Angeles:20240330T220000
DTSTAMP:20260425T082647
CREATED:20231216T214904Z
LAST-MODIFIED:20231216T214904Z
UID:11816-1711828800-1711836000@southsoundblues.org
SUMMARY:Dirt Angels at The Mill
DESCRIPTION:Dirt Angels at The Mill March 30th\, 8-10 pm
URL:https://southsoundblues.org/event/dirt-angels-at-the-mill/
LOCATION:The Mill of Milton\, 900 Meridian E. #50\, Milton\, WA\, 98354
CATEGORIES:Featured
END:VEVENT
BEGIN:VEVENT
DTSTART;TZID=America/Los_Angeles:20240330T210000
DTEND;TZID=America/Los_Angeles:20240330T210000
DTSTAMP:20260425T082647
CREATED:20240311T210327Z
LAST-MODIFIED:20240311T210327Z
UID:12363-1711832400-1711832400@southsoundblues.org
SUMMARY:Mark Hurwitz and Gin Creek at the Float
DESCRIPTION:Mark Hurwitz and Gin Creek at the Float\, March 30th\, 9pm.                     14511 Sherman Dr NW\, Gig Harbor\, WA 98332
URL:https://southsoundblues.org/event/mark-hurwitz-and-gin-creek-at-the-float-5/
LOCATION:Floatation Device Pub & Grill\, 14511 Sherman Dr NW\, Gig Harbor\, WA\, 98332
CATEGORIES:Local South Sound Blues
END:VEVENT
BEGIN:VEVENT
DTSTART;TZID=America/Los_Angeles:20240401T180000
DTEND;TZID=America/Los_Angeles:20240401T210000
DTSTAMP:20260425T082647
CREATED:20240307T231540Z
LAST-MODIFIED:20240307T231540Z
UID:12336-1711994400-1712005200@southsoundblues.org
SUMMARY:Monday Jazz at Brother Don’s Bar and Grill
DESCRIPTION:Monday Jazz at Brother Don’s Bar and Grill\, 6-9 pm\, Bremerton\, WA
URL:https://southsoundblues.org/event/monday-jazz-at-brother-dons-bar-and-grill-4/
LOCATION:Brother Don’s Bar & Grill\, 4200 Kitsap Way\, Bremerton\, WA\, 98312
CATEGORIES:Featured
END:VEVENT
BEGIN:VEVENT
DTSTART;TZID=America/Los_Angeles:20240402T200000
DTEND;TZID=America/Los_Angeles:20240402T233000
DTSTAMP:20260425T082647
CREATED:20240307T232114Z
LAST-MODIFIED:20240307T232114Z
UID:12341-1712088000-1712100600@southsoundblues.org
SUMMARY:Cory Wilds Band Tuesday open Jam Night at Elmer’s Bar and Grill
DESCRIPTION:Cory Wilds Band Tuesday open Jam Night at Elmer’s Bar and Grill\, 8-11:30 pm
URL:https://southsoundblues.org/event/cory-wilds-band-tuesday-open-jam-night-at-elmers-bar-and-grill-17/
LOCATION:Elmer’s Bar & Grill\, 15027 Ambaum Blvd SW\, Burien\, WA\, 98166
CATEGORIES:Local South Sound Blues
END:VEVENT
BEGIN:VEVENT
DTSTART;TZID=America/Los_Angeles:20240403T180000
DTEND;TZID=America/Los_Angeles:20240403T180000
DTSTAMP:20260425T082647
CREATED:20240313T232202Z
LAST-MODIFIED:20240313T232202Z
UID:12437-1712167200-1712167200@southsoundblues.org
SUMMARY:Boss Tenors at The Spar
DESCRIPTION:Apr 3rd\, The Spar\, Tacoma\, Boss Tenors\, 6pm
URL:https://southsoundblues.org/event/boss-tenors-at-the-spar/
LOCATION:The Spar\, 2121 N 30th St\, Tacoma\, WA\, 98403
CATEGORIES:Featured
END:VEVENT
BEGIN:VEVENT
DTSTART;TZID=America/Los_Angeles:20240403T190000
DTEND;TZID=America/Los_Angeles:20240403T220000
DTSTAMP:20260425T082647
CREATED:20240314T002346Z
LAST-MODIFIED:20240314T002346Z
UID:12462-1712170800-1712181600@southsoundblues.org
SUMMARY:Wednesdays Blues “Jam Night” with Brian Olver and Glenn Hummel at Purdy’s\, Sumner
DESCRIPTION:Wednesdays Blues “Jam Night” with Brian Olver and Glenn Hummel at Purdy’s\, Sumner\, WA. 7-10 pm
URL:https://southsoundblues.org/event/wednesdays-blues-jam-night-with-brian-olver-and-glenn-hummel-at-purdys-sumner-6/
LOCATION:Purdy’s Public House & Arcade\, Sumner\, 16202 64th St E\, Sumner\, WA\, 98390
CATEGORIES:Local South Sound Blues
END:VEVENT
BEGIN:VEVENT
DTSTART;TZID=America/Los_Angeles:20240404T200000
DTEND;TZID=America/Los_Angeles:20240404T220000
DTSTAMP:20260425T082647
CREATED:20240314T002845Z
LAST-MODIFIED:20240314T002845Z
UID:12466-1712260800-1712268000@southsoundblues.org
SUMMARY:Thursday Night Jam at the Realm Venue\, hosted by Billy Shew
DESCRIPTION:Thursday Night Jam at the Realm Venue\, hosted by Billy Shew\, 8-10 pm
URL:https://southsoundblues.org/event/thursday-night-jam-at-the-realm-venue-hosted-by-billy-shew-3/
LOCATION:Realm Venue\, 5602 So. Washington St.\, Tacoma\, WA\, 98409
CATEGORIES:Local South Sound Blues
END:VEVENT
BEGIN:VEVENT
DTSTART;TZID=America/Los_Angeles:20240404T210000
DTEND;TZID=America/Los_Angeles:20240404T210000
DTSTAMP:20260425T082647
CREATED:20240313T222938Z
LAST-MODIFIED:20240313T222938Z
UID:12401-1712264400-1712264400@southsoundblues.org
SUMMARY:Billy Stapleton's Powerhouse Band at the Blue Moon Tavern\, Seattle
DESCRIPTION:Apr 4th\, Blue Moon Tavern\, Seattle\, Billy Stapleton’s Powerhouse Band\, 9pm\n \n\n\n712 NE 45th St\, Seattle\, WA 98105
URL:https://southsoundblues.org/event/billy-stapletons-powerhouse-band-at-the-blue-moon-tavern-seattle/
LOCATION:Blue Moon Tavern\, 712 NE 45th St\, Seattle\, WA\, 98105
END:VEVENT
BEGIN:VEVENT
DTSTART;TZID=America/Los_Angeles:20240405T190000
DTEND;TZID=America/Los_Angeles:20240405T210000
DTSTAMP:20260425T082647
CREATED:20240313T231408Z
LAST-MODIFIED:20240313T231408Z
UID:12429-1712343600-1712350800@southsoundblues.org
SUMMARY:Melanie Vail & Friends at Kimball Coffeehouse
DESCRIPTION:Apr 5th\, Kimball Coffeehouse\, Gig Harbor\, Melanie Vail & Friends\, 7-9 pm
URL:https://southsoundblues.org/event/melanie-vail-friends-at-kimball-coffeehouse/
LOCATION:Kimball’s Coffeehouse\, 6659 Kimball Dr\, Gig Harbor\, WA\, 98335
CATEGORIES:Featured
END:VEVENT
BEGIN:VEVENT
DTSTART;TZID=America/Los_Angeles:20240405T203000
DTEND;TZID=America/Los_Angeles:20240405T233000
DTSTAMP:20260425T082647
CREATED:20240306T011130Z
LAST-MODIFIED:20240306T011302Z
UID:12316-1712349000-1712359800@southsoundblues.org
SUMMARY:Petty Cash\, tribute band\, at Purdy's\, Sumner
DESCRIPTION:April 5th\, Tom Petty/Johnny Cash tribute is a match that only exists in the stuff of legends. All the hits\, deep cuts\, and surprises and at a place where good food\, good drinks\, and good people know how to party! Purdys public house!\n\n\n\n\n\n\n$5 entertainment charge. Show starts at 8:30!
URL:https://southsoundblues.org/event/tom-petty-johnny-cash-tribute-band-at-purdys-sumner/
LOCATION:Purdy’s Public House & Arcade\, Sumner\, 16202 64th St E\, Sumner\, WA\, 98390
CATEGORIES:Featured
END:VEVENT
BEGIN:VEVENT
DTSTART;TZID=America/Los_Angeles:20240406T100000
DTEND;TZID=America/Los_Angeles:20240406T153000
DTSTAMP:20260425T082647
CREATED:20240308T020232Z
LAST-MODIFIED:20240308T020232Z
UID:12356-1712397600-1712417400@southsoundblues.org
SUMMARY:West Coast Guitar Show NW at the Cedar River Park Renton Community Center
DESCRIPTION:West Coast Guitar Show NW at the Cedar River Park Renton Community Center\, April 6th\, 10am- 3:30 pm.                      Buy\, Sell\, Trade…\nAdmissions is $15.
URL:https://southsoundblues.org/event/west-coast-guitar-show-nw-at-the-cedar-river-park-renton-community-center/
LOCATION:Cedar River Park Renton Community Center\, 1715 SE Maple Valley Highway\, Renton\, WA\, 98057
END:VEVENT
BEGIN:VEVENT
DTSTART;TZID=America/Los_Angeles:20240406T190000
DTEND;TZID=America/Los_Angeles:20240406T190000
DTSTAMP:20260425T082647
CREATED:20240313T231634Z
LAST-MODIFIED:20240313T231634Z
UID:12431-1712430000-1712430000@southsoundblues.org
SUMMARY:Mr. Blackwatch at The Spar
DESCRIPTION:Apr 6th\, The Spar\, Tacoma\, Mr. Blackwatch\, 7pm
URL:https://southsoundblues.org/event/mr-blackwatch-at-the-spar-2/
LOCATION:The Spar\, 2121 N 30th St\, Tacoma\, WA\, 98403
CATEGORIES:Featured
END:VEVENT
BEGIN:VEVENT
DTSTART;TZID=America/Los_Angeles:20240406T200000
DTEND;TZID=America/Los_Angeles:20240406T200000
DTSTAMP:20260425T082647
CREATED:20240131T221329Z
LAST-MODIFIED:20240131T221410Z
UID:12114-1712433600-1712433600@southsoundblues.org
SUMMARY:Mark Hurwitz & Gin Creek at Dawson's
DESCRIPTION:Mark Hurwitz & Gin Creek at Dawson’s Bar and Grill\, April 6th\, 8pm\n Mark Hurwitz \n  \n 
URL:https://southsoundblues.org/event/mark-hurwitz-gin-creek-at-dawsons-2/
LOCATION:Dawson’s Bar & Grill\, 5443 South Tacoma Way\, Tacoma\, WA\, 98409
CATEGORIES:Local South Sound Blues
END:VEVENT
BEGIN:VEVENT
DTSTART;TZID=America/Los_Angeles:20240406T200000
DTEND;TZID=America/Los_Angeles:20240406T200000
DTSTAMP:20260425T082647
CREATED:20240403T191420Z
LAST-MODIFIED:20240403T191420Z
UID:12509-1712433600-1712433600@southsoundblues.org
SUMMARY:King Kom Beaux at Tracyton Public House 
DESCRIPTION:KING KOM BEAUX Performs at Tracyton Public House this Saturday April 6th Show starts at 8PM \n \n\n\n\n\n\n403 NW Tracy Ave\, Bremerton\, WA\, United States\, 98311\n\n 360-405-6768
URL:https://southsoundblues.org/event/king-kom-beaux-at-tracyton-public-house-2/
LOCATION:Tracyton Public House\, 403 Tracy Ave.\, Bremerton\, WA\, 98311
CATEGORIES:Local South Sound Blues
END:VEVENT
END:VCALENDAR