BEGIN:VCALENDAR
VERSION:2.0
PRODID:-//South Sound Blues Association - ECPv6.15.18//NONSGML v1.0//EN
CALSCALE:GREGORIAN
METHOD:PUBLISH
X-WR-CALNAME:South Sound Blues Association
X-ORIGINAL-URL:https://southsoundblues.org
X-WR-CALDESC:Events for South Sound Blues Association
REFRESH-INTERVAL;VALUE=DURATION:PT1H
X-Robots-Tag:noindex
X-PUBLISHED-TTL:PT1H
BEGIN:VTIMEZONE
TZID:America/Los_Angeles
BEGIN:DAYLIGHT
TZOFFSETFROM:-0800
TZOFFSETTO:-0700
TZNAME:PDT
DTSTART:20220313T100000
END:DAYLIGHT
BEGIN:STANDARD
TZOFFSETFROM:-0700
TZOFFSETTO:-0800
TZNAME:PST
DTSTART:20221106T090000
END:STANDARD
BEGIN:DAYLIGHT
TZOFFSETFROM:-0800
TZOFFSETTO:-0700
TZNAME:PDT
DTSTART:20230312T100000
END:DAYLIGHT
BEGIN:STANDARD
TZOFFSETFROM:-0700
TZOFFSETTO:-0800
TZNAME:PST
DTSTART:20231105T090000
END:STANDARD
BEGIN:DAYLIGHT
TZOFFSETFROM:-0800
TZOFFSETTO:-0700
TZNAME:PDT
DTSTART:20240310T100000
END:DAYLIGHT
BEGIN:STANDARD
TZOFFSETFROM:-0700
TZOFFSETTO:-0800
TZNAME:PST
DTSTART:20241103T090000
END:STANDARD
END:VTIMEZONE
BEGIN:VEVENT
DTSTART;TZID=America/Los_Angeles:20230530T190000
DTEND;TZID=America/Los_Angeles:20230530T210000
DTSTAMP:20260425T075444
CREATED:20230217T215208Z
LAST-MODIFIED:20230217T215208Z
UID:9910-1685473200-1685480400@southsoundblues.org
SUMMARY:Purdy's "Tuesday Blues Showcase" with The Joel Astley Band at Purdy's Public House & Arcade\, Sumner\, WA
DESCRIPTION:Purdy’s “Tuesday Blues Showcase” with The Joel Astley Band\, May 30th\, 7-9 pm at Purdy’s Public House & Arcade\, Sumner\, WA
URL:https://southsoundblues.org/event/purdys-tuesday-blues-showcase-with-the-joel-astley-band-at-purdys-public-house-arcade-sumner-wa/
LOCATION:Purdy’s Public House & Arcade\, Sumner\, 16202 64th St E\, Sumner\, WA\, 98390
CATEGORIES:Local South Sound Blues
END:VEVENT
BEGIN:VEVENT
DTSTART;TZID=America/Los_Angeles:20230529T140000
DTEND;TZID=America/Los_Angeles:20230529T160000
DTSTAMP:20260425T075444
CREATED:20230328T010052Z
LAST-MODIFIED:20230328T010052Z
UID:10079-1685368800-1685376000@southsoundblues.org
SUMMARY:Ross Robinson at the Union City Market
DESCRIPTION:Ross Robinson at the Union City Market\, May 29th\, 2-4 pm\n \n5101 E State Rte 106\, Union Wa
URL:https://southsoundblues.org/event/ross-robinson-at-the-union-city-market-2/
LOCATION:Union City Market\, 5101 Wa-106\, Union\, WA\, 98592
CATEGORIES:Featured
END:VEVENT
BEGIN:VEVENT
DTSTART;TZID=America/Los_Angeles:20230528T190000
DTEND;TZID=America/Los_Angeles:20230528T220000
DTSTAMP:20260425T075444
CREATED:20230421T055301Z
LAST-MODIFIED:20230421T055301Z
UID:10203-1685300400-1685311200@southsoundblues.org
SUMMARY:Sunday Blues at the Spar with Nick Vigarino
DESCRIPTION:Sunday Blues at the Spar with Nick Vigarino May 28th\, 7pm\n  \n 
URL:https://southsoundblues.org/event/sunday-blues-at-the-spar-with-nick-vigarino/
LOCATION:The Spar\, 2121 N 30th St\, Tacoma\, WA\, 98403
CATEGORIES:Local South Sound Blues
END:VEVENT
BEGIN:VEVENT
DTSTART;TZID=America/Los_Angeles:20230528T173000
DTEND;TZID=America/Los_Angeles:20230528T173000
DTSTAMP:20260425T075444
CREATED:20230512T015910Z
LAST-MODIFIED:20230512T015910Z
UID:10426-1685295000-1685295000@southsoundblues.org
SUMMARY:Backroads Blues Festival at the Chateau Ste Michelle Amphitheatre
DESCRIPTION:Backroads Blues Festival\n\nChateau Ste Michelle Amphitheatre\nMay 28th\, 2023\n\n\n\n\n\nFeaturing Kenny Wayne Shepherd and Joe Bonamassa with Special Guests­ \nShow starts at 6:00pm\nGates will open approximately 2 hours before scheduled start \nReserve: Starting at $125.00\nGeneral Admission: Starting at $79.50 \nTickets on sale now. Visit ticketmaster.com to purchase.
URL:https://southsoundblues.org/event/backroads-blues-festival-at-the-chateau-ste-michelle-amphitheatre/
LOCATION:Chateau Ste. Michelle Winery\, 14111 NE 145th St\, Woodinville\, WA\, 98072
CATEGORIES:Festival,Special Event
END:VEVENT
BEGIN:VEVENT
DTSTART;TZID=America/Los_Angeles:20230527T210000
DTEND;TZID=America/Los_Angeles:20230527T210000
DTSTAMP:20260425T075444
CREATED:20230424T210640Z
LAST-MODIFIED:20230518T073018Z
UID:10290-1685221200-1685221200@southsoundblues.org
SUMMARY:T-Town Aces at Dawson's
DESCRIPTION:T-Town Aces at Dawson’s Bar & Grill\, May 27th\, 9pm
URL:https://southsoundblues.org/event/t-town-aces-at-dawsons-3/
LOCATION:Dawson’s Bar & Grill\, 5443 South Tacoma Way\, Tacoma\, WA\, 98409
CATEGORIES:Local South Sound Blues
END:VEVENT
BEGIN:VEVENT
DTSTART;TZID=America/Los_Angeles:20230527T200000
DTEND;TZID=America/Los_Angeles:20230527T220000
DTSTAMP:20260425T075444
CREATED:20230313T235152Z
LAST-MODIFIED:20230313T235443Z
UID:10022-1685217600-1685224800@southsoundblues.org
SUMMARY:Billy Stoops and the Dirt Angels at the Mill\, SSBA Blues series
DESCRIPTION:Billy Stoops and the Dirt Angels at the Mill\, May 27th\, 8-10 pm
URL:https://southsoundblues.org/event/billy-stoops-and-the-dirt-angels-at-the-mill/
LOCATION:The Mill of Milton\, 900 Meridian E. #50\, Milton\, WA\, 98354
CATEGORIES:Local South Sound Blues
END:VEVENT
BEGIN:VEVENT
DTSTART;TZID=America/Los_Angeles:20230526T190000
DTEND;TZID=America/Los_Angeles:20230526T210000
DTSTAMP:20260425T075444
CREATED:20230429T203333Z
LAST-MODIFIED:20230518T073305Z
UID:10309-1685127600-1685134800@southsoundblues.org
SUMMARY:Kimball Coffee House Live music Fridays with The T-Town Aces
DESCRIPTION:T-Town Aces are playing the Kimball Coffeehouse in Gig Harbor on May 26th\, 7-9 pm.
URL:https://southsoundblues.org/event/kimball-coffee-house-live-music-fridays/
LOCATION:Kimball’s Coffeehouse\, 6659 Kimball Dr\, Gig Harbor\, WA\, 98335
CATEGORIES:Featured
END:VEVENT
BEGIN:VEVENT
DTSTART;TZID=America/Los_Angeles:20230525T180000
DTEND;TZID=America/Los_Angeles:20230525T220000
DTSTAMP:20260425T075444
CREATED:20230211T232351Z
LAST-MODIFIED:20230518T071105Z
UID:9885-1685037600-1685052000@southsoundblues.org
SUMMARY:Portland Blues Showcase at West of the Waterway
DESCRIPTION:Karen Lovely and Ben Rice\, as well as Jason JT Thomas & Dave Melyan at West of the Waterway in Tacoma WA on Thursday\, May 25th for our Portland Blues Showcase!\nLTD Presents LIVE is proud to present: Lisa Mann’s Portland Blues Showcase feat. Karen Lovely & Ben Rice at West of the Waterway *Sponsored by SSBA and Kat McNeill & Lance Bowman* \n\n\nGrab up some advance tickets\, VIP seating is available:     https://lisamannsportlandbluesrev.rsvpify.com\n\n\n\nLisa Mann\, two-time Blues Music Award-winning bass player and 2021’s Unsigned Only Blues songwriting winner (for “It’s the Monkeys or Me” )\, will bring some of the brightest lights in the Portland Blues scene to Tacoma for ONE NIGHT ONLY!!! In addition to Lisa\, the featured artists are: \nKaren Lovely\, nominated multiple times for Contemporary Female Blues Artist in the Blues Music Awards\, and called “a first class vocalist” by Art Tipaldi of Blues Revue\, \nAND \nBen Rice\, also a multiple-time Blues Music Awards nominee\, and in 2015\, winner of Best Guitarist at the International Blues Challenge. When not working with the Portland Blues Showcase\, Ben also leads his one six piece band\, Ben Rice and the Hustle\, and appears as a special guest with Curtis Salgado. Ben and his trio opened for ZZ Top on their most recent PNW tour. \nThis powerful Northwest crew has taken on crowds all over the American West to Europe\, delivering electrifying blues and roots music everywhere they go. Lisa\, Karen and Ben will be joined by Jason “JT” Thomas\, a Cascade Blues Association nominee for Guitar Player of the Year and Dave Melyan\, the highly sought-after drummer perhaps best known for his work with Portland favorites The Insomniacs\, among many others. \nThese five are the cream of the crop of Portland’s blues scene. We are honored to welcome them all to Tacoma on May 25. It’s going to be an incredible show!
URL:https://southsoundblues.org/event/portland-blues-showcase-at-west-of-the-waterway/
LOCATION:Dock Street Deli West of the Waterway\, 1901 Dock Street\, Tacoma\, WA\, 98402
CATEGORIES:Featured,Local South Sound Blues,Special Event
END:VEVENT
BEGIN:VEVENT
DTSTART;TZID=America/Los_Angeles:20230524T180000
DTEND;TZID=America/Los_Angeles:20230524T180000
DTSTAMP:20260425T075444
CREATED:20230422T013057Z
LAST-MODIFIED:20230422T013057Z
UID:10266-1684951200-1684951200@southsoundblues.org
SUMMARY:Jazz Overhaul at the Spar
DESCRIPTION:Wed\, May 24th at The Spar\, Jazz Overhaul 6pm
URL:https://southsoundblues.org/event/jazz-overhaul-at-the-spar/
LOCATION:The Spar\, 2121 N 30th St\, Tacoma\, WA\, 98403
CATEGORIES:Local South Sound Blues
END:VEVENT
BEGIN:VEVENT
DTSTART;TZID=America/Los_Angeles:20230523T190000
DTEND;TZID=America/Los_Angeles:20230523T220000
DTSTAMP:20260425T075444
CREATED:20230421T215925Z
LAST-MODIFIED:20230421T215925Z
UID:10244-1684868400-1684879200@southsoundblues.org
SUMMARY:Tuesday Jam at Purdy's with Jerry Miller
DESCRIPTION:Tuesday Jam at Purdy’s with Jerry Miller\, 7-10 pm
URL:https://southsoundblues.org/event/tuesday-jam-at-purdys-with-jerry-miller/
LOCATION:Purdy’s Public House & Arcade\, Sumner\, 16202 64th St E\, Sumner\, WA\, 98390
CATEGORIES:Local South Sound Blues
END:VEVENT
BEGIN:VEVENT
DTSTART;TZID=America/Los_Angeles:20230522T180000
DTEND;TZID=America/Los_Angeles:20230522T210000
DTSTAMP:20260425T075444
CREATED:20230429T203033Z
LAST-MODIFIED:20230429T204013Z
UID:10307-1684778400-1684789200@southsoundblues.org
SUMMARY:“Muddy Monday Blues Jam” every Monday at Chi-Town\, Tacoma
DESCRIPTION:“Muddy Monday Blues Jam” every Monday at Chi-Town\, Tacoma\, 6pm
URL:https://southsoundblues.org/event/muddy-monday-blues-jam-every-monday-at-chi-town-tacoma/
LOCATION:Chitown Pizza\, 15619 Pacific Ave S\, Tacoma\, WA\, 98444
CATEGORIES:Local South Sound Blues
END:VEVENT
BEGIN:VEVENT
DTSTART;TZID=America/Los_Angeles:20230521T190000
DTEND;TZID=America/Los_Angeles:20230521T230000
DTSTAMP:20260425T075444
CREATED:20230429T210514Z
LAST-MODIFIED:20230429T210514Z
UID:10327-1684695600-1684710000@southsoundblues.org
SUMMARY:Billy Shew Blues Jam\, every Sunday at Dawson’s
DESCRIPTION:Billy Shew Blues Jam\, every Sunday at Dawson’s\, 7-11 pm
URL:https://southsoundblues.org/event/billy-shew-blues-jam-every-sunday-at-dawsons-2/
LOCATION:Dawson’s Bar & Grill\, 5443 South Tacoma Way\, Tacoma\, WA\, 98409
CATEGORIES:Local South Sound Blues
END:VEVENT
BEGIN:VEVENT
DTSTART;TZID=America/Los_Angeles:20230521T190000
DTEND;TZID=America/Los_Angeles:20230521T220000
DTSTAMP:20260425T075444
CREATED:20230421T054805Z
LAST-MODIFIED:20230421T054805Z
UID:10201-1684695600-1684706400@southsoundblues.org
SUMMARY:Sunday Blues at the Spar\, Joe T. Cook Band with Tim Sherman
DESCRIPTION:Sunday Blues at the Spar\, Joe T. Cook Band with Tim Sherman\, 7-10 Pm\n \n  \n 
URL:https://southsoundblues.org/event/sunday-blues-at-the-spar-joe-t-cook-band-with-tim-sherman/
LOCATION:The Spar\, 2121 N 30th St\, Tacoma\, WA\, 98403
CATEGORIES:Local South Sound Blues
END:VEVENT
BEGIN:VEVENT
DTSTART;TZID=America/Los_Angeles:20230520T210000
DTEND;TZID=America/Los_Angeles:20230520T210000
DTSTAMP:20260425T075444
CREATED:20230424T210210Z
LAST-MODIFIED:20230424T210210Z
UID:10288-1684616400-1684616400@southsoundblues.org
SUMMARY:Mark Hurwitz and Gin Creek at Dawson's
DESCRIPTION:Mark Hurwitz and Gin Creek at Dawson’s Bar & Grill\, May 20th\, 9pm\n 
URL:https://southsoundblues.org/event/mark-hurwitz-and-gin-creek-at-dawsons-5/
LOCATION:Dawson’s Bar & Grill\, 5443 South Tacoma Way\, Tacoma\, WA\, 98409
CATEGORIES:Local South Sound Blues
END:VEVENT
BEGIN:VEVENT
DTSTART;TZID=America/Los_Angeles:20230520T180000
DTEND;TZID=America/Los_Angeles:20230520T210000
DTSTAMP:20260425T075444
CREATED:20230408T201113Z
LAST-MODIFIED:20230408T201113Z
UID:10118-1684605600-1684616400@southsoundblues.org
SUMMARY:Michele D'Amour and the Love Dealers (trio) at Cider & Cedar\, Tacoma
DESCRIPTION:SATURDAY\, MAY 20\, 2023 AT 6 PM – 9 PM\n\nMichele D’Amour and the Love Dealers (trio) at Cider & Cedar\n\n744 Market St.\, Tacoma\, WA
URL:https://southsoundblues.org/event/michele-damour-and-the-love-dealers-trio-at-cider-cedar-tacoma-2/
LOCATION:Cider & Cedar\, 744 Market St.\, Tacoma\, WA\, 98402
CATEGORIES:Local South Sound Blues
END:VEVENT
BEGIN:VEVENT
DTSTART;TZID=America/Los_Angeles:20230519T190000
DTEND;TZID=America/Los_Angeles:20230519T210000
DTSTAMP:20260425T075444
CREATED:20230421T220606Z
LAST-MODIFIED:20230421T220606Z
UID:10248-1684522800-1684530000@southsoundblues.org
SUMMARY:The Fab Three at Kimball Coffeehouse
DESCRIPTION:May19\, The Fab Three at Kimball Coffeehouse! 7-9 pm
URL:https://southsoundblues.org/event/the-fab-three-at-kimball-coffeehouse/
LOCATION:Kimball’s Coffeehouse\, 6659 Kimball Dr\, Gig Harbor\, WA\, 98335
END:VEVENT
BEGIN:VEVENT
DTSTART;TZID=America/Los_Angeles:20230518T200000
DTEND;TZID=America/Los_Angeles:20230518T233000
DTSTAMP:20260425T075444
CREATED:20230422T011836Z
LAST-MODIFIED:20230422T011836Z
UID:10260-1684440000-1684452600@southsoundblues.org
SUMMARY:Thursdays at the Stars Bar & Grill\, Jam hosted by Billy Shew
DESCRIPTION:Thursdays at the Stars Bar & Grill\, Jam hosted by Billy Shew\, 8-11:30 pm
URL:https://southsoundblues.org/event/thursdays-at-the-stars-bar-grill-jam-hosted-by-billy-shew-11/
LOCATION:Stars Bar & Grill\, 31216 Pacific Hwy S\, Federal Way\, WA\, 98003
CATEGORIES:Local South Sound Blues
END:VEVENT
BEGIN:VEVENT
DTSTART;TZID=America/Los_Angeles:20230518T180000
DTEND;TZID=America/Los_Angeles:20230521T220000
DTSTAMP:20260425T075444
CREATED:20230508T222433Z
LAST-MODIFIED:20230508T223207Z
UID:10374-1684432800-1684706400@southsoundblues.org
SUMMARY:Sunbanks Roots & Blues Festival\, Electric City\, WA
DESCRIPTION:Sunbanks Roots & Blues Festival\, Electric City\, WA\n\n\nBlues/Roots May 18-21\, 2023 Line-Up\n\n\nRoy Rogers & the Delta Rhythm Kings\nThe Blood Brothers feat. Mike Zito/Albert Castiglia\nThe Daniel Castro Band\nTyron Benoit\nBen Rice & the Hustle\nKevin Selfe & the Tornados\nSister Mercy\nBilly Stoops & the Dirt Angels\nStephanie Anne Johnson\nNick Vigarino Duo\nJesse James & the MOB\nKim & Brian Band\nJanie Cribbs & the T.Rust Band\nUnited by Music North America\nOctopus Ballet\nDustin Lafferty\n\n\nOlder & Wiser\n\n\n  \n 
URL:https://southsoundblues.org/event/sunbanks-roots-blues-festival-electric-city-wa/
LOCATION:Sunbanks Resort\, 57662 Hwy 155 N\, Electric City\, WA\, 99123
CATEGORIES:Festival
END:VEVENT
BEGIN:VEVENT
DTSTART;TZID=America/Los_Angeles:20230517T180000
DTEND;TZID=America/Los_Angeles:20230517T210000
DTSTAMP:20260425T075444
CREATED:20230422T010116Z
LAST-MODIFIED:20230422T010116Z
UID:10252-1684346400-1684357200@southsoundblues.org
SUMMARY:Billy Shew and Friends host an open Jam every Wednesday at Stockton’s
DESCRIPTION:Billy Shew and Friends host an open Jam every Wednesday at Stockton’s\, 6-9pm
URL:https://southsoundblues.org/event/billy-shew-and-friends-host-an-open-jam-every-wednesday-at-stocktons-5/
LOCATION:Stockton’s Restaurant & Spirits\, 23220 Maple Valley Black Diamond Rd SE\, Maple Valley\, WA\, 98038
CATEGORIES:Local South Sound Blues
END:VEVENT
BEGIN:VEVENT
DTSTART;TZID=America/Los_Angeles:20230517T180000
DTEND;TZID=America/Los_Angeles:20230517T180000
DTSTAMP:20260425T075444
CREATED:20230422T014835Z
LAST-MODIFIED:20230422T014835Z
UID:10274-1684346400-1684346400@southsoundblues.org
SUMMARY:Apollo Suns at the Spar
DESCRIPTION:Wed\, May 17th at The Spar\, Apollo Suns\, from Canada\, 6pm
URL:https://southsoundblues.org/event/apollo-suns-at-the-spar/
LOCATION:The Spar\, 2121 N 30th St\, Tacoma\, WA\, 98403
CATEGORIES:Featured
END:VEVENT
BEGIN:VEVENT
DTSTART;TZID=America/Los_Angeles:20230516T190000
DTEND;TZID=America/Los_Angeles:20230516T190000
DTSTAMP:20260425T075444
CREATED:20230421T215612Z
LAST-MODIFIED:20230421T215612Z
UID:10242-1684263600-1684263600@southsoundblues.org
SUMMARY:Billy Shew and friends Jam every Tuesday at the Burien Eagles
DESCRIPTION:Billy Shew and friends Jam every Tuesday at the Burien Eagles\, 7pm
URL:https://southsoundblues.org/event/billy-shew-and-friends-jam-every-tuesday-at-the-burien-eagles-7/
LOCATION:Burien Eagles\, 920 SW 150th St\, Burien\, WA\, 98166
CATEGORIES:Local South Sound Blues
END:VEVENT
BEGIN:VEVENT
DTSTART;TZID=America/Los_Angeles:20230515T200000
DTEND;TZID=America/Los_Angeles:20230515T220000
DTSTAMP:20260425T075444
CREATED:20230421T214959Z
LAST-MODIFIED:20230421T214959Z
UID:10236-1684180800-1684188000@southsoundblues.org
SUMMARY:Mike Witmer hosts “Mojo Mike’s Blues Revue” every Monday on KVSH 101.9 FM
DESCRIPTION:Mike Witmer hosts “Mojo Mike’s Blues Revue” every Monday on KVSH 101.9 FM\n8-10 pm
URL:https://southsoundblues.org/event/mike-witmer-hosts-mojo-mikes-blues-revue-every-monday-on-kvsh-101-9-fm-5/
LOCATION:WA
CATEGORIES:Local South Sound Blues
END:VEVENT
BEGIN:VEVENT
DTSTART;TZID=America/Los_Angeles:20230514T190000
DTEND;TZID=America/Los_Angeles:20230514T230000
DTSTAMP:20260425T075444
CREATED:20230421T214817Z
LAST-MODIFIED:20230429T205747Z
UID:10234-1684090800-1684105200@southsoundblues.org
SUMMARY:Billy Shew Blues Jam\, every Sunday at Dawson’s
DESCRIPTION:Billy Shew Blues Jam\, every Sunday at Dawson’s\, 7-11 pm
URL:https://southsoundblues.org/event/tim-hall-blues-jam-every-sunday-at-dawsons-7/
LOCATION:Dawson’s Bar & Grill\, 5443 South Tacoma Way\, Tacoma\, WA\, 98409
CATEGORIES:Local South Sound Blues
END:VEVENT
BEGIN:VEVENT
DTSTART;TZID=America/Los_Angeles:20230514T190000
DTEND;TZID=America/Los_Angeles:20230514T220000
DTSTAMP:20260425T075444
CREATED:20230413T213159Z
LAST-MODIFIED:20230413T213159Z
UID:10159-1684090800-1684101600@southsoundblues.org
SUMMARY:Sunday Blues at the Spar with Blues Redemption
DESCRIPTION:SUNDAY BLUES at The Spar\, Blues Redemption w/Doug Skoog May 14th\, 7-10 pm\n Doug Skoog
URL:https://southsoundblues.org/event/sunday-blues-at-the-spar-with-blues-redemption/
LOCATION:The Spar\, 2121 N 30th St\, Tacoma\, WA\, 98403
CATEGORIES:Local South Sound Blues
END:VEVENT
BEGIN:VEVENT
DTSTART;TZID=America/Los_Angeles:20230513T200000
DTEND;TZID=America/Los_Angeles:20230513T220000
DTSTAMP:20260425T075444
CREATED:20230127T070316Z
LAST-MODIFIED:20230127T070316Z
UID:9676-1684008000-1684015200@southsoundblues.org
SUMMARY:King Kom Beaux at the Mill\, SSBA blues series
DESCRIPTION:King Kom Beaux at the Mill\, May 13th\, 8-10 pm
URL:https://southsoundblues.org/event/king-kom-beaux-at-the-mill-ssba-blues-series/
LOCATION:The Mill of Milton\, 900 Meridian E. #50\, Milton\, WA\, 98354
CATEGORIES:Featured,Local South Sound Blues
END:VEVENT
BEGIN:VEVENT
DTSTART;TZID=America/Los_Angeles:20230513T200000
DTEND;TZID=America/Los_Angeles:20230513T200000
DTSTAMP:20260425T075444
CREATED:20230401T184154Z
LAST-MODIFIED:20230401T184154Z
UID:10106-1684008000-1684008000@southsoundblues.org
SUMMARY:CD Woodbury Trio at Stars Bar and Grill
DESCRIPTION:CD Woodbury Trio at Stars Bar and Grill\, May 13th\, 8pm\n  \n 
URL:https://southsoundblues.org/event/cd-woodbury-trio-at-stars-bar-and-grill/
LOCATION:Stars Bar & Grill\, 31216 Pacific Hwy S\, Federal Way\, WA\, 98003
CATEGORIES:Local South Sound Blues
END:VEVENT
BEGIN:VEVENT
DTSTART;TZID=America/Los_Angeles:20230512T190000
DTEND;TZID=America/Los_Angeles:20230512T190000
DTSTAMP:20260425T075444
CREATED:20230422T014035Z
LAST-MODIFIED:20230422T014035Z
UID:10270-1683918000-1683918000@southsoundblues.org
SUMMARY:Daniel Pellegrini at the Black Angus\, Puyallup
DESCRIPTION:Fri\, May 12th at the Black Angus\, Puyallup: Daniel Pellegrini 7pm\n 
URL:https://southsoundblues.org/event/daniel-pellegrini-at-the-black-angus-puyallup/
LOCATION:Black Angus\, Puyallup\, 203 35th Ave SE\, Puyallup\, WA\, 98374
CATEGORIES:Featured
END:VEVENT
BEGIN:VEVENT
DTSTART;TZID=America/Los_Angeles:20230512T183000
DTEND;TZID=America/Los_Angeles:20230512T203000
DTSTAMP:20260425T075444
CREATED:20230202T020933Z
LAST-MODIFIED:20230202T021001Z
UID:9781-1683916200-1683923400@southsoundblues.org
SUMMARY:Michele D'Amour & The Love Dealers at the Olalla Vineyard
DESCRIPTION:Michele D’Amour & The Love Dealers at the Olalla Vineyard\, May 12th\, 6:30 to 8:30 p.m.\n \n\n\n\n\nOlalla Vineyard\, 13176 Olalla Valley Rd SE\, Olalla\, WA 98359
URL:https://southsoundblues.org/event/michele-damour-the-love-dealers-at-the-olalla-vineyard/
LOCATION:Olalla Vinyard\, 13176 Olalla Valley Rd SE\, Olalla\, WA\, 98359
CATEGORIES:Featured
END:VEVENT
BEGIN:VEVENT
DTSTART;TZID=America/Los_Angeles:20230511T190000
DTEND;TZID=America/Los_Angeles:20230511T220000
DTSTAMP:20260425T075444
CREATED:20230422T011424Z
LAST-MODIFIED:20230422T011424Z
UID:10258-1683831600-1683842400@southsoundblues.org
SUMMARY:Thursday’s Front Street Blues Revue at the Slippery Pig Brewery
DESCRIPTION:Thursday’s Front Street Blues Revue at the Slippery Pig Brewery\, Poulsbo\, 7-10 pm\n 
URL:https://southsoundblues.org/event/thursdays-front-street-blues-revue-at-the-slippery-pig-brewery-2/
LOCATION:Slippery Pig Brewery\, 18801 Front St NE\, Poulsbo\, WA\, 98370
CATEGORIES:Local South Sound Blues
END:VEVENT
BEGIN:VEVENT
DTSTART;TZID=America/Los_Angeles:20230510T190000
DTEND;TZID=America/Los_Angeles:20230510T230000
DTSTAMP:20260425T075444
CREATED:20230429T195839Z
LAST-MODIFIED:20230509T052909Z
UID:10302-1683745200-1683759600@southsoundblues.org
SUMMARY:Wednesdays 'Jam Night' at the Des Moines Public House
DESCRIPTION:‘3 Dog Bite’ will be hosting ‘Jam Nite’ at ‘The Public House’ of Des Moines\, Wednesday\, May 10th\, from 7:00 – 11:00 p.m..\n\n\n\n\n\nWednesdays ‘Jam Night’ with rotating hosts\, at the Des Moines Public House\, 8-midnight\n22315 Marine View Dr S\, Des Moines\, WA 98198
URL:https://southsoundblues.org/event/wednesdays-jam-night-with-the-tim-turner-band-at-the-des-moines-public-house/
LOCATION:Des Moines Public House\, 22315 Marine View Dr S\, Des Moines\, WA\, 98198
CATEGORIES:Local South Sound Blues
END:VEVENT
END:VCALENDAR