BEGIN:VCALENDAR
VERSION:2.0
PRODID:-//South Sound Blues Association - ECPv6.15.18//NONSGML v1.0//EN
CALSCALE:GREGORIAN
METHOD:PUBLISH
X-WR-CALNAME:South Sound Blues Association
X-ORIGINAL-URL:https://southsoundblues.org
X-WR-CALDESC:Events for South Sound Blues Association
REFRESH-INTERVAL;VALUE=DURATION:PT1H
X-Robots-Tag:noindex
X-PUBLISHED-TTL:PT1H
BEGIN:VTIMEZONE
TZID:America/Los_Angeles
BEGIN:DAYLIGHT
TZOFFSETFROM:-0800
TZOFFSETTO:-0700
TZNAME:PDT
DTSTART:20220313T100000
END:DAYLIGHT
BEGIN:STANDARD
TZOFFSETFROM:-0700
TZOFFSETTO:-0800
TZNAME:PST
DTSTART:20221106T090000
END:STANDARD
BEGIN:DAYLIGHT
TZOFFSETFROM:-0800
TZOFFSETTO:-0700
TZNAME:PDT
DTSTART:20230312T100000
END:DAYLIGHT
BEGIN:STANDARD
TZOFFSETFROM:-0700
TZOFFSETTO:-0800
TZNAME:PST
DTSTART:20231105T090000
END:STANDARD
BEGIN:DAYLIGHT
TZOFFSETFROM:-0800
TZOFFSETTO:-0700
TZNAME:PDT
DTSTART:20240310T100000
END:DAYLIGHT
BEGIN:STANDARD
TZOFFSETFROM:-0700
TZOFFSETTO:-0800
TZNAME:PST
DTSTART:20241103T090000
END:STANDARD
END:VTIMEZONE
BEGIN:VEVENT
DTSTART;TZID=America/Los_Angeles:20231224T170000
DTEND;TZID=America/Los_Angeles:20231224T190000
DTSTAMP:20260425T034159
CREATED:20231110T010633Z
LAST-MODIFIED:20231110T010749Z
UID:11613-1703437200-1703444400@southsoundblues.org
SUMMARY:Mark Hurwitz and Gin Creek at The Spanish Ballroom
DESCRIPTION:Mark Hurwitz and Gin Creek\, December 24th at the Spanish Ballroom\, 5pm\n\n\n\n\n\n\n\n4pm doors\, 5pm show\, Free\, All ages welcome
URL:https://southsoundblues.org/event/mark-hurwitz-and-gin-creek-at-the-spanish-ballroom-7/
LOCATION:McMenaminsTacoma Elks\, 565 Broadway\, Tacoma\, WA\, 98402
CATEGORIES:Local South Sound Blues
END:VEVENT
BEGIN:VEVENT
DTSTART;TZID=America/Los_Angeles:20231223T210000
DTEND;TZID=America/Los_Angeles:20231223T230000
DTSTAMP:20260425T034159
CREATED:20231116T204710Z
LAST-MODIFIED:20231116T204710Z
UID:11728-1703365200-1703372400@southsoundblues.org
SUMMARY:King Kom Beaux at O'Malley's\, Tacoma
DESCRIPTION:King Kom Beaux Appears at O’MALLEY’S IRISH PUB\, December 23rd\, 9 to 11pm
URL:https://southsoundblues.org/event/king-kom-beaux-at-omalleys-tacoma/
LOCATION:O’Malley’s Irish Pub\, 2403 6th Ave.\, Tacoma\, WA\, 98406
CATEGORIES:Local South Sound Blues
END:VEVENT
BEGIN:VEVENT
DTSTART;TZID=America/Los_Angeles:20231223T200000
DTEND;TZID=America/Los_Angeles:20231223T200000
DTSTAMP:20260425T034159
CREATED:20231120T214952Z
LAST-MODIFIED:20231120T214952Z
UID:11739-1703361600-1703361600@southsoundblues.org
SUMMARY:The Tim Turner Band at Dawson's Bar and Grill
DESCRIPTION:The Tim Turner Band at Dawson’s Bar and Grill December 23rd
URL:https://southsoundblues.org/event/the-tim-turner-band-at-dawsons-bar-and-grill/
LOCATION:Dawson’s Bar & Grill\, 5443 South Tacoma Way\, Tacoma\, WA\, 98409
CATEGORIES:Local South Sound Blues
END:VEVENT
BEGIN:VEVENT
DTSTART;TZID=America/Los_Angeles:20231223T190000
DTEND;TZID=America/Los_Angeles:20231223T220000
DTSTAMP:20260425T034159
CREATED:20231110T040855Z
LAST-MODIFIED:20231110T040855Z
UID:11626-1703358000-1703368800@southsoundblues.org
SUMMARY:Jay Mabin & Friends at the Spar
DESCRIPTION:December 23rd. The Spar\, Jay Mabin & Friends 7pm
URL:https://southsoundblues.org/event/jay-mabin-friends-at-the-spar/
LOCATION:The Spar\, 2121 N 30th St\, Tacoma\, WA\, 98403
CATEGORIES:Featured
END:VEVENT
BEGIN:VEVENT
DTSTART;TZID=America/Los_Angeles:20231222T190000
DTEND;TZID=America/Los_Angeles:20231222T220000
DTSTAMP:20260425T034159
CREATED:20231203T224125Z
LAST-MODIFIED:20231203T224125Z
UID:11775-1703271600-1703282400@southsoundblues.org
SUMMARY:Heather Jones & The Groove Masters at Chi-Town
DESCRIPTION:Heather Jones & The Groove Masters at Chi-Town December 22nd\, 7-10pm
URL:https://southsoundblues.org/event/heather-jones-the-groove-masters-at-chi-town/
LOCATION:Chitown Pizza\, 15619 Pacific Ave S\, Tacoma\, WA\, 98444
CATEGORIES:Local South Sound Blues
END:VEVENT
BEGIN:VEVENT
DTSTART;TZID=America/Los_Angeles:20231222T190000
DTEND;TZID=America/Los_Angeles:20231222T210000
DTSTAMP:20260425T034159
CREATED:20231110T235646Z
LAST-MODIFIED:20231110T235646Z
UID:11677-1703271600-1703278800@southsoundblues.org
SUMMARY:The Soulful 88's at Kimball Coffeehouse
DESCRIPTION:December 22nd at Kimball Coffeehouse\, Gig Harbor: The Soulful 88s\, 7pm
URL:https://southsoundblues.org/event/the-soulful-88s-at-kimball-coffeehouse/
LOCATION:Kimball’s Coffeehouse\, 6659 Kimball Dr\, Gig Harbor\, WA\, 98335
CATEGORIES:Local South Sound Blues
END:VEVENT
BEGIN:VEVENT
DTSTART;TZID=America/Los_Angeles:20231221T200000
DTEND;TZID=America/Los_Angeles:20231221T200000
DTSTAMP:20260425T034159
CREATED:20231111T004042Z
LAST-MODIFIED:20231111T004042Z
UID:11702-1703188800-1703188800@southsoundblues.org
SUMMARY:Jonathan Pitman and Steve Itterly Thursdays at Snapdragon
DESCRIPTION:Jonathan Pitman and Steve Itterly Thursdays at Snapdragon\, Vashon\, 8pm
URL:https://southsoundblues.org/event/jonathan-pitman-and-steve-itterly-thursdays-at-snapdragon/
LOCATION:Snapdragon\, 17817 Vashon Hwy\, Vashon\, WA\, 98070
CATEGORIES:Local South Sound Blues
END:VEVENT
BEGIN:VEVENT
DTSTART;TZID=America/Los_Angeles:20231221T190000
DTEND;TZID=America/Los_Angeles:20231221T220000
DTSTAMP:20260425T034159
CREATED:20231111T003607Z
LAST-MODIFIED:20231111T003607Z
UID:11699-1703185200-1703196000@southsoundblues.org
SUMMARY:“Billy the Pocket Jam” Thursday nights at Dawson’s
DESCRIPTION:“Billy the Pocket Jam” Thursday nights at Dawson’s\, 7-10 pm
URL:https://southsoundblues.org/event/billy-the-pocket-jam-thursday-nights-at-dawsons-25/
LOCATION:Dawson’s Bar & Grill\, 5443 South Tacoma Way\, Tacoma\, WA\, 98409
CATEGORIES:Local South Sound Blues
END:VEVENT
BEGIN:VEVENT
DTSTART;TZID=America/Los_Angeles:20231221T190000
DTEND;TZID=America/Los_Angeles:20231221T220000
DTSTAMP:20260425T034159
CREATED:20230912T190926Z
LAST-MODIFIED:20231011T204517Z
UID:11383-1703185200-1703196000@southsoundblues.org
SUMMARY:Blues Vespers and the SSBA presents the Kim Field's Harmonica Showcase at the Spanish Ballroom
DESCRIPTION:Blues Vespers and South Sound Blues Association presents KIM FIELD’s HARMONICA SHOWCASE with special guests Joel Astley\, Mark DuFresne\, and Joe Cook\, December 21st\, at the Spanish Ballroom\, 7PM.\nThese four celebrated harmonica virtuosos will be backed by an all-star band featuring guitarist Tim Sherman\, bassist Les White\, and David Hudson. Make plans to attend this fabulous holiday show!\nhttps://www.mcmenamins.com/elks-temple/spanish-ballroom/box-office
URL:https://southsoundblues.org/event/blues-vespers-presents-the-kim-field-harmonia-showcase-at-the-spanish-ballroom/
LOCATION:McMenaminsTacoma Elks\, 565 Broadway\, Tacoma\, WA\, 98402
CATEGORIES:Local South Sound Blues,SSBA Event
END:VEVENT
BEGIN:VEVENT
DTSTART;TZID=America/Los_Angeles:20231220T180000
DTEND;TZID=America/Los_Angeles:20231220T180000
DTSTAMP:20260425T034159
CREATED:20231110T234531Z
LAST-MODIFIED:20231110T234531Z
UID:11666-1703095200-1703095200@southsoundblues.org
SUMMARY:Solar\, featuring John Hanford\, at The Spar
DESCRIPTION:December 20th at The Spar\, Solar featuring John Hanford 6pm
URL:https://southsoundblues.org/event/solar-featuring-john-hanford-at-the-spar/
LOCATION:The Spar\, 2121 N 30th St\, Tacoma\, WA\, 98403
CATEGORIES:Featured
END:VEVENT
BEGIN:VEVENT
DTSTART;TZID=America/Los_Angeles:20231219T190000
DTEND;TZID=America/Los_Angeles:20231219T220000
DTSTAMP:20260425T034159
CREATED:20231111T001852Z
LAST-MODIFIED:20231111T002104Z
UID:11689-1703012400-1703023200@southsoundblues.org
SUMMARY:Tuesday Bluesday at Brother Don’s Bar & Grill in Bremerton\, Jam with The Tim Hall Band
DESCRIPTION:Tuesday Bluesday at Brother Don’s Bar & Grill in Bremerton\, Jam with The Tim Hall Band\, 7-10 pm
URL:https://southsoundblues.org/event/tuesday-bluesday-at-brother-dons-bar-grill-jam-with-the-tim-hall-band-6/
LOCATION:Brother Don’s Bar & Grill\, 4200 Kitsap Way\, Bremerton\, WA\, 98312
CATEGORIES:Local South Sound Blues
END:VEVENT
BEGIN:VEVENT
DTSTART;TZID=America/Los_Angeles:20231217T190000
DTEND;TZID=America/Los_Angeles:20231217T220000
DTSTAMP:20260425T034159
CREATED:20231110T040552Z
LAST-MODIFIED:20231110T040552Z
UID:11624-1702839600-1702850400@southsoundblues.org
SUMMARY:Sunday Blues at the Spar with Red House
DESCRIPTION:December 17th. The Spar\, Sunday Blues – Red House 7pm
URL:https://southsoundblues.org/event/sunday-blues-at-the-spar-with-red-house-2/
LOCATION:The Spar\, 2121 N 30th St\, Tacoma\, WA\, 98403
CATEGORIES:Local South Sound Blues
END:VEVENT
BEGIN:VEVENT
DTSTART;TZID=America/Los_Angeles:20231217T170000
DTEND;TZID=America/Los_Angeles:20231217T183000
DTSTAMP:20260425T034159
CREATED:20231109T203819Z
LAST-MODIFIED:20231109T203819Z
UID:11603-1702832400-1702837800@southsoundblues.org
SUMMARY:Blues Vespers with The Stacy Jones Band at Kilworth Chapel\, UPS
DESCRIPTION:BLUES VESPERS DECEMBER 17th at 5:00 pm\, THE STACY JONES BAND\, KILWORTH CHAPEL UNIVERSITY OF PUGET SOUND\nBlues\, poetry\, and something to think about hosted by Rev. Dave Brown\nThis Vespers is supporting The Bryant Neighborhood Center in their work with those in need and those who are unhoused. Please consider donating “winter essentials” (coats\, blankets\, socks\, gloves\, hats).
URL:https://southsoundblues.org/event/blues-vespers-with-the-stacy-jones-band-at-kilworth-chapel-ups/
LOCATION:Kilworth Memorial Chapel\, 3410 N 18th St\, Tacoma\, WA\, 98416
CATEGORIES:Local South Sound Blues
END:VEVENT
BEGIN:VEVENT
DTSTART;TZID=America/Los_Angeles:20231217T080000
DTEND;TZID=America/Los_Angeles:20231217T170000
DTSTAMP:20260425T034159
CREATED:20230823T202936Z
LAST-MODIFIED:20230823T202936Z
UID:11278-1702800000-1702832400@southsoundblues.org
SUMMARY:BLUES TO DO podcast – Live with Marlee Walker Sundays from the Seattle Drum School\, Georgetown
DESCRIPTION:BLUES TO DO podcast – Live with Marlee Walker Sundays from the Seattle Drum School\, Georgetown\, at 1pm.\nInternational Broadcaster and “Keeping the Blues Alive” award-winning Radio Personality & Publisher – Marlee Walker will Live stream starting September 3rd. Marlee will interview weekly guests and give updates for the PNW live music calendar\, with contests and prizes.  We can visit in-person at the L.A.B.\, 1010 S. Bailey Street\, Seattle Drum School Georgetown\, WA 98108. They will be serving free coffee & treats to the first 10 attendees. Doors open at 12:30 for all Ages. Donations welcome. ONLINE: Watch LIVE at:   YouTube.com/@BluesToDo
URL:https://southsoundblues.org/event/blues-to-do-podcast-live-with-marlee-walker-sundays-from-the-seattle-drum-school-georgetown-3/
LOCATION:Seattle Drum School\, 1010 S. Bailey Street\, Seattle\, WA\, 98108
CATEGORIES:Featured,Seminars and Workshops
END:VEVENT
BEGIN:VEVENT
DTSTART;TZID=America/Los_Angeles:20231216T200000
DTEND;TZID=America/Los_Angeles:20231216T220000
DTSTAMP:20260425T034159
CREATED:20230927T170543Z
LAST-MODIFIED:20231030T210118Z
UID:11430-1702756800-1702764000@southsoundblues.org
SUMMARY:Filthy 5th at The Mill\, SSBA Blues Series
DESCRIPTION:Filthy 5th on the Mill Town Stage at the Mill\, December 16th\, 8-10pm.
URL:https://southsoundblues.org/event/filthy-5th-at-the-mill/
LOCATION:The Mill of Milton\, 900 Meridian E. #50\, Milton\, WA\, 98354
CATEGORIES:Local South Sound Blues
END:VEVENT
BEGIN:VEVENT
DTSTART;TZID=America/Los_Angeles:20231216T200000
DTEND;TZID=America/Los_Angeles:20231216T200000
DTSTAMP:20260425T034159
CREATED:20231120T214604Z
LAST-MODIFIED:20231120T214604Z
UID:11737-1702756800-1702756800@southsoundblues.org
SUMMARY:Heather Jones & The Groove Masters at Dawson's
DESCRIPTION:Heather Jones & The Groove Masters at Dawson’s December 16th\, at Dawson’s Bar and Grill
URL:https://southsoundblues.org/event/heather-jones-the-groove-masters-at-dawsons-2/
LOCATION:Dawson’s Bar & Grill\, 5443 South Tacoma Way\, Tacoma\, WA\, 98409
CATEGORIES:Local South Sound Blues
END:VEVENT
BEGIN:VEVENT
DTSTART;TZID=America/Los_Angeles:20231216T200000
DTEND;TZID=America/Los_Angeles:20231216T200000
DTSTAMP:20260425T034159
CREATED:20231110T041328Z
LAST-MODIFIED:20231110T041328Z
UID:11628-1702756800-1702756800@southsoundblues.org
SUMMARY:Mark DuFresne Band at the Easy Monkey Taphouse
DESCRIPTION:December 16th. Easy Monkey Taphouse : Mark DuFresne Band with Billy Stapleton 8pm\n \n  \n 
URL:https://southsoundblues.org/event/mark-dufresne-band-at-the-easy-monkey-taphouse-5/
LOCATION:Easy Monkey Taphouse\, 17537 15th Ave NE Suite B\, Shoreline\, WA\, 98155
CATEGORIES:Featured
END:VEVENT
BEGIN:VEVENT
DTSTART;TZID=America/Los_Angeles:20231216T190000
DTEND;TZID=America/Los_Angeles:20231216T220000
DTSTAMP:20260425T034159
CREATED:20231106T230453Z
LAST-MODIFIED:20231106T230453Z
UID:11598-1702753200-1702764000@southsoundblues.org
SUMMARY:Trailer Park Kings at the Spar
DESCRIPTION:Trailer Park Kings at the Spar\, December 16th 7-10 pm\n \n 
URL:https://southsoundblues.org/event/trailer-park-kings-at-the-spar-7/
LOCATION:The Spar\, 2121 N 30th St\, Tacoma\, WA\, 98403
CATEGORIES:Featured
END:VEVENT
BEGIN:VEVENT
DTSTART;TZID=America/Los_Angeles:20231215T190000
DTEND;TZID=America/Los_Angeles:20231215T210000
DTSTAMP:20260425T034159
CREATED:20230816T223817Z
LAST-MODIFIED:20230816T223817Z
UID:11157-1702666800-1702674000@southsoundblues.org
SUMMARY:Mark DuFresne Band at Kimball's Coffeehouse
DESCRIPTION:Mark DuFresne Band at Kimball’s Coffeehouse December 15th\, 7-9 pm
URL:https://southsoundblues.org/event/mark-dufresne-band-at-kimballs-coffeehouse/
LOCATION:Kimball’s Coffeehouse\, 6659 Kimball Dr\, Gig Harbor\, WA\, 98335
CATEGORIES:Local South Sound Blues
END:VEVENT
BEGIN:VEVENT
DTSTART;TZID=America/Los_Angeles:20231215T183000
DTEND;TZID=America/Los_Angeles:20231215T203000
DTSTAMP:20260425T034159
CREATED:20230920T012553Z
LAST-MODIFIED:20230920T212202Z
UID:11415-1702665000-1702672200@southsoundblues.org
SUMMARY:Michele D'Amour & The Love Dealers at Olalla Winery
DESCRIPTION:Michele D’Amour & The Love Dealers\, Friday\, Dec. 15th at the Olalla Winery\, 6:30 – 8:30 p.m.\n \n  \n  \n  \n\n\n\n\n\n\n\n\n\nAddress: 13176 Olalla Valley Rd SE\, Olalla\, WA 98359\n\n\n\n\n\n\n\nPhone: (253) 851-4949
URL:https://southsoundblues.org/event/michele-damour-the-love-dealers-at-olalla-winery/
LOCATION:Olalla Vineyard & Winery\, 13176 Olalla Valley Rd SE\, Olalla\, WA\, 98359
CATEGORIES:Featured
END:VEVENT
BEGIN:VEVENT
DTSTART;TZID=America/Los_Angeles:20231214T190000
DTEND;TZID=America/Los_Angeles:20231214T220000
DTSTAMP:20260425T034159
CREATED:20231111T004314Z
LAST-MODIFIED:20231111T004314Z
UID:11704-1702580400-1702591200@southsoundblues.org
SUMMARY:Thursday’s Front Street Blues Revue at the Slippery Pig Brewery\, Poulsbo
DESCRIPTION:Thursday’s Front Street Blues Revue at the Slippery Pig Brewery\, Poulsbo\, 7-10 pm
URL:https://southsoundblues.org/event/thursdays-front-street-blues-revue-at-the-slippery-pig-brewery-poulsbo-6/
LOCATION:Slippery Pig Brewery\, 18801 Front St NE\, Poulsbo\, WA\, 98370
CATEGORIES:Local South Sound Blues
END:VEVENT
BEGIN:VEVENT
DTSTART;TZID=America/Los_Angeles:20231213T180000
DTEND;TZID=America/Los_Angeles:20231213T210000
DTSTAMP:20260425T034159
CREATED:20231111T003120Z
LAST-MODIFIED:20231111T003120Z
UID:11697-1702490400-1702501200@southsoundblues.org
SUMMARY:Billy Shew and Friends host an open Jam every Wednesday at Stockton’s
DESCRIPTION:Billy Shew and Friends host an open Jam every Wednesday at Stockton’s\, 6-9pm
URL:https://southsoundblues.org/event/billy-shew-and-friends-host-an-open-jam-every-wednesday-at-stocktons-12/
LOCATION:Stockton’s Restaurant & Spirits\, 23220 Maple Valley Black Diamond Rd SE\, Maple Valley\, WA\, 98038
CATEGORIES:Local South Sound Blues
END:VEVENT
BEGIN:VEVENT
DTSTART;TZID=America/Los_Angeles:20231213T180000
DTEND;TZID=America/Los_Angeles:20231213T180000
DTSTAMP:20260425T034159
CREATED:20231110T234234Z
LAST-MODIFIED:20231110T234234Z
UID:11664-1702490400-1702490400@southsoundblues.org
SUMMARY:Butch Harrison & Friends at The Spar
DESCRIPTION:December 13th. The Spar\, Butch Harrison & Friends 6pm
URL:https://southsoundblues.org/event/butch-harrison-friends-at-the-spar-2/
LOCATION:The Spar\, 2121 N 30th St\, Tacoma\, WA\, 98403
CATEGORIES:Featured
END:VEVENT
BEGIN:VEVENT
DTSTART;TZID=America/Los_Angeles:20231212T200000
DTEND;TZID=America/Los_Angeles:20231212T233000
DTSTAMP:20260425T034159
CREATED:20231111T005157Z
LAST-MODIFIED:20231111T005157Z
UID:11710-1702411200-1702423800@southsoundblues.org
SUMMARY:Cory Wilds Band Tuesday open Jam Night at Elmer’s Bar and Grill
DESCRIPTION:Cory Wilds Band Tuesday open Jam Night at Elmer’s Bar and Grill\, 8-11:30 pm
URL:https://southsoundblues.org/event/cory-wilds-band-tuesday-open-jam-night-at-elmers-bar-and-grill-13/
LOCATION:Elmer’s Bar & Grill\, 15027 Ambaum Blvd SW\, Burien\, WA\, 98166
CATEGORIES:Local South Sound Blues
END:VEVENT
BEGIN:VEVENT
DTSTART;TZID=America/Los_Angeles:20231212T190000
DTEND;TZID=America/Los_Angeles:20231212T190000
DTSTAMP:20260425T034159
CREATED:20231211T222111Z
LAST-MODIFIED:20231211T222111Z
UID:11795-1702407600-1702407600@southsoundblues.org
SUMMARY:Washington Blues Society Blues Bash at Aurora Borealis featuring Steve Itterly & Jonathan Pittman and Stevie & The Blue Flames
DESCRIPTION:Washington Blues Society Blues Bash at Aurora Borealis featuring Steve Itterly & Jonathan Pittman and Stevie & The Blue Flames\, December 12th\, 7pm\n 
URL:https://southsoundblues.org/event/washington-blues-society-blues-bash-at-aurora-borealis-featuring-steve-itterly-jonathan-pittman-and-stevie-the-blue-flames/
LOCATION:Aurora Borealis\, 16708 Aurora Ave N\, Shoreline\, WA\, 98133
CATEGORIES:Featured
END:VEVENT
BEGIN:VEVENT
DTSTART;TZID=America/Los_Angeles:20231212T190000
DTEND;TZID=America/Los_Angeles:20231212T190000
DTSTAMP:20260425T034159
CREATED:20230912T004542Z
LAST-MODIFIED:20230912T004542Z
UID:11362-1702407600-1702407600@southsoundblues.org
SUMMARY:Stevie & The Blue Flames at Aurora Borealis
DESCRIPTION:Stevie & The Blue Flames at Aurora Borealis December 12th\, 7pm
URL:https://southsoundblues.org/event/stevie-the-blue-flames-at-aurora-borealis/
LOCATION:Aurora Borealis\, 16708 Aurora Ave N\, Shoreline\, WA\, 98133
CATEGORIES:Featured
END:VEVENT
BEGIN:VEVENT
DTSTART;TZID=America/Los_Angeles:20231211T200000
DTEND;TZID=America/Los_Angeles:20231211T220000
DTSTAMP:20260425T034159
CREATED:20231111T005414Z
LAST-MODIFIED:20231128T213832Z
UID:11712-1702324800-1702332000@southsoundblues.org
SUMMARY:Mike Witmer hosts “Mojo Mike’s Blues Revue” every Monday on KVSH 101.9 FM
DESCRIPTION:Mike Witmer hosts “Mojo Mike’s Blues Revue” every Monday on KVSH 101.9 FM 8-10 pm
URL:https://southsoundblues.org/event/mike-witmer-hosts-mojo-mikes-blues-revue-every-monday-on-kvsh-101-9-fm-12/
LOCATION:WA
CATEGORIES:Local South Sound Blues
END:VEVENT
BEGIN:VEVENT
DTSTART;TZID=America/Los_Angeles:20231210T190000
DTEND;TZID=America/Los_Angeles:20231210T220000
DTSTAMP:20260425T034159
CREATED:20231110T005108Z
LAST-MODIFIED:20231110T005108Z
UID:11607-1702234800-1702245600@southsoundblues.org
SUMMARY:Sunday Blues at the Spar with The Cold 102s
DESCRIPTION:December 10th at The Spar\, Sunday Blues with The Cold 102s featuring Anthony Estrada\, 7pm
URL:https://southsoundblues.org/event/sunday-blues-at-the-spar-with-the-cold-102s/
LOCATION:WA
CATEGORIES:Local South Sound Blues
END:VEVENT
BEGIN:VEVENT
DTSTART;TZID=America/Los_Angeles:20231210T180000
DTEND;TZID=America/Los_Angeles:20231210T180000
DTSTAMP:20260425T034159
CREATED:20230613T180119Z
LAST-MODIFIED:20231113T225122Z
UID:10647-1702231200-1702231200@southsoundblues.org
SUMMARY:Jazzbones Jazz & Blues Holiday Show\, Maia Santell & House Blend
DESCRIPTION:Jazzbones Holiday Show with Maia Santell and House Blend\, 6pm\nAnnual Maia Santell and House Blend Holiday Jazz and Blues Show at Jazzbones on Saturday\, Dec. 10th. It’s an all-ages event\, and kids\, twelve and under\, are admitted free of charge. House Blend instrumentalists include Gary Crooks on guitar\, Jay Mabin on harmonica\, Ted Dortch on tenor sax\, Steve Luceno on bass and Mike Slivka on drums. A special feature of the night is “Santa Doug Pacific Northwest\,” a Santa and Mrs. Claus duo who entertains families and brings the magic and the spirit of the season to all! (For tickets and details\, see www.Jazzbones.com. \nDoors open at 5pm\, $12 tickets at the door \n\n\n\n  \n  \n 
URL:https://southsoundblues.org/event/jazzbones-jazz-blues-holiday-show/
LOCATION:Jazzbones\, 2803 6th Ave\, Tacoma\, WA\, 98406
CATEGORIES:Local South Sound Blues,Special Event
END:VEVENT
BEGIN:VEVENT
DTSTART;TZID=America/Los_Angeles:20231210T170000
DTEND;TZID=America/Los_Angeles:20231210T210000
DTSTAMP:20260425T034159
CREATED:20230531T193322Z
LAST-MODIFIED:20231109T004527Z
UID:10549-1702227600-1702242000@southsoundblues.org
SUMMARY:South Sound Blues Association Holiday Party with music guests: The Chris Eger Band and RT Collective\, (Rafael Tranquillino & Patrick McDanel) at the Spanish Ballroom\, Tacoma
DESCRIPTION:South Sound Blues Association Holiday Party with music guests: The Chris Eger Band and RT Collective\, at the Spanish Ballroom\, 5-9 pm.\nTickets are $10. and can be purchased at the door or ahead of time through the box office.\nhttps://www.mcmenamins.com/events/248658-south-sound-blues-association-holiday-party \nCurrent SSBA members get in free\, membership checked at the door.\n \n  \n \nChris Eger Band \nGuitarist and vocalist Chris Eger has been fronting his own band for over a decade\, impressing a growing audience both in person and online. Chris has won the Washington Blues Society “BB Award” as Best Male Vocalist for the past four years in a row\, and the band’s exciting live performances have made them  one of the most in-demand acts in the Pacific Northwest. Chris’ video series\, \nOne Take Weekly @ Plum Tree Recording Studio\, is into its fourth season and has garnered over 180k views on YouTube alone! \nThe band’s latest release\, “Show Me Where to Sign\,” was recorded in Nashville and co-produced by Chris and his guitar hero Eric Heatherly. This high energy record\, which includes several of Chris’s original songs\, blends straight electric blues with blue-eyed soul\, Hendrix inspired rock\, and horn infused funk. \nFor this SSBA Holiday Party show the Chris Eger Band will consists of Chris on guitar and vocals\, his father Randall\, a 35-year music veteran\, on bass\, Matt Clark on drums\, and Rick Jiles on keys. The band’s sound is tight and soulful\, and this performance\, their first at The Spanish Ballroom\, is sure to please their many devoted fans and win new ones. \n  \n \nRT Collective \nRT Collective came about as the result of two extraordinary musicians having a desire to get back to their roots. Guitarist Rafael Tranquilino\, (this year’s Washington Blues Society “BB Award) and bass player Patrick McDanel are both widely known as electric instrument players. But when they got together to jam in 2021\, they decided to go acoustic. The music felt fresh and creative\, and they enjoyed this new collaboration so much that they began bringing this “old school” approach to live audiences. In these duo shows they perform an eclectic mix of songs with a fun\, improvisational approach that engages listeners and provides a unique musical experience.
URL:https://southsoundblues.org/event/south-sound-blues-association-holiday-party-at-the-spanish-ballroom-3/
LOCATION:McMenaminsTacoma Elks\, 565 Broadway\, Tacoma\, WA\, 98402
CATEGORIES:Featured,Local South Sound Blues,Special Event,SSBA Event
END:VEVENT
END:VCALENDAR