BEGIN:VCALENDAR
VERSION:2.0
PRODID:-//South Sound Blues Association - ECPv6.15.18//NONSGML v1.0//EN
CALSCALE:GREGORIAN
METHOD:PUBLISH
X-ORIGINAL-URL:https://southsoundblues.org
X-WR-CALDESC:Events for South Sound Blues Association
REFRESH-INTERVAL;VALUE=DURATION:PT1H
X-Robots-Tag:noindex
X-PUBLISHED-TTL:PT1H
BEGIN:VTIMEZONE
TZID:America/Los_Angeles
BEGIN:DAYLIGHT
TZOFFSETFROM:-0800
TZOFFSETTO:-0700
TZNAME:PDT
DTSTART:20230312T100000
END:DAYLIGHT
BEGIN:STANDARD
TZOFFSETFROM:-0700
TZOFFSETTO:-0800
TZNAME:PST
DTSTART:20231105T090000
END:STANDARD
BEGIN:DAYLIGHT
TZOFFSETFROM:-0800
TZOFFSETTO:-0700
TZNAME:PDT
DTSTART:20240310T100000
END:DAYLIGHT
BEGIN:STANDARD
TZOFFSETFROM:-0700
TZOFFSETTO:-0800
TZNAME:PST
DTSTART:20241103T090000
END:STANDARD
BEGIN:DAYLIGHT
TZOFFSETFROM:-0800
TZOFFSETTO:-0700
TZNAME:PDT
DTSTART:20250309T100000
END:DAYLIGHT
BEGIN:STANDARD
TZOFFSETFROM:-0700
TZOFFSETTO:-0800
TZNAME:PST
DTSTART:20251102T090000
END:STANDARD
END:VTIMEZONE
BEGIN:VEVENT
DTSTART;TZID=America/Los_Angeles:20240508T180000
DTEND;TZID=America/Los_Angeles:20240508T210000
DTSTAMP:20260425T045212
CREATED:20240422T000448Z
LAST-MODIFIED:20240422T000448Z
UID:12589-1715191200-1715202000@southsoundblues.org
SUMMARY:Billy Shew and Friends host an open Jam every Wednesday at Stockton’s
DESCRIPTION:Billy Shew and Friends host an open Jam every Wednesday at Stockton’s\, 6-9pm
URL:https://southsoundblues.org/event/billy-shew-and-friends-host-an-open-jam-every-wednesday-at-stocktons-17/
LOCATION:Stockton’s Restaurant & Spirits\, 23220 Maple Valley Black Diamond Rd SE\, Maple Valley\, WA\, 98038
END:VEVENT
BEGIN:VEVENT
DTSTART;TZID=America/Los_Angeles:20240508T180000
DTEND;TZID=America/Los_Angeles:20240508T210000
DTSTAMP:20260425T045213
CREATED:20240507T004909Z
LAST-MODIFIED:20240507T004909Z
UID:12685-1715191200-1715202000@southsoundblues.org
SUMMARY:Andy Stokes at the Spar
DESCRIPTION:LTD Presents LIVE Spotlight Series in association with The Spar features Andy Stokes\, May 8th\, 6-9 pm
URL:https://southsoundblues.org/event/andy-stokes-at-the-spar/
LOCATION:The Spar\, 2121 N 30th St\, Tacoma\, WA\, 98403
CATEGORIES:Featured
END:VEVENT
BEGIN:VEVENT
DTSTART;TZID=America/Los_Angeles:20240509T190000
DTEND;TZID=America/Los_Angeles:20240509T210000
DTSTAMP:20260425T045213
CREATED:20240406T235327Z
LAST-MODIFIED:20240406T235347Z
UID:12536-1715281200-1715288400@southsoundblues.org
SUMMARY:South Sound Express at APIZZA\, Tacoma
DESCRIPTION:Thursday\, May 9 – South Sound Express Trio (funk\, jazz\, blues) 7-9 PM at APIZZA
URL:https://southsoundblues.org/event/south-sound-express-at-apizza-tacoma/
LOCATION:APIZZA\, 821 Pacific Ave\, Tacoma\, WA\, 98402
CATEGORIES:Featured
END:VEVENT
BEGIN:VEVENT
DTSTART;TZID=America/Los_Angeles:20240509T190000
DTEND;TZID=America/Los_Angeles:20240509T220000
DTSTAMP:20260425T045213
CREATED:20240422T000832Z
LAST-MODIFIED:20240422T000832Z
UID:12593-1715281200-1715292000@southsoundblues.org
SUMMARY:“Billy the Pocket Jam” Thursday nights at Dawson’s
DESCRIPTION:“Billy the Pocket Jam” Thursday nights at Dawson’s\, 7-10 pm
URL:https://southsoundblues.org/event/billy-the-pocket-jam-thursday-nights-at-dawsons-32/
LOCATION:Dawson’s Bar & Grill\, 5443 South Tacoma Way\, Tacoma\, WA\, 98409
CATEGORIES:Local South Sound Blues
END:VEVENT
BEGIN:VEVENT
DTSTART;TZID=America/Los_Angeles:20240510T190000
DTEND;TZID=America/Los_Angeles:20240510T220000
DTSTAMP:20260425T045213
CREATED:20240410T001034Z
LAST-MODIFIED:20240410T001034Z
UID:12542-1715367600-1715378400@southsoundblues.org
SUMMARY:Michele D'Amour and The Love Dealers at Ocean 5\, Gig Harbor
DESCRIPTION:May 10th\, Michele D’Amour and The Love Dealers at Ocean 5\, Gig Harbor\, 7-10 pm\nFriday\, May 10 – 7 to 10 p.m. \n Michele D’Amour \n5268 Point Fosdick Dr\, Gig Harbor\, WA 98335 \nTickets are $10 and here is the link: https://www.eventbrite.com/e/live-music-michele-damour-and-the-love-dealers-tickets-846548147297
URL:https://southsoundblues.org/event/michele-damour-and-the-love-dealers-at-ocean-5-gig-harbor/
LOCATION:Ocean 5\, Table 47\, 5268 Point Fosdick Drive\, Gig Harbor\, WA\, 98335
CATEGORIES:Featured,Local South Sound Blues
END:VEVENT
BEGIN:VEVENT
DTSTART;TZID=America/Los_Angeles:20240510T190000
DTEND;TZID=America/Los_Angeles:20240510T220000
DTSTAMP:20260425T045213
CREATED:20240509T230504Z
LAST-MODIFIED:20240509T230504Z
UID:12701-1715367600-1715378400@southsoundblues.org
SUMMARY:Dr Jop Funkin Shop at Kimball Coffeehouse
DESCRIPTION:Dr Jop Funkin Shop at Kimball Coffeehouse May 10th\, 7-9 pm\n 
URL:https://southsoundblues.org/event/dr-jop-funkin-shop-at-kimball-coffeehouse/
LOCATION:Kimball’s Coffeehouse\, 6659 Kimball Dr\, Gig Harbor\, WA\, 98335
CATEGORIES:Local South Sound Blues
END:VEVENT
BEGIN:VEVENT
DTSTART;TZID=America/Los_Angeles:20240510T200000
DTEND;TZID=America/Los_Angeles:20240510T200000
DTSTAMP:20260425T045213
CREATED:20240103T040851Z
LAST-MODIFIED:20240103T040851Z
UID:11943-1715371200-1715371200@southsoundblues.org
SUMMARY:King Kom Beaux at The Garage\, Bremerton
DESCRIPTION:King Kom Beaux at The Garage May 10th\, 8pm
URL:https://southsoundblues.org/event/king-kom-beaux-at-the-garage-bremerton-3/
LOCATION:The Garage Bar and Grill\, 6812 Kitsap Way\, Bremerton\, WA\, 98312
CATEGORIES:Local South Sound Blues
END:VEVENT
BEGIN:VEVENT
DTSTART;TZID=America/Los_Angeles:20240510T213000
DTEND;TZID=America/Los_Angeles:20240510T230000
DTSTAMP:20260425T045213
CREATED:20240410T012345Z
LAST-MODIFIED:20240410T012345Z
UID:12561-1715376600-1715382000@southsoundblues.org
SUMMARY:Mark DuFresne Band at Bake's\, Bellevue
DESCRIPTION:May 10th\, Bake’s\, Bellevue\, Mark DuFresne Band feat. Billy Stapleton\, 9:30-11pm\n Featuring Billy Stapleton on Guitar
URL:https://southsoundblues.org/event/mark-dufresne-band-at-bakes-bellevue/
LOCATION:Bake’s Place\, 155 108th Ave NE Ste 110\, Bellevue\, WA\, 98004
CATEGORIES:Local South Sound Blues
END:VEVENT
BEGIN:VEVENT
DTSTART;TZID=America/Los_Angeles:20240511T180000
DTEND;TZID=America/Los_Angeles:20240511T200000
DTSTAMP:20260425T045213
CREATED:20240508T233429Z
LAST-MODIFIED:20240508T233429Z
UID:12690-1715450400-1715457600@southsoundblues.org
SUMMARY:Ross Robinson at the Lady of the Lake Public House\, Offut Lake Resort\, Tenino
DESCRIPTION:Ross Robinson at the Lady of the Lake Public House\, Offut Lake Resort\, May 11th\, 6-8 pm.\n \nGreat Weather\, Food\, Lakeside dining\, Friendly staff and wonderful mellow acoustic music provided by Ross Robinson & Charles Valentine.\n\n 
URL:https://southsoundblues.org/event/ross-robinson-at-the-lady-of-the-lake-public-house-offut-lake-resort-tenino/
LOCATION:Lady of the Lake Pub\, 4005 120th Ave SE\, Tenino\, WA\, 98589
CATEGORIES:Local South Sound Blues
END:VEVENT
BEGIN:VEVENT
DTSTART;TZID=America/Los_Angeles:20240511T190000
DTEND;TZID=America/Los_Angeles:20240511T220000
DTSTAMP:20260425T045213
CREATED:20240410T012638Z
LAST-MODIFIED:20240410T012638Z
UID:12564-1715454000-1715464800@southsoundblues.org
SUMMARY:Trailer Park Kings at the Spar
DESCRIPTION:May 11th\, The Spar\, Tacoma\, Trailer Park Kings\, 7pm\n \n 
URL:https://southsoundblues.org/event/trailer-park-kings-at-the-spar-8/
LOCATION:The Spar\, 2121 N 30th St\, Tacoma\, WA\, 98403
CATEGORIES:Local South Sound Blues
END:VEVENT
BEGIN:VEVENT
DTSTART;TZID=America/Los_Angeles:20240511T193000
DTEND;TZID=America/Los_Angeles:20240511T230000
DTSTAMP:20260425T045213
CREATED:20240410T013713Z
LAST-MODIFIED:20240410T013713Z
UID:12566-1715455800-1715468400@southsoundblues.org
SUMMARY:Mark Dufresne Band at the Rockfish Grill & Anacortes Brewery\, Anacortes
DESCRIPTION:May 11th\, Rockfish Grill & Anacortes Brewery\, Anacortes\, Mark Dufresne Band featuring Billy Stapleton\, 7:30pm\n 
URL:https://southsoundblues.org/event/mark-dufresne-band-at-the-rockfish-grill-anacortes-brewery-anacortes/
LOCATION:Rockfish Grill & Brewery\, 320 Commercial Ave\, Anacortes\, WA\, 98221
CATEGORIES:Featured
END:VEVENT
BEGIN:VEVENT
DTSTART;TZID=America/Los_Angeles:20240511T200000
DTEND;TZID=America/Los_Angeles:20240511T220000
DTSTAMP:20260425T045213
CREATED:20240509T230758Z
LAST-MODIFIED:20240509T230758Z
UID:12703-1715457600-1715464800@southsoundblues.org
SUMMARY:Stacy Jones Band at the Mill
DESCRIPTION:Stacy Jones Band at the Mill May 11th\, 8-10 pm
URL:https://southsoundblues.org/event/stacy-jones-band-at-the-mill-2/
LOCATION:The Mill of Milton\, 900 Meridian E. #50\, Milton\, WA\, 98354
CATEGORIES:Local South Sound Blues
END:VEVENT
BEGIN:VEVENT
DTSTART;TZID=America/Los_Angeles:20240511T200000
DTEND;TZID=America/Los_Angeles:20240511T233000
DTSTAMP:20260425T045213
CREATED:20240507T003246Z
LAST-MODIFIED:20240507T003713Z
UID:12682-1715457600-1715470200@southsoundblues.org
SUMMARY:Linda Carroll & Retro Gruv at the Gig Harbor Eagles #2809
DESCRIPTION:Linda Carroll & Retro Gruv at the Gig Harbor Eagles #2809\, May 11th 8-Midnight
URL:https://southsoundblues.org/event/linda-carroll-retro-gruv-at-the-gig-harbor-eagles-2809/
LOCATION:Gig Harbor Eagles\, 4425 Burnham Dr.\, Gig Harbor\, WA\, 98332
CATEGORIES:Local South Sound Blues
END:VEVENT
BEGIN:VEVENT
DTSTART;TZID=America/Los_Angeles:20240512T190000
DTEND;TZID=America/Los_Angeles:20240512T220000
DTSTAMP:20260425T045213
CREATED:20240410T005750Z
LAST-MODIFIED:20240410T005750Z
UID:12549-1715540400-1715551200@southsoundblues.org
SUMMARY:Sunday Blues at the Spar with The Jerry Miller Band
DESCRIPTION:May 12th The Spar\, Tacoma\, Jerry Miller Band\, 7pm\n 
URL:https://southsoundblues.org/event/sunday-blues-at-the-spar-with-the-jerry-miller-band-2/
LOCATION:The Spar\, 2121 N 30th St\, Tacoma\, WA\, 98403
CATEGORIES:Local South Sound Blues
END:VEVENT
BEGIN:VEVENT
DTSTART;TZID=America/Los_Angeles:20240513T180000
DTEND;TZID=America/Los_Angeles:20240513T210000
DTSTAMP:20260425T045213
CREATED:20240430T012106Z
LAST-MODIFIED:20240430T012106Z
UID:12639-1715623200-1715634000@southsoundblues.org
SUMMARY:Monday Jazz at Brother Don's Bar & Grill\, Bremerton
DESCRIPTION:Monday Jazz at Brother Don’s Bar & Grill\,  Bremerton\, 6-9 pm.
URL:https://southsoundblues.org/event/monday-jazz-at-brother-dons-bar-grill-bremerton/
LOCATION:Brother Don’s Bar & Grill\, 4200 Kitsap Way\, Bremerton\, WA\, 98312
CATEGORIES:Featured
END:VEVENT
BEGIN:VEVENT
DTSTART;TZID=America/Los_Angeles:20240514T190000
DTEND;TZID=America/Los_Angeles:20240514T210000
DTSTAMP:20260425T045213
CREATED:20240430T002059Z
LAST-MODIFIED:20240430T002059Z
UID:12625-1715713200-1715720400@southsoundblues.org
SUMMARY:Rob Tudor and Dave McKibbin at the Twisted Fork Saloon every Tuesday
DESCRIPTION:Rob Tudor and Dave McKibbin at the Twisted Fork Saloon every Tuesday\, 7-9 pm
URL:https://southsoundblues.org/event/rob-tudor-and-dave-mckibbin-at-the-twisted-fork-saloon-every-tuesday-5/
LOCATION:Twisted Fork Saloon\, 5005 Main St\, Tacoma\, WA\, 98407
CATEGORIES:Local South Sound Blues
END:VEVENT
BEGIN:VEVENT
DTSTART;TZID=America/Los_Angeles:20240515T180000
DTEND;TZID=America/Los_Angeles:20240515T210000
DTSTAMP:20260425T045213
CREATED:20240430T005533Z
LAST-MODIFIED:20240430T005533Z
UID:12637-1715796000-1715806800@southsoundblues.org
SUMMARY:Billy Shew and Friends host an open Jam every Wednesday at Stockton’s
DESCRIPTION:Billy Shew and Friends host an open Jam every Wednesday at Stockton’s\, 6-9pm
URL:https://southsoundblues.org/event/billy-shew-and-friends-host-an-open-jam-every-wednesday-at-stocktons-18/
LOCATION:Stockton’s Restaurant & Spirits\, 23220 Maple Valley Black Diamond Rd SE\, Maple Valley\, WA\, 98038
CATEGORIES:Local South Sound Blues
END:VEVENT
BEGIN:VEVENT
DTSTART;TZID=America/Los_Angeles:20240515T190000
DTEND;TZID=America/Los_Angeles:20240515T220000
DTSTAMP:20260425T045213
CREATED:20240430T005238Z
LAST-MODIFIED:20240430T005238Z
UID:12635-1715799600-1715810400@southsoundblues.org
SUMMARY:Wednesdays Blues “Jam Night” with Brian Olver and Glenn Hummel at Purdy’s\, Sumner
DESCRIPTION:Wednesdays Blues “Jam Night” with Brian Olver and Glenn Hummel at Purdy’s\, Sumner\, WA. 7-10 pm
URL:https://southsoundblues.org/event/wednesdays-blues-jam-night-with-brian-olver-and-glenn-hummel-at-purdys-sumner-8/
LOCATION:Purdy’s Public House & Arcade\, Sumner\, 16202 64th St E\, Sumner\, WA\, 98390
CATEGORIES:Local South Sound Blues
END:VEVENT
BEGIN:VEVENT
DTSTART;TZID=America/Los_Angeles:20240516T180000
DTEND;TZID=America/Los_Angeles:20240519T210000
DTSTAMP:20260425T045213
CREATED:20240229T001931Z
LAST-MODIFIED:20240502T014016Z
UID:12243-1715882400-1716152400@southsoundblues.org
SUMMARY:Sunbanks Country Blues Festival
DESCRIPTION:Sunbanks Country Blues Festival\, May 16-19th\, 2024     http://www.sunbanksfestival.com/\nhttps://www.sunbanksfestival.com/about.html
URL:https://southsoundblues.org/event/sunbanks-country-blues-festival/
LOCATION:Sunbanks Resort\, 57662 Hwy 155 N\, Electric City\, WA\, 99123
CATEGORIES:Festival
END:VEVENT
BEGIN:VEVENT
DTSTART;TZID=America/Los_Angeles:20240516T200000
DTEND;TZID=America/Los_Angeles:20240516T220000
DTSTAMP:20260425T045213
CREATED:20240430T004833Z
LAST-MODIFIED:20240430T004833Z
UID:12633-1715889600-1715896800@southsoundblues.org
SUMMARY:Thursday Night Jam at the Realm Venue\, hosted by Billy Shew
DESCRIPTION:Thursday Night Jam at the Realm Venue\, hosted by Billy Shew\, 8-10 pm
URL:https://southsoundblues.org/event/thursday-night-jam-at-the-realm-venue-hosted-by-billy-shew-5/
LOCATION:Realm Venue\, 5602 So. Washington St.\, Tacoma\, WA\, 98409
CATEGORIES:Local South Sound Blues
END:VEVENT
BEGIN:VEVENT
DTSTART;VALUE=DATE:20240517
DTEND;VALUE=DATE:20240521
DTSTAMP:20260425T045213
CREATED:20240229T001731Z
LAST-MODIFIED:20240229T001731Z
UID:12241-1715911200-1716170399@southsoundblues.org
SUMMARY:La Conner Guitar Festival
DESCRIPTION:La Conner Guitar Festival\, May 17-19th\, 2024
URL:https://southsoundblues.org/event/la-conner-guitar-festival/
LOCATION:La Conner Guitar Festival\, 104 Commercial\, La Conner\, WA\, 98257
CATEGORIES:Festival
END:VEVENT
BEGIN:VEVENT
DTSTART;TZID=America/Los_Angeles:20240517T190000
DTEND;TZID=America/Los_Angeles:20240517T210000
DTSTAMP:20260425T045213
CREATED:20240103T041119Z
LAST-MODIFIED:20240103T041119Z
UID:11945-1715972400-1715979600@southsoundblues.org
SUMMARY:King Kom Beaux at Kimballs' Coffeehouse
DESCRIPTION:King Kom Beaux at Kimballs’ Coffeehouse May 17th\, 7pm
URL:https://southsoundblues.org/event/king-kom-beaux-at-kimballs-coffeehouse-2/
LOCATION:Kimball’s Coffeehouse\, 6659 Kimball Dr\, Gig Harbor\, WA\, 98335
CATEGORIES:Local South Sound Blues
END:VEVENT
BEGIN:VEVENT
DTSTART;TZID=America/Los_Angeles:20240518T200000
DTEND;TZID=America/Los_Angeles:20240518T200000
DTSTAMP:20260425T045213
CREATED:20240131T221731Z
LAST-MODIFIED:20240131T221731Z
UID:12117-1716062400-1716062400@southsoundblues.org
SUMMARY:Tim Turner Band at Dawson's
DESCRIPTION:Tim Turner Band at Dawson’s Bar and Grill\, May 18th\, 8pm\n \n  \n  \n 
URL:https://southsoundblues.org/event/tim-turner-band-at-dawsons-2/
LOCATION:Dawson’s Bar & Grill\, 5443 South Tacoma Way\, Tacoma\, WA\, 98409
CATEGORIES:Local South Sound Blues
END:VEVENT
BEGIN:VEVENT
DTSTART;TZID=America/Los_Angeles:20240518T210000
DTEND;TZID=America/Los_Angeles:20240518T233000
DTSTAMP:20260425T045213
CREATED:20240509T003302Z
LAST-MODIFIED:20240509T003302Z
UID:12694-1716066000-1716075000@southsoundblues.org
SUMMARY:Heather Jones & The Groove Masters at Rock the Dock
DESCRIPTION:Heather Jones & The Groove Masters at Rock the Dock\, May 18th\, 9-midnight
URL:https://southsoundblues.org/event/heather-jones-the-groove-masters-at-rock-the-dock/
LOCATION:Rock the Dock\, 535 Dock St # 118\, Tacoma\, WA\, 98402
CATEGORIES:Local South Sound Blues
END:VEVENT
BEGIN:VEVENT
DTSTART;TZID=America/Los_Angeles:20240519T190000
DTEND;TZID=America/Los_Angeles:20240519T220000
DTSTAMP:20260425T045213
CREATED:20240410T010018Z
LAST-MODIFIED:20240410T010018Z
UID:12551-1716145200-1716156000@southsoundblues.org
SUMMARY:Sunday Blues at the Spar with Michele D'Amour & The Love Dealers
DESCRIPTION:May 19th The Spar\, Tacoma\, Michele D’Amour & The Love Dealers\, 7pm
URL:https://southsoundblues.org/event/sunday-blues-at-the-spar-with-michele-damour-the-love-dealers-2/
LOCATION:The Spar\, 2121 N 30th St\, Tacoma\, WA\, 98403
CATEGORIES:Local South Sound Blues
END:VEVENT
BEGIN:VEVENT
DTSTART;TZID=America/Los_Angeles:20240521T200000
DTEND;TZID=America/Los_Angeles:20240521T233000
DTSTAMP:20260425T045213
CREATED:20240430T002312Z
LAST-MODIFIED:20240430T002312Z
UID:12627-1716321600-1716334200@southsoundblues.org
SUMMARY:Cory Wilds Band Tuesday open Jam Night at Elmer’s Bar and Grill
DESCRIPTION:Cory Wilds Band Tuesday open Jam Night at Elmer’s Bar and Grill\, 8-11:30 pm
URL:https://southsoundblues.org/event/cory-wilds-band-tuesday-open-jam-night-at-elmers-bar-and-grill-18/
LOCATION:Elmer’s Bar & Grill\, 15027 Ambaum Blvd SW\, Burien\, WA\, 98166
CATEGORIES:Local South Sound Blues
END:VEVENT
BEGIN:VEVENT
DTSTART;TZID=America/Los_Angeles:20240522T190000
DTEND;TZID=America/Los_Angeles:20240522T230000
DTSTAMP:20260425T045213
CREATED:20240522T221831Z
LAST-MODIFIED:20240522T221831Z
UID:12762-1716404400-1716418800@southsoundblues.org
SUMMARY:Jerry Miller at the Golden West
DESCRIPTION:Jerry Miller at the Golden West on South Tacoma Way Wednesdays\,  7 -11pm
URL:https://southsoundblues.org/event/jerry-miller-at-the-golden-west-2/
LOCATION:Art’s Golden West\, 5228 So. Tacoma Way\, Tacoma\, WA\, 98409
CATEGORIES:Local South Sound Blues
END:VEVENT
BEGIN:VEVENT
DTSTART;TZID=America/Los_Angeles:20240523T190000
DTEND;TZID=America/Los_Angeles:20240523T190000
DTSTAMP:20260425T045213
CREATED:20240419T222103Z
LAST-MODIFIED:20240502T003926Z
UID:12578-1716490800-1716490800@southsoundblues.org
SUMMARY:James 'Super Chikan' Johnson\, LIVE at Jazzbones\, Tacoma
DESCRIPTION:Come see James ‘Super Chikan’ Johnson\, LIVE at Jazzbones in Tacoma\, Thursday May 23rd\, preceded by the new movie\, “A Life in Blues”.\nWBS/SSBA/Jazzbones presentation\n James Johnson\, ‘Super Chikan’ \nShowtime is 7pm\, $20.  https://www.seetickets.us/event/james-super-chikan-johnson-a-life-in-blues/602074\nCheck Jazzbones website for tickets or pay at the doors\, opening at 6pm.\nJames Johnsons’ grandfather was Robert Johnson’s cousin. His uncle was Big Jack Johnson. James ‘Super Chikan’ Johnson knew all the legends: Muddy Waters\, Jessie Mae Hemphill\, Jimmy Reed\, Willie Dixon. He’s won a W.C. Handy Award\, five Living Blues Awards\, and the Mississippi Governor’s Award for Excellence.\nJames “Super Chikan” Johnson is the 100% real deal. He has the most amazing lineage of any living bluesman. He makes his renowned “chikan-tars” himself. He writes his own songs and he’s played everything from dirt-floor Delta juke joints to major European festivals. Join us May 23rd at Jazzbones with some down-home blues.  https://www.resourceentertainment.com/entertainers/super-chikan
URL:https://southsoundblues.org/event/james-super-chikan-johnson-live-at-jazzbones-tacoma/
LOCATION:Jazzbones\, 2803 6th Ave\, Tacoma\, WA\, 98406
CATEGORIES:Local South Sound Blues,Special Event,SSBA Event
END:VEVENT
BEGIN:VEVENT
DTSTART;TZID=America/Los_Angeles:20240524T180000
DTEND;TZID=America/Los_Angeles:20240524T210000
DTSTAMP:20260425T045213
CREATED:20240410T015151Z
LAST-MODIFIED:20240410T015207Z
UID:12568-1716573600-1716584400@southsoundblues.org
SUMMARY:Trailer Park Kings are the musical entertainment at Binford Field of Dreams\, (Binford Metals)\, Kent
DESCRIPTION:May 24th\, Binford Field of Dreams (Binford Metals)\, Kent\, Trailer Park Kings\, 6pm ($5 entry for over 12 and under 65)\nLive music stage\, Food pavilion\, merchandise\, rows and rows of hot rods and custom automobiles. \n 
URL:https://southsoundblues.org/event/trailer-park-kings-are-the-musical-entertainment-at-binford-field-of-dreams-binford-metals-kent/
LOCATION:Binford Metals\, 26133 78th Ave South\, Kent\, WA\, 98032
CATEGORIES:Local South Sound Blues
END:VEVENT
BEGIN:VEVENT
DTSTART;TZID=America/Los_Angeles:20240524T200000
DTEND;TZID=America/Los_Angeles:20240524T200000
DTSTAMP:20260425T045213
CREATED:20240312T222854Z
LAST-MODIFIED:20240422T221136Z
UID:12391-1716580800-1716580800@southsoundblues.org
SUMMARY:The Blues Power Revue at Jazzbones
DESCRIPTION:The Blues Power Revue backed by The Blues Power Horns is everything you want in a high energy show band!\nExpert musicianship\, tight delivery\, a driving beat\, fat sound\, and dedication to having a really good time. The band features The New Blues Brothers\, Jake (Kenny Elhard) and Elwood (Mitch Reems) (Mike E. Williams)\, who take the stage by force to give nonstop witness to the mighty R & B music of the 60s & 70s–from Memphis to Motown. Their powerful performances and cult-status characterizations guarantee an extraordinary show.\nFriday\, May 24TH\, Doors 6PM\, Show 8PM\, 21+\n\nhttps://www.seetickets.us/event/blues-power-revue-blues-brothers-tribute/593124?fbclid=IwAR23Cx9sNJvjF6r61mPDdoMb_BYh49CplL4SkZMXWGsziqA1mhGHOLWApsg\n\nJazzbones 2803 6TH AVE TACOMA\nwww.jazzbones.com
URL:https://southsoundblues.org/event/the-blues-power-revue-at-jazzbones-2/
LOCATION:Jazzbones\, 2803 6th Ave\, Tacoma\, WA\, 98406
CATEGORIES:Local South Sound Blues
END:VEVENT
END:VCALENDAR