BEGIN:VCALENDAR
VERSION:2.0
PRODID:-//South Sound Blues Association - ECPv6.15.18//NONSGML v1.0//EN
CALSCALE:GREGORIAN
METHOD:PUBLISH
X-ORIGINAL-URL:https://southsoundblues.org
X-WR-CALDESC:Events for South Sound Blues Association
REFRESH-INTERVAL;VALUE=DURATION:PT1H
X-Robots-Tag:noindex
X-PUBLISHED-TTL:PT1H
BEGIN:VTIMEZONE
TZID:America/Los_Angeles
BEGIN:DAYLIGHT
TZOFFSETFROM:-0800
TZOFFSETTO:-0700
TZNAME:PDT
DTSTART:20220313T100000
END:DAYLIGHT
BEGIN:STANDARD
TZOFFSETFROM:-0700
TZOFFSETTO:-0800
TZNAME:PST
DTSTART:20221106T090000
END:STANDARD
BEGIN:DAYLIGHT
TZOFFSETFROM:-0800
TZOFFSETTO:-0700
TZNAME:PDT
DTSTART:20230312T100000
END:DAYLIGHT
BEGIN:STANDARD
TZOFFSETFROM:-0700
TZOFFSETTO:-0800
TZNAME:PST
DTSTART:20231105T090000
END:STANDARD
BEGIN:DAYLIGHT
TZOFFSETFROM:-0800
TZOFFSETTO:-0700
TZNAME:PDT
DTSTART:20240310T100000
END:DAYLIGHT
BEGIN:STANDARD
TZOFFSETFROM:-0700
TZOFFSETTO:-0800
TZNAME:PST
DTSTART:20241103T090000
END:STANDARD
END:VTIMEZONE
BEGIN:VEVENT
DTSTART;TZID=America/Los_Angeles:20231014T190000
DTEND;TZID=America/Los_Angeles:20231014T190000
DTSTAMP:20260425T145323
CREATED:20230912T010133Z
LAST-MODIFIED:20230912T010133Z
UID:11377-1697310000-1697310000@southsoundblues.org
SUMMARY:Trailer Park Kings at The Spar
DESCRIPTION:October 14th at The Spar\, The Trailer Park Kings\, 7pm
URL:https://southsoundblues.org/event/trailer-park-kings-at-the-spar-6/
LOCATION:The Spar\, 2121 N 30th St\, Tacoma\, WA\, 98403
CATEGORIES:Local South Sound Blues
END:VEVENT
BEGIN:VEVENT
DTSTART;TZID=America/Los_Angeles:20231015T150000
DTEND;TZID=America/Los_Angeles:20231015T170000
DTSTAMP:20260425T145323
CREATED:20230920T222043Z
LAST-MODIFIED:20230920T222354Z
UID:11417-1697382000-1697389200@southsoundblues.org
SUMMARY:Alice Stuart's Celebration of Life\, at the Spanish Ballroom at McMenamins Elks Temple\, Tacoma
DESCRIPTION:Alice Stuart’s Celebration of Life will be held on October 15th\, 2023\, at Spanish Ballroom at McMenamins Elks Temple in Tacoma\, WA. Doors will open at 3pm. The Event will be hosted by Rev. Dave Brown.\nJoin us as we celebrate the life of Alice Stuart through words and music. There will be music from some of her favorite stage mates\, featuring Lee Oskar\, Annette Taborn with Nick Vigarino\, Baby Gramps\, Jim Valley\, Marc Willett\, Steven Flynn\, John Hanford\, Joel Tepp\, Kim Field\, Liz Latham & Friends\, Annika Forest-Peterson.\nAlice Stuart was a force of nature\, on and off stage. She was one of a kind and a trailblazer for female singers\, songwriters\, and guitarists. Through small coffeehouse gigs she gained recognition and was booked for the 1964 Berkeley Folk Festival and was an original member of Frank Zappa’s Mothers of Invention. She went on to record 9 albums\, tour internationally and share the stage with Van Morrison\, Mississippi John Hurt\, Albert King\, John Prine\, Joan Baez\, Jerry Garcia and Phil Ochs. She became a Washington Blues Society Hall of Famer in 2004\, and again in 2014 with her band Alice Stuart & The Formerlys\, and received their Lifetime Achievement award in 2008.\nWhether she was playing her Stratocaster or baking an amazing cake\, her energy and dedication to her craft always turned heads. She is remembered by generations of adoring fans\, 3 children\, 6 grandchildren\, and 2 great-grandchildren.\n(event page cover photo by John Jacob)\n\nMore Info at the Spanish Ballroom website: https://www.mcmenamins.com/supervenueevent.aspx…
URL:https://southsoundblues.org/event/alice-stuarts-celebration-of-life-at-the-spanish-ballroom-at-mcmenamins-elks-temple-tacoma/
LOCATION:McMenaminsTacoma Elks\, 565 Broadway\, Tacoma\, WA\, 98402
CATEGORIES:Special Event
END:VEVENT
BEGIN:VEVENT
DTSTART;TZID=America/Los_Angeles:20231015T190000
DTEND;TZID=America/Los_Angeles:20231015T220000
DTSTAMP:20260425T145323
CREATED:20230907T213326Z
LAST-MODIFIED:20230907T213326Z
UID:11340-1697396400-1697407200@southsoundblues.org
SUMMARY:Sunday Blues at the Spar with the Tim Turner Band
DESCRIPTION:Oct 15th. Sunday Blues at the Spar with the Tim Turner Band 7-10 pm
URL:https://southsoundblues.org/event/sunday-blues-at-the-spar-with-the-tim-turner-band/
LOCATION:The Spar\, 2121 N 30th St\, Tacoma\, WA\, 98403
CATEGORIES:Local South Sound Blues
END:VEVENT
BEGIN:VEVENT
DTSTART;TZID=America/Los_Angeles:20231016T190000
DTEND;TZID=America/Los_Angeles:20231016T190000
DTSTAMP:20260425T145323
CREATED:20230819T022451Z
LAST-MODIFIED:20230819T022451Z
UID:11231-1697482800-1697482800@southsoundblues.org
SUMMARY:Monday Night Jams at HD’s Bar & Grill\, Belfair
DESCRIPTION:Monday Night Jams at HD’s Bar & Grill\, Belfair\, WA 7pm
URL:https://southsoundblues.org/event/monday-night-jams-at-hds-bar-grill-belfair-4/
LOCATION:HD’s Pub\, 24131 SR-3 \, Belfair\, WA\, 98528
CATEGORIES:Local South Sound Blues
END:VEVENT
BEGIN:VEVENT
DTSTART;TZID=America/Los_Angeles:20231017T190000
DTEND;TZID=America/Los_Angeles:20231017T220000
DTSTAMP:20260425T145323
CREATED:20230819T023814Z
LAST-MODIFIED:20230819T023814Z
UID:11243-1697569200-1697580000@southsoundblues.org
SUMMARY:Tuesday Bluesday at Brother Don’s Bar & Grill\, Jam with The Tim Hall Band
DESCRIPTION:Tuesday Bluesday at Brother Don’s Bar & Grill\, Jam with The Tim Hall Band\, 7-10 pm\n 
URL:https://southsoundblues.org/event/tuesday-bluesday-at-brother-dons-bar-grill-jam-with-the-tim-hall-band-4/
LOCATION:Brother Don’s Bar & Grill\, 4200 Kitsap Way\, Bremerton\, WA\, 98312
CATEGORIES:Local South Sound Blues
END:VEVENT
BEGIN:VEVENT
DTSTART;TZID=America/Los_Angeles:20231017T193000
DTEND;TZID=America/Los_Angeles:20231018T220000
DTSTAMP:20260425T145323
CREATED:20230926T202106Z
LAST-MODIFIED:20230926T202504Z
UID:11422-1697571000-1697666400@southsoundblues.org
SUMMARY:Shemekia Copeland at Dimitiriou's Jazz Alley
DESCRIPTION:Dimitiriou’s Jazz Alley presents 4X Grammy-nominated blues/roots singer and national treasure\, Shemekia Copeland for two nights\, on tour in support of her new release Done Come Too Far. Band members are Shemekia Copeland (vocals)\, Arthur Neilson (lead guitar)\, Willie Scandlyn (rhythm guitar)\, Kevin Jenkins (bass) and Robin Gould III (drums). Show times are Tuesday and Wednesday at 7:30pm. Doors open at 6:00pm each night.\nhttps://www.jazzalley.com/www-home/artist.jsp?shownum=7474 \nThis show is supported by KNKX and the Washington Blues Society.\nShemekia Copeland\, TUEs\, OCT 17 – WED\, OCT 18\, 2023\n\n“Copeland provides a soundtrack for contemporary America…powerful\, ferocious\, clear-eyed and hopeful…She’s in such control of her voice that she can scream at injustices before she soothes with loving hope. It sends shivers up your spine.” – Living Blues
URL:https://southsoundblues.org/event/shemekia-copeland-at-dimitirious-jazz-alley/
LOCATION:Dimitriou’s Jazz Alley\, 2033 6th Avenue\, Seattle\, WA\, 98121
CATEGORIES:Featured
END:VEVENT
BEGIN:VEVENT
DTSTART;TZID=America/Los_Angeles:20231018T180000
DTEND;TZID=America/Los_Angeles:20231018T200000
DTSTAMP:20260425T145323
CREATED:20230809T183326Z
LAST-MODIFIED:20230809T183326Z
UID:11059-1697652000-1697659200@southsoundblues.org
SUMMARY:Steve Itterly & Jonathan Pitman at the Mill
DESCRIPTION:Steve Itterly & Jonathan Pitman at the Mill October 18th\, 6 pm
URL:https://southsoundblues.org/event/steve-itterly-jonathan-pitman-at-the-mill/
LOCATION:The Mill of Milton\, 900 Meridian E. #50\, Milton\, WA\, 98354
CATEGORIES:Local South Sound Blues
END:VEVENT
BEGIN:VEVENT
DTSTART;TZID=America/Los_Angeles:20231018T180000
DTEND;TZID=America/Los_Angeles:20231018T210000
DTSTAMP:20260425T145323
CREATED:20230912T010354Z
LAST-MODIFIED:20231012T002853Z
UID:11379-1697652000-1697662800@southsoundblues.org
SUMMARY:LTD Presents Event - Farrell/Hudson and Friends at The Spar
DESCRIPTION:October 18th\, at The Spar\, Tacoma: LTD Presents Event – Farrell/Hudson and Friends\, 6pm
URL:https://southsoundblues.org/event/ltd-presents-event-farrell-hudson-and-friends-at-the-spar/
LOCATION:The Spar\, 2121 N 30th St\, Tacoma\, WA\, 98403
CATEGORIES:Local South Sound Blues
END:VEVENT
BEGIN:VEVENT
DTSTART;TZID=America/Los_Angeles:20231018T190000
DTEND;TZID=America/Los_Angeles:20231018T220000
DTSTAMP:20260425T145323
CREATED:20230819T024948Z
LAST-MODIFIED:20230819T024948Z
UID:11255-1697655600-1697666400@southsoundblues.org
SUMMARY:Every Wednesday Night Blues Jam at Bub’s Pub Sports Bar & Grill
DESCRIPTION:Every Wednesday Night Blues Jam at Bub’s Pub Sports Bar & Grill\, 7-10 pm
URL:https://southsoundblues.org/event/every-wednesday-night-blues-jam-at-bubs-pub-sports-bar-grill-7/
LOCATION:Bub’s Pub Bar & Grill\, 1326 Harrison Ave\, Centralia\, WA\, 98531
CATEGORIES:Local South Sound Blues
END:VEVENT
BEGIN:VEVENT
DTSTART;TZID=America/Los_Angeles:20231019T190000
DTEND;TZID=America/Los_Angeles:20231019T190000
DTSTAMP:20260425T145323
CREATED:20230731T233854Z
LAST-MODIFIED:20231009T202743Z
UID:11032-1697742000-1697742000@southsoundblues.org
SUMMARY:LTD Presents Tia Carroll at West of The Waterway\, Tacoma
DESCRIPTION:LTD Presents Tia Carroll at West of The Waterway\, 7pm\nDon’t miss Tia Carroll here in Tacoma on her first Pacific Northwest Tour! Joining Ms. Carroll will be Derrick “D’Mar” Martin\, former drummer for Little Richard and current drummer for Rick Estrin & The Nightcats; also with The Nightcats\, Lorenzo Farrell will be on keys; with PNW favorites\, Tom Boyle on guitar and Brady Kish on bass. \nGET YOUR TICKETS TODAY!**\nOR go to: www.LTDPresentsLIVE.com\n 
URL:https://southsoundblues.org/event/ltd-presents-tia-carroll-at-west-of-the-waterway-tacoma/
LOCATION:Dock Street Deli West of the Waterway\, 1901 Dock Street\, Tacoma\, WA\, 98402
CATEGORIES:Local South Sound Blues
END:VEVENT
BEGIN:VEVENT
DTSTART;TZID=America/Los_Angeles:20231019T190000
DTEND;TZID=America/Los_Angeles:20231019T220000
DTSTAMP:20260425T145323
CREATED:20230819T030131Z
LAST-MODIFIED:20230819T030131Z
UID:11264-1697742000-1697752800@southsoundblues.org
SUMMARY:Big Al’s Blues Jam Every Thursday at the New Moon Craft Tavern\, Port Angeles
DESCRIPTION:Big Al’s Blues Jam Every Thursday at the New Moon Craft Tavern\, Port Angeles\, 7-10 pm
URL:https://southsoundblues.org/event/big-als-blues-jam-every-thursday-at-the-new-moon-craft-tavern-port-angeles-15/
LOCATION:New Moon Craft Tavern\, 130 S Lincoln St\, Port Angeles\, WA\, 98362
CATEGORIES:Local South Sound Blues
END:VEVENT
BEGIN:VEVENT
DTSTART;TZID=America/Los_Angeles:20231020T193000
DTEND;TZID=America/Los_Angeles:20231020T193000
DTSTAMP:20260425T145323
CREATED:20230912T010643Z
LAST-MODIFIED:20230912T010643Z
UID:11381-1697830200-1697830200@southsoundblues.org
SUMMARY:Tia Carroll at The Palindrome Port Townsend Event Center
DESCRIPTION:October 20th. Palindrome Port Townsend Event Center: Tia Carroll – California’s Queen of the Blues and Her Awesome Band 7:30pm
URL:https://southsoundblues.org/event/tia-carroll-at-the-palindrome-port-townsend-event-center/
LOCATION:Palindrome Port Townsend Event Center\, 1893 S Jacob Miller Rd\, Port Townsend\, WA\, 98368
CATEGORIES:Local South Sound Blues
END:VEVENT
BEGIN:VEVENT
DTSTART;TZID=America/Los_Angeles:20231020T200000
DTEND;TZID=America/Los_Angeles:20231020T230000
DTSTAMP:20260425T145323
CREATED:20230810T022901Z
LAST-MODIFIED:20230810T022901Z
UID:11115-1697832000-1697842800@southsoundblues.org
SUMMARY:Cory Wilds Band at JP's Barroom\, Renton
DESCRIPTION:Cory Wilds Band at JP’s Barroom October 20th\, 8-11 pm\n\n  \n  \n  \nLocation: JP’s Barroom\, 214 Williams Ave S\, Renton\, WA 98057\, USA
URL:https://southsoundblues.org/event/cory-wilds-band-at-jps-barroom-renton-3/
LOCATION:JP’s Barroom\, 214 Williams Ave S\, Renton\, WA\, 98057
CATEGORIES:Local South Sound Blues
END:VEVENT
BEGIN:VEVENT
DTSTART;TZID=America/Los_Angeles:20231021T190000
DTEND;TZID=America/Los_Angeles:20231021T220000
DTSTAMP:20260425T145323
CREATED:20230913T185805Z
LAST-MODIFIED:20230913T185805Z
UID:11385-1697914800-1697925600@southsoundblues.org
SUMMARY:Fab Three at The Spar
DESCRIPTION:October 21st at The Spar\, The Fab Three starting at 7pm
URL:https://southsoundblues.org/event/fab-three-at-the-spar/
LOCATION:The Spar\, 2121 N 30th St\, Tacoma\, WA\, 98403
CATEGORIES:Featured
END:VEVENT
BEGIN:VEVENT
DTSTART;TZID=America/Los_Angeles:20231021T190000
DTEND;TZID=America/Los_Angeles:20231021T223000
DTSTAMP:20260425T145323
CREATED:20231013T182909Z
LAST-MODIFIED:20231013T182909Z
UID:11498-1697914800-1697927400@southsoundblues.org
SUMMARY:Linda Carroll & Retro Grüve are performing on The Second City Stage at Chi-Town Pizza
DESCRIPTION:Linda Carroll & Retro Grüve are performing on the Second City Stage at Chi-Town Pizza\, October 21st\, 7-10:30 pm.
URL:https://southsoundblues.org/event/linda-carroll-retro-gruve-are-performing-on-the-second-city-stage-at-chi-town-pizza/
LOCATION:Chitown Pizza\, 15619 Pacific Ave S\, Tacoma\, WA\, 98444
CATEGORIES:Local South Sound Blues
END:VEVENT
BEGIN:VEVENT
DTSTART;TZID=America/Los_Angeles:20231022T190000
DTEND;TZID=America/Los_Angeles:20231022T220000
DTSTAMP:20260425T145323
CREATED:20230907T213612Z
LAST-MODIFIED:20230907T213612Z
UID:11343-1698001200-1698012000@southsoundblues.org
SUMMARY:Sunday Blues at the Spar with Michele D'Amour & the Love Dealers
DESCRIPTION:Oct 22nd. The Spar\, Sunday Blues – Michele D’Amour & The Love Dealers 7-10 pm
URL:https://southsoundblues.org/event/sunday-blues-at-the-spar-with-michele-damour-the-love-dealers/
LOCATION:The Spar\, 2121 N 30th St\, Tacoma\, WA\, 98403
CATEGORIES:Local South Sound Blues
END:VEVENT
BEGIN:VEVENT
DTSTART;TZID=America/Los_Angeles:20231022T190000
DTEND;TZID=America/Los_Angeles:20231022T230000
DTSTAMP:20260425T145323
CREATED:20230819T021841Z
LAST-MODIFIED:20230819T021841Z
UID:11227-1698001200-1698015600@southsoundblues.org
SUMMARY:Billy Shew Blues Jam\, every Sunday at Dawson’s
DESCRIPTION:Billy Shew Blues Jam\, every Sunday at Dawson’s\, 7-11 pm
URL:https://southsoundblues.org/event/billy-shew-blues-jam-every-sunday-at-dawsons-9/
LOCATION:Dawson’s Bar & Grill\, 5443 South Tacoma Way\, Tacoma\, WA\, 98409
CATEGORIES:Local South Sound Blues
END:VEVENT
BEGIN:VEVENT
DTSTART;TZID=America/Los_Angeles:20231024T180000
DTEND;TZID=America/Los_Angeles:20231024T210000
DTSTAMP:20260425T145323
CREATED:20231022T195133Z
LAST-MODIFIED:20231022T195133Z
UID:11514-1698170400-1698181200@southsoundblues.org
SUMMARY:Joel Astley and Friends at the Quil Ceda Creek Casino
DESCRIPTION:October 24\, Tulalip\, WA – Joel Astley and Friends – Quil Ceda Creek Casino\, 6-9
URL:https://southsoundblues.org/event/joel-astley-and-friends-at-the-quil-ceda-creek-casino/
LOCATION:Quil Ceda Creek Casino\, 6221-31st Avenue NE\, TULALIP\, WA\, 98271
CATEGORIES:Featured
END:VEVENT
BEGIN:VEVENT
DTSTART;TZID=America/Los_Angeles:20231024T190000
DTEND;TZID=America/Los_Angeles:20231024T190000
DTSTAMP:20260425T145323
CREATED:20230819T024042Z
LAST-MODIFIED:20230819T024042Z
UID:11245-1698174000-1698174000@southsoundblues.org
SUMMARY:Billy Shew and friends Jam every Tuesday at the Burien Eagles
DESCRIPTION:Billy Shew and friends Jam every Tuesday at the Burien Eagles\, 7pm
URL:https://southsoundblues.org/event/billy-shew-and-friends-jam-every-tuesday-at-the-burien-eagles-12/
LOCATION:Burien Eagles\, 920 SW 150th St\, Burien\, WA\, 98166
CATEGORIES:Local South Sound Blues
END:VEVENT
BEGIN:VEVENT
DTSTART;TZID=America/Los_Angeles:20231025T190000
DTEND;TZID=America/Los_Angeles:20231025T190000
DTSTAMP:20260425T145323
CREATED:20230913T190454Z
LAST-MODIFIED:20230913T190454Z
UID:11389-1698260400-1698260400@southsoundblues.org
SUMMARY:Jazz Overhaul at The Spar
DESCRIPTION:October 25th at The Spar\, Funky Jazz Wednesday with ‘Jazz Overhaul’ 7pm
URL:https://southsoundblues.org/event/jazz-overhaul-at-the-spar-2/
LOCATION:The Spar\, 2121 N 30th St\, Tacoma\, WA\, 98403
CATEGORIES:Featured
END:VEVENT
BEGIN:VEVENT
DTSTART;TZID=America/Los_Angeles:20231026T190000
DTEND;TZID=America/Los_Angeles:20231026T220000
DTSTAMP:20260425T145323
CREATED:20230819T025743Z
LAST-MODIFIED:20230819T025915Z
UID:11262-1698346800-1698357600@southsoundblues.org
SUMMARY:Thursday’s Front Street Blues Revue at the Slippery Pig Brewery\, Poulsbo
DESCRIPTION:Thursday’s Front Street Blues Revue at the Slippery Pig Brewery\, Poulsbo\, 7-10 pm
URL:https://southsoundblues.org/event/thursdays-front-street-blues-revue-at-the-slippery-pig-brewery-poulsbo-4/
LOCATION:Slippery Pig Brewery\, 18801 Front St NE\, Poulsbo\, WA\, 98370
CATEGORIES:Local South Sound Blues
END:VEVENT
BEGIN:VEVENT
DTSTART;TZID=America/Los_Angeles:20231027T190000
DTEND;TZID=America/Los_Angeles:20231027T210000
DTSTAMP:20260425T145323
CREATED:20230913T190748Z
LAST-MODIFIED:20230913T190748Z
UID:11391-1698433200-1698440400@southsoundblues.org
SUMMARY:Cosmic Jazz Quartet at Kimball Coffeehouse
DESCRIPTION:October 27th at Kimball Coffeehouse\, Cosmic Jazz Quartet\, 7pm
URL:https://southsoundblues.org/event/cosmic-jazz-quartet-at-kimball-coffeehouse/
LOCATION:Kimball’s Coffeehouse\, 6659 Kimball Dr\, Gig Harbor\, WA\, 98335
CATEGORIES:Featured
END:VEVENT
BEGIN:VEVENT
DTSTART;TZID=America/Los_Angeles:20231027T213000
DTEND;TZID=America/Los_Angeles:20231027T213000
DTSTAMP:20260425T145323
CREATED:20230913T190148Z
LAST-MODIFIED:20230913T190148Z
UID:11387-1698442200-1698442200@southsoundblues.org
SUMMARY:Billy Stapleton's Powerhouse at Bakes Place
DESCRIPTION:October 27th at Bakes Place\, Bellevue: Billy Stapleton’s Powerhouse Band starting at 9:30pm
URL:https://southsoundblues.org/event/billy-stapletons-powerhouse-at-bakes-place-2/
LOCATION:Bake’s Place\, 155 108th Ave NE Ste 110\, Bellevue\, WA\, 98004
CATEGORIES:Local South Sound Blues
END:VEVENT
BEGIN:VEVENT
DTSTART;TZID=America/Los_Angeles:20231028T183000
DTEND;TZID=America/Los_Angeles:20231028T213000
DTSTAMP:20260425T145323
CREATED:20230619T221524Z
LAST-MODIFIED:20230619T221524Z
UID:10671-1698517800-1698528600@southsoundblues.org
SUMMARY:The Spin-Offs at The Beach House at the MarDon Resort\, Othello
DESCRIPTION:10/28\, 6:30-9:30\, The Spin-Offs at The Beach House\, MarDon Resort\, 8198 Hwy 262 SE\, Othello\, WA
URL:https://southsoundblues.org/event/the-spin-offs-at-the-beach-house-at-the-mardon-resort-othello/
LOCATION:THE BEACH HOUSE AT MARDON RESORT\, 8198 HWY 262 SE\, OTHELL\, WA\, 99344
CATEGORIES:Featured
END:VEVENT
BEGIN:VEVENT
DTSTART;TZID=America/Los_Angeles:20231028T193000
DTEND;TZID=America/Los_Angeles:20231028T220000
DTSTAMP:20260425T145323
CREATED:20231022T195413Z
LAST-MODIFIED:20231022T195413Z
UID:11516-1698521400-1698530400@southsoundblues.org
SUMMARY:Joel Astley band at the Rockfish Grill\, Anacortes
DESCRIPTION:Joel Astley\, October 28th\, Anacortes\, WA – Rockfish Grill 7:30-10:00
URL:https://southsoundblues.org/event/joel-astley-band-at-the-rockfish-grill-anacortes/
LOCATION:Rockfish Grill & Brewery\, 320 Commercial Ave\, Anacortes\, WA\, 98221
CATEGORIES:Featured
END:VEVENT
BEGIN:VEVENT
DTSTART;TZID=America/Los_Angeles:20231028T210000
DTEND;TZID=America/Los_Angeles:20231028T233000
DTSTAMP:20260425T145323
CREATED:20230907T211950Z
LAST-MODIFIED:20230907T211950Z
UID:11331-1698526800-1698535800@southsoundblues.org
SUMMARY:Cory Wilds Band at Stimpy's bar & grill
DESCRIPTION:Cory Wilds Band at Stimpy’s October 28th\, 9-11:30 pm
URL:https://southsoundblues.org/event/cory-wilds-band-at-stimpys-bar-grill-3/
LOCATION:Stimpy’s Sports Bar and Grill\, 25608 Pacific Hwy S\, Kent\, WA\, 98032
CATEGORIES:Local South Sound Blues
END:VEVENT
BEGIN:VEVENT
DTSTART;TZID=America/Los_Angeles:20231029T190000
DTEND;TZID=America/Los_Angeles:20231029T220000
DTSTAMP:20260425T145323
CREATED:20230907T213939Z
LAST-MODIFIED:20230907T213939Z
UID:11346-1698606000-1698616800@southsoundblues.org
SUMMARY:Sunday Blues at the Spar with King Kom Beaux
DESCRIPTION:Sunday Blues at the Spar with King Kom Beaux\, October 29th\, 7-10 pm
URL:https://southsoundblues.org/event/sunday-blues-at-the-spar-with-king-kom-beaux/
LOCATION:The Spar\, 2121 N 30th St\, Tacoma\, WA\, 98403
CATEGORIES:Local South Sound Blues
END:VEVENT
BEGIN:VEVENT
DTSTART;TZID=America/Los_Angeles:20231029T190000
DTEND;TZID=America/Los_Angeles:20231029T230000
DTSTAMP:20260425T145323
CREATED:20230902T185440Z
LAST-MODIFIED:20230902T185440Z
UID:11319-1698606000-1698620400@southsoundblues.org
SUMMARY:Billy Shew Blues Jam\, every Sunday at Dawson’s
DESCRIPTION:Billy Shew Blues Jam\, every Sunday at Dawson’s\, 7-11 pm
URL:https://southsoundblues.org/event/billy-shew-blues-jam-every-sunday-at-dawsons-10/
LOCATION:Dawson’s Bar & Grill\, 5443 South Tacoma Way\, Tacoma\, WA\, 98409
CATEGORIES:Local South Sound Blues
END:VEVENT
BEGIN:VEVENT
DTSTART;TZID=America/Los_Angeles:20231031T190000
DTEND;TZID=America/Los_Angeles:20231031T210000
DTSTAMP:20260425T145323
CREATED:20230817T195119Z
LAST-MODIFIED:20230817T195119Z
UID:11170-1698778800-1698786000@southsoundblues.org
SUMMARY:Tuesday "Blues Showcase" at Purdy's Public House and Arcade\, featuring Mark Hurwitz & Gin Creek\, Sumner
DESCRIPTION:Tuesday “Blues Showcase” at Purdy’s Public House and Arcade\, featuring Mark Hurwitz & Gin Creek\, October 31st\, 7-9 pm
URL:https://southsoundblues.org/event/tuesday-blues-showcase-at-purdys-public-house-and-arcade-featuring-mark-hurwitz-gin-creek-sumner/
LOCATION:Purdy’s Public House & Arcade\, Sumner\, 16202 64th St E\, Sumner\, WA\, 98390
CATEGORIES:Local South Sound Blues
END:VEVENT
BEGIN:VEVENT
DTSTART;TZID=America/Los_Angeles:20231102T180000
DTEND;TZID=America/Los_Angeles:20231102T200000
DTSTAMP:20260425T145323
CREATED:20231030T185429Z
LAST-MODIFIED:20231030T185429Z
UID:11541-1698948000-1698955200@southsoundblues.org
SUMMARY:The Blue Tide\, Blues at Metier Brewing taproom
DESCRIPTION:The Blue Tide will be playing some blues at Metier Brewing taproom\, Thursday\, November 2nd\, 6-8pm.\n \n\n2616 E Cherry St\, Seattle\, WA 98122-4934\, United States
URL:https://southsoundblues.org/event/the-blue-tide-blues-at-metier-brewing-taproom/
LOCATION:Metier Brewing Taproom\, 2616 E Cherry St\, Seattle\, WA\, 98122
END:VEVENT
END:VCALENDAR