BEGIN:VCALENDAR
VERSION:2.0
PRODID:-//South Sound Blues Association - ECPv6.15.18//NONSGML v1.0//EN
CALSCALE:GREGORIAN
METHOD:PUBLISH
X-WR-CALNAME:South Sound Blues Association
X-ORIGINAL-URL:https://southsoundblues.org
X-WR-CALDESC:Events for South Sound Blues Association
REFRESH-INTERVAL;VALUE=DURATION:PT1H
X-Robots-Tag:noindex
X-PUBLISHED-TTL:PT1H
BEGIN:VTIMEZONE
TZID:America/Los_Angeles
BEGIN:DAYLIGHT
TZOFFSETFROM:-0800
TZOFFSETTO:-0700
TZNAME:PDT
DTSTART:20220313T100000
END:DAYLIGHT
BEGIN:STANDARD
TZOFFSETFROM:-0700
TZOFFSETTO:-0800
TZNAME:PST
DTSTART:20221106T090000
END:STANDARD
BEGIN:DAYLIGHT
TZOFFSETFROM:-0800
TZOFFSETTO:-0700
TZNAME:PDT
DTSTART:20230312T100000
END:DAYLIGHT
BEGIN:STANDARD
TZOFFSETFROM:-0700
TZOFFSETTO:-0800
TZNAME:PST
DTSTART:20231105T090000
END:STANDARD
BEGIN:DAYLIGHT
TZOFFSETFROM:-0800
TZOFFSETTO:-0700
TZNAME:PDT
DTSTART:20240310T100000
END:DAYLIGHT
BEGIN:STANDARD
TZOFFSETFROM:-0700
TZOFFSETTO:-0800
TZNAME:PST
DTSTART:20241103T090000
END:STANDARD
END:VTIMEZONE
BEGIN:VEVENT
DTSTART;TZID=America/Los_Angeles:20230106T190000
DTEND;TZID=America/Los_Angeles:20230106T210000
DTSTAMP:20260425T201254
CREATED:20221002T212733Z
LAST-MODIFIED:20221228T203229Z
UID:8967-1673031600-1673038800@southsoundblues.org
SUMMARY:Emerald City Throwdown at Kimball's Coffeehouse
DESCRIPTION:Emerald City Throwdown at Kimball Coffeehouse January 6th\, 7-9 pm\nExplosive\, spectacular and the epitome of funk – this is Emerald City Throwdown!\nMark you calendars and get here early. Doors open 6pm!\n\n  \n  \n  \n 
URL:https://southsoundblues.org/event/joe-t-cook-blues-band-featuring-tim-sherman-at-kimballs-coffeehouse/
LOCATION:Kimball’s Coffeehouse\, 6659 Kimball Dr\, Gig Harbor\, WA\, 98335
CATEGORIES:Local South Sound Blues
END:VEVENT
BEGIN:VEVENT
DTSTART;TZID=America/Los_Angeles:20230105T190000
DTEND;TZID=America/Los_Angeles:20230105T220000
DTSTAMP:20260425T201254
CREATED:20221221T225527Z
LAST-MODIFIED:20221221T225527Z
UID:9449-1672945200-1672956000@southsoundblues.org
SUMMARY:Big Al’s Blues Jam Every Thursday at the New Moon Craft Tavern\, Port Angeles
DESCRIPTION:Big Al’s Blues Jam Every Thursday at the New Moon Craft Tavern\, Port Angeles\n\n7:00 – 10:00 pm
URL:https://southsoundblues.org/event/big-als-blues-jam-every-thursday-at-the-new-moon-craft-tavern-port-angeles-8/
LOCATION:New Moon Craft Tavern\, 130 S Lincoln St\, Port Angeles\, WA\, 98362
CATEGORIES:Local South Sound Blues
END:VEVENT
BEGIN:VEVENT
DTSTART;TZID=America/Los_Angeles:20230105T180000
DTEND;TZID=America/Los_Angeles:20230105T200000
DTSTAMP:20260425T201254
CREATED:20221216T203257Z
LAST-MODIFIED:20221216T203443Z
UID:9383-1672941600-1672948800@southsoundblues.org
SUMMARY:Whitewing Duo (featuring East Coast Dave) at Spada Farmhouse Brewery
DESCRIPTION:THURSDAY\, JANUARY 5th\, 2023  6 – 8 PM\n\nWhitewing Duo (featuring East Coast Dave) at Spada Farmhouse Brewery\n \n 
URL:https://southsoundblues.org/event/whitewing-duo-featuring-east-coast-dave-at-spada-farmhouse-brewery/
LOCATION:Spada Farmhouse Brewery\, 709 1st Street\, Snohomish\, WA\, 98290
CATEGORIES:Featured
END:VEVENT
BEGIN:VEVENT
DTSTART;TZID=America/Los_Angeles:20230104T180000
DTEND;TZID=America/Los_Angeles:20230104T210000
DTSTAMP:20260425T201254
CREATED:20221221T231006Z
LAST-MODIFIED:20221221T231006Z
UID:9460-1672855200-1672866000@southsoundblues.org
SUMMARY:Billy Shew and Friends open Jam every Wednesday at Stockton's
DESCRIPTION:Billy Shew and Friends host an open Jam every Wednesday at Stockton’s\, 6-9 pm
URL:https://southsoundblues.org/event/billy-shew-and-friends-open-jam-every-wednesday-at-stocktons/
LOCATION:Stockton’s Restaurant & Spirits\, 23220 Maple Valley Black Diamond Rd SE\, Maple Valley\, WA\, 98038
CATEGORIES:Local South Sound Blues
END:VEVENT
BEGIN:VEVENT
DTSTART;TZID=America/Los_Angeles:20230103T190000
DTEND;TZID=America/Los_Angeles:20230103T230000
DTSTAMP:20260425T201254
CREATED:20221221T224924Z
LAST-MODIFIED:20221221T232544Z
UID:9447-1672772400-1672786800@southsoundblues.org
SUMMARY:Billy Shew and friends Jam every Tuesday at the Burien Eagles
DESCRIPTION:Billy Shew and friends Jam every Tuesday at the Burien Eagles\, 7-11 pm
URL:https://southsoundblues.org/event/billy-shew-and-friends-jam-every-tuesday-at-the-burien-eagles/
LOCATION:Burien Eagles\, 920 SW 150th St\, Burien\, WA\, 98166
CATEGORIES:Local South Sound Blues
END:VEVENT
BEGIN:VEVENT
DTSTART;TZID=America/Los_Angeles:20230102T200000
DTEND;TZID=America/Los_Angeles:20230102T220000
DTSTAMP:20260425T201254
CREATED:20221221T224636Z
LAST-MODIFIED:20221221T224636Z
UID:9445-1672689600-1672696800@southsoundblues.org
SUMMARY:Mike Witmer hosts “Mojo Mike’s Blues Revue” every Monday on KVSH 101.9 FM
DESCRIPTION:Mike Witmer hosts “Mojo Mike’s Blues Revue” Monday evenings\, on KVSH 101.9 FM 8-10 pm
URL:https://southsoundblues.org/event/mike-witmer-hosts-mojo-mikes-blues-revue-every-monday-on-kvsh-101-9-fm/
LOCATION:WA
CATEGORIES:Local South Sound Blues
END:VEVENT
BEGIN:VEVENT
DTSTART;TZID=America/Los_Angeles:20230101T190000
DTEND;TZID=America/Los_Angeles:20230101T230000
DTSTAMP:20260425T201254
CREATED:20221221T224118Z
LAST-MODIFIED:20221221T224316Z
UID:9442-1672599600-1672614000@southsoundblues.org
SUMMARY:Tim Hall Blues Jam\, every Sunday at Dawson's
DESCRIPTION:Tim Hall Blues Jam\, every Sunday at Dawson’s 7-11 pm
URL:https://southsoundblues.org/event/tim-hall-blues-jam-every-sunday-at-dawsons/
LOCATION:Dawson’s Bar & Grill\, 5443 South Tacoma Way\, Tacoma\, WA\, 98409
CATEGORIES:Local South Sound Blues
END:VEVENT
BEGIN:VEVENT
DTSTART;TZID=America/Los_Angeles:20230101T190000
DTEND;TZID=America/Los_Angeles:20230101T220000
DTSTAMP:20260425T201254
CREATED:20221216T202925Z
LAST-MODIFIED:20221229T225743Z
UID:9380-1672599600-1672610400@southsoundblues.org
SUMMARY:Sunday Blues at the Spar with Heather Jones and The Groove Masters
DESCRIPTION:SUNDAY BLUES at The Spar: Heather Jones and The Groove Masters\, January 1st\, 7-10 pm
URL:https://southsoundblues.org/event/heather-jones-and-the-groove-masters-sunday-blues-at-the-spar/
LOCATION:The Spar\, 2121 N 30th St\, Tacoma\, WA\, 98403
CATEGORIES:Local South Sound Blues
END:VEVENT
BEGIN:VEVENT
DTSTART;VALUE=DATE:20230101
DTEND;VALUE=DATE:20230103
DTSTAMP:20260425T201254
CREATED:20220917T023301Z
LAST-MODIFIED:20220917T023301Z
UID:8791-1672538400-1672624799@southsoundblues.org
SUMMARY:Happy New Year 2023!
DESCRIPTION:We wish you a happy and healthy 2023
URL:https://southsoundblues.org/event/happy-new-year-2023/
LOCATION:WA
END:VEVENT
END:VCALENDAR