BEGIN:VCALENDAR
VERSION:2.0
PRODID:-//South Sound Blues Association - ECPv6.15.18//NONSGML v1.0//EN
CALSCALE:GREGORIAN
METHOD:PUBLISH
X-WR-CALNAME:South Sound Blues Association
X-ORIGINAL-URL:https://southsoundblues.org
X-WR-CALDESC:Events for South Sound Blues Association
REFRESH-INTERVAL;VALUE=DURATION:PT1H
X-Robots-Tag:noindex
X-PUBLISHED-TTL:PT1H
BEGIN:VTIMEZONE
TZID:America/Los_Angeles
BEGIN:DAYLIGHT
TZOFFSETFROM:-0800
TZOFFSETTO:-0700
TZNAME:PDT
DTSTART:20220313T100000
END:DAYLIGHT
BEGIN:STANDARD
TZOFFSETFROM:-0700
TZOFFSETTO:-0800
TZNAME:PST
DTSTART:20221106T090000
END:STANDARD
BEGIN:DAYLIGHT
TZOFFSETFROM:-0800
TZOFFSETTO:-0700
TZNAME:PDT
DTSTART:20230312T100000
END:DAYLIGHT
BEGIN:STANDARD
TZOFFSETFROM:-0700
TZOFFSETTO:-0800
TZNAME:PST
DTSTART:20231105T090000
END:STANDARD
BEGIN:DAYLIGHT
TZOFFSETFROM:-0800
TZOFFSETTO:-0700
TZNAME:PDT
DTSTART:20240310T100000
END:DAYLIGHT
BEGIN:STANDARD
TZOFFSETFROM:-0700
TZOFFSETTO:-0800
TZNAME:PST
DTSTART:20241103T090000
END:STANDARD
END:VTIMEZONE
BEGIN:VEVENT
DTSTART;TZID=America/Los_Angeles:20231202T193000
DTEND;TZID=America/Los_Angeles:20231202T220000
DTSTAMP:20260425T033159
CREATED:20231022T200127Z
LAST-MODIFIED:20231022T200127Z
UID:11520-1701545400-1701554400@southsoundblues.org
SUMMARY:Joel Astley Band at Pub 282\, Camano Island
DESCRIPTION:Joel Astley Band\, December 2nd\, Camano Island\, WA at pub 282 7:30-10:00pm
URL:https://southsoundblues.org/event/joel-astley-band-at-pub-282-camano-island/
LOCATION:Pub 282\, 370 NE Camano Dr #6\, Camano\, WA\, 98282
CATEGORIES:Featured
END:VEVENT
BEGIN:VEVENT
DTSTART;TZID=America/Los_Angeles:20231202T190000
DTEND;TZID=America/Los_Angeles:20231202T213000
DTSTAMP:20260425T033159
CREATED:20231102T230145Z
LAST-MODIFIED:20231102T230145Z
UID:11588-1701543600-1701552600@southsoundblues.org
SUMMARY:Billy Stoops Duo at the Lake City Pub
DESCRIPTION:Great Music at the Lake City Pub with Billy Stoops\, December 2nd\, 7 – 9:30 pm\nLake City Pub was Voted “Best Venue for Acoustic music” in the South Sound\, Lakewood\, WA.
URL:https://southsoundblues.org/event/billy-stoops-duo-at-the-lake-city-pub/
LOCATION:Lake City Pub\, 9106 Veterans Dr\, Lakewood\, WA\, 98498
CATEGORIES:Featured
END:VEVENT
BEGIN:VEVENT
DTSTART;TZID=America/Los_Angeles:20231202T160000
DTEND;TZID=America/Los_Angeles:20231202T190000
DTSTAMP:20260425T033159
CREATED:20230418T223653Z
LAST-MODIFIED:20230418T223653Z
UID:10178-1701532800-1701543600@southsoundblues.org
SUMMARY:Michele D'Amour & The Love Dealers at the Urban Elk
DESCRIPTION:Michele D’Amour & The Love Dealers at the Urban Elk\, December 2nd\, 4 pm
URL:https://southsoundblues.org/event/michele-damour-the-love-dealers-at-the-urban-elk-4/
LOCATION:Urban Elk\, 2013 S Cedar St\, Tacoma\, WA\, 98405
CATEGORIES:Local South Sound Blues
END:VEVENT
BEGIN:VEVENT
DTSTART;TZID=America/Los_Angeles:20231201T200000
DTEND;TZID=America/Los_Angeles:20231201T233000
DTSTAMP:20260425T033159
CREATED:20231110T013648Z
LAST-MODIFIED:20231110T013648Z
UID:11615-1701460800-1701473400@southsoundblues.org
SUMMARY:Heather Jones & The Groove Masters at JP's Barroom\, Renton
DESCRIPTION:December 1st\, Heather Jones & The Groove Masters at JP’s Barroom\, 8-11:30 pm\n \n214 Williams Ave So.\, Renton WA
URL:https://southsoundblues.org/event/heather-jones-the-groove-masters-at-jps-barroom-renton/
LOCATION:JP’s Bar and Grill\, 1055 Sunset Blvd NE\, Renton\, WA\, 98056
CATEGORIES:Local South Sound Blues
END:VEVENT
BEGIN:VEVENT
DTSTART;TZID=America/Los_Angeles:20231201T190000
DTEND;TZID=America/Los_Angeles:20231201T210000
DTSTAMP:20260425T033159
CREATED:20231122T020420Z
LAST-MODIFIED:20231122T020420Z
UID:11745-1701457200-1701464400@southsoundblues.org
SUMMARY:Jim Valley Project at Kimball Coffeehouse
DESCRIPTION:Jim Valley Project with a great night of 60’s and 70’s classics that never get old\, blended with original tunes. December 1st\, 7-9 pm at Kimball Coffeehouse\, Gig Harbor.
URL:https://southsoundblues.org/event/jim-valley-project-at-kimball-coffeehouse/
LOCATION:Kimball’s Coffeehouse\, 6659 Kimball Dr\, Gig Harbor\, WA\, 98335
CATEGORIES:Featured
END:VEVENT
BEGIN:VEVENT
DTSTART;TZID=America/Los_Angeles:20231130T200000
DTEND;TZID=America/Los_Angeles:20231130T200000
DTSTAMP:20260425T033159
CREATED:20230912T004132Z
LAST-MODIFIED:20230912T004132Z
UID:11358-1701374400-1701374400@southsoundblues.org
SUMMARY:Stevie & The Blue Flames at the Salmon Bay Eagles
DESCRIPTION:Stevie & The Blue Flames at the Salmon Bay Eagles November 30th\, 8pm\n 
URL:https://southsoundblues.org/event/stevie-the-blue-flames-at-the-salmon-bay-eagles-2/
LOCATION:Salmon Bay Eagles\, 5216 20th Ave NW\, Seattle\, WA\, 98107
CATEGORIES:Featured
END:VEVENT
BEGIN:VEVENT
DTSTART;TZID=America/Los_Angeles:20231130T190000
DTEND;TZID=America/Los_Angeles:20231130T220000
DTSTAMP:20260425T033159
CREATED:20231102T212829Z
LAST-MODIFIED:20231102T212829Z
UID:11569-1701370800-1701381600@southsoundblues.org
SUMMARY:Thursday’s Front Street Blues Revue at the Slippery Pig Brewery\, Poulsbo
DESCRIPTION:Thursday’s Front Street Blues Revue at the Slippery Pig Brewery\, Poulsbo\, 7-10 pm
URL:https://southsoundblues.org/event/thursdays-front-street-blues-revue-at-the-slippery-pig-brewery-poulsbo-5/
LOCATION:Slippery Pig Brewery\, 18801 Front St NE\, Poulsbo\, WA\, 98370
CATEGORIES:Local South Sound Blues
END:VEVENT
BEGIN:VEVENT
DTSTART;TZID=America/Los_Angeles:20231129T190000
DTEND;TZID=America/Los_Angeles:20231129T210000
DTSTAMP:20260425T033159
CREATED:20231102T205055Z
LAST-MODIFIED:20231102T205055Z
UID:11550-1701284400-1701291600@southsoundblues.org
SUMMARY:Eclypse Jazz Band at The Mill
DESCRIPTION:The Eclypse Jazz band at The Mill November 29th at 7pm\n\n\n\n\n\n\n\n\n\n\n\n\n\nJoin the Mill Town Stage in association with River Productions and Entertainment and The South Sound Blues Association as we welcome a quartet of jazz with the ECLYPSE JAZZ BAND live to the MTS! The gentlemen of ECLYPSE JAZZ love to play smooth jazz from your favorite artists such as Bob James\, George Benson and Larry Carlton. The group presently consists of Rene LeMesnager\, Ken Domino\, Rob Sturza and Mike Eckles. They hit the stage Nov 29th at 7pm. 25% off wine bottles and glass pours for “Winesday” and seafood specials to boot!
URL:https://southsoundblues.org/event/eclypse-jazz-band-at-the-mill/
LOCATION:The Mill of Milton\, 900 Meridian E. #50\, Milton\, WA\, 98354
CATEGORIES:Featured,Special Event
END:VEVENT
BEGIN:VEVENT
DTSTART;TZID=America/Los_Angeles:20231129T180000
DTEND;TZID=America/Los_Angeles:20231129T180000
DTSTAMP:20260425T033159
CREATED:20231012T235220Z
LAST-MODIFIED:20231012T235220Z
UID:11491-1701280800-1701280800@southsoundblues.org
SUMMARY:Velocity at The Spar
DESCRIPTION:Nov 29th. The Spar\, Tacoma: Funky Jazz – Velocity 6pm
URL:https://southsoundblues.org/event/velocity-at-the-spar-3/
LOCATION:The Spar\, 2121 N 30th St\, Tacoma\, WA\, 98403
CATEGORIES:Featured
END:VEVENT
BEGIN:VEVENT
DTSTART;TZID=America/Los_Angeles:20231128T190000
DTEND;TZID=America/Los_Angeles:20231128T210000
DTSTAMP:20260425T033159
CREATED:20230817T195509Z
LAST-MODIFIED:20230817T195509Z
UID:11172-1701198000-1701205200@southsoundblues.org
SUMMARY:Tuesday "Blues Showcase" at Purdy's Public House and Arcade featuring CD Woodbury\, Sumner
DESCRIPTION:Tuesday “Blues Showcase” at Purdy’s Public House and Arcade featuring the CD Woodbury Trio\, 7-9 pm.
URL:https://southsoundblues.org/event/tuesday-blues-showcase-at-purdys-public-house-and-arcade-featuring-cd-woodbury-sumner/
LOCATION:Purdy’s Public House & Arcade\, Sumner\, 16202 64th St E\, Sumner\, WA\, 98390
CATEGORIES:Local South Sound Blues
END:VEVENT
BEGIN:VEVENT
DTSTART;TZID=America/Los_Angeles:20231126T190000
DTEND;TZID=America/Los_Angeles:20231126T220000
DTSTAMP:20260425T033159
CREATED:20231012T231504Z
LAST-MODIFIED:20231103T201636Z
UID:11464-1701025200-1701036000@southsoundblues.org
SUMMARY:Sunday Blues at the Spar with The Soulful 88's
DESCRIPTION:Nov 26th. The Spar\, Sunday Blues with The Soulful 88’s!! 7pm
URL:https://southsoundblues.org/event/sunday-blues-at-the-spar-3/
LOCATION:The Spar\, 2121 N 30th St\, Tacoma\, WA\, 98403
CATEGORIES:Local South Sound Blues
END:VEVENT
BEGIN:VEVENT
DTSTART;TZID=America/Los_Angeles:20231125T193000
DTEND;TZID=America/Los_Angeles:20231125T193000
DTSTAMP:20260425T033159
CREATED:20231012T233420Z
LAST-MODIFIED:20231012T233420Z
UID:11477-1700940600-1700940600@southsoundblues.org
SUMMARY:Harp Attack at the Rockfish Grille with Mark DuFresne and Friends
DESCRIPTION:Nov 25th. Rockfish Grille & Anacortes Brewery\, Anacortes: Mark DuFresne’s Harp Attack – guests TBA 7:30pm
URL:https://southsoundblues.org/event/harp-attack-at-the-rockfish-grille-with-mark-dufresne-and-friends/
LOCATION:Rockfish Grill & Brewery\, 320 Commercial Ave\, Anacortes\, WA\, 98221
CATEGORIES:Featured
END:VEVENT
BEGIN:VEVENT
DTSTART;TZID=America/Los_Angeles:20231125T190000
DTEND;TZID=America/Los_Angeles:20231125T220000
DTSTAMP:20260425T033159
CREATED:20230721T204316Z
LAST-MODIFIED:20230721T204316Z
UID:10931-1700938800-1700949600@southsoundblues.org
SUMMARY:Retro-Gruve with Linda Carroll at the Spar
DESCRIPTION:Retro-Gruve with Linda Carroll at the Spar November 25th\, 7-10 pm
URL:https://southsoundblues.org/event/retro-gruve-with-linda-carroll-at-the-spar-2/
LOCATION:The Spar\, 2121 N 30th St\, Tacoma\, WA\, 98403
CATEGORIES:Local South Sound Blues
END:VEVENT
BEGIN:VEVENT
DTSTART;TZID=America/Los_Angeles:20231124T193000
DTEND;TZID=America/Los_Angeles:20231124T220000
DTSTAMP:20260425T033159
CREATED:20230926T203114Z
LAST-MODIFIED:20230926T203143Z
UID:11427-1700854200-1700863200@southsoundblues.org
SUMMARY:Dimitriou’s Jazz Alley presents the Taj Mahal Quartet
DESCRIPTION:Dimitriou’s Jazz Alley presents the Taj Mahal Quartet for their annual Thanksgiving residency. \nBand members include Taj Mahal (vocals\, guitar\, piano\, banjo and more)\, Bobby Ingano (guitar)\, Bill Rich (bass)\, Kester Smith (drums). Set times Friday and Saturday (11/17-18 and 11/24-25) at 7:30pm AND 9:30pm.\nhttps://www.jazzalley.com/www-home/artist.jsp?shownum=7480 \nSet times on Sunday (11/19 & 11/26)\, Tuesday (11/21) and Wednesday (11/22) at 7:30pm only. \nDoors open at 6:00pm Friday 11/17 and 5:30pm all other nights.
URL:https://southsoundblues.org/event/dimitrious-jazz-alley-presents-the-taj-mahal-quartet-2/
LOCATION:Dimitriou’s Jazz Alley\, 2033 6th Avenue\, Seattle\, WA\, 98121
CATEGORIES:Featured
END:VEVENT
BEGIN:VEVENT
DTSTART;VALUE=DATE:20231123
DTEND;VALUE=DATE:20231125
DTSTAMP:20260425T033159
CREATED:20231012T235529Z
LAST-MODIFIED:20231012T235629Z
UID:11493-1700704800-1700791199@southsoundblues.org
SUMMARY:Happy Thanksgiving!
DESCRIPTION:listen to some good music
URL:https://southsoundblues.org/event/happy-thanksgiving/
LOCATION:WA
CATEGORIES:Special Event
END:VEVENT
BEGIN:VEVENT
DTSTART;TZID=America/Los_Angeles:20231122T180000
DTEND;TZID=America/Los_Angeles:20231122T210000
DTSTAMP:20260425T033159
CREATED:20231102T212333Z
LAST-MODIFIED:20231102T212333Z
UID:11565-1700676000-1700686800@southsoundblues.org
SUMMARY:Billy Shew and Friends host an open Jam every Wednesday at Stockton’s
DESCRIPTION:Billy Shew and Friends host an open Jam every Wednesday at Stockton’s\, 6-9pm
URL:https://southsoundblues.org/event/billy-shew-and-friends-host-an-open-jam-every-wednesday-at-stocktons-11/
LOCATION:Stockton’s Restaurant & Spirits\, 23220 Maple Valley Black Diamond Rd SE\, Maple Valley\, WA\, 98038
CATEGORIES:Local South Sound Blues
END:VEVENT
BEGIN:VEVENT
DTSTART;TZID=America/Los_Angeles:20231121T190000
DTEND;TZID=America/Los_Angeles:20231121T220000
DTSTAMP:20260425T033159
CREATED:20231102T212013Z
LAST-MODIFIED:20231102T212104Z
UID:11562-1700593200-1700604000@southsoundblues.org
SUMMARY:Billy Shew and friends Jam every Tuesday at the Burien Eagles
DESCRIPTION:Billy Shew and friends Jam every Tuesday at the Burien Eagles\, 7pm\n Billy Shew photo by Dan Hill
URL:https://southsoundblues.org/event/billy-shew-and-friends-jam-every-tuesday-at-the-burien-eagles-15/
LOCATION:Burien Eagles\, 920 SW 150th St\, Burien\, WA\, 98166
CATEGORIES:Local South Sound Blues
END:VEVENT
BEGIN:VEVENT
DTSTART;TZID=America/Los_Angeles:20231120T200000
DTEND;TZID=America/Los_Angeles:20231120T220000
DTSTAMP:20260425T033159
CREATED:20231102T221918Z
LAST-MODIFIED:20231102T221918Z
UID:11582-1700510400-1700517600@southsoundblues.org
SUMMARY:Mike Witmer hosts “Mojo Mike’s Blues Revue” every Monday on KVSH 101.9 FM
DESCRIPTION:Mike Witmer hosts “Mojo Mike’s Blues Revue” every Monday on KVSH 101.9 FM 8-10 pm
URL:https://southsoundblues.org/event/mike-witmer-hosts-mojo-mikes-blues-revue-every-monday-on-kvsh-101-9-fm-11/
LOCATION:WA
CATEGORIES:Local South Sound Blues
END:VEVENT
BEGIN:VEVENT
DTSTART;TZID=America/Los_Angeles:20231120T190000
DTEND;TZID=America/Los_Angeles:20231120T190000
DTSTAMP:20260425T033159
CREATED:20231102T222113Z
LAST-MODIFIED:20231102T222113Z
UID:11584-1700506800-1700506800@southsoundblues.org
SUMMARY:Monday Night Jams at HD’s Bar & Grill\, Belfair
DESCRIPTION:Monday Night Jams at HD’s Bar & Grill\, Belfair\, WA 7pm
URL:https://southsoundblues.org/event/monday-night-jams-at-hds-bar-grill-belfair-6/
LOCATION:HD’s Pub\, 24131 SR-3 \, Belfair\, WA\, 98528
CATEGORIES:Local South Sound Blues
END:VEVENT
BEGIN:VEVENT
DTSTART;TZID=America/Los_Angeles:20231119T190000
DTEND;TZID=America/Los_Angeles:20231119T230000
DTSTAMP:20260425T033159
CREATED:20231102T210028Z
LAST-MODIFIED:20231102T210028Z
UID:11552-1700420400-1700434800@southsoundblues.org
SUMMARY:Billy Shew Blues Jam\, every Sunday at Dawson’s
DESCRIPTION:Billy Shew Blues Jam\, every Sunday at Dawson’s\, 7-11 pm
URL:https://southsoundblues.org/event/billy-shew-blues-jam-every-sunday-at-dawsons-11/
LOCATION:Dawson’s Bar & Grill\, 5443 South Tacoma Way\, Tacoma\, WA\, 98409
CATEGORIES:Local South Sound Blues
END:VEVENT
BEGIN:VEVENT
DTSTART;TZID=America/Los_Angeles:20231119T190000
DTEND;TZID=America/Los_Angeles:20231119T220000
DTSTAMP:20260425T033159
CREATED:20231012T231258Z
LAST-MODIFIED:20231012T231258Z
UID:11462-1700420400-1700431200@southsoundblues.org
SUMMARY:Sunday Blues at the Spar with Sheri Roberts Greimes
DESCRIPTION:Nov 19th. The Spar\, Tacoma: Sunday Blues – Sheri Roberts Greimes 7pm
URL:https://southsoundblues.org/event/sunday-blues-at-the-spar-with-sheri-roberts-greimes/
LOCATION:The Spar\, 2121 N 30th St\, Tacoma\, WA\, 98403
CATEGORIES:Local South Sound Blues
END:VEVENT
BEGIN:VEVENT
DTSTART;TZID=America/Los_Angeles:20231118T203000
DTEND;TZID=America/Los_Angeles:20231118T233000
DTSTAMP:20260425T033159
CREATED:20231102T201124Z
LAST-MODIFIED:20231102T201124Z
UID:11547-1700339400-1700350200@southsoundblues.org
SUMMARY:Red House at The SandBar & Grill\, Tacoma
DESCRIPTION:Red House will perform on Friday\, November 18th at The SandBar & Grill in Tacoma\, WA. 8:30 – 11:30PM\n\nThe SandBar & Grill\n1941 Marine View Dr\, Tacoma\, WA. 98422\n(253) 212-0604
URL:https://southsoundblues.org/event/red-house-at-the-sandbar-grill-tacoma/
LOCATION:Sandbar & Grill\, 1941 Marine View Dr\, Tacoma\, WA\, 98422
END:VEVENT
BEGIN:VEVENT
DTSTART;TZID=America/Los_Angeles:20231118T200000
DTEND;TZID=America/Los_Angeles:20231118T230000
DTSTAMP:20260425T033159
CREATED:20230907T212457Z
LAST-MODIFIED:20230907T212457Z
UID:11336-1700337600-1700348400@southsoundblues.org
SUMMARY:Cory Wilds Band at JP's Bar & Grill
DESCRIPTION:Cory Wilds Band at JP’s\, November 18th\, 8-11 pm
URL:https://southsoundblues.org/event/cory-wilds-band-at-jps-bar-grill/
LOCATION:JP’s Bar and Grill\, 1055 Sunset Blvd NE\, Renton\, WA\, 98056
CATEGORIES:Local South Sound Blues
END:VEVENT
BEGIN:VEVENT
DTSTART;TZID=America/Los_Angeles:20231118T190000
DTEND;TZID=America/Los_Angeles:20231118T190000
DTSTAMP:20260425T033159
CREATED:20231012T234950Z
LAST-MODIFIED:20231012T234950Z
UID:11489-1700334000-1700334000@southsoundblues.org
SUMMARY:Ailment/O'Neill at The Spar
DESCRIPTION:Nov 18th. The Spar\, Tacoma: Ailment/O’Neill 7pm
URL:https://southsoundblues.org/event/ailment-oneill-at-the-spar/
LOCATION:The Spar\, 2121 N 30th St\, Tacoma\, WA\, 98403
CATEGORIES:Featured
END:VEVENT
BEGIN:VEVENT
DTSTART;TZID=America/Los_Angeles:20231118T160000
DTEND;TZID=America/Los_Angeles:20231118T190000
DTSTAMP:20260425T033159
CREATED:20231011T200737Z
LAST-MODIFIED:20231011T200802Z
UID:11445-1700323200-1700334000@southsoundblues.org
SUMMARY:Maia Santell and the House Blend at the Urban Elk
DESCRIPTION:Maia Santell and the House Blend at the Urban Elk\, November 18th\, 4-7 pm\n \nSaturday\, November 18th        4 PM to 7 PM – No Cover Charge\nUrban Elk Restaurant & Bar\,   2013 S. Cedar St.\, Tacoma  (252) 343-6090
URL:https://southsoundblues.org/event/maia-santell-and-the-house-blend-at-the-urban-elk/
LOCATION:Urban Elk\, 2013 S Cedar St\, Tacoma\, WA\, 98405
CATEGORIES:Local South Sound Blues
END:VEVENT
BEGIN:VEVENT
DTSTART;TZID=America/Los_Angeles:20231117T210000
DTEND;TZID=America/Los_Angeles:20231117T210000
DTSTAMP:20260425T033159
CREATED:20231012T002206Z
LAST-MODIFIED:20231012T002206Z
UID:11457-1700254800-1700254800@southsoundblues.org
SUMMARY:Mid-Nite Bourbon with Stray Rails at the Valley
DESCRIPTION:Mid-Nite Bourbon with Stray Rails at the Valley\, November 17th\, 9pm
URL:https://southsoundblues.org/event/mid-nite-bourbon-with-stray-rails-at-the-valley/
LOCATION:The Valley\, 1206 Puyallup Ave\, Tacoma\, WA\, 98421
CATEGORIES:Local South Sound Blues
END:VEVENT
BEGIN:VEVENT
DTSTART;TZID=America/Los_Angeles:20231117T193000
DTEND;TZID=America/Los_Angeles:20231117T220000
DTSTAMP:20260425T033159
CREATED:20230926T202848Z
LAST-MODIFIED:20230926T203341Z
UID:11425-1700249400-1700258400@southsoundblues.org
SUMMARY:Dimitriou’s Jazz Alley presents the Taj Mahal Quartet\, multiple days
DESCRIPTION:Dimitriou’s Jazz Alley presents the Taj Mahal Quartet for their annual Thanksgiving residency. \nBand members include Taj Mahal (vocals\, guitar\, piano\, banjo and more)\, Bobby Ingano (guitar)\, Bill Rich (bass)\, Kester Smith (drums). Set times Friday and Saturday (11/17-18 and 11/24-25) at 7:30pm AND 9:30pm.\nhttps://www.jazzalley.com/www-home/artist.jsp?shownum=7480 \nSet times on Sunday (11/19 & 11/26)\, Tuesday (11/21) and Wednesday (11/22) at 7:30pm only. Doors open at 6:00pm Friday 11/17 and 5:30pm all other nights.
URL:https://southsoundblues.org/event/dimitrious-jazz-alley-presents-the-taj-mahal-quartet/
LOCATION:Dimitriou’s Jazz Alley\, 2033 6th Avenue\, Seattle\, WA\, 98121
CATEGORIES:Featured
END:VEVENT
BEGIN:VEVENT
DTSTART;TZID=America/Los_Angeles:20231117T190000
DTEND;TZID=America/Los_Angeles:20231117T210000
DTSTAMP:20260425T033159
CREATED:20231012T234214Z
LAST-MODIFIED:20231012T234214Z
UID:11483-1700247600-1700254800@southsoundblues.org
SUMMARY:Ante Up Band at Kimball Coffeehouse
DESCRIPTION:Nov 17th. Kimball Coffeehouse\, Gig Harbor: Ante Up Band 7pm
URL:https://southsoundblues.org/event/ante-up-band-at-kimball-coffeehouse/
LOCATION:Kimball’s Coffeehouse\, 6659 Kimball Dr\, Gig Harbor\, WA\, 98335
CATEGORIES:Featured
END:VEVENT
BEGIN:VEVENT
DTSTART;TZID=America/Los_Angeles:20231116T190000
DTEND;TZID=America/Los_Angeles:20231116T220000
DTSTAMP:20260425T033159
CREATED:20231110T233343Z
LAST-MODIFIED:20231110T233343Z
UID:11657-1700161200-1700172000@southsoundblues.org
SUMMARY:Thursday Blues Jam at Stars Bar and Grill with Billy Shew and Friends
DESCRIPTION:Thursday Blues Jam at Stars Bar and Grill with Billy Shew and special guest\, Nick Mardon\, and friends\, 7pm
URL:https://southsoundblues.org/event/thursday-blues-jam-at-stars-bar-and-grill-with-billy-shew-and-friends/
LOCATION:Stars Bar & Grill\, 31216 Pacific Hwy S\, Federal Way\, WA\, 98003
CATEGORIES:Local South Sound Blues
END:VEVENT
BEGIN:VEVENT
DTSTART;TZID=America/Los_Angeles:20231116T190000
DTEND;TZID=America/Los_Angeles:20231116T220000
DTSTAMP:20260425T033159
CREATED:20231102T213115Z
LAST-MODIFIED:20231102T213115Z
UID:11571-1700161200-1700172000@southsoundblues.org
SUMMARY:Big Al’s Blues Jam Every Thursday at the New Moon Craft Tavern\, Port Angeles
DESCRIPTION:Big Al’s Blues Jam Every Thursday at the New Moon Craft Tavern\, Port Angeles\, 7-10 pm
URL:https://southsoundblues.org/event/big-als-blues-jam-every-thursday-at-the-new-moon-craft-tavern-port-angeles-16/
LOCATION:New Moon Craft Tavern\, 130 S Lincoln St\, Port Angeles\, WA\, 98362
CATEGORIES:Local South Sound Blues
END:VEVENT
END:VCALENDAR