BEGIN:VCALENDAR
VERSION:2.0
PRODID:-//South Sound Blues Association - ECPv6.15.18//NONSGML v1.0//EN
CALSCALE:GREGORIAN
METHOD:PUBLISH
X-WR-CALNAME:South Sound Blues Association
X-ORIGINAL-URL:https://southsoundblues.org
X-WR-CALDESC:Events for South Sound Blues Association
REFRESH-INTERVAL;VALUE=DURATION:PT1H
X-Robots-Tag:noindex
X-PUBLISHED-TTL:PT1H
BEGIN:VTIMEZONE
TZID:America/Los_Angeles
BEGIN:DAYLIGHT
TZOFFSETFROM:-0800
TZOFFSETTO:-0700
TZNAME:PDT
DTSTART:20230312T100000
END:DAYLIGHT
BEGIN:STANDARD
TZOFFSETFROM:-0700
TZOFFSETTO:-0800
TZNAME:PST
DTSTART:20231105T090000
END:STANDARD
BEGIN:DAYLIGHT
TZOFFSETFROM:-0800
TZOFFSETTO:-0700
TZNAME:PDT
DTSTART:20240310T100000
END:DAYLIGHT
BEGIN:STANDARD
TZOFFSETFROM:-0700
TZOFFSETTO:-0800
TZNAME:PST
DTSTART:20241103T090000
END:STANDARD
BEGIN:DAYLIGHT
TZOFFSETFROM:-0800
TZOFFSETTO:-0700
TZNAME:PDT
DTSTART:20250309T100000
END:DAYLIGHT
BEGIN:STANDARD
TZOFFSETFROM:-0700
TZOFFSETTO:-0800
TZNAME:PST
DTSTART:20251102T090000
END:STANDARD
END:VTIMEZONE
BEGIN:VEVENT
DTSTART;TZID=America/Los_Angeles:20240121T170000
DTEND;TZID=America/Los_Angeles:20240121T183000
DTSTAMP:20260425T033134
CREATED:20231230T203544Z
LAST-MODIFIED:20240120T193453Z
UID:11916-1705856400-1705861800@southsoundblues.org
SUMMARY:Blues Vespers at Kilworth Chapel\, UPS with Jay Mabin and friends
DESCRIPTION:January 21st\, Dave Browns’ Blues Vespers at the  Kilworth Memorial Chapel\, University of Puget Sound. Musical guests will be Jay Mabin and friends and Special additional guest\, from Tucson: Paul Green\, starting at 5:00 pm. Paul won the Best Harmonica award so many times that the WBS award is now called : The Paul Green Harmonica award.\n Jay Mabin
URL:https://southsoundblues.org/event/blues-vespers-at-kilworth-chapel-ups-with-jay-maybin-and-friends/
LOCATION:Kilworth Memorial Chapel\, 3410 N 18th St\, Tacoma\, WA\, 98416
CATEGORIES:Featured
END:VEVENT
BEGIN:VEVENT
DTSTART;TZID=America/Los_Angeles:20240120T203000
DTEND;TZID=America/Los_Angeles:20240120T233000
DTSTAMP:20260425T033134
CREATED:20240109T211645Z
LAST-MODIFIED:20240109T211645Z
UID:12044-1705782600-1705793400@southsoundblues.org
SUMMARY:The Hipsters at Purdy's
DESCRIPTION:The Hipsters at Purdy’s January 20th\, 8:30- 11:30 pm
URL:https://southsoundblues.org/event/the-hipsters-at-purdys/
LOCATION:Purdy’s Public House & Arcade\, Sumner\, 16202 64th St E\, Sumner\, WA\, 98390
CATEGORIES:Featured
END:VEVENT
BEGIN:VEVENT
DTSTART;TZID=America/Los_Angeles:20240120T190000
DTEND;TZID=America/Los_Angeles:20240120T190000
DTSTAMP:20260425T033134
CREATED:20240109T185425Z
LAST-MODIFIED:20240109T185425Z
UID:11978-1705777200-1705777200@southsoundblues.org
SUMMARY:Queen Street Gang\, (Lorenzo Farrell\, Zak Stoldt & Mason Hargrove) at Cider & Cedar
DESCRIPTION:Saturday\, Jan 20th – Queen Street Gang – vintage keyboard grooves featuring: Lorenzo Farrell\, Zak Stoldt & Mason Hargrove – Cider & Cedar – 7pm
URL:https://southsoundblues.org/event/queen-street-gang-lorenzo-farrell-zak-stoldt-mason-hargrove-at-cider-cedar/
LOCATION:Cider & Cedar\, 744 Market St.\, Tacoma\, WA\, 98402
CATEGORIES:Featured
END:VEVENT
BEGIN:VEVENT
DTSTART;TZID=America/Los_Angeles:20240120T190000
DTEND;TZID=America/Los_Angeles:20240120T190000
DTSTAMP:20260425T033134
CREATED:20240109T185150Z
LAST-MODIFIED:20240109T185150Z
UID:11976-1705777200-1705777200@southsoundblues.org
SUMMARY:Tupelo at The Spar
DESCRIPTION:Saturday\, Jan 20th – Tupelo – The Spar – 7pm
URL:https://southsoundblues.org/event/tupelo-at-the-spar-3/
LOCATION:The Spar\, 2121 N 30th St\, Tacoma\, WA\, 98403
CATEGORIES:Featured
END:VEVENT
BEGIN:VEVENT
DTSTART;TZID=America/Los_Angeles:20240119T203000
DTEND;TZID=America/Los_Angeles:20240119T233000
DTSTAMP:20260425T033134
CREATED:20240109T211430Z
LAST-MODIFIED:20240109T211430Z
UID:12042-1705696200-1705707000@southsoundblues.org
SUMMARY:Stephanie Anderson & The Electrix at Purdy's
DESCRIPTION:Stephanie Anderson & The Electrix at Purdy’s January 19th\, 8:30- 11:30 pm
URL:https://southsoundblues.org/event/stephanie-anderson-the-electrix-at-purdys/
LOCATION:Purdy’s Public House & Arcade\, Sumner\, 16202 64th St E\, Sumner\, WA\, 98390
CATEGORIES:Featured
END:VEVENT
BEGIN:VEVENT
DTSTART;TZID=America/Los_Angeles:20240119T200000
DTEND;TZID=America/Los_Angeles:20240119T200000
DTSTAMP:20260425T033134
CREATED:20231228T030032Z
LAST-MODIFIED:20231228T030032Z
UID:11904-1705694400-1705694400@southsoundblues.org
SUMMARY:Mark DuFresne Band featuring Billy Stapleton at the Easy Monkey Taphouse\, Shoreline
DESCRIPTION:Friday\, Jan 19th – Mark DuFresne Band feat. Billy Stapleton – Easy Monkey Taphouse\, Shoreline – 8pm
URL:https://southsoundblues.org/event/mark-dufresne-band-featuring-billy-stapleton-at-the-easy-monkey-taphouse-shoreline-2/
LOCATION:Easy Monkey Taphouse\, 17537 15th Ave NE Suite B\, Shoreline\, WA\, 98155
CATEGORIES:Featured
END:VEVENT
BEGIN:VEVENT
DTSTART;TZID=America/Los_Angeles:20240119T200000
DTEND;TZID=America/Los_Angeles:20240119T200000
DTSTAMP:20260425T033134
CREATED:20231220T015908Z
LAST-MODIFIED:20231220T015908Z
UID:11867-1705694400-1705694400@southsoundblues.org
SUMMARY:Trailer Park Kings at the Oxford Saloon\, Snohomish
DESCRIPTION:Friday\, Jan 19th – Trailer Park Kings – The Oxford Saloon\, Snohomish – 8pm
URL:https://southsoundblues.org/event/trailer-park-kings-at-the-oxford-saloon-snohomish-2/
LOCATION:Oxford Saloon\, 913 1st St\, Snohomish\, WA\, 98290
CATEGORIES:Featured
END:VEVENT
BEGIN:VEVENT
DTSTART;TZID=America/Los_Angeles:20240119T190000
DTEND;TZID=America/Los_Angeles:20240119T190000
DTSTAMP:20260425T033134
CREATED:20240109T185011Z
LAST-MODIFIED:20240109T185011Z
UID:11974-1705690800-1705690800@southsoundblues.org
SUMMARY:THREOCRACY\, (Brady McCowan\, Ian Crocker\, Elliott Turner) at Cider & Cedar
DESCRIPTION:Friday\, Jan 19th – THREOCRACY original organ trio (Brady McCowan\, Ian Crocker\, Elliott Turner) – Cider & Cedar – 7pm
URL:https://southsoundblues.org/event/threocracy-brady-mccowan-ian-crocker-elliott-turner-at-cider-cedar/
LOCATION:Cider & Cedar\, 744 Market St.\, Tacoma\, WA\, 98402
CATEGORIES:Featured
END:VEVENT
BEGIN:VEVENT
DTSTART;TZID=America/Los_Angeles:20240118T190000
DTEND;TZID=America/Los_Angeles:20240118T220000
DTSTAMP:20260425T033134
CREATED:20231219T002201Z
LAST-MODIFIED:20231219T002201Z
UID:11848-1705604400-1705615200@southsoundblues.org
SUMMARY:Thursday’s Front Street Blues Revue at the Slippery Pig Brewery
DESCRIPTION:Thursday’s Front Street Blues Revue at the Slippery Pig Brewery\, Poulsbo\, 7-10 pm
URL:https://southsoundblues.org/event/thursdays-front-street-blues-revue-at-the-slippery-pig-brewery-4/
LOCATION:Slippery Pig Brewery\, 18801 Front St NE\, Poulsbo\, WA\, 98370
CATEGORIES:Local South Sound Blues
END:VEVENT
BEGIN:VEVENT
DTSTART;TZID=America/Los_Angeles:20240118T190000
DTEND;TZID=America/Los_Angeles:20240118T190000
DTSTAMP:20260425T033134
CREATED:20231208T210626Z
LAST-MODIFIED:20231208T211000Z
UID:11788-1705604400-1705604400@southsoundblues.org
SUMMARY:Itterly & Pitman with Robin Kallsen at the Snapdragon\, Vashon
DESCRIPTION:Itterly & Pitman with Robin Kallsen at the Snapdragon\, January 18th \, 7pm\n \nSteve Itterly & Jonathan Pitman are an electrifying country blues duo\, bringing together the acclaimed blues guitarist and songwriter\, Steve Itterly\, and harmonica virtuoso\, Jonathan Pitman. Their performances resonate with a dynamic connection\, evident in the rhythmic boot stomping and impassioned solos that characterize their music. Joined by Robin Kallsen on bass.
URL:https://southsoundblues.org/event/itterly-pitman-with-robin-kallsen-at-the-snapdragon-vashon/
LOCATION:Snapdragon\, 17817 Vashon Hwy\, Vashon\, WA\, 98070
CATEGORIES:Local South Sound Blues
END:VEVENT
BEGIN:VEVENT
DTSTART;TZID=America/Los_Angeles:20240117T180000
DTEND;TZID=America/Los_Angeles:20240117T210000
DTSTAMP:20260425T033134
CREATED:20231228T030535Z
LAST-MODIFIED:20240109T202536Z
UID:11908-1705514400-1705525200@southsoundblues.org
SUMMARY:Wednesday Jazz at the Spar with 'Solar' (featuring John Hanford)
DESCRIPTION:Wednesday\, Jan 17th \,  Jazz at The Spar – 6pm ‘Solar’                                 (featuring John Hanford)
URL:https://southsoundblues.org/event/wednesday-jazz-at-the-spar/
LOCATION:The Spar\, 2121 N 30th St\, Tacoma\, WA\, 98403
CATEGORIES:Featured
END:VEVENT
BEGIN:VEVENT
DTSTART;TZID=America/Los_Angeles:20240116T190000
DTEND;TZID=America/Los_Angeles:20240116T190000
DTSTAMP:20260425T033134
CREATED:20231216T224758Z
LAST-MODIFIED:20231216T224758Z
UID:11825-1705431600-1705431600@southsoundblues.org
SUMMARY:Billy Shew and friends Jam every Tuesday at the Burien Eagles
DESCRIPTION:Billy Shew and friends Jam every Tuesday at the Burien Eagles\, 7pm
URL:https://southsoundblues.org/event/billy-shew-and-friends-jam-every-tuesday-at-the-burien-eagles-18/
LOCATION:Burien Eagles\, 920 SW 150th St\, Burien\, WA\, 98166
CATEGORIES:Local South Sound Blues
END:VEVENT
BEGIN:VEVENT
DTSTART;TZID=America/Los_Angeles:20240114T190000
DTEND;TZID=America/Los_Angeles:20240114T230000
DTSTAMP:20260425T033134
CREATED:20231216T224042Z
LAST-MODIFIED:20231216T224042Z
UID:11819-1705258800-1705273200@southsoundblues.org
SUMMARY:Billy Shew Blues Jam\, every Sunday at Dawson’s
DESCRIPTION:Billy Shew Blues Jam\, every Sunday at Dawson’s\, 7-11 pm
URL:https://southsoundblues.org/event/billy-shew-blues-jam-every-sunday-at-dawsons-13/
LOCATION:Dawson’s Bar & Grill\, 5443 South Tacoma Way\, Tacoma\, WA\, 98409
CATEGORIES:Local South Sound Blues
END:VEVENT
BEGIN:VEVENT
DTSTART;TZID=America/Los_Angeles:20240114T190000
DTEND;TZID=America/Los_Angeles:20240114T220000
DTSTAMP:20260425T033134
CREATED:20231220T014352Z
LAST-MODIFIED:20231220T014352Z
UID:11855-1705258800-1705269600@southsoundblues.org
SUMMARY:Sunday Blues at the Spar with the Chris Stevens Band
DESCRIPTION:Sunday\, Jan 14th – Chris Stevens Band – The Spar – 7pm
URL:https://southsoundblues.org/event/sunday-blues-at-the-spar-with-the-chris-stevens-band/
LOCATION:The Spar\, 2121 N 30th St\, Tacoma\, WA\, 98403
CATEGORIES:Local South Sound Blues
END:VEVENT
BEGIN:VEVENT
DTSTART;TZID=America/Los_Angeles:20240113T203000
DTEND;TZID=America/Los_Angeles:20240113T233000
DTSTAMP:20260425T033134
CREATED:20240109T211237Z
LAST-MODIFIED:20240109T211237Z
UID:12040-1705177800-1705188600@southsoundblues.org
SUMMARY:Katie Wade at Purdy's
DESCRIPTION:Katie Wade at Purdy’s January 13th 8:30-11:30
URL:https://southsoundblues.org/event/katie-wade-at-purdys/
LOCATION:Purdy’s Public House & Arcade\, Sumner\, 16202 64th St E\, Sumner\, WA\, 98390
CATEGORIES:Featured
END:VEVENT
BEGIN:VEVENT
DTSTART;TZID=America/Los_Angeles:20240113T190000
DTEND;TZID=America/Los_Angeles:20240113T190000
DTSTAMP:20260425T033134
CREATED:20240109T184827Z
LAST-MODIFIED:20240109T184827Z
UID:11972-1705172400-1705172400@southsoundblues.org
SUMMARY:Kacey Evans Trio at Cider & Cedar
DESCRIPTION:Saturday\, Jan 13th –  Kacey Evans Trio – improvised keyboard electro-jazz – Cider & Cedar – 7pm
URL:https://southsoundblues.org/event/kacey-evans-trio-at-cider-cedar/
LOCATION:Cider & Cedar\, 744 Market St.\, Tacoma\, WA\, 98402
CATEGORIES:Featured
END:VEVENT
BEGIN:VEVENT
DTSTART;TZID=America/Los_Angeles:20240113T190000
DTEND;TZID=America/Los_Angeles:20240113T190000
DTSTAMP:20260425T033134
CREATED:20240109T184654Z
LAST-MODIFIED:20240109T184654Z
UID:11970-1705172400-1705172400@southsoundblues.org
SUMMARY:The Elevators at The Spar
DESCRIPTION:Saturday\, Jan 13th – The Elevators – The Spar – 7pm
URL:https://southsoundblues.org/event/the-elevators-at-the-spar/
LOCATION:The Spar\, 2121 N 30th St\, Tacoma\, WA\, 98403
CATEGORIES:Featured
END:VEVENT
BEGIN:VEVENT
DTSTART;TZID=America/Los_Angeles:20240113T160000
DTEND;TZID=America/Los_Angeles:20240113T183000
DTSTAMP:20260425T033134
CREATED:20231221T184004Z
LAST-MODIFIED:20231221T184004Z
UID:11880-1705161600-1705170600@southsoundblues.org
SUMMARY:Maia Santell and House Blend at the Urban Elk
DESCRIPTION:Maia Santell & House Blend at the Urban Elk\, January 13th\, 4pm
URL:https://southsoundblues.org/event/maia-santell-and-house-blend-at-the-urban-elk/
LOCATION:Urban Elk\, 2013 S Cedar St\, Tacoma\, WA\, 98405
CATEGORIES:Local South Sound Blues
END:VEVENT
BEGIN:VEVENT
DTSTART;TZID=America/Los_Angeles:20240112T213000
DTEND;TZID=America/Los_Angeles:20240112T213000
DTSTAMP:20260425T033134
CREATED:20240109T195910Z
LAST-MODIFIED:20240109T195910Z
UID:12031-1705095000-1705095000@southsoundblues.org
SUMMARY:Billy Stapleton's Powerhouse Band at Bake's Place
DESCRIPTION:Friday\, Jan 12th – Billy Stapleton’s Powerhouse Band – Bake’s Place – 9:30pm
URL:https://southsoundblues.org/event/billy-stapletons-powerhouse-band-at-bakes-place/
LOCATION:Bake’s Place\, 155 108th Ave NE Ste 110\, Bellevue\, WA\, 98004
CATEGORIES:Featured
END:VEVENT
BEGIN:VEVENT
DTSTART;TZID=America/Los_Angeles:20240112T203000
DTEND;TZID=America/Los_Angeles:20240112T233000
DTSTAMP:20260425T033134
CREATED:20240109T211048Z
LAST-MODIFIED:20240109T211048Z
UID:12038-1705091400-1705102200@southsoundblues.org
SUMMARY:80 Proof Ale at Purdy's
DESCRIPTION:80 Proof Ale at Purdy’s January 12th 8:30-11:30
URL:https://southsoundblues.org/event/80-proof-ale-at-purdys/
LOCATION:Purdy’s Public House & Arcade\, Sumner\, 16202 64th St E\, Sumner\, WA\, 98390
CATEGORIES:Featured
END:VEVENT
BEGIN:VEVENT
DTSTART;TZID=America/Los_Angeles:20240112T200000
DTEND;TZID=America/Los_Angeles:20240112T200000
DTSTAMP:20260425T033134
CREATED:20231109T205325Z
LAST-MODIFIED:20231109T205325Z
UID:11605-1705089600-1705089600@southsoundblues.org
SUMMARY:Stacy Jones Band at the Aurora Borealis
DESCRIPTION:Aurora Borealis presents: The Stacy Jones Band\, Friday January 12th 8PM\n-All Ages Show – $10 Door Cover\n\n5 Time Best Band Winner from the Washington Blues Society fronted by multi-instrumentalist and award-winning singer songwriter Stacy Jones and her dynamic band with Eric Rice on lead guitar\, Tom Jones on Bass and Drummer Rick J Bowen.
URL:https://southsoundblues.org/event/stacy-jones-band-at-the-aurora-borealis/
LOCATION:Aurora Borealis\, 16708 Aurora Ave N\, Shoreline\, WA\, 98133
CATEGORIES:Featured
END:VEVENT
BEGIN:VEVENT
DTSTART;TZID=America/Los_Angeles:20240112T190000
DTEND;TZID=America/Los_Angeles:20240112T190000
DTSTAMP:20260425T033134
CREATED:20240109T184525Z
LAST-MODIFIED:20240109T184525Z
UID:11968-1705086000-1705086000@southsoundblues.org
SUMMARY:Jesse Turcotte's PRETTYFUNKDUB live loops at Cider & Cedar
DESCRIPTION:Friday\, January 12 – Jesse Turcotte’s PRETTYFUNKDUB live loops – Cider & Cedar – 7pm
URL:https://southsoundblues.org/event/jesse-turcottes-prettyfunkdub-live-loops-at-cider-cedar/
LOCATION:Cider & Cedar\, 744 Market St.\, Tacoma\, WA\, 98402
CATEGORIES:Featured
END:VEVENT
BEGIN:VEVENT
DTSTART;TZID=America/Los_Angeles:20240112T190000
DTEND;TZID=America/Los_Angeles:20240112T190000
DTSTAMP:20260425T033134
CREATED:20240109T184015Z
LAST-MODIFIED:20240109T184216Z
UID:11966-1705086000-1705086000@southsoundblues.org
SUMMARY:Jim Basnight Band (debut) at the Kimball Coffeehouse
DESCRIPTION:Friday\, Jan 12th – Jim Basnight Band (debut) – Kimball Coffeehouse – 7pm
URL:https://southsoundblues.org/event/jim-basnight-band-debut-at-the-kimball-coffeehouse/
LOCATION:Kimball’s Coffeehouse\, 6659 Kimball Dr\, Gig Harbor\, WA\, 98335
CATEGORIES:Featured
END:VEVENT
BEGIN:VEVENT
DTSTART;TZID=America/Los_Angeles:20240111T190000
DTEND;TZID=America/Los_Angeles:20240111T220000
DTSTAMP:20260425T033134
CREATED:20231219T002002Z
LAST-MODIFIED:20231219T002002Z
UID:11845-1704999600-1705010400@southsoundblues.org
SUMMARY:“Billy the Pocket Jam” Thursday nights at Dawson’s
DESCRIPTION:“Billy the Pocket Jam” Thursday nights at Dawson’s\, 7-10 pm
URL:https://southsoundblues.org/event/billy-the-pocket-jam-thursday-nights-at-dawsons-26/
LOCATION:Dawson’s Bar & Grill\, 5443 South Tacoma Way\, Tacoma\, WA\, 98409
CATEGORIES:Local South Sound Blues
END:VEVENT
BEGIN:VEVENT
DTSTART;TZID=America/Los_Angeles:20240110T180000
DTEND;TZID=America/Los_Angeles:20240110T210000
DTSTAMP:20260425T033134
CREATED:20231219T001512Z
LAST-MODIFIED:20231219T001512Z
UID:11840-1704909600-1704920400@southsoundblues.org
SUMMARY:Billy Shew and Friends host an open Jam every Wednesday at Stockton’s
DESCRIPTION:Billy Shew and Friends host an open Jam every Wednesday at Stockton’s\, 6-9pm
URL:https://southsoundblues.org/event/billy-shew-and-friends-host-an-open-jam-every-wednesday-at-stocktons-13/
LOCATION:Stockton’s Restaurant & Spirits\, 23220 Maple Valley Black Diamond Rd SE\, Maple Valley\, WA\, 98038
CATEGORIES:Local South Sound Blues
END:VEVENT
BEGIN:VEVENT
DTSTART;TZID=America/Los_Angeles:20240110T180000
DTEND;TZID=America/Los_Angeles:20240110T180000
DTSTAMP:20260425T033134
CREATED:20240109T183848Z
LAST-MODIFIED:20240109T183848Z
UID:11964-1704909600-1704909600@southsoundblues.org
SUMMARY:Martini & The Olives at The Spar
DESCRIPTION:Wednesday\, Jan 10th – Martini & The Olives – The Spar – 6pm
URL:https://southsoundblues.org/event/martini-the-olives-at-the-spar/
LOCATION:The Spar\, 2121 N 30th St\, Tacoma\, WA\, 98403
CATEGORIES:Featured
END:VEVENT
BEGIN:VEVENT
DTSTART;TZID=America/Los_Angeles:20240109T190000
DTEND;TZID=America/Los_Angeles:20240109T220000
DTSTAMP:20260425T033134
CREATED:20231216T224544Z
LAST-MODIFIED:20231216T224544Z
UID:11823-1704826800-1704837600@southsoundblues.org
SUMMARY:Tuesday Bluesday at Brother Don’s Bar & Grill in Bremerton\, Jam with The Tim Hall Band
DESCRIPTION:Tuesday Bluesday at Brother Don’s Bar & Grill in Bremerton\, Jam with The Tim Hall Band\, 7-10 pm
URL:https://southsoundblues.org/event/tuesday-bluesday-at-brother-dons-bar-grill-in-bremerton-jam-with-the-tim-hall-band/
LOCATION:Brother Don’s Bar & Grill\, 4200 Kitsap Way\, Bremerton\, WA\, 98312
CATEGORIES:Local South Sound Blues
END:VEVENT
BEGIN:VEVENT
DTSTART;TZID=America/Los_Angeles:20240109T190000
DTEND;TZID=America/Los_Angeles:20240109T190000
DTSTAMP:20260425T033134
CREATED:20240102T211629Z
LAST-MODIFIED:20240102T211629Z
UID:11923-1704826800-1704826800@southsoundblues.org
SUMMARY:WBS Blues Bash and IBC sendoff Party at Aurora Borealis
DESCRIPTION:BLUES BASH AND IBC sendoff party\, Tuesday January 9th at Aurora Borealis\, 7pm \n \nMusic From International Blues Challenge contestants representing Washington State : James Howard Band and the Blue Healers duo  \n  \nALL Ages Welcome https://borealisonaurora.com/  \n 
URL:https://southsoundblues.org/event/wbs-blues-bash-and-ibc-sendoff-party-at-aurora-borealis/
LOCATION:Aurora Borealis\, 16708 Aurora Ave N\, Shoreline\, WA\, 98133
CATEGORIES:IBC,Special Event
END:VEVENT
BEGIN:VEVENT
DTSTART;TZID=America/Los_Angeles:20240108T200000
DTEND;TZID=America/Los_Angeles:20240108T220000
DTSTAMP:20260425T033134
CREATED:20240104T215225Z
LAST-MODIFIED:20240104T220141Z
UID:11956-1704744000-1704751200@southsoundblues.org
SUMMARY:Mike Witmer hosts “Mojo Mike’s Blues Revue” every Monday on KVSH 101.9 FM
DESCRIPTION:Mike Witmer hosts “Mojo Mike’s Blues Revue” every Monday on KVSH 101.9 FM 8-10 pm
URL:https://southsoundblues.org/event/mike-witmer-hosts-mojo-mikes-blues-revue-every-monday-on-kvsh-101-9-fm-13/
LOCATION:WA
CATEGORIES:Local South Sound Blues
END:VEVENT
BEGIN:VEVENT
DTSTART;TZID=America/Los_Angeles:20240107T190000
DTEND;TZID=America/Los_Angeles:20240107T220000
DTSTAMP:20260425T033134
CREATED:20231220T014035Z
LAST-MODIFIED:20231220T014035Z
UID:11852-1704654000-1704664800@southsoundblues.org
SUMMARY:Sunday Blues at the Spar with Blues Redemption
DESCRIPTION:Sunday\, Jan 7th – Blues Redemption w/Doug Skoog at The Spar – 7pm
URL:https://southsoundblues.org/event/sunday-blues-at-the-spar-with-blues-redemption-2/
LOCATION:The Spar\, 2121 N 30th St\, Tacoma\, WA\, 98403
CATEGORIES:Local South Sound Blues
END:VEVENT
END:VCALENDAR