BEGIN:VCALENDAR
VERSION:2.0
PRODID:-//South Sound Blues Association - ECPv6.15.18//NONSGML v1.0//EN
CALSCALE:GREGORIAN
METHOD:PUBLISH
X-WR-CALNAME:South Sound Blues Association
X-ORIGINAL-URL:https://southsoundblues.org
X-WR-CALDESC:Events for South Sound Blues Association
REFRESH-INTERVAL;VALUE=DURATION:PT1H
X-Robots-Tag:noindex
X-PUBLISHED-TTL:PT1H
BEGIN:VTIMEZONE
TZID:America/Los_Angeles
BEGIN:DAYLIGHT
TZOFFSETFROM:-0800
TZOFFSETTO:-0700
TZNAME:PDT
DTSTART:20230312T100000
END:DAYLIGHT
BEGIN:STANDARD
TZOFFSETFROM:-0700
TZOFFSETTO:-0800
TZNAME:PST
DTSTART:20231105T090000
END:STANDARD
BEGIN:DAYLIGHT
TZOFFSETFROM:-0800
TZOFFSETTO:-0700
TZNAME:PDT
DTSTART:20240310T100000
END:DAYLIGHT
BEGIN:STANDARD
TZOFFSETFROM:-0700
TZOFFSETTO:-0800
TZNAME:PST
DTSTART:20241103T090000
END:STANDARD
BEGIN:DAYLIGHT
TZOFFSETFROM:-0800
TZOFFSETTO:-0700
TZNAME:PDT
DTSTART:20250309T100000
END:DAYLIGHT
BEGIN:STANDARD
TZOFFSETFROM:-0700
TZOFFSETTO:-0800
TZNAME:PST
DTSTART:20251102T090000
END:STANDARD
BEGIN:DAYLIGHT
TZOFFSETFROM:-0800
TZOFFSETTO:-0700
TZNAME:PDT
DTSTART:20260308T100000
END:DAYLIGHT
BEGIN:STANDARD
TZOFFSETFROM:-0700
TZOFFSETTO:-0800
TZNAME:PST
DTSTART:20261101T090000
END:STANDARD
END:VTIMEZONE
BEGIN:VEVENT
DTSTART;TZID=America/Los_Angeles:20241218T183000
DTEND;TZID=America/Los_Angeles:20241218T183000
DTSTAMP:20260425T081228
CREATED:20241111T215601Z
LAST-MODIFIED:20241111T215601Z
UID:13793-1734546600-1734546600@southsoundblues.org
SUMMARY:Octopus Ballet at the Twisted Kilt
DESCRIPTION:Octopus Ballet at the Twisted Kilt December 18th\, 6:30 pm
URL:https://southsoundblues.org/event/octopus-ballet-at-the-twisted-kilt/
LOCATION:Twisted Kilt\, 109 S Meridian\, Puyallup\, WA\, 98371
CATEGORIES:Featured
END:VEVENT
BEGIN:VEVENT
DTSTART;TZID=America/Los_Angeles:20241218T190000
DTEND;TZID=America/Los_Angeles:20241218T210000
DTSTAMP:20260425T081228
CREATED:20240927T222103Z
LAST-MODIFIED:20241107T224809Z
UID:13472-1734548400-1734555600@southsoundblues.org
SUMMARY:Maia Santell and House Blend yearly jazz & blues holiday show at the Mill\, Milton
DESCRIPTION:Maia Santell and House Blend yearly jazz & blues holiday show at the Mill…..with room to dance! 7-9 pm (No Cover Charge)
URL:https://southsoundblues.org/event/maia-santell-and-house-blend-yearly-jazz-blues-holiday-show-at-the-mill-milton/
LOCATION:The Mill of Milton\, 900 Meridian E. #50\, Milton\, WA\, 98354
CATEGORIES:Local South Sound Blues
END:VEVENT
BEGIN:VEVENT
DTSTART;TZID=America/Los_Angeles:20241219T190000
DTEND;TZID=America/Los_Angeles:20241219T190000
DTSTAMP:20260425T081228
CREATED:20241111T215758Z
LAST-MODIFIED:20241111T215758Z
UID:13795-1734634800-1734634800@southsoundblues.org
SUMMARY:Octopus Ballet at the Twisted Fork Saloon
DESCRIPTION:Octopus Ballet at the Twisted Fork Saloon\, December 19th\, 7 pm
URL:https://southsoundblues.org/event/octopus-ballet-at-the-twisted-fork-saloon/
LOCATION:Twisted Fork Saloon\, 5005 Main St\, Tacoma\, WA\, 98407
END:VEVENT
BEGIN:VEVENT
DTSTART;TZID=America/Los_Angeles:20241219T190000
DTEND;TZID=America/Los_Angeles:20241219T213000
DTSTAMP:20260425T081228
CREATED:20241204T015323Z
LAST-MODIFIED:20241204T015757Z
UID:13902-1734634800-1734643800@southsoundblues.org
SUMMARY:Kim Field’s Harmonica Showcase at McMenimans Spanish Ballroom
DESCRIPTION:THURDAY\, DEC 19\, 7PM… Kim Field’s Harmonica Showcase at McMenimans Spanish Ballroom in Tacoma! Presented by Blues Vespers and Dave Brown!\nBy popular demand\, Kim Field\, Joel Astley\, Mark DuFresne\, Steve Bailey and Benny Bostrom will be returning to the Spanish Ballroom. \n6pm doors\, 7pm show \n$15 advance\, $20 day of show \nAll ages welcome \n 
URL:https://southsoundblues.org/event/kim-fields-harmonica-showcase-at-mcmenimans-spanish-ballroom/
LOCATION:McMenaminsTacoma Elks\, 565 Broadway\, Tacoma\, WA\, 98402
CATEGORIES:Local South Sound Blues
END:VEVENT
BEGIN:VEVENT
DTSTART;TZID=America/Los_Angeles:20241219T190000
DTEND;TZID=America/Los_Angeles:20241219T220000
DTSTAMP:20260425T081228
CREATED:20241007T233200Z
LAST-MODIFIED:20241007T233200Z
UID:13606-1734634800-1734645600@southsoundblues.org
SUMMARY:“Billy the Pocket Jam” Thursday nights at Dawson’s
DESCRIPTION:“Billy the Pocket Jam” Thursday nights at Dawson’s\, 7-10 pm
URL:https://southsoundblues.org/event/billy-the-pocket-jam-thursday-nights-at-dawsons-41/
LOCATION:Dawson’s Bar & Grill\, 5443 South Tacoma Way\, Tacoma\, WA\, 98409
CATEGORIES:Local South Sound Blues
END:VEVENT
BEGIN:VEVENT
DTSTART;TZID=America/Los_Angeles:20241220T200000
DTEND;TZID=America/Los_Angeles:20241220T230000
DTSTAMP:20260425T081228
CREATED:20241008T001935Z
LAST-MODIFIED:20241008T001935Z
UID:13627-1734724800-1734735600@southsoundblues.org
SUMMARY:The Cory Wilds Band at JP's Barroom
DESCRIPTION:December 20th\, The Cory Wilds Band at JP’s Barroom\, 8-11 pm\n\n\n\n  \nLocation: JP’s Barroom\, 214 Williams Ave S\, Renton\, WA 98057
URL:https://southsoundblues.org/event/the-cory-wilds-band-at-jps-barroom-2/
LOCATION:JP’s Barroom\, 214 Williams Ave S\, Renton\, WA\, 98057
CATEGORIES:Local South Sound Blues
END:VEVENT
BEGIN:VEVENT
DTSTART;TZID=America/Los_Angeles:20241221T190000
DTEND;TZID=America/Los_Angeles:20241221T220000
DTSTAMP:20260425T081228
CREATED:20241204T010634Z
LAST-MODIFIED:20241204T010634Z
UID:13899-1734807600-1734818400@southsoundblues.org
SUMMARY:Tim Cox at the Spar
DESCRIPTION:Tim Cox at the Spar\, Tacoma\, December 21st\, 7-10pm\n 
URL:https://southsoundblues.org/event/tim-cox-at-the-spar/
LOCATION:The Spar\, 2121 N 30th St\, Tacoma\, WA\, 98403
CATEGORIES:Featured
END:VEVENT
BEGIN:VEVENT
DTSTART;TZID=America/Los_Angeles:20241222T170000
DTEND;TZID=America/Los_Angeles:20241222T170000
DTSTAMP:20260425T081228
CREATED:20241102T210006Z
LAST-MODIFIED:20241102T212209Z
UID:13752-1734886800-1734886800@southsoundblues.org
SUMMARY:The Washington Blues Society 2024 Holiday Party featuring music from North Sound Soul
DESCRIPTION:The Washington Blues Society 2024 Holiday Party\, Sunday December 22nd -5pm at Aurora Borealis\, Music from North Sound Soul!\nWashington Blues Society  https://wablues.or/ \nhttps://www.northsoundsoul.com/
URL:https://southsoundblues.org/event/the-washington-blues-society-2024-holiday-party-featuring-music-from-north-sound-soul/
LOCATION:Aurora Borealis\, 16708 Aurora Ave N\, Shoreline\, WA\, 98133
CATEGORIES:Special Event
END:VEVENT
BEGIN:VEVENT
DTSTART;TZID=America/Los_Angeles:20241222T190000
DTEND;TZID=America/Los_Angeles:20241222T220000
DTSTAMP:20260425T081228
CREATED:20241007T233945Z
LAST-MODIFIED:20241112T010543Z
UID:13610-1734894000-1734904800@southsoundblues.org
SUMMARY:Sunday Blues at the Spar with Three Guitars (Chris Stevens)
DESCRIPTION:Sunday Blues at the Spar December 22nd\, with Three Guitars (Chris Stevens)\, 7pm
URL:https://southsoundblues.org/event/sunday-blues-at-the-spar-9/
LOCATION:The Spar\, 2121 N 30th St\, Tacoma\, WA\, 98403
CATEGORIES:Local South Sound Blues
END:VEVENT
BEGIN:VEVENT
DTSTART;TZID=America/Los_Angeles:20241223T180000
DTEND;TZID=America/Los_Angeles:20241223T210000
DTSTAMP:20260425T081228
CREATED:20241112T005554Z
LAST-MODIFIED:20241112T005554Z
UID:13797-1734976800-1734987600@southsoundblues.org
SUMMARY:Monday Jazz at Brother Don’s Bar & Grill\, Bremerton
DESCRIPTION:Monday Jazz at Brother Don’s Bar & Grill\, Bremerton\, 6-9 pm.
URL:https://southsoundblues.org/event/monday-jazz-at-brother-dons-bar-grill-bremerton-7/
LOCATION:Brother Don’s Bar & Grill\, 4200 Kitsap Way\, Bremerton\, WA\, 98312
CATEGORIES:Featured
END:VEVENT
BEGIN:VEVENT
DTSTART;TZID=America/Los_Angeles:20241224T190000
DTEND;TZID=America/Los_Angeles:20241224T210000
DTSTAMP:20260425T081228
CREATED:20241008T005347Z
LAST-MODIFIED:20241008T005347Z
UID:13639-1735066800-1735074000@southsoundblues.org
SUMMARY:Rob Tudor and Dave McKibbin at the Twisted Fork Saloon every Tuesday
DESCRIPTION:Rob Tudor and Dave McKibbin at the Twisted Fork Saloon every Tuesday\, 7-9 pm
URL:https://southsoundblues.org/event/rob-tudor-and-dave-mckibbin-at-the-twisted-fork-saloon-every-tuesday-13/
LOCATION:Twisted Fork Saloon\, 5005 Main St\, Tacoma\, WA\, 98407
CATEGORIES:Local South Sound Blues
END:VEVENT
BEGIN:VEVENT
DTSTART;VALUE=DATE:20241225
DTEND;VALUE=DATE:20241227
DTSTAMP:20260425T081228
CREATED:20241007T214637Z
LAST-MODIFIED:20241007T214637Z
UID:13583-1735092000-1735178399@southsoundblues.org
SUMMARY:Happy Christmas!
DESCRIPTION:
URL:https://southsoundblues.org/event/happy-christmas-4/
LOCATION:WA
CATEGORIES:Local South Sound Blues
END:VEVENT
BEGIN:VEVENT
DTSTART;TZID=America/Los_Angeles:20241226T190000
DTEND;TZID=America/Los_Angeles:20241226T220000
DTSTAMP:20260425T081228
CREATED:20241031T002829Z
LAST-MODIFIED:20241031T002829Z
UID:13715-1735239600-1735250400@southsoundblues.org
SUMMARY:“Billy the Pocket Jam” Thursday nights at Dawson’s
DESCRIPTION:“Billy the Pocket Jam” Thursday nights at Dawson’s\, 7-10 pm
URL:https://southsoundblues.org/event/billy-the-pocket-jam-thursday-nights-at-dawsons-43/
LOCATION:Dawson’s Bar & Grill\, 5443 South Tacoma Way\, Tacoma\, WA\, 98409
CATEGORIES:Local South Sound Blues
END:VEVENT
BEGIN:VEVENT
DTSTART;TZID=America/Los_Angeles:20241227T193000
DTEND;TZID=America/Los_Angeles:20241227T220000
DTSTAMP:20260425T081228
CREATED:20240906T004557Z
LAST-MODIFIED:20240906T004557Z
UID:13412-1735327800-1735336800@southsoundblues.org
SUMMARY:Joel Astley Band at Pub 282\, Camano Island
DESCRIPTION:Joel Astley Band\, December 27\, Camano Island – Pub 282 – 7:30-10:00 pm
URL:https://southsoundblues.org/event/joel-astley-band-at-pub-282-camano-island-2/
LOCATION:Pub 282\, 370 NE Camano Dr #6\, Camano\, WA\, 98282
CATEGORIES:Local South Sound Blues
END:VEVENT
BEGIN:VEVENT
DTSTART;TZID=America/Los_Angeles:20241228T200000
DTEND;TZID=America/Los_Angeles:20241228T230000
DTSTAMP:20260425T081228
CREATED:20241008T002340Z
LAST-MODIFIED:20241008T002340Z
UID:13629-1735416000-1735426800@southsoundblues.org
SUMMARY:The Cory Wilds Band at Stockton's
DESCRIPTION:December 28th\, The Cory Wilds Band at Stockton’s 8-11 pm\n\n\n  \nLocation: Stockton’s Restaurant & Spirits\, 23220 Maple Valley Black Diamond Rd SE\, Maple Valley\, WA 98038
URL:https://southsoundblues.org/event/the-cory-wilds-band-at-stocktons-2/
LOCATION:Stockton’s Restaurant & Spirits\, 23220 Maple Valley Black Diamond Rd SE\, Maple Valley\, WA\, 98038
CATEGORIES:Local South Sound Blues
END:VEVENT
BEGIN:VEVENT
DTSTART;TZID=America/Los_Angeles:20241229T190000
DTEND;TZID=America/Los_Angeles:20241229T220000
DTSTAMP:20260425T081228
CREATED:20241007T234031Z
LAST-MODIFIED:20241226T235418Z
UID:13612-1735498800-1735509600@southsoundblues.org
SUMMARY:Sunday Blues at the Spar with Farrell\, Hudson & Friends
DESCRIPTION:Sunday Blues at the Spar December 29th\, 7pm\nSUNDAY BLUES at The Spar Presents: Farrell\, Hudson & Friends\nDue to circumstances beyond their control\, Two Scoops Combo need to reschedule their performance.\nFarrell\, Hudson & Friends are jumping in to bring you SUNDAY BLUES at The Spar this week.
URL:https://southsoundblues.org/event/sunday-blues-at-the-spar-10/
LOCATION:The Spar\, 2121 N 30th St\, Tacoma\, WA\, 98403
CATEGORIES:Local South Sound Blues
END:VEVENT
BEGIN:VEVENT
DTSTART;TZID=America/Los_Angeles:20241229T190000
DTEND;TZID=America/Los_Angeles:20241229T230000
DTSTAMP:20260425T081228
CREATED:20241007T234406Z
LAST-MODIFIED:20241007T234406Z
UID:13616-1735498800-1735513200@southsoundblues.org
SUMMARY:Billy Shew Blues Jam\, every Sunday at Dawson’s
DESCRIPTION:Billy Shew Blues Jam\, every Sunday at Dawson’s\, 7-11 pm
URL:https://southsoundblues.org/event/billy-shew-blues-jam-every-sunday-at-dawsons-28/
LOCATION:Dawson’s Bar & Grill\, 5443 South Tacoma Way\, Tacoma\, WA\, 98409
CATEGORIES:Local South Sound Blues
END:VEVENT
BEGIN:VEVENT
DTSTART;TZID=America/Los_Angeles:20241230T180000
DTEND;TZID=America/Los_Angeles:20241230T210000
DTSTAMP:20260425T081228
CREATED:20241223T231240Z
LAST-MODIFIED:20241223T231240Z
UID:13977-1735581600-1735592400@southsoundblues.org
SUMMARY:Monday Jazz at Brother Don’s Bar & Grill\, Bremerton
DESCRIPTION:Monday Jazz at Brother Don’s Bar & Grill\, Bremerton\, 6-9 pm
URL:https://southsoundblues.org/event/monday-jazz-at-brother-dons-bar-grill-bremerton-9/
LOCATION:Brother Don’s Bar & Grill\, 4200 Kitsap Way\, Bremerton\, WA\, 98312
CATEGORIES:Local South Sound Blues
END:VEVENT
BEGIN:VEVENT
DTSTART;TZID=America/Los_Angeles:20241231T180000
DTEND;TZID=America/Los_Angeles:20241231T180000
DTSTAMP:20260425T081228
CREATED:20241031T184725Z
LAST-MODIFIED:20241031T184725Z
UID:13742-1735668000-1735668000@southsoundblues.org
SUMMARY:New Years Eve at Purdy's Public House with the Hipsters
DESCRIPTION:New Years Eve at Purdy’s with the Hipsters and two others starting at 6 pm
URL:https://southsoundblues.org/event/new-years-eve-at-purdys-public-house-with-the-hipsters/
LOCATION:Purdy’s Public House & Arcade\, Sumner\, 16202 64th St E\, Sumner\, WA\, 98390
CATEGORIES:Special Event
END:VEVENT
BEGIN:VEVENT
DTSTART;TZID=America/Los_Angeles:20241231T200000
DTEND;TZID=America/Los_Angeles:20241231T233000
DTSTAMP:20260425T081228
CREATED:20241230T013418Z
LAST-MODIFIED:20241230T013418Z
UID:14110-1735675200-1735687800@southsoundblues.org
SUMMARY:Celebrate New Years Eve with Blues Redemption at Dawsons
DESCRIPTION:New Years Eve with Blues Redemption at Dawsons Bar & Grill! Music starts at 8:00 pm
URL:https://southsoundblues.org/event/celebrate-new-years-eve-with-blues-redemption-at-dawsons/
LOCATION:Dawson’s Bar & Grill\, 5443 South Tacoma Way\, Tacoma\, WA\, 98409
CATEGORIES:Local South Sound Blues
END:VEVENT
BEGIN:VEVENT
DTSTART;TZID=America/Los_Angeles:20241231T200000
DTEND;TZID=America/Los_Angeles:20241231T233000
DTSTAMP:20260425T081228
CREATED:20241231T203416Z
LAST-MODIFIED:20241231T203645Z
UID:14114-1735675200-1735687800@southsoundblues.org
SUMMARY:New Year's Eve at the Madison Ave Pub with the CD Woodbury Trio
DESCRIPTION:New Year’s Eve at the Madison Ave Pub is always  a fantastic party\, and the CD Woodbury Trio is back for a third year. This will also be an emotional event as the trio are not only saying goodbye to 2024\, but also doing their last show with Jon their drummer. (“We know it won’t be our absolute last show with him\, but we do wish him all the best as we all make changes for 2025”.)\n\nIt will be a great night of music and an emotional night of blues and other dance music with Jonathan\, Rob\, and CD.
URL:https://southsoundblues.org/event/new-years-eve-at-the-madison-ave-pub-with-the-cd-woodbury-trio/
LOCATION:WA
CATEGORIES:Featured,Special Event
END:VEVENT
BEGIN:VEVENT
DTSTART;TZID=America/Los_Angeles:20241231T210000
DTEND;TZID=America/Los_Angeles:20241231T233000
DTSTAMP:20260425T081228
CREATED:20241102T193229Z
LAST-MODIFIED:20241102T193229Z
UID:13744-1735678800-1735687800@southsoundblues.org
SUMMARY:New Years Eve at George's Bonney Lake Tavern with the Taylor Hardin Blues Band
DESCRIPTION:New Years Eve at George’s Bonney Lake Tavern with the Taylor Hardin Blues Band\, 9pm\nBrad Bentley on keys Reece Webber on drums and Roman Winkel on bass and Taylor Hardin on guitar and vocals.
URL:https://southsoundblues.org/event/new-years-eve-at-georges-bonney-lake-tavern-with-the-taylor-hardin-blues-band/
LOCATION:George’s BLT\, 18212 HWY 410 E\, Bonney Lake\, WA\, 98391
CATEGORIES:Local South Sound Blues
END:VEVENT
BEGIN:VEVENT
DTSTART;VALUE=DATE:20250101
DTEND;VALUE=DATE:20250103
DTSTAMP:20260425T081228
CREATED:20241007T214919Z
LAST-MODIFIED:20241007T214919Z
UID:13586-1735696800-1735783199@southsoundblues.org
SUMMARY:Happy New Year! 2025
DESCRIPTION:Happy New Year! 2025
URL:https://southsoundblues.org/event/happy-new-year-2025/
LOCATION:WA
CATEGORIES:Local South Sound Blues
END:VEVENT
BEGIN:VEVENT
DTSTART;TZID=America/Los_Angeles:20250102T190000
DTEND;TZID=America/Los_Angeles:20250102T220000
DTSTAMP:20260425T081228
CREATED:20241031T002931Z
LAST-MODIFIED:20241031T002931Z
UID:13717-1735844400-1735855200@southsoundblues.org
SUMMARY:“Billy the Pocket Jam” Thursday nights at Dawson’s
DESCRIPTION:“Billy the Pocket Jam” Thursday nights at Dawson’s\, 7-10 pm
URL:https://southsoundblues.org/event/billy-the-pocket-jam-thursday-nights-at-dawsons-44/
LOCATION:Dawson’s Bar & Grill\, 5443 South Tacoma Way\, Tacoma\, WA\, 98409
CATEGORIES:Local South Sound Blues
END:VEVENT
BEGIN:VEVENT
DTSTART;TZID=America/Los_Angeles:20250102T200000
DTEND;TZID=America/Los_Angeles:20250102T230000
DTSTAMP:20260425T081228
CREATED:20241228T210618Z
LAST-MODIFIED:20241228T210618Z
UID:14064-1735848000-1735858800@southsoundblues.org
SUMMARY:Thursdays\, Steve Itterly & Guests at the Snapdragon
DESCRIPTION:Thursdays\, Steve Itterly & Guests at the Snapdragon\, 8-11 pm
URL:https://southsoundblues.org/event/thursdays-steve-itterly-guests-at-the-snapdragon/
LOCATION:Snapdragon\, 17817 Vashon Hwy\, Vashon\, WA\, 98070
CATEGORIES:Local South Sound Blues
END:VEVENT
BEGIN:VEVENT
DTSTART;TZID=America/Los_Angeles:20250103T190000
DTEND;TZID=America/Los_Angeles:20250103T210000
DTSTAMP:20260425T081228
CREATED:20241205T020657Z
LAST-MODIFIED:20241205T020657Z
UID:13915-1735930800-1735938000@southsoundblues.org
SUMMARY:The Gigsters at Kimball Coffeehouse
DESCRIPTION:Friday Night Music at Kimball Coffeehouse Presents THE GIGSTERS! January 3rd\, 7-9 pmThe Gigsters perform: 60s\, 70s\, and 80s rock covers. +Originals***Russ Salton Vox/Guitar- Billy Odden Vox/BassKurt Kaupanger Vox/Keys/Guitars \, Pete Beresford Drums***Kimball Coffeehouse – Doors Open at 6pm – Music Starts at 7pm
URL:https://southsoundblues.org/event/the-gigsters-at-kimball-coffeehouse/
LOCATION:Kimball’s Coffeehouse\, 6659 Kimball Dr\, Gig Harbor\, WA\, 98335
CATEGORIES:Featured
END:VEVENT
BEGIN:VEVENT
DTSTART;TZID=America/Los_Angeles:20250104T160000
DTEND;TZID=America/Los_Angeles:20250104T190000
DTSTAMP:20260425T081228
CREATED:20241230T020116Z
LAST-MODIFIED:20241230T020116Z
UID:14112-1736006400-1736017200@southsoundblues.org
SUMMARY:Heather Jones & the Groove Masters at the Urban Elk
DESCRIPTION:Heather Jones & the Groove Masters at the Urban Elk January 4th\, 4-7 pm.\n 
URL:https://southsoundblues.org/event/heather-jones-the-groove-masters-at-the-urban-elk/
LOCATION:Urban Elk\, 2013 S Cedar St\, Tacoma\, WA\, 98405
CATEGORIES:Local South Sound Blues
END:VEVENT
BEGIN:VEVENT
DTSTART;TZID=America/Los_Angeles:20250104T190000
DTEND;TZID=America/Los_Angeles:20250104T220000
DTSTAMP:20260425T081228
CREATED:20241228T064147Z
LAST-MODIFIED:20241228T064147Z
UID:14001-1736017200-1736028000@southsoundblues.org
SUMMARY:Live music at the spar
DESCRIPTION:Live music at the spar\, 7-10 pm
URL:https://southsoundblues.org/event/live-music-at-the-spar/
LOCATION:The Spar\, 2121 N 30th St\, Tacoma\, WA\, 98403
CATEGORIES:Featured
END:VEVENT
BEGIN:VEVENT
DTSTART;TZID=America/Los_Angeles:20250105T190000
DTEND;TZID=America/Los_Angeles:20250105T220000
DTSTAMP:20260425T081228
CREATED:20241112T011412Z
LAST-MODIFIED:20241112T011412Z
UID:13803-1736103600-1736114400@southsoundblues.org
SUMMARY:Sunday Blues at the Spar with the Blue Healers
DESCRIPTION:Sunday Blues at the Spar with the Blue Healers\, January 5th\,  w/David Hudson 7pm\n \n 
URL:https://southsoundblues.org/event/sunday-blues-at-the-spar-with-the-blue-healers-2/
LOCATION:The Spar\, 2121 N 30th St\, Tacoma\, WA\, 98403
CATEGORIES:Local South Sound Blues
END:VEVENT
BEGIN:VEVENT
DTSTART;TZID=America/Los_Angeles:20250105T190000
DTEND;TZID=America/Los_Angeles:20250105T230000
DTSTAMP:20260425T081228
CREATED:20241223T231506Z
LAST-MODIFIED:20241223T231506Z
UID:13979-1736103600-1736118000@southsoundblues.org
SUMMARY:Billy Shew Blues Jam\, every Sunday at Dawson’s
DESCRIPTION:Billy Shew Blues Jam\, every Sunday at Dawson’s\, 7-11 pm
URL:https://southsoundblues.org/event/billy-shew-blues-jam-every-sunday-at-dawsons-31/
LOCATION:Dawson’s Bar & Grill\, 5443 South Tacoma Way\, Tacoma\, WA\, 98409
CATEGORIES:Local South Sound Blues
END:VEVENT
END:VCALENDAR