BEGIN:VCALENDAR
VERSION:2.0
PRODID:-//South Sound Blues Association - ECPv6.15.18//NONSGML v1.0//EN
CALSCALE:GREGORIAN
METHOD:PUBLISH
X-WR-CALNAME:South Sound Blues Association
X-ORIGINAL-URL:https://southsoundblues.org
X-WR-CALDESC:Events for South Sound Blues Association
REFRESH-INTERVAL;VALUE=DURATION:PT1H
X-Robots-Tag:noindex
X-PUBLISHED-TTL:PT1H
BEGIN:VTIMEZONE
TZID:America/Los_Angeles
BEGIN:DAYLIGHT
TZOFFSETFROM:-0800
TZOFFSETTO:-0700
TZNAME:PDT
DTSTART:20240310T100000
END:DAYLIGHT
BEGIN:STANDARD
TZOFFSETFROM:-0700
TZOFFSETTO:-0800
TZNAME:PST
DTSTART:20241103T090000
END:STANDARD
BEGIN:DAYLIGHT
TZOFFSETFROM:-0800
TZOFFSETTO:-0700
TZNAME:PDT
DTSTART:20250309T100000
END:DAYLIGHT
BEGIN:STANDARD
TZOFFSETFROM:-0700
TZOFFSETTO:-0800
TZNAME:PST
DTSTART:20251102T090000
END:STANDARD
BEGIN:DAYLIGHT
TZOFFSETFROM:-0800
TZOFFSETTO:-0700
TZNAME:PDT
DTSTART:20260308T100000
END:DAYLIGHT
BEGIN:STANDARD
TZOFFSETFROM:-0700
TZOFFSETTO:-0800
TZNAME:PST
DTSTART:20261101T090000
END:STANDARD
END:VTIMEZONE
BEGIN:VEVENT
DTSTART;TZID=America/Los_Angeles:20250622T190000
DTEND;TZID=America/Los_Angeles:20250622T220000
DTSTAMP:20260423T095157
CREATED:20250417T020256Z
LAST-MODIFIED:20250501T014122Z
UID:14695-1750618800-1750629600@southsoundblues.org
SUMMARY:Sunday Blues at the Spar with the Cory Wilds Band
DESCRIPTION:Cory Wilds Band\, Sunday Blues at the Spar 7-10 pm
URL:https://southsoundblues.org/event/sunday-blues-at-the-spar-19/
LOCATION:The Spar\, 2121 N 30th St\, Tacoma\, WA\, 98403
CATEGORIES:Local South Sound Blues
END:VEVENT
BEGIN:VEVENT
DTSTART;TZID=America/Los_Angeles:20250622T183000
DTEND;TZID=America/Los_Angeles:20250622T220000
DTSTAMP:20260423T095157
CREATED:20250202T003808Z
LAST-MODIFIED:20250202T004817Z
UID:14286-1750617000-1750629600@southsoundblues.org
SUMMARY:Little Feat & the Nitty Gritty Dirt Band at Marymoor Park Amphitheatre
DESCRIPTION:Little Feat & the Nitty Gritty Dirt Band at Marymoor Park June 22nd\, 6:30 pm\, Presented by Toyota\nCome out to the park and join LITTLE FEAT and NITTY GRITTY DIRT BAND when they bring the Dirty Feat Tour to Marymoor Live on June 22nd. \nTickets  on sale at Marymoorlive.com and Ticketmaster.com. Part of the Summer Concert Series at King County’s Marymoor Park presented by Toyota. \n$44.-$144. \n\n  \n 
URL:https://southsoundblues.org/event/little-feat-the-nitty-gritty-dirt-band-at-marymoor-park-amphitheatre/
LOCATION:Marymoor Amphitheatre\, 6046 W Lake Sammamish Parkway NE\, Redmond\, WA\, 98052
CATEGORIES:Featured
END:VEVENT
BEGIN:VEVENT
DTSTART;TZID=America/Los_Angeles:20250621T210000
DTEND;TZID=America/Los_Angeles:20250621T233000
DTSTAMP:20260423T095157
CREATED:20250609T011128Z
LAST-MODIFIED:20250609T011128Z
UID:15051-1750539600-1750548600@southsoundblues.org
SUMMARY:Kimball & The Fugitives with Annie Eastwood\, Del-Red Pub\, Soap Lake 
DESCRIPTION:Saturday June 21\, 9pm to Midnight- Kimball & The Fugitives with Annie Eastwood\, Del-Red Pub\, Soap Lake
URL:https://southsoundblues.org/event/kimball-the-fugitives-with-annie-eastwood-del-red-pub-soap-lake/
LOCATION:WA
CATEGORIES:Featured
END:VEVENT
BEGIN:VEVENT
DTSTART;TZID=America/Los_Angeles:20250621T210000
DTEND;TZID=America/Los_Angeles:20250621T230000
DTSTAMP:20260423T095157
CREATED:20250609T014928Z
LAST-MODIFIED:20250609T014928Z
UID:15065-1750539600-1750546800@southsoundblues.org
SUMMARY:Michele D'Amour & The Love Dealers at Pour House Pete's\, Carnation
DESCRIPTION:Michele D’Amour & The Love Dealers\, Saturday\, June 21 – Pour House Pete’s\, 9 to 11 p.m.\, 4640 Tolt Ave\, Carnation\, WA  (4 pc)
URL:https://southsoundblues.org/event/michele-damour-the-love-dealers-at-pour-house-petes-carnation/
LOCATION:Pour House Pete’s\, 4640 Tolt Ave\, Carnation\, WA\, 98014
CATEGORIES:Featured
END:VEVENT
BEGIN:VEVENT
DTSTART;TZID=America/Los_Angeles:20250621T173000
DTEND;TZID=America/Los_Angeles:20250621T190000
DTSTAMP:20260423T095157
CREATED:20250608T002212Z
LAST-MODIFIED:20250608T002212Z
UID:15046-1750527000-1750532400@southsoundblues.org
SUMMARY:Kimball & The Fugitives with Annie Eastwood  Soap Lake Food & Folk Fest
DESCRIPTION:Kimball & The Fugitives with Annie Eastwood  Soap Lake Food & Folk Fest June 21st\, 5:30 -7 pm\n \n\n\n301 Daisy Street South\, Soap Lake\, WA\, United States\, Washington
URL:https://southsoundblues.org/event/kimball-the-fugitives-with-annie-eastwood-soap-lake-food-folk-fest/
LOCATION:Soap Lake Food & Folk Fest\, 301 Daisy Street South\, Soap Lake\, DE\, 98851\, United States
CATEGORIES:Festival
END:VEVENT
BEGIN:VEVENT
DTSTART;TZID=America/Los_Angeles:20250621T100000
DTEND;TZID=America/Los_Angeles:20250621T130000
DTSTAMP:20260423T095157
CREATED:20250527T171054Z
LAST-MODIFIED:20250527T171054Z
UID:14967-1750500000-1750510800@southsoundblues.org
SUMMARY:The Spin-offs band will be performing at the Car & BMX Show\, Lewis County Autism Coalition at the Veterans Memorial Museum\, Chehalis
DESCRIPTION:The Spin-Offs Band\, June 21st\,  10am-1pm\,  2nd Annual Car & BMX Show Lewis County Autism Coalition\, Veterans Memorial Museum\, Chehalis\, WA
URL:https://southsoundblues.org/event/the-spin-offs-band-will-be-performing-at-the-car-bmx-show-lewis-county-autism-coalition-at-the-veterans-memorial-museum-chehalis/
LOCATION:Veterans Memorial Museum\, 100 SW Veterans Way\, Chehalis\, WA\, 98532
CATEGORIES:Featured
END:VEVENT
BEGIN:VEVENT
DTSTART;VALUE=DATE:20250621
DTEND;VALUE=DATE:20250623
DTSTAMP:20260423T095157
CREATED:20250409T013153Z
LAST-MODIFIED:20250616T194007Z
UID:14627-1750471200-1750557599@southsoundblues.org
SUMMARY:Blues at the Barn at McMillin Farm and Brewhouse
DESCRIPTION:Blues at the Barn\, McMillin Farm and Brewhouse June 21st! 2-9pm\nMcMillin Farm and Brewhouse bring you “Blues at the Barn!” June 21st\, 2:00 to 9:00 pm. First Annual McMillin Farm Blues Festival located north of Orting\, 12517 State Route 162 E. (South of Route 410). Lots of Parking\, admission is $10. plus fees on eventbrite.com or $15. at the gate. \nJames Howard Music\, \nMid-Nite Bourbon\, \nMacon Bacon\, \nThe Spinoffs\, \nBilly Shew band\, \nand Mattlock & the Keys. \n“Blues at the Barn!” \n \nMcMillin Farm and Brewhouse\, acres of parking\, easy access off of Route 162\, halfway between Orting and Sumner WA \nhttps://www.eventbrite.com/e/mcmillin-farm-brewhouse-blues-concert-tickets-1328991371969?aff=ebdssbdestsearch&fbclid=IwY2xjawK9UbBleHRuA2FlbQIxMABicmlkETFaOEZwMHFMUG1pWVBxM1NwAR7VQTk0vLGzS_DF6Wqu2p8CtBTORkbiYu4G36hLn5MarKl4BLInLdCJDbePZA_aem_itN3i9SohGlohiRYYcX2Cw \n  \n 
URL:https://southsoundblues.org/event/blues-at-the-barn-mcmillin-farm-and-brewhouse/
LOCATION:McMillin Farm and Brewhouse\, 12517 WA-162\, McMillin\, WA\, 98374
CATEGORIES:Festival,Local South Sound Blues,Special Event
END:VEVENT
BEGIN:VEVENT
DTSTART;VALUE=DATE:20250621
DTEND;VALUE=DATE:20250624
DTSTAMP:20260423T095157
CREATED:20250319T011955Z
LAST-MODIFIED:20250504T225826Z
UID:14564-1750471200-1750643999@southsoundblues.org
SUMMARY:Rhubarb Days in downtown Sumner
DESCRIPTION:Rhubarb Days in downtown Sumner. June 21st\, 22nd\, 2025\nJoin us for the fastest growing festival in the Pacific Northwest! A full weekend of live music\, a beer garden\, food trucks\, kids’ zone\, crafts\, and local vendors\,  Sumner is the place for family fun! Come celebrate Rhubarb in the Rhubarb Pie Capital of the World.\n\nRhubarb Days is presented by Sumner Main Street Association\, City of Sumner\, and Knutson Farms.\nReuben A. Knoblauch Heritage Park\n914 Kincaid Ave\, Sumner\, WA 98390\n  \nhttps://www.sumnermainstreet.com/events/rhubarb-days-2025/
URL:https://southsoundblues.org/event/rhubarb-days-in-downtown-sumner/
LOCATION:Sumner Rhubarb festival\, 923 Kincaide Ave\, Sumner\, WA\, 98390
CATEGORIES:Festival
END:VEVENT
BEGIN:VEVENT
DTSTART;TZID=America/Los_Angeles:20250620T200000
DTEND;TZID=America/Los_Angeles:20250620T230000
DTSTAMP:20260423T095157
CREATED:20250501T014336Z
LAST-MODIFIED:20250501T014519Z
UID:14789-1750449600-1750460400@southsoundblues.org
SUMMARY:Cory Wilds Band at JP's Barroom\, Renton
DESCRIPTION:Cory Wilds Band at JP’s Barroom\, Renton\,  June 20th\, 8-11 pm
URL:https://southsoundblues.org/event/cory-wilds-band-at-jps-barroom-2/
LOCATION:JP’s Barroom\, 214 Williams Ave S\, Renton\, WA\, 98057
CATEGORIES:Local South Sound Blues
END:VEVENT
BEGIN:VEVENT
DTSTART;TZID=America/Los_Angeles:20250620T190000
DTEND;TZID=America/Los_Angeles:20250620T210000
DTSTAMP:20260423T095157
CREATED:20250504T005356Z
LAST-MODIFIED:20250504T005356Z
UID:14796-1750446000-1750453200@southsoundblues.org
SUMMARY:Polly O'Keary & The Rhythm Method at Kimball Coffeehouse
DESCRIPTION:Polly O’Keary & The Rhythm Method at the Kimball Coffeehouse\, June 20th\, 7-9 pm
URL:https://southsoundblues.org/event/polly-okeary-the-rhythm-method-at-kimball-coffeehouse-2/
LOCATION:Kimball’s Coffeehouse\, 6659 Kimball Dr\, Gig Harbor\, WA\, 98335
CATEGORIES:Local South Sound Blues
END:VEVENT
BEGIN:VEVENT
DTSTART;TZID=America/Los_Angeles:20250620T180000
DTEND;TZID=America/Los_Angeles:20250620T210000
DTSTAMP:20260423T095157
CREATED:20250620T002441Z
LAST-MODIFIED:20250620T002441Z
UID:15245-1750442400-1750453200@southsoundblues.org
SUMMARY:King Kom Beaux at the Garage\, Bremerton
DESCRIPTION:King Kom Beaux at the Garage\, June 20th\, 6-9 pm
URL:https://southsoundblues.org/event/king-kom-beaux-at-the-garage-bremerton-4/
LOCATION:Garage Bar and Grill\, 6812 Kitsap Way\, Bremerton\, WA\, 98312
CATEGORIES:Local South Sound Blues
END:VEVENT
BEGIN:VEVENT
DTSTART;VALUE=DATE:20250620
DTEND;VALUE=DATE:20250623
DTSTAMP:20260423T095157
CREATED:20250313T013902Z
LAST-MODIFIED:20250314T194616Z
UID:14532-1750384800-1750557599@southsoundblues.org
SUMMARY:Gorge Blues and Brews festival at Skamania County Fairgrounds\, Stevenson
DESCRIPTION:Gorge Blues and Brews\, June 20th and 21st\, 2025\n\n\n\n\n\n Gorge Blues and Brews Festival\n\n\n\n\n\n\n\n\n\n\n\n\nSkamania County Fair Grounds\, weekend pass $30.         https://www.tickettomato.com/event/9217/gorge-blues-and-brews\n\n\n\n\n\n\n\n\n\n\n\n\nDuration: 2 days\n\n\n\n\n\n\n\n\n\n\n\nPublic  · Anyone on or off Facebook\n\n\n\n\n\n\n\nFeaturing microbrews\, wines and spirits from the Columbia Gorge region\, local food and live blues music on 2 stages!32nd Annual Gorge Blues and Brews Festival\nFriday\, June 20 — Saturday\, June 21\, 2025\nOrganizer: Skamania County\nEvent Website: Gorge Blues & Brews\nJoin the fun at the Skamania County Fairgrounds in Stevenson\, Washington!\nTwo days of award-winning live blues music on two stages\, featuring microbrews\, wines and spirits from the Columbia Gorge region\, and local food!\nFriday\, June 20th\n6:00 pm – 10:00 pmLocal music\, beer\, food and entertainment!Saturday\, June 21st\n2:00 pm – 10:00 pmSaturday is our premiere\, can-not-miss blues artists on TWO stages\nArtist lineup to be announced\nCamping:To be announced\nCamping passes do not include Festival Entry\nFestival Pass:Release Date to be announcedAll admission include a souvenir glass\nMust be 21+ to attend.\nTickets non-refundable.\n\n\nSkamania County Fairgrounds\, Stevenson\, WA https://www.eventbrite.com/e/29th-annual-gorge-blues-and-brews-festival-tickets-269165229447
URL:https://southsoundblues.org/event/gorge-blues-and-brews-festival-at-skamania-county-fairgrounds-stevenson/
LOCATION:Skamania County Fairgrounds\, 710 SW Rock Creek Dr\, Stevenson\, WA\, 98648
CATEGORIES:Festival
END:VEVENT
BEGIN:VEVENT
DTSTART;TZID=America/Los_Angeles:20250619T200000
DTEND;TZID=America/Los_Angeles:20250619T230000
DTSTAMP:20260423T095157
CREATED:20250504T215924Z
LAST-MODIFIED:20250504T215924Z
UID:14858-1750363200-1750374000@southsoundblues.org
SUMMARY:Thursdays\, Steve Itterly & Friends at the Snapdragon\, Vashon
DESCRIPTION:Steve Itterly & Friends  at the Snapdragon\, 8-11 pm\n\nThu Jun 12th 8:00pm – 11:00pm (PDT)\n\n\n\n\nSnapdragon\, 17817 Vashon Hwy SW\, Vashon\, WA 98070\, \n\n\n \nSteve Itterly & Guests\n\nEvery Thursday night at Snapdragon\n8pm (after Trivia) the acclaimed blues guitarist and songwriter\, Steve Itterly\, The performances resonate with a dynamic connection\, evident in the rhythmic boot stomping and impassioned solos that characterize their music.\n\n\n\nwww.facebook.com/itterlypitman
URL:https://southsoundblues.org/event/thursdays-steve-itterly-friends-at-the-snapdragon-vashon/
LOCATION:Snapdragon\, 17817 Vashon Hwy\, Vashon\, WA\, 98070
CATEGORIES:Local South Sound Blues
END:VEVENT
BEGIN:VEVENT
DTSTART;TZID=America/Los_Angeles:20250619T190000
DTEND;TZID=America/Los_Angeles:20250619T220000
DTSTAMP:20260423T095157
CREATED:20250524T002831Z
LAST-MODIFIED:20250524T002831Z
UID:14903-1750359600-1750370400@southsoundblues.org
SUMMARY:Red Dog Saloon Jam Thursdays with host Billy Shew
DESCRIPTION:Red Dog Saloon Jam Thursdays with host Billy Shew\, 7-10 pm\n\n\n18605 Renton Maple Valley Rd SE\, Maple Valley\, WA\, United States\, Washington
URL:https://southsoundblues.org/event/red-dog-saloon-jam-thursdays-with-host-billy-shew-2/
LOCATION:Red Dog Saloon\, 18605 Renton-Maple Valley Rd\, Maple Valley\, WA\, 98038
CATEGORIES:Local South Sound Blues
END:VEVENT
BEGIN:VEVENT
DTSTART;TZID=America/Los_Angeles:20250618T180000
DTEND;TZID=America/Los_Angeles:20250618T210000
DTSTAMP:20260423T095157
CREATED:20250417T015558Z
LAST-MODIFIED:20250417T015558Z
UID:14691-1750269600-1750280400@southsoundblues.org
SUMMARY:Wednesday Jazz at the Spar
DESCRIPTION:Wednesday Jazz at the Spar\, 6pm
URL:https://southsoundblues.org/event/wednesday-jazz-at-the-spar-4/
LOCATION:The Spar\, 2121 N 30th St\, Tacoma\, WA\, 98403
CATEGORIES:Featured
END:VEVENT
BEGIN:VEVENT
DTSTART;TZID=America/Los_Angeles:20250617T190000
DTEND;TZID=America/Los_Angeles:20250617T220000
DTSTAMP:20260423T095157
CREATED:20250411T013931Z
LAST-MODIFIED:20250411T013931Z
UID:14669-1750186800-1750197600@southsoundblues.org
SUMMARY:Billy Shew hosts the Burien Eagles Tuesday Night Jams
DESCRIPTION:Billy Shew hosts the Burien Eagles Tuesday Night Jams\,  7:00pm
URL:https://southsoundblues.org/event/billy-shew-hosts-the-burien-eagles-tuesday-night-jams-10/
LOCATION:Burien Eagles\, 920 SW 150th St\, Burien\, WA\, 98166
CATEGORIES:Local South Sound Blues
END:VEVENT
BEGIN:VEVENT
DTSTART;TZID=America/Los_Angeles:20250616T210000
DTEND;TZID=America/Los_Angeles:20250616T210000
DTSTAMP:20260423T095157
CREATED:20250504T192730Z
LAST-MODIFIED:20250504T192730Z
UID:14813-1750107600-1750107600@southsoundblues.org
SUMMARY:Mondays\, Andy Coe Band Grateful Dead tribute at The Blue Moon\, Seattle
DESCRIPTION:Mondays\, Andy Coe Band Grateful Dead tribute\, 9 pm at the Blue Moon
URL:https://southsoundblues.org/event/mondays-andy-coe-band-grateful-dead-tribute-at-the-blue-moon-seattle/
LOCATION:Blue Moon Tavern\, 712 NE 45th St\, Seattle\, WA\, 98105
CATEGORIES:Featured
END:VEVENT
BEGIN:VEVENT
DTSTART;TZID=America/Los_Angeles:20250615T190000
DTEND;TZID=America/Los_Angeles:20250615T220000
DTSTAMP:20260423T095157
CREATED:20250411T012326Z
LAST-MODIFIED:20250411T012326Z
UID:14657-1750014000-1750024800@southsoundblues.org
SUMMARY:Sunday Blues at the Spar
DESCRIPTION:Sunday Blues at the Spar
URL:https://southsoundblues.org/event/sunday-blues-at-the-spar-17/
LOCATION:The Spar\, 2121 N 30th St\, Tacoma\, WA\, 98403
CATEGORIES:Local South Sound Blues
END:VEVENT
BEGIN:VEVENT
DTSTART;TZID=America/Los_Angeles:20250615T180000
DTEND;TZID=America/Los_Angeles:20250615T210000
DTSTAMP:20260423T095157
CREATED:20250417T020505Z
LAST-MODIFIED:20250417T020505Z
UID:14697-1750010400-1750021200@southsoundblues.org
SUMMARY:Tim Hall Blues Jam every Sunday at Zesty’s Steakhouse
DESCRIPTION:Tim Hall Blues Jam every Sunday at Zesty’s Steakhouse\, 6-9pm
URL:https://southsoundblues.org/event/tim-hall-blues-jam-every-sunday-at-zestys-steakhouse/
LOCATION:Zesty’s Cajun Steakhouse\, 9905 Bridgeport Way Southwest\, Lakewood\, WA\, 98499
CATEGORIES:Local South Sound Blues
END:VEVENT
BEGIN:VEVENT
DTSTART;TZID=America/Los_Angeles:20250614T200000
DTEND;TZID=America/Los_Angeles:20250614T230000
DTSTAMP:20260423T095157
CREATED:20250408T210403Z
LAST-MODIFIED:20250408T210403Z
UID:14607-1749931200-1749942000@southsoundblues.org
SUMMARY:Mark Hurwitz & Gin Creek at Rock the Dock
DESCRIPTION:Mark Hurwitz & Gin Creek at Rock the Dock June 14th\, 8-11 pm
URL:https://southsoundblues.org/event/mark-hurwitz-gin-creek-at-rock-the-dock-3/
LOCATION:Rock the Dock\, 535 Dock St # 118\, Tacoma\, WA\, 98402
CATEGORIES:Local South Sound Blues
END:VEVENT
BEGIN:VEVENT
DTSTART;TZID=America/Los_Angeles:20250614T190000
DTEND;TZID=America/Los_Angeles:20250614T220000
DTSTAMP:20260423T095157
CREATED:20250608T000930Z
LAST-MODIFIED:20250608T000930Z
UID:15043-1749927600-1749938400@southsoundblues.org
SUMMARY:Kimball & The Fugitives Trio with Annie Eastwood Melody Lynne Wine Bar\, Kirkland
DESCRIPTION:Kimball & The Fugitives Trio with Annie Eastwood  at the Melody Lynne Wine Bar\, Kirkland June 14th\, 7-10 pm\n\n\n\n\n\nMelody Lynne Wine Bar\n106 Kirkland Ave\, Kirkland WA 98033
URL:https://southsoundblues.org/event/kimball-the-fugitives-trio-with-annie-eastwood-melody-lynne-wine-bar-kirkland/
LOCATION:Melody Lynne Wine Bar\, 106 Kirkland Ave\, Kirkland\, WA\, 98033
CATEGORIES:Featured
END:VEVENT
BEGIN:VEVENT
DTSTART;TZID=America/Los_Angeles:20250614T110000
DTEND;TZID=America/Los_Angeles:20250614T150000
DTSTAMP:20260423T095157
CREATED:20250406T124832Z
LAST-MODIFIED:20250406T124832Z
UID:14588-1749898800-1749913200@southsoundblues.org
SUMMARY:Ross Robinson at the Tenino Creative Market
DESCRIPTION:Ross Robinson\, June 14th\, 11am-3pm at The Tenino Stone Carvers Tenino Arts Creative Market\,  147 Olympia Avenue\, in the heart of Tenino Wa.
URL:https://southsoundblues.org/event/ross-robinson-at-the-tenino-creative-market/
LOCATION:Tenino Arts Creative Market\, Sussex and Olympia St N\, Tenino\, WA\, 98589
CATEGORIES:Local South Sound Blues
END:VEVENT
BEGIN:VEVENT
DTSTART;TZID=America/Los_Angeles:20250613T210000
DTEND;TZID=America/Los_Angeles:20250613T233000
DTSTAMP:20260423T095157
CREATED:20250612T000513Z
LAST-MODIFIED:20250612T000641Z
UID:15119-1749848400-1749857400@southsoundblues.org
SUMMARY:Cooking The Blues with Kim Archer June 13th and 14th\, in the Ocean Lounge at Quinault Beach Resort and Casino
DESCRIPTION:Cooking The Blues with Kim Archer June 13th and 14th\, in the Ocean Lounge 9pm – Midnight\, Quinault Beach Resort and Casino \n\n  \nBLUES MUSIC \nhttps://quinaultbeachresort.com/25th-anniversary-celebration.html
URL:https://southsoundblues.org/event/cooking-the-blues-with-kim-archer-june-13th-and-14th-in-the-ocean-lounge-at-quinault-beach-resort-and-casino/
LOCATION:Quinault Beach Resort and Casino\, 78 State Route 115\, Ocean Shores\, WA\, 98569
CATEGORIES:Special Event
END:VEVENT
BEGIN:VEVENT
DTSTART;TZID=America/Los_Angeles:20250613T190000
DTEND;TZID=America/Los_Angeles:20250613T220000
DTSTAMP:20260423T095157
CREATED:20250406T123711Z
LAST-MODIFIED:20250406T123711Z
UID:14584-1749841200-1749852000@southsoundblues.org
SUMMARY:Peter Frampton at the Chateau Ste Michelle Winery
DESCRIPTION:Peter Frampton at the Chateau Ste Michelle Winery June 13th\, 7pm\nhttps://www.stubhub.com/peter-frampton-woodinville-tickets-6-13-2025/event/157379308/ \nPeter Kenneth Frampton was the founding guitarist of supergroup Humble Pie\, but is most famous for the success that followed his solo live album\, Frampton Comes Alive! Frampton was something of a musical prodigy\, getting his start in the English pop band The Herd when he was 16. The Herd had several hits in the UK\, before Frampton joined with other pop stars to form Humble Pie.
URL:https://southsoundblues.org/event/peter-frampton-at-the-chateau-ste-michelle-winery/
LOCATION:Chateau Ste. Michelle Winery\, 14111 NE 145th St\, Woodinville\, WA\, 98072
CATEGORIES:Special Event
END:VEVENT
BEGIN:VEVENT
DTSTART;TZID=America/Los_Angeles:20250613T190000
DTEND;TZID=America/Los_Angeles:20250613T210000
DTSTAMP:20260423T095157
CREATED:20250609T013952Z
LAST-MODIFIED:20250609T014118Z
UID:15063-1749841200-1749848400@southsoundblues.org
SUMMARY:Michele D'Amour and the Love Dealers trio at The Vault\, Blaine\, WA
DESCRIPTION:Michele D’Amour and the Love Dealers trio\, Friday\, June 13 – Trio – The Vault\, 7:00 to 9:00 p.m.\, 277 G Street\, Blaine\, WA
URL:https://southsoundblues.org/event/michele-damour-and-the-love-dealers-trio-at-the-vault-blaine-wa/
LOCATION:The Vault Wine Bar\, 277 G St\, Blaine\, WA\, 98230
CATEGORIES:Featured
END:VEVENT
BEGIN:VEVENT
DTSTART;TZID=America/Los_Angeles:20250613T190000
DTEND;TZID=America/Los_Angeles:20250613T210000
DTSTAMP:20260423T095157
CREATED:20250607T235215Z
LAST-MODIFIED:20250607T235244Z
UID:15041-1749841200-1749848400@southsoundblues.org
SUMMARY:Kimball & The Fugitives with Annie Eastwood at the Sheridan Market & Roadhouse\, Lake Forest Park
DESCRIPTION:Kimball & The Fugitives with Annie Eastwood at the Sheridan Market & Roadhouse\, Lake Forest Park\, June 13th 7-9 pm
URL:https://southsoundblues.org/event/kimball-the-fugitives-with-annie-eastwood-at-the-sheridan-market-roadhouse-lake-forest-park/
LOCATION:Sheridan Market\, 15348 Bothell Way NE\, Lake Forest Park\, WA\, 98155
CATEGORIES:Featured
END:VEVENT
BEGIN:VEVENT
DTSTART;TZID=America/Los_Angeles:20250613T190000
DTEND;TZID=America/Los_Angeles:20250613T210000
DTSTAMP:20260423T095157
CREATED:20250504T010401Z
LAST-MODIFIED:20250504T010401Z
UID:14800-1749841200-1749848400@southsoundblues.org
SUMMARY:Joel Astley band at Kimball Coffeehouse
DESCRIPTION:Joel Astley band at Kimball Coffeehouse June 13th\, 7-9 pm\n 
URL:https://southsoundblues.org/event/joel-astley-band-at-kimball-coffeehouse-3/
LOCATION:Kimball’s Coffeehouse\, 6659 Kimball Dr\, Gig Harbor\, WA\, 98335
CATEGORIES:Local South Sound Blues
END:VEVENT
BEGIN:VEVENT
DTSTART;TZID=America/Los_Angeles:20250612T200000
DTEND;TZID=America/Los_Angeles:20250612T230000
DTSTAMP:20260423T095157
CREATED:20250504T214645Z
LAST-MODIFIED:20250504T214645Z
UID:14856-1749758400-1749769200@southsoundblues.org
SUMMARY:Di & the Blue Hearts at the Salmon Eagles
DESCRIPTION:Di & the Blue Hearts\, Thursday June 12th 8:00 – 11:00pm \n\n\n\n\n\nSalmon Bay Eagles\, 5216 20th Avenue Northwest\, Seattle\, WA 98107\, USA map \n\n\n\n\n\nDi and the Blue Hearts is a 5-piece classic blues ensemble of award winning\, lifelong blues lovers with a passion for a good time. Howlin’ Wolf\, Little Walter\, Junior Wells\, Otis Rush\, Big Mama Thornton and other blues giants appear in the set list. High energy and low down\, the band can be traditional\, off kilter or both at the same time. Di and the Blue Hearts is nominated Best New Band 2025 by the Washington Blues Society. Band member include Diane Forsyth – Vocals\, Don Forsyth – Guitar\, Jonathan Pitman – Harmonica\, Guy Quintino – Bass and Rick Jacobson – Drums.
URL:https://southsoundblues.org/event/di-the-blue-hearts-at-the-salmon-eagles/
LOCATION:Salmon Bay Eagles\, 5216 20th Ave NW\, Seattle\, WA\, 98107
CATEGORIES:Local South Sound Blues
END:VEVENT
BEGIN:VEVENT
DTSTART;TZID=America/Los_Angeles:20250612T190000
DTEND;TZID=America/Los_Angeles:20250612T220000
DTSTAMP:20260423T095157
CREATED:20250607T232832Z
LAST-MODIFIED:20250607T232832Z
UID:15029-1749754800-1749765600@southsoundblues.org
SUMMARY:Thursdays Red Dog Saloon Jams\, Maple Valley\, with host Billy Shew
DESCRIPTION:Thursdays Red Dog Saloon Jams\, Maple Valley\, with host Billy Shew\, 7-10 pm
URL:https://southsoundblues.org/event/thursdays-red-dog-saloon-jams-maple-valley-with-host-billy-shew-2/
LOCATION:Red Dog Saloon\, 18605 Renton-Maple Valley Rd\, Maple Valley\, WA\, 98038
CATEGORIES:Local South Sound Blues
END:VEVENT
BEGIN:VEVENT
DTSTART;TZID=America/Los_Angeles:20250612T190000
DTEND;TZID=America/Los_Angeles:20250612T220000
DTSTAMP:20260423T095157
CREATED:20250411T014256Z
LAST-MODIFIED:20250411T014256Z
UID:14671-1749754800-1749765600@southsoundblues.org
SUMMARY:“Billy the Pocket Jam” Thursday nights at Dawson’s
DESCRIPTION:“Billy the Pocket Jam” Thursday nights at Dawson’s\, 7-10 pm
URL:https://southsoundblues.org/event/billy-the-pocket-jam-thursday-nights-at-dawsons-8/
LOCATION:Dawson’s Bar & Grill\, 5443 South Tacoma Way\, Tacoma\, WA\, 98409
CATEGORIES:Local South Sound Blues
END:VEVENT
END:VCALENDAR