BEGIN:VCALENDAR
VERSION:2.0
PRODID:-//South Sound Blues Association - ECPv6.15.18//NONSGML v1.0//EN
CALSCALE:GREGORIAN
METHOD:PUBLISH
X-WR-CALNAME:South Sound Blues Association
X-ORIGINAL-URL:https://southsoundblues.org
X-WR-CALDESC:Events for South Sound Blues Association
REFRESH-INTERVAL;VALUE=DURATION:PT1H
X-Robots-Tag:noindex
X-PUBLISHED-TTL:PT1H
BEGIN:VTIMEZONE
TZID:America/Los_Angeles
BEGIN:DAYLIGHT
TZOFFSETFROM:-0800
TZOFFSETTO:-0700
TZNAME:PDT
DTSTART:20250309T100000
END:DAYLIGHT
BEGIN:STANDARD
TZOFFSETFROM:-0700
TZOFFSETTO:-0800
TZNAME:PST
DTSTART:20251102T090000
END:STANDARD
BEGIN:DAYLIGHT
TZOFFSETFROM:-0800
TZOFFSETTO:-0700
TZNAME:PDT
DTSTART:20260308T100000
END:DAYLIGHT
BEGIN:STANDARD
TZOFFSETFROM:-0700
TZOFFSETTO:-0800
TZNAME:PST
DTSTART:20261101T090000
END:STANDARD
BEGIN:DAYLIGHT
TZOFFSETFROM:-0800
TZOFFSETTO:-0700
TZNAME:PDT
DTSTART:20270314T100000
END:DAYLIGHT
BEGIN:STANDARD
TZOFFSETFROM:-0700
TZOFFSETTO:-0800
TZNAME:PST
DTSTART:20271107T090000
END:STANDARD
END:VTIMEZONE
BEGIN:VEVENT
DTSTART;VALUE=DATE:20260917
DTEND;VALUE=DATE:20260922
DTSTAMP:20260423T013826
CREATED:20260110T001559Z
LAST-MODIFIED:20260110T001559Z
UID:16751-1789610400-1789955999@southsoundblues.org
SUMMARY:Sunbanks Rock Festival
DESCRIPTION:Sunbanks Rock Festival September 17th-20th
URL:https://southsoundblues.org/event/sunbanks-rock-festival-2/
LOCATION:Sunbanks Resort\, 57662 Hwy 155 N\, Electric City\, WA\, 99123
CATEGORIES:Festival
END:VEVENT
BEGIN:VEVENT
DTSTART;VALUE=DATE:20260919
DTEND;VALUE=DATE:20260921
DTSTAMP:20260423T013826
CREATED:20260420T222720Z
LAST-MODIFIED:20260420T222720Z
UID:17592-1789783200-1789869599@southsoundblues.org
SUMMARY:Blues at the Barn! McMillin Farm Brewhouse\, Puyallup
DESCRIPTION:Blues at the Barn September 19th! More details TBD\n \nhttps://mcmillinbrew.com/ \nMcMillin Farm Brewhouse\, \n12517 Washington State Route 162 Bldg A1\, Puyallup\, WA 98374
URL:https://southsoundblues.org/event/blues-at-the-barn-mcmillin-farm-brewhouse-puyallup/
LOCATION:McMillin Farm and Brewhouse\, 12517 WA-162\, McMillin\, WA\, 98374
CATEGORIES:Festival,Local South Sound Blues
END:VEVENT
BEGIN:VEVENT
DTSTART;TZID=America/Los_Angeles:20261016T193000
DTEND;TZID=America/Los_Angeles:20261016T220000
DTSTAMP:20260423T013826
CREATED:20260321T222428Z
LAST-MODIFIED:20260321T222619Z
UID:17332-1792179000-1792188000@southsoundblues.org
SUMMARY:Kenny Wayne Shepherd Band at the Moore Theatre\, Seattle
DESCRIPTION:Kenny Wayne Shepherd Band at the Moore Theatre September 16th\, 7:30 pm\n \n\nMoore Theatre Tickets \n\nhttps://www.boxofficeticketsales.com/7791709/kenny-wayne-shepherd-band-tickets-wed-9-16-2026-moore-theatre-wa \n 
URL:https://southsoundblues.org/event/kenny-wayne-shepherd-band-at-the-moore-theatre-seattle/
LOCATION:Moore Theatre\, 1932 2nd Avenue\, Seattle\, WA\, 98101
CATEGORIES:Special Event
END:VEVENT
END:VCALENDAR