BEGIN:VCALENDAR
VERSION:2.0
PRODID:-//South Sound Blues Association - ECPv6.15.18//NONSGML v1.0//EN
CALSCALE:GREGORIAN
METHOD:PUBLISH
X-ORIGINAL-URL:https://southsoundblues.org
X-WR-CALDESC:Events for South Sound Blues Association
REFRESH-INTERVAL;VALUE=DURATION:PT1H
X-Robots-Tag:noindex
X-PUBLISHED-TTL:PT1H
BEGIN:VTIMEZONE
TZID:America/Los_Angeles
BEGIN:DAYLIGHT
TZOFFSETFROM:-0800
TZOFFSETTO:-0700
TZNAME:PDT
DTSTART:20220313T100000
END:DAYLIGHT
BEGIN:STANDARD
TZOFFSETFROM:-0700
TZOFFSETTO:-0800
TZNAME:PST
DTSTART:20221106T090000
END:STANDARD
BEGIN:DAYLIGHT
TZOFFSETFROM:-0800
TZOFFSETTO:-0700
TZNAME:PDT
DTSTART:20230312T100000
END:DAYLIGHT
BEGIN:STANDARD
TZOFFSETFROM:-0700
TZOFFSETTO:-0800
TZNAME:PST
DTSTART:20231105T090000
END:STANDARD
BEGIN:DAYLIGHT
TZOFFSETFROM:-0800
TZOFFSETTO:-0700
TZNAME:PDT
DTSTART:20240310T100000
END:DAYLIGHT
BEGIN:STANDARD
TZOFFSETFROM:-0700
TZOFFSETTO:-0800
TZNAME:PST
DTSTART:20241103T090000
END:STANDARD
END:VTIMEZONE
BEGIN:VEVENT
DTSTART;TZID=America/Los_Angeles:20230111T180000
DTEND;TZID=America/Los_Angeles:20230111T210000
DTSTAMP:20260425T044505
CREATED:20221219T220446Z
LAST-MODIFIED:20221219T220446Z
UID:9403-1673460000-1673470800@southsoundblues.org
SUMMARY:RT Collective (Rafael Tranquilino & Patrick McDanel) at the Spar
DESCRIPTION:RT Collective (Rafael Tranquilino & Patrick McDanel) at the Spar\nWednesday\, Jan 11th\, 6-9pm
URL:https://southsoundblues.org/event/rt-collective-rafael-tranquilino-patrick-mcdanel-at-the-spar-3/
LOCATION:The Spar\, 2121 N 30th St\, Tacoma\, WA\, 98403
CATEGORIES:Local South Sound Blues
END:VEVENT
BEGIN:VEVENT
DTSTART;TZID=America/Los_Angeles:20230111T190000
DTEND;TZID=America/Los_Angeles:20230111T220000
DTSTAMP:20260425T044505
CREATED:20221221T231152Z
LAST-MODIFIED:20221221T231230Z
UID:9462-1673463600-1673474400@southsoundblues.org
SUMMARY:Every Wednesday Night\, Blues Jam at Bub’s Pub Sports Bar & Grill\, Centralia
DESCRIPTION:Every Wednesday Night Blues Jam at Bub’s Pub Sports Bar & Grill\, Centralia\, 7-10 pm
URL:https://southsoundblues.org/event/wednesday-nights-blues-jam-at-bubs-pub-sports-bar-grill-centralia-6/
LOCATION:Bub’s Pub Bar & Grill\, 1326 Harrison Ave\, Centralia\, WA\, 98531
CATEGORIES:Local South Sound Blues
END:VEVENT
BEGIN:VEVENT
DTSTART;TZID=America/Los_Angeles:20230112T180000
DTEND;TZID=America/Los_Angeles:20230112T200000
DTSTAMP:20260425T044505
CREATED:20230104T215046Z
LAST-MODIFIED:20230104T215046Z
UID:9531-1673546400-1673553600@southsoundblues.org
SUMMARY:Michele D'Amour & The Love Dealers at the Spada Farmhouse Brewery\, Snohomish
DESCRIPTION:Thursday\, Jan. 12 -Michele D’Amour & The Love Dealers at the Spada Farmhouse Brewery\, Snohomish – 709 1st St.\, 6 to 8 p.m.
URL:https://southsoundblues.org/event/michele-damour-the-love-dealers-at-the-spada-farmhouse-brewery-snohomish/
LOCATION:Spada Farmhouse Brewery\, 709 1st Street\, Snohomish\, WA\, 98290
CATEGORIES:Featured
END:VEVENT
BEGIN:VEVENT
DTSTART;TZID=America/Los_Angeles:20230112T190000
DTEND;TZID=America/Los_Angeles:20230112T220000
DTSTAMP:20260425T044505
CREATED:20221221T225725Z
LAST-MODIFIED:20221221T225725Z
UID:9452-1673550000-1673560800@southsoundblues.org
SUMMARY:“BILLY THE POCKET JAM” Thursday nights at Dawson’s
DESCRIPTION:“BILLY THE POCKET JAM” Thursday nights at Dawson’s 7-10 pm
URL:https://southsoundblues.org/event/billy-the-pocket-jam-thursday-nights-at-dawsons-10/
LOCATION:Dawson’s Bar & Grill\, 5443 South Tacoma Way\, Tacoma\, WA\, 98409
CATEGORIES:Local South Sound Blues
END:VEVENT
BEGIN:VEVENT
DTSTART;TZID=America/Los_Angeles:20230112T200000
DTEND;TZID=America/Los_Angeles:20230112T233000
DTSTAMP:20260425T044505
CREATED:20221221T230241Z
LAST-MODIFIED:20221221T230241Z
UID:9456-1673553600-1673566200@southsoundblues.org
SUMMARY:Billy Shew Jam every Thursday at Stars Bar & Grill
DESCRIPTION:Thursdays at the Stars Bar & Grill\, Jam hosted by Billy Shew\, 8-11:30 pm
URL:https://southsoundblues.org/event/billy-shew-jam-every-thursday-at-stars-bar-grill/
LOCATION:Stars Bar & Grill\, 31216 Pacific Hwy S\, Federal Way\, WA\, 98003
CATEGORIES:Local South Sound Blues
END:VEVENT
BEGIN:VEVENT
DTSTART;TZID=America/Los_Angeles:20230113T190000
DTEND;TZID=America/Los_Angeles:20230113T210000
DTSTAMP:20260425T044505
CREATED:20221031T204457Z
LAST-MODIFIED:20221031T204615Z
UID:9126-1673636400-1673643600@southsoundblues.org
SUMMARY:The VanHolts at Kimball's Coffeehouse
DESCRIPTION:The VanHolts at Kimball’s Coffeehouse\, January 13th\, 7-9 pm
URL:https://southsoundblues.org/event/the-vanholts-at-kimballs-coffeehouse/
LOCATION:Kimball’s Coffeehouse\, 6659 Kimball Dr\, Gig Harbor\, WA\, 98335
CATEGORIES:Featured
END:VEVENT
BEGIN:VEVENT
DTSTART;TZID=America/Los_Angeles:20230113T190000
DTEND;TZID=America/Los_Angeles:20230113T220000
DTSTAMP:20260425T044505
CREATED:20221219T220833Z
LAST-MODIFIED:20221219T220833Z
UID:9405-1673636400-1673647200@southsoundblues.org
SUMMARY:Billy Stapleton's Powerhouse at the Black Angus\, Federal Way
DESCRIPTION:Billy Stapleton’s POWERHOUSE Band at the Black Angus\nJanuary 13th\, 7-10 pm\, Federal Way\, WA\n \n 
URL:https://southsoundblues.org/event/billy-stapletons-powerhouse-at-the-black-angus-federal-way/
LOCATION:Black Angus\, Federal Way\, 2400 South 320th St.\, Federal Way\, WA\, 98003
CATEGORIES:Local South Sound Blues
END:VEVENT
BEGIN:VEVENT
DTSTART;TZID=America/Los_Angeles:20230113T200000
DTEND;TZID=America/Los_Angeles:20230113T200000
DTSTAMP:20260425T044505
CREATED:20230106T000538Z
LAST-MODIFIED:20230106T000538Z
UID:9558-1673640000-1673640000@southsoundblues.org
SUMMARY:Soul Sacrifice at Jazzbones
DESCRIPTION:Soul Sacrifice at Jazzbones\, January 13th\, at 8 PM\n 
URL:https://southsoundblues.org/event/soul-sacrifice-at-jazzbones/
LOCATION:Jazzbones\, 2803 6th Ave\, Tacoma\, WA\, 98406
CATEGORIES:Local South Sound Blues
END:VEVENT
BEGIN:VEVENT
DTSTART;TZID=America/Los_Angeles:20230114T190000
DTEND;TZID=America/Los_Angeles:20230114T220000
DTSTAMP:20260425T044505
CREATED:20230104T215940Z
LAST-MODIFIED:20230104T215940Z
UID:9533-1673722800-1673733600@southsoundblues.org
SUMMARY:Michele D'Amour & The Love Dealers at 192 Brewing Co.\, Kenmore
DESCRIPTION:Saturday\, Jan. 14 – Michele D’Amour & The Love Dealers at 192 Brewing Co.\, Kenmore – 7324 NE 175th St.\, 7 to 10 p.m. \n \n  \n  \n  \n\nAddress:\n7324 NE 175th Street Ste. F Kenmore\, WA 98028\nTelephone:\n(425) 424-2337\nweb site\, https://192brewing.com/\nEmail\,   dw@192brewing.com\n\n 
URL:https://southsoundblues.org/event/michele-damour-the-love-dealers-at-192-brewing-co-kenmore/
LOCATION:192 Brewing\, 7324 NE 175th Street Ste. F\, Kenmore\, WA\, 98028
CATEGORIES:Featured
END:VEVENT
BEGIN:VEVENT
DTSTART;TZID=America/Los_Angeles:20230114T200000
DTEND;TZID=America/Los_Angeles:20230114T220000
DTSTAMP:20260425T044505
CREATED:20221112T020550Z
LAST-MODIFIED:20221112T020707Z
UID:9257-1673726400-1673733600@southsoundblues.org
SUMMARY:Billy Stapleton's Powerhouse at the Mill - SSBA Blues Series
DESCRIPTION:Billy Stapleton’s Powerhouse at the Mill January 14th\, 8-10 pm
URL:https://southsoundblues.org/event/billy-stapletons-powerhouse-at-the-mill/
LOCATION:The Mill of Milton\, 900 Meridian E. #50\, Milton\, WA\, 98354
CATEGORIES:Local South Sound Blues
END:VEVENT
BEGIN:VEVENT
DTSTART;TZID=America/Los_Angeles:20230115T190000
DTEND;TZID=America/Los_Angeles:20230115T220000
DTSTAMP:20260425T044505
CREATED:20221108T013335Z
LAST-MODIFIED:20221229T225524Z
UID:9198-1673809200-1673820000@southsoundblues.org
SUMMARY:Sunday Blues at the Spar with Mark Hurwitz and Gin Creek
DESCRIPTION:Mark Hurwitz and Gin Creek at the Spar\, January 15th – 7:00pm-10:00pm\nSUNDAY BLUES at The Spar: Mark Hurwitz & Gin Creek w/Tanya Hodel \n Tanya Hodel \n  \n 
URL:https://southsoundblues.org/event/mark-hurwitz-and-gin-creek-at-the-spar-6/
LOCATION:The Spar\, 2121 N 30th St\, Tacoma\, WA\, 98403
CATEGORIES:Local South Sound Blues
END:VEVENT
BEGIN:VEVENT
DTSTART;TZID=America/Los_Angeles:20230115T190000
DTEND;TZID=America/Los_Angeles:20230115T230000
DTSTAMP:20260425T044505
CREATED:20221221T232924Z
LAST-MODIFIED:20221221T232924Z
UID:9474-1673809200-1673823600@southsoundblues.org
SUMMARY:Every Sunday\, open Jam with Tim Hall at Dawson’s Bar and Grill
DESCRIPTION:Every Sunday\, open Jam with Tim Hall at Dawson’s Bar and Grill 7-11 pm
URL:https://southsoundblues.org/event/every-sunday-open-jam-with-tim-hall-at-dawsons-bar-and-grill/
LOCATION:Dawson’s Bar & Grill\, 5443 South Tacoma Way\, Tacoma\, WA\, 98409
CATEGORIES:Local South Sound Blues
END:VEVENT
BEGIN:VEVENT
DTSTART;TZID=America/Los_Angeles:20230117T190000
DTEND;TZID=America/Los_Angeles:20230117T220000
DTSTAMP:20260425T044505
CREATED:20221221T231947Z
LAST-MODIFIED:20221221T231947Z
UID:9467-1673982000-1673992800@southsoundblues.org
SUMMARY:Every Tuesday\, Blues day Jam with the Tim Hall Band at Brother Don's Bar and Grill
DESCRIPTION:Every Tuesday\, Blues day Jam with the Tim Hall Band at Brother Don’s Bar & Grill\, 7-10 pm
URL:https://southsoundblues.org/event/every-tuesday-blues-day-jam-with-the-tim-hall-band-at-brother-dons-bar-and-grill/
LOCATION:Brother Don’s Bar & Grill\, 4200 Kitsap Way\, Bremerton\, WA\, 98312
CATEGORIES:Local South Sound Blues
END:VEVENT
BEGIN:VEVENT
DTSTART;TZID=America/Los_Angeles:20230118T180000
DTEND;TZID=America/Los_Angeles:20230118T210000
DTSTAMP:20260425T044505
CREATED:20221219T221321Z
LAST-MODIFIED:20221219T221321Z
UID:9407-1674064800-1674075600@southsoundblues.org
SUMMARY:Farrell/Hudson Trio at the Spar
DESCRIPTION:Farrell/Hudson Trio at the Spar\, Wednesday\, Jan 18th. 6-9 pm
URL:https://southsoundblues.org/event/farrell-hudson-trio-at-the-spar-2/
LOCATION:The Spar\, 2121 N 30th St\, Tacoma\, WA\, 98403
CATEGORIES:Local South Sound Blues
END:VEVENT
BEGIN:VEVENT
DTSTART;TZID=America/Los_Angeles:20230118T190000
DTEND;TZID=America/Los_Angeles:20230118T190000
DTSTAMP:20260425T044505
CREATED:20230103T225532Z
LAST-MODIFIED:20230109T202323Z
UID:9527-1674068400-1674068400@southsoundblues.org
SUMMARY:Mid-Nite Bourbon at the Spanish Ballroom
DESCRIPTION:Mid-Nite Bourbon at the Spanish Ballroom\, January 18th\, 7pm\n Brian Olver- Guitar/Vocals\, Sean “Lugnut” Peabody- Bass/Vocals\, Devan Bland- Drums\n\n\nMid-Nite Bourbon Live at The Spanish Ballroom January 18th 2023. Get your tickets now at https://www.mcmenamins.com/…/239004-mid-nite-bourbon-at…\n— at Spanish Ballroom.
URL:https://southsoundblues.org/event/mid-nite-bourbon-at-the-spanish-ballroom/
LOCATION:McMenaminsTacoma Elks\, 565 Broadway\, Tacoma\, WA\, 98402
CATEGORIES:Local South Sound Blues
END:VEVENT
BEGIN:VEVENT
DTSTART;TZID=America/Los_Angeles:20230119T190000
DTEND;TZID=America/Los_Angeles:20230119T220000
DTSTAMP:20260425T044505
CREATED:20221221T225953Z
LAST-MODIFIED:20221221T225953Z
UID:9454-1674154800-1674165600@southsoundblues.org
SUMMARY:Every Thursday\, open Jam at Purdy’s in Sumner with Brian Olver
DESCRIPTION:Every Thursday\, open Jam at Purdy’s in Sumner with Brian Olver & friends\, 7-10 pm
URL:https://southsoundblues.org/event/every-thursday-open-jam-at-purdys-in-sumner-with-brian-olver/
LOCATION:Purdy’s Public House & Arcade\, Sumner\, 16202 64th St E\, Sumner\, WA\, 98390
CATEGORIES:Local South Sound Blues
END:VEVENT
BEGIN:VEVENT
DTSTART;TZID=America/Los_Angeles:20230119T193000
DTEND;TZID=America/Los_Angeles:20230119T193000
DTSTAMP:20260425T044505
CREATED:20221017T212320Z
LAST-MODIFIED:20221017T212320Z
UID:9040-1674156600-1674156600@southsoundblues.org
SUMMARY:Elvin Bishop's Big Fun Trio\, multiple shows at Dimetriou's Jazz Alley
DESCRIPTION:Elvin Bishop’s Big Fun Trio\nTHU\, JAN 19 –SUN\, JAN 22\, 2023\n\n\n\n\n\nTickets may be purchased on-line or by phone. \nhttps://www.jazzalley.com/www-home/artist.jsp?shownum=6358\nNight of show seating typically available. \n\n\n\nKNKX\, The Washington Blues Society and Dimitriou’s Jazz Alley welcome Rock & Roll and Blues Hall of Famer Elvin Bishop! Band members are: Elvin Bishop (guitar/vocals)\, Robert Welsh (guitar/piano)\, and Willy Jordan (vocals/cajon/drums). Show times Thursday and Sunday at 7:30pm. Show times Friday and Saturday at 7:30pm and 9:30pm. Doors open at 6pm Thursday and 5:30pm Friday – Sunday.
URL:https://southsoundblues.org/event/elvin-bishops-big-fun-trio-multiple-shows-at-dimetrious-jazz-alley/
LOCATION:Dimitriou’s Jazz Alley\, 2033 6th Avenue\, Seattle\, WA\, 98121
CATEGORIES:Featured,Special Event
END:VEVENT
BEGIN:VEVENT
DTSTART;TZID=America/Los_Angeles:20230119T193000
DTEND;TZID=America/Los_Angeles:20230122T233000
DTSTAMP:20260425T044505
CREATED:20221221T010941Z
LAST-MODIFIED:20221221T011008Z
UID:9416-1674156600-1674430200@southsoundblues.org
SUMMARY:Coco Montoya & Ronnie Baker Brooks - Celebrate Albert Collins\, at Dimitriou's Jazz Alley-Four days\, six shows
DESCRIPTION:Coco Montoya & Ronnie Baker Brooks – Celebrate Albert Collins\nDimitriou’s Jazz Alley\, January 19th\, 20th\, 21st\, and 22nd. Show times are Thursday\, Friday\, and Sunday at 7:30pm. Show times Saturday at 7:30pm and 9:30pm. Doors open at 6:00pm Thursday and 5:30pm Friday – Sunday.\n\n\nThe Washington Blues Society and Dimitiriou’s Jazz Alley welcome Coco Montoya & Ronnie Baker Brooks for four nights and six shows.\nBand members are Phillip Castleberry (bass)\, Jeff Paris (keyboards) and Rena Beavers (drums).\n\n\nTickets\nwww.jazzalley.com/www-home/artist.jsp\n\n\n\n“In a world of blues guitar pretenders\, Coco Montoya is the real McCoy. Be prepared to get scorched by the real thing.” –Billboard
URL:https://southsoundblues.org/event/coco-montoya-ronnie-baker-brooks-celebrate-albert-collins-at-dimitrious-jazz-alley-four-days-six-shows/
LOCATION:Dimitriou’s Jazz Alley\, 2033 6th Avenue\, Seattle\, WA\, 98121
CATEGORIES:Featured,Special Event
END:VEVENT
BEGIN:VEVENT
DTSTART;TZID=America/Los_Angeles:20230120T170000
DTEND;TZID=America/Los_Angeles:20230120T200000
DTSTAMP:20260425T044505
CREATED:20230104T225054Z
LAST-MODIFIED:20230104T225054Z
UID:9546-1674234000-1674244800@southsoundblues.org
SUMMARY:Joel Astley Band featuring CD Woodbury at Carolina Smoke BBQ\, Bothell
DESCRIPTION:FRIDAY\, JANUARY 20th\, Joel Astley Band featuring CD Woodbury at Carolina Smoke BBQ and Catering\, 5– 8 PM\n Joel Astley\nCAROLINA SMOKE BBQ | 24118 BOTHELL EVERETT HWY BOTHELL\, WASHINGTON 98021
URL:https://southsoundblues.org/event/joel-astley-band-featuring-cd-woodbury-at-carolina-smoke-bbq-bothell/
LOCATION:Carolina Smoke BBQ\, 24118 BOTHELL EVERETT HWY\, BOTHELL\, WA\, 98021
END:VEVENT
BEGIN:VEVENT
DTSTART;TZID=America/Los_Angeles:20230120T190000
DTEND;TZID=America/Los_Angeles:20230120T210000
DTSTAMP:20260425T044505
CREATED:20221031T204916Z
LAST-MODIFIED:20221031T204916Z
UID:9128-1674241200-1674248400@southsoundblues.org
SUMMARY:Roeman and the Whereabouts at Kimball's Coffeehouse
DESCRIPTION:Roeman and the Whereabouts at Kimballs Coffeehouse\, January 20th\, 7-9 pm
URL:https://southsoundblues.org/event/roeman-and-the-whereabouts-at-kimballs-coffeehouse/
LOCATION:Kimball’s Coffeehouse\, 6659 Kimball Dr\, Gig Harbor\, WA\, 98335
CATEGORIES:Featured
END:VEVENT
BEGIN:VEVENT
DTSTART;TZID=America/Los_Angeles:20230120T190000
DTEND;TZID=America/Los_Angeles:20230120T210000
DTSTAMP:20260425T044505
CREATED:20230104T220236Z
LAST-MODIFIED:20230104T220236Z
UID:9536-1674241200-1674248400@southsoundblues.org
SUMMARY:Michele D'Amour & The Love Dealers at the Crossroads Market Stage\, Bellevue
DESCRIPTION:Friday\, Jan. 20 -Michele D’Amour & The Love Dealers at the Crossroads Market Stage\, Bellevue – 15600 NE 8th\, 7 to 9 p.m.
URL:https://southsoundblues.org/event/michele-damour-the-love-dealers-at-the-crossroads-market-stage-bellevue/
LOCATION:Crossroads Market Stage\, 15600 NE 8th St\, Bellevue\, WA\, 98008
CATEGORIES:Local South Sound Blues
END:VEVENT
BEGIN:VEVENT
DTSTART;TZID=America/Los_Angeles:20230120T190000
DTEND;TZID=America/Los_Angeles:20230120T210000
DTSTAMP:20260425T044505
CREATED:20230111T004553Z
LAST-MODIFIED:20230111T011704Z
UID:9593-1674241200-1674248400@southsoundblues.org
SUMMARY:Lonesome & Pine at Brewminatti\, Prosser WA
DESCRIPTION:Lonesome & Pine at Brewminatti Friday\, Jan 20\, 7-9 pm\n\n713 6TH STREET\nPROSSER\, WA 99350(509) 786-2269
URL:https://southsoundblues.org/event/lonesome-pine-at-brewminatti/
LOCATION:Brewminatti\, 713 6TH STREET\, Prosser\, WA\, 99350
CATEGORIES:Featured
END:VEVENT
BEGIN:VEVENT
DTSTART;TZID=America/Los_Angeles:20230120T190000
DTEND;TZID=America/Los_Angeles:20230120T220000
DTSTAMP:20260425T044505
CREATED:20221219T221606Z
LAST-MODIFIED:20221219T221606Z
UID:9409-1674241200-1674252000@southsoundblues.org
SUMMARY:The Blue Healers Duo at the Black Angus\, Puyallup
DESCRIPTION:The Blue Healers Duo at the Black Angus\, Puyallup\nFriday\, Jan 20th\, 7-10pm
URL:https://southsoundblues.org/event/the-blue-healers-duo-at-the-black-angus-puyallup/
LOCATION:Black Angus\, Puyallup\, 203 35th Ave SE\, Puyallup\, WA\, 98374
CATEGORIES:Local South Sound Blues
END:VEVENT
BEGIN:VEVENT
DTSTART;TZID=America/Los_Angeles:20230121T200000
DTEND;TZID=America/Los_Angeles:20230121T220000
DTSTAMP:20260425T044505
CREATED:20220902T222812Z
LAST-MODIFIED:20221018T171226Z
UID:8746-1674331200-1674338400@southsoundblues.org
SUMMARY:Retro Gruve at the Mill\, SSBA Blues series
DESCRIPTION:Retro Gruve at the Mill\, January 21st\, 8-10pm\n(continued South Sound Blues Association “Blues Series” at the Mill)
URL:https://southsoundblues.org/event/retro-gruve-at-the-mill-2/
LOCATION:The Mill of Milton\, 900 Meridian E. #50\, Milton\, WA\, 98354
CATEGORIES:Local South Sound Blues,SSBA Event
END:VEVENT
BEGIN:VEVENT
DTSTART;TZID=America/Los_Angeles:20230121T200000
DTEND;TZID=America/Los_Angeles:20230121T220000
DTSTAMP:20260425T044505
CREATED:20221206T193312Z
LAST-MODIFIED:20221206T193312Z
UID:9356-1674331200-1674338400@southsoundblues.org
SUMMARY:Stacy Jones Band at the Barn at the Wilson Farm
DESCRIPTION:Stacy Jones Band at the Barn at Wilson Farm January 21st\, 8-10 pm\nDoors at 6 p.m.\, Blues Line-Dance Lesson 7-8 p.m. Music 8-10 p.m. \n*$25/Advance   $30/Day of show \n*21+ event \nBand info: www.stacyjonesband.com \nTickets:  www.thebarnatwilsonfarm.com/shop
URL:https://southsoundblues.org/event/stacy-jones-band-at-the-barn-at-the-wilson-farm/
LOCATION:The Barn at Wilson Farm\, 1425 210th Ave E.\, Lake Tapps\, WA\, 98391
CATEGORIES:Local South Sound Blues
END:VEVENT
BEGIN:VEVENT
DTSTART;TZID=America/Los_Angeles:20230121T200000
DTEND;TZID=America/Los_Angeles:20230121T230000
DTSTAMP:20260425T044505
CREATED:20230104T220546Z
LAST-MODIFIED:20230104T220803Z
UID:9538-1674331200-1674342000@southsoundblues.org
SUMMARY:Michele D'Amour & The Love Dealers at the Conway Muse
DESCRIPTION:Saturday\, Jan. 21 – Michele D’Amour & The Love Dealers at the Conway Muse\, Conway – 18444 Spruce St.\, 8 to 11 p.m. \nTickets:  Welcome to the Muse – Where Magic Happens! (conwaymuse.com)
URL:https://southsoundblues.org/event/michele-damour-the-love-dealers-at-the-conway-muse/
LOCATION:Conway Muse\, 18444 Spruce St\, Conway\, WA\, 98238
CATEGORIES:Featured
END:VEVENT
BEGIN:VEVENT
DTSTART;TZID=America/Los_Angeles:20230121T200000
DTEND;TZID=America/Los_Angeles:20230121T233000
DTSTAMP:20260425T044505
CREATED:20230106T012611Z
LAST-MODIFIED:20230106T012611Z
UID:9580-1674331200-1674343800@southsoundblues.org
SUMMARY:Heather Jonew & The Groove Masters at Dawson's
DESCRIPTION:Heather Jones & The Groove Masters    Dawson’s\, Sat. January 21st\, 8- midnight
URL:https://southsoundblues.org/event/heather-jonew-the-groove-masters-at-dawsons/
LOCATION:Dawson’s Bar & Grill\, 5443 South Tacoma Way\, Tacoma\, WA\, 98409
CATEGORIES:Local South Sound Blues
END:VEVENT
BEGIN:VEVENT
DTSTART;TZID=America/Los_Angeles:20230122T190000
DTEND;TZID=America/Los_Angeles:20230122T220000
DTSTAMP:20260425T044505
CREATED:20221216T201502Z
LAST-MODIFIED:20221229T230002Z
UID:9378-1674414000-1674424800@southsoundblues.org
SUMMARY:Sunday Blues at the Spar with the Joel Astley Band
DESCRIPTION:Joel Astley Band at the Spar\, Sunday\, January 22nd\, 7-10 pm
URL:https://southsoundblues.org/event/joel-astley-band-at-the-spar-2/
LOCATION:The Spar\, 2121 N 30th St\, Tacoma\, WA\, 98403
CATEGORIES:Local South Sound Blues
END:VEVENT
BEGIN:VEVENT
DTSTART;TZID=America/Los_Angeles:20230124T190000
DTEND;TZID=America/Los_Angeles:20230124T220000
DTSTAMP:20260425T044505
CREATED:20221221T232354Z
LAST-MODIFIED:20221221T232354Z
UID:9469-1674586800-1674597600@southsoundblues.org
SUMMARY:Every Tuesday night\, open Jam with Jerry Miller\, Kim Workman and Glenn Hummel at Purdy's\, Sumner
DESCRIPTION:Every Tuesday night\, open Jam with Jerry Miller\, Kim Workman and Glenn Hummel at Purdy’s\, Sumner WA  7-10 pm
URL:https://southsoundblues.org/event/every-tuesday-night-open-jam-with-jerry-miller-kim-workman-and-glenn-hummel-at-purdys-sumner/
LOCATION:Purdy’s Public House & Arcade\, Sumner\, 16202 64th St E\, Sumner\, WA\, 98390
CATEGORIES:Local South Sound Blues
END:VEVENT
BEGIN:VEVENT
DTSTART;TZID=America/Los_Angeles:20230124T200000
DTEND;TZID=America/Los_Angeles:20230124T200000
DTSTAMP:20260425T044505
CREATED:20230106T000858Z
LAST-MODIFIED:20230106T000858Z
UID:9560-1674590400-1674590400@southsoundblues.org
SUMMARY:Ben Rice & the Hustle at Billy Blues Bar & Grill
DESCRIPTION:Ben Rice & the Hustle 8 PM at Billy Blues Bar & Grill\, Vancouver WA
URL:https://southsoundblues.org/event/ben-rice-the-hustle-at-billy-blues-bar-grill/
LOCATION:Billy Blues Bar & Grill\, 7115 NE Hazel Dell Ave\, Vancouver\, WA\, 98665
CATEGORIES:Featured
END:VEVENT
END:VCALENDAR