BEGIN:VCALENDAR
VERSION:2.0
PRODID:-//South Sound Blues Association - ECPv6.15.18//NONSGML v1.0//EN
CALSCALE:GREGORIAN
METHOD:PUBLISH
X-ORIGINAL-URL:https://southsoundblues.org
X-WR-CALDESC:Events for South Sound Blues Association
REFRESH-INTERVAL;VALUE=DURATION:PT1H
X-Robots-Tag:noindex
X-PUBLISHED-TTL:PT1H
BEGIN:VTIMEZONE
TZID:America/Los_Angeles
BEGIN:DAYLIGHT
TZOFFSETFROM:-0800
TZOFFSETTO:-0700
TZNAME:PDT
DTSTART:20220313T100000
END:DAYLIGHT
BEGIN:STANDARD
TZOFFSETFROM:-0700
TZOFFSETTO:-0800
TZNAME:PST
DTSTART:20221106T090000
END:STANDARD
BEGIN:DAYLIGHT
TZOFFSETFROM:-0800
TZOFFSETTO:-0700
TZNAME:PDT
DTSTART:20230312T100000
END:DAYLIGHT
BEGIN:STANDARD
TZOFFSETFROM:-0700
TZOFFSETTO:-0800
TZNAME:PST
DTSTART:20231105T090000
END:STANDARD
BEGIN:DAYLIGHT
TZOFFSETFROM:-0800
TZOFFSETTO:-0700
TZNAME:PDT
DTSTART:20240310T100000
END:DAYLIGHT
BEGIN:STANDARD
TZOFFSETFROM:-0700
TZOFFSETTO:-0800
TZNAME:PST
DTSTART:20241103T090000
END:STANDARD
END:VTIMEZONE
BEGIN:VEVENT
DTSTART;TZID=America/Los_Angeles:20230610T110000
DTEND;TZID=America/Los_Angeles:20230610T140000
DTSTAMP:20260424T200611
CREATED:20230326T192750Z
LAST-MODIFIED:20230328T010601Z
UID:10067-1686394800-1686405600@southsoundblues.org
SUMMARY:Ross Robinson at the West Central Park\, Olympia
DESCRIPTION:Ross Robinson at the West Central Park\, Olympia\, June 10th\, 11am\n \n1919 Harrison Ave NW  Olympia WA 98502
URL:https://southsoundblues.org/event/ross-robinson-at-the-west-central-park-olympia/
LOCATION:West Central Park\, 1919 Harrison Ave NW\, Olympia\, WA\, 98502
CATEGORIES:Local South Sound Blues
END:VEVENT
BEGIN:VEVENT
DTSTART;TZID=America/Los_Angeles:20230610T160000
DTEND;TZID=America/Los_Angeles:20230610T190000
DTSTAMP:20260424T200611
CREATED:20230202T020327Z
LAST-MODIFIED:20230202T020327Z
UID:9779-1686412800-1686423600@southsoundblues.org
SUMMARY:Michele D'Amour & The Love Dealers at the Urban Elk
DESCRIPTION:Michele D’Amour & The Love Dealers at the Urban Elk\, June 10th\, 4 to 7 p.m.
URL:https://southsoundblues.org/event/michele-damour-the-love-dealers-at-the-urban-elk-2/
LOCATION:Urban Elk\, 2013 S Cedar St\, Tacoma\, WA\, 98405
CATEGORIES:Local South Sound Blues
END:VEVENT
BEGIN:VEVENT
DTSTART;TZID=America/Los_Angeles:20230610T190000
DTEND;TZID=America/Los_Angeles:20230610T220000
DTSTAMP:20260424T200611
CREATED:20230421T064345Z
LAST-MODIFIED:20230421T064345Z
UID:10228-1686423600-1686434400@southsoundblues.org
SUMMARY:Jim Valley Project at the Spar
DESCRIPTION:Sat\, Jun 10th. The Spar\, Tacoma: Jim Valley Project 7pm
URL:https://southsoundblues.org/event/jim-valley-project-at-the-spar-2/
LOCATION:The Spar\, 2121 N 30th St\, Tacoma\, WA\, 98403
CATEGORIES:Featured
END:VEVENT
BEGIN:VEVENT
DTSTART;TZID=America/Los_Angeles:20230610T200000
DTEND;TZID=America/Los_Angeles:20230610T223000
DTSTAMP:20260424T200611
CREATED:20230421T061331Z
LAST-MODIFIED:20230421T061331Z
UID:10211-1686427200-1686436200@southsoundblues.org
SUMMARY:Mark DuFresne Band at the Easy Monkey Taphouse
DESCRIPTION:Sat\, Jun 10th. Easy Monkey Taphouse\, Shoreline: Mark DuFresne Band feat. Billy Stapleton 8pm
URL:https://southsoundblues.org/event/mark-dufresne-band-at-the-easy-monkey-taphouse-3/
LOCATION:Easy Monkey Taphouse\, 17537 15th Ave NE Suite B\, Shoreline\, WA\, 98155
CATEGORIES:Featured
END:VEVENT
BEGIN:VEVENT
DTSTART;TZID=America/Los_Angeles:20230611T120000
DTEND;TZID=America/Los_Angeles:20230611T170000
DTSTAMP:20260424T200611
CREATED:20230506T193551Z
LAST-MODIFIED:20230609T183041Z
UID:10355-1686484800-1686502800@southsoundblues.org
SUMMARY:Washington Blues Society South Blues\, IBC\, competition at Purdy's canceled
DESCRIPTION:Washington Blues Society South Blues competition at Purdy’s is canceled\nInternational Blues Competition (IBC) Contest will now be held July 9th at Aurora Borealis in Shoreline\, WA\nTwo Categories: Bands (Three Piece and Larger) and Solo/Duo Acts \nWashington Blues Society \n  \n 
URL:https://southsoundblues.org/event/washington-blues-society-south-blues-ibc-competition-at-purdys-sumner/
LOCATION:Purdy’s Public House & Arcade\, Sumner\, 16202 64th St E\, Sumner\, WA\, 98390
CATEGORIES:IBC
END:VEVENT
BEGIN:VEVENT
DTSTART;TZID=America/Los_Angeles:20230611T190000
DTEND;TZID=America/Los_Angeles:20230611T220000
DTSTAMP:20260424T200611
CREATED:20230421T055514Z
LAST-MODIFIED:20230421T055514Z
UID:10205-1686510000-1686520800@southsoundblues.org
SUMMARY:Sunday Blues at the Spar with the Linda Myers Band
DESCRIPTION:Sun\, Jun 11th. The Spar\, Tacoma: SUNDAY BLUES: Linda Myers Band 7pm
URL:https://southsoundblues.org/event/sunday-blues-at-the-spar-with-the-linda-myers-band/
LOCATION:The Spar\, 2121 N 30th St\, Tacoma\, WA\, 98403
CATEGORIES:Local South Sound Blues
END:VEVENT
BEGIN:VEVENT
DTSTART;TZID=America/Los_Angeles:20230612T190000
DTEND;TZID=America/Los_Angeles:20230612T190000
DTSTAMP:20260424T200611
CREATED:20230524T233838Z
LAST-MODIFIED:20230524T233838Z
UID:10442-1686596400-1686596400@southsoundblues.org
SUMMARY:Monday Night Jams at HD’s Bar & Grill with host\, Al Alto
DESCRIPTION:Monday Night Jams at HD’s Bar & Grill with host\, Al Alto\n\n\n\n\n\n\n\n24131 NE State Route 3\, Belfair\, WA\, United States\, Washington\n\n\n\n(360) 552-2545\n\n\nhdspub@gmail.com
URL:https://southsoundblues.org/event/monday-night-jams-at-hds-bar-grill-with-host-al-alto/
LOCATION:HD’s Pub\, 24131 SR-3 \, Belfair\, WA\, 98528
CATEGORIES:Local South Sound Blues
END:VEVENT
BEGIN:VEVENT
DTSTART;TZID=America/Los_Angeles:20230613T190000
DTEND;TZID=America/Los_Angeles:20230613T220000
DTSTAMP:20260424T200611
CREATED:20230524T234927Z
LAST-MODIFIED:20230524T235027Z
UID:10449-1686682800-1686693600@southsoundblues.org
SUMMARY:Tim Hall Band Tuesday Jam session at Brother Don’s Bar & Grill
DESCRIPTION:Tim Hall Band Tuesday Jam session at Brother Don’s Bar & Grill\, 7-10 pm
URL:https://southsoundblues.org/event/tim-hall-band-wednesday-jam-session-at-brother-dons-bar-grill/
LOCATION:Brother Don’s Bar & Grill\, 4200 Kitsap Way\, Bremerton\, WA\, 98312
CATEGORIES:Local South Sound Blues
END:VEVENT
BEGIN:VEVENT
DTSTART;TZID=America/Los_Angeles:20230614T180000
DTEND;TZID=America/Los_Angeles:20230614T210000
DTSTAMP:20260424T200611
CREATED:20230525T000254Z
LAST-MODIFIED:20230525T000254Z
UID:10459-1686765600-1686776400@southsoundblues.org
SUMMARY:Billy Shew and Friends host an open Jam every Wednesday at Stockton’s
DESCRIPTION:Billy Shew and Friends host an open Jam every Wednesday at Stockton’s\, 6-9pm
URL:https://southsoundblues.org/event/billy-shew-and-friends-host-an-open-jam-every-wednesday-at-stocktons-6/
LOCATION:Stockton’s Restaurant & Spirits\, 23220 Maple Valley Black Diamond Rd SE\, Maple Valley\, WA\, 98038
CATEGORIES:Local South Sound Blues
END:VEVENT
BEGIN:VEVENT
DTSTART;TZID=America/Los_Angeles:20230615T200000
DTEND;TZID=America/Los_Angeles:20230615T233000
DTSTAMP:20260424T200611
CREATED:20230525T001452Z
LAST-MODIFIED:20230525T001452Z
UID:10469-1686859200-1686871800@southsoundblues.org
SUMMARY:Thursdays at the Stars Bar & Grill\, Jam hosted by Billy Shew
DESCRIPTION:Thursdays at the Stars Bar & Grill\, Jam hosted by Billy Shew\, 8-11:30 pm
URL:https://southsoundblues.org/event/thursdays-at-the-stars-bar-grill-jam-hosted-by-billy-shew-12/
LOCATION:Stars Bar & Grill\, 31216 Pacific Hwy S\, Federal Way\, WA\, 98003
CATEGORIES:Local South Sound Blues
END:VEVENT
BEGIN:VEVENT
DTSTART;TZID=America/Los_Angeles:20230616T170000
DTEND;TZID=America/Los_Angeles:20230616T170000
DTSTAMP:20260424T200611
CREATED:20230421T062004Z
LAST-MODIFIED:20230421T062004Z
UID:10213-1686934800-1686934800@southsoundblues.org
SUMMARY:Billy Stapleton's POWERHOUSE at Bertelson Winery
DESCRIPTION:Fri\, Jun 16th. Bertelson Winery\, Mt. Vernon: Billy Stapleton’s POWERHOUSE\, 5pm
URL:https://southsoundblues.org/event/billy-stapletons-powerhouse-at-bertelson-winery/
LOCATION:Bertelson Winery\, 20598 Starbird Rd\, Mount Vernon\, WA\, 98274
CATEGORIES:Featured
END:VEVENT
BEGIN:VEVENT
DTSTART;TZID=America/Los_Angeles:20230616T190000
DTEND;TZID=America/Los_Angeles:20230616T210000
DTSTAMP:20260424T200611
CREATED:20230417T202401Z
LAST-MODIFIED:20230417T202401Z
UID:10165-1686942000-1686949200@southsoundblues.org
SUMMARY:Retro Gruve at O'Looney's Irish Pub
DESCRIPTION:Retro Gruve at O’Looney’s June 16th 7-9 pm\n Linda Carroll   Kim Workman \n\n\n\n\n\n\n\nAddress: 3222 56th St\, Gig Harbor\, WA 98335\n\n\n\nPhone: (253) 313-0106
URL:https://southsoundblues.org/event/retro-gruve-at-olooneys-irish-pub/
LOCATION:O’Looney’s Irish Pub\, 3222 56th St\, Gig Harbor\, WA\, 98335
END:VEVENT
BEGIN:VEVENT
DTSTART;TZID=America/Los_Angeles:20230617T153000
DTEND;TZID=America/Los_Angeles:20230617T170000
DTSTAMP:20260424T200611
CREATED:20230514T185456Z
LAST-MODIFIED:20230525T200032Z
UID:10434-1687015800-1687021200@southsoundblues.org
SUMMARY:Juneteenth celebration with the Kim and Brian Band at the Johnson Farm\, Anderson Island
DESCRIPTION:The Kim and Brian Band at the Anderson Island Arts Juneteenth Celebration\, June 17\, 3:30 PM\nFree Admission donations will be accepted.\n Enjoy the beautiful summer weather and groove to the music of this fantastic blues band at the Johnson Farm Outdoor Stage Area. This event promises to be a joyous and memorable occasion\, and we would be honored if you could join us for this special celebration of freedom\, culture\, and music. So\, mark your calendar and bring your friends and family along for an afternoon of music\, dancing\, and fun!\n\nLocation with address: Johnson Farm Outdoor Stage 9306 Otso Point Road Anderson Island WA 98303\n(Inside if it rains)
URL:https://southsoundblues.org/event/juneteenth-celebration-with-the-kim-and-brian-band-at-the-johnson-farm-anderson-island/
LOCATION:Johnson Farm Archival Building\, 9306 Otso Point Rd\, Anderson Island\, WA\, 98303
CATEGORIES:Local South Sound Blues
END:VEVENT
BEGIN:VEVENT
DTSTART;TZID=America/Los_Angeles:20230617T193000
DTEND;TZID=America/Los_Angeles:20230617T220000
DTSTAMP:20260424T200611
CREATED:20230508T221720Z
LAST-MODIFIED:20230508T221720Z
UID:10372-1687030200-1687039200@southsoundblues.org
SUMMARY:Stevie & The Blue Flames at the Rockfish Grill\, Anacortes
DESCRIPTION:Stevie & The Blue Flames at the Rockfish Grill & Brewery\, 7:30 pm\n Steve Bailey \n 
URL:https://southsoundblues.org/event/stevie-the-blue-flames-at-the-rockfish-grill-anacortes/
LOCATION:Rockfish Grill & Brewery\, 320 Commercial Ave\, Anacortes\, WA\, 98221
CATEGORIES:Featured
END:VEVENT
BEGIN:VEVENT
DTSTART;TZID=America/Los_Angeles:20230617T200000
DTEND;TZID=America/Los_Angeles:20230617T200000
DTSTAMP:20260424T200611
CREATED:20230410T180149Z
LAST-MODIFIED:20230608T234157Z
UID:10139-1687032000-1687032000@southsoundblues.org
SUMMARY:Stacy Jones Band at Jazzbones
DESCRIPTION:Stacy Jones Band at Jazzbones\, June 17th\, 8pm\n \nStacy Jones Band\, Saturday\, Jun 17\, 2023\, Jazzbones\, Tacoma\, WA\nDoors: 7:00PM | Show: 8:00PM\nGeneral Admission$10.00+ $3.43 service fee\nThe Award-Winning Seattle singer-songwriter and multi-instrumentalist Stacy Jones and her Award-winning Band who deliver high energy Roots Rock\, Blues\, and Americana.
URL:https://southsoundblues.org/event/stacy-jones-band-at-jazzbones-2/
LOCATION:Jazzbones\, 2803 6th Ave\, Tacoma\, WA\, 98406
CATEGORIES:Local South Sound Blues
END:VEVENT
BEGIN:VEVENT
DTSTART;TZID=America/Los_Angeles:20230617T200000
DTEND;TZID=America/Los_Angeles:20230617T200000
DTSTAMP:20260424T200611
CREATED:20230421T062901Z
LAST-MODIFIED:20230421T062901Z
UID:10217-1687032000-1687032000@southsoundblues.org
SUMMARY:Mark DuFresne Band at the Sons of Norway
DESCRIPTION:Sat\, Jun 17th. Sons of Norway- Swing Dance\, Ballard: Mark DuFresne Band feat. Billy Stapleton 8pm\n \n\nleiferiksonlodge@qwestoffice.net
URL:https://southsoundblues.org/event/mark-dufresne-band-at-the-sons-of-norway/
LOCATION:Sons of Norway\, Ballard\, 2245 NW 57th St\, Seattle\, WA\, 98107
END:VEVENT
BEGIN:VEVENT
DTSTART;TZID=America/Los_Angeles:20230618T190000
DTEND;TZID=America/Los_Angeles:20230618T220000
DTSTAMP:20260424T200611
CREATED:20230421T055903Z
LAST-MODIFIED:20230421T055903Z
UID:10207-1687114800-1687125600@southsoundblues.org
SUMMARY:Sunday Blues at the Spar with the T-Town Aces
DESCRIPTION:Sun\, Jun 18th. The Spar\, Tacoma: SUNDAY BLUES: T-Town Aces 7pm
URL:https://southsoundblues.org/event/sunday-blues-at-the-spar-with-the-t-town-aces/
LOCATION:The Spar\, 2121 N 30th St\, Tacoma\, WA\, 98403
CATEGORIES:Local South Sound Blues
END:VEVENT
BEGIN:VEVENT
DTSTART;TZID=America/Los_Angeles:20230619T180000
DTEND;TZID=America/Los_Angeles:20230619T210000
DTSTAMP:20260424T200611
CREATED:20230429T204551Z
LAST-MODIFIED:20230429T204551Z
UID:10319-1687197600-1687208400@southsoundblues.org
SUMMARY:"Muddy Monday Blues Jam" every Monday at Chi-Town\, Tacoma
DESCRIPTION:“Muddy Monday Blues Jam” every Monday at Chi-Town\, Tacoma\, 6pm
URL:https://southsoundblues.org/event/muddy-monday-blues-jam-every-monday-at-chi-town-tacoma-2/
LOCATION:Chitown Pizza\, 15619 Pacific Ave S\, Tacoma\, WA\, 98444
CATEGORIES:Local South Sound Blues
END:VEVENT
BEGIN:VEVENT
DTSTART;TZID=America/Los_Angeles:20230620T190000
DTEND;TZID=America/Los_Angeles:20230620T230000
DTSTAMP:20260424T200611
CREATED:20230524T235324Z
LAST-MODIFIED:20230524T235324Z
UID:10452-1687287600-1687302000@southsoundblues.org
SUMMARY:Billy Shew and friends Jam every Tuesday at the Burien Eagles
DESCRIPTION:Billy Shew and friends Jam every Tuesday at the Burien Eagles\, 7pm
URL:https://southsoundblues.org/event/billy-shew-and-friends-jam-every-tuesday-at-the-burien-eagles-8/
LOCATION:Burien Eagles\, 920 SW 150th St\, Burien\, WA\, 98166
CATEGORIES:Local South Sound Blues
END:VEVENT
BEGIN:VEVENT
DTSTART;TZID=America/Los_Angeles:20230621T180000
DTEND;TZID=America/Los_Angeles:20230621T180000
DTSTAMP:20260424T200611
CREATED:20230422T015857Z
LAST-MODIFIED:20230422T015857Z
UID:10280-1687370400-1687370400@southsoundblues.org
SUMMARY:All Funk 'n Games at the Spar
DESCRIPTION:Wed\, Jun 21st at The Spar\, All Funk ‘n Games\, 6pm
URL:https://southsoundblues.org/event/all-funk-n-games-at-the-spar-4/
LOCATION:The Spar\, 2121 N 30th St\, Tacoma\, WA\, 98403
CATEGORIES:Featured
END:VEVENT
BEGIN:VEVENT
DTSTART;TZID=America/Los_Angeles:20230621T190000
DTEND;TZID=America/Los_Angeles:20230621T220000
DTSTAMP:20260424T200611
CREATED:20230525T000529Z
LAST-MODIFIED:20230525T000529Z
UID:10461-1687374000-1687384800@southsoundblues.org
SUMMARY:Every Wednesday Night Blues Jam at Bub’s Pub Sports Bar & Grill
DESCRIPTION:Every Wednesday Night Blues Jam at Bub’s Pub Sports Bar & Grill\, 7-10 pm
URL:https://southsoundblues.org/event/every-wednesday-night-blues-jam-at-bubs-pub-sports-bar-grill-4/
LOCATION:Bub’s Pub Bar & Grill\, 1326 Harrison Ave\, Centralia\, WA\, 98531
CATEGORIES:Local South Sound Blues
END:VEVENT
BEGIN:VEVENT
DTSTART;TZID=America/Los_Angeles:20230622T190000
DTEND;TZID=America/Los_Angeles:20230622T220000
DTSTAMP:20260424T200611
CREATED:20230525T002133Z
LAST-MODIFIED:20230525T002133Z
UID:10473-1687460400-1687471200@southsoundblues.org
SUMMARY:Big Al’s Blues Jam Every Thursday at the New Moon Craft Tavern
DESCRIPTION:Big Al’s Blues Jam Every Thursday at the New Moon Craft Tavern\, Port Angeles\, 7-10 pm
URL:https://southsoundblues.org/event/big-als-blues-jam-every-thursday-at-the-new-moon-craft-tavern-5/
LOCATION:New Moon Craft Tavern\, 130 S Lincoln St\, Port Angeles\, WA\, 98362
CATEGORIES:Local South Sound Blues
END:VEVENT
BEGIN:VEVENT
DTSTART;TZID=America/Los_Angeles:20230622T200000
DTEND;TZID=America/Los_Angeles:20230622T200000
DTSTAMP:20260424T200611
CREATED:20230620T203009Z
LAST-MODIFIED:20230620T203009Z
UID:10688-1687464000-1687464000@southsoundblues.org
SUMMARY:CD Woodbury Band at the Salmon Bay Eagles
DESCRIPTION:CD Woodbury Band at the Salmon Bay Eagles 8pm
URL:https://southsoundblues.org/event/cd-woodbury-band-at-the-salmon-bay-eagles/
LOCATION:Salmon Bay Eagles\, 5216 20th Ave NW\, Seattle\, WA\, 98107
CATEGORIES:Featured
END:VEVENT
BEGIN:VEVENT
DTSTART;TZID=America/Los_Angeles:20230623T160000
DTEND;TZID=America/Los_Angeles:20230624T233000
DTSTAMP:20260424T200611
CREATED:20230211T231738Z
LAST-MODIFIED:20230528T192559Z
UID:9882-1687536000-1687649400@southsoundblues.org
SUMMARY:The Gorge Blues & Brews Festival Returns to Stevenson\, Washington for its 30th Annual Blues Celebration!!
DESCRIPTION:The Gorge Blues & Brews Festival Returns to Stevenson\, Washington for its 30th Annual Blues Celebration!! \nEnjoy a weekend of world-renowned live music with blues\, brews & panoramic views. The’ll have thirty-five ice cold beer taps\, four wineries\, a distillery pouring tastes and great cocktails\, and tons of food! Friday-Saturday\, June 23-24\, 2023. \nMusic Lineup: \nFriday\, June 23rd: \n5-6:30 –  Wasteland Kings \n6:30-8pm – Sister Mercy\n8-10pm – Ben Rice & The Portland Hustle \nSaturday June 24th: \n2-3pm – Beaver Boogie Band\n3-4pm – Eric’s Maine Connection\n4-5pm – Nick Vigarino\n5-6pm – Jon Griffin & The LightFighters\n6-7pm – Bottleneck Blues Band\n7-8pm – Stacy Jones Band\n8-10pm – Johnny Wheels & The Swamp Donkeys \nVisit the breathtaking location in the Columbia River Gorge. This year they will continue with the mix of internationally renowned musical genius\, award-winning craft brews\, wine and spirits\, cuisine galore\, and warm sunsets in one of the most beautiful venues in the world. Prepare for more of everything as well as some new additions to enjoy during what continues to be the premiere blues festival in the Pacific Northwest. Join the fun at the Skamania County Fairgrounds June 23-24! \nJune 23rd: 5pm-10pm\, doors @ 4:30\nJune 24th: 2pm-10pm\, doors @ 2pm \nAward Winning Lineup: Johnny Wheels & The Swamp Donkeys | Wasteland Kings | Sister Mercy | Jon Griffin & The Light Fighters | Beaver Boogie Band | More \nBreweries:\n54-40 Brewing | Backwoods Brewing | Camas Brewing | Everybody’s Brewing | Ferment Brewing | Freebridge Brewing | Grains of Wrath | Hop works Urban Brewery | Mela Brewing | Thunder Island Brewing | Walking Man Brewery \nWineries:\nCOR Cellars | Airfield Estates | Christopher Michael Wines \nDistillery:\nSkunk Brothers Spirits – Whiskey tastings and cocktails\nCamping and lodging are available. Stay at Best Western\, Hotel Stevenson\, or bring your RV to the Skamania Fairgrounds.\nThese event tickets do not include camping. For camping reservations\, call the Skamania Fairgrounds\, (509) 427-3980. \nLocation\nSkamania County Fairgrounds\n710 Southwest Rock Creek Drive\nStevenson\, WA 98648 \nTicketing\nAdult (21+ event)\nOne Day Pass – $15: Comes with entry and souvenir glass. Drink Tokens sold at the event.\nTwo Day Pass – $27: Comes with entry and souvenir glass. Drink Tokens sold at the event.\nBB King Package – $95: Comes with 2 entry passes\, two souvenir glasses and six drink tickets.\nTickets: https://na01.safelinks.protection.outlook.com/?url=https%3A%2F%2Fwww.eventbrite.com%2Fe%2F30th-annual-gorge-blues-and-brews-festival-tickets-536536203227&data=05%7C01%7C%7C84714720e6dc44247fd008db09740acd%7C84df9e7fe9f640afb435aaaaaaaaaaaa%7C1%7C0%7C638114166230792968%7CUnknown%7CTWFpbGZsb3d8eyJWIjoiMC4wLjAwMDAiLCJQIjoiV2luMzIiLCJBTiI6Ik1haWwiLCJXVCI6Mn0%3D%7C3000%7C%7C%7C&sdata=pTj9SPCo%2BPd2ksQC3DQtqxNYBpeyM9nJoqOyxgZKz5c%3D&reserved=0
URL:https://southsoundblues.org/event/the-gorge-blues-brews-festival-returns-in-stevenson-washington-for-its-30th-annual-blues-celebration/
LOCATION:Skamania County Fairgrounds\, 710 SW Rock Creek Dr\, Stevenson\, WA\, 98648
CATEGORIES:Festival,Special Event
END:VEVENT
BEGIN:VEVENT
DTSTART;TZID=America/Los_Angeles:20230623T180000
DTEND;TZID=America/Los_Angeles:20230623T180000
DTSTAMP:20260424T200611
CREATED:20230512T015654Z
LAST-MODIFIED:20230512T015654Z
UID:10424-1687543200-1687543200@southsoundblues.org
SUMMARY:Taj Mahal Quartet and Los Lobos at the Chateau Ste Michelle Amphitheatre
DESCRIPTION:Taj Mahal Quartet and Los Lobos\n\nChateau Ste Michelle Amphitheatre\nJune 23rd\, 2023\n\n\n\n\n\nWith Very Special Guest North Mississippi Allstars \nShow starts at 6:30pm\nGates will open approximately 2 hours before scheduled start \nReserve: Starting at $99.50\nGeneral Admission: Starting at $69.50 \nTickets on sale Monday\, April 3\, 2023 at 10:00am PT. Visit www.ticketmaster.com to purchase.
URL:https://southsoundblues.org/event/taj-mahal-quartet-and-los-lobos-at-the-chateau-ste-michelle-amphitheatre/
LOCATION:Chateau Ste. Michelle Winery\, 14111 NE 145th St\, Woodinville\, WA\, 98072
CATEGORIES:Featured,Special Event
END:VEVENT
BEGIN:VEVENT
DTSTART;TZID=America/Los_Angeles:20230623T190000
DTEND;TZID=America/Los_Angeles:20230623T210000
DTSTAMP:20260424T200611
CREATED:20230611T232037Z
LAST-MODIFIED:20230611T232037Z
UID:10645-1687546800-1687554000@southsoundblues.org
SUMMARY:Joel Astley at Kimball's Coffeehouse
DESCRIPTION:Joel Astley Band at Kimball’s Coffeehouse June 23rd\, 7-9 pm
URL:https://southsoundblues.org/event/joel-astley-at-kimballs-coffeehouse/
LOCATION:Kimball’s Coffeehouse\, 6659 Kimball Dr\, Gig Harbor\, WA\, 98335
CATEGORIES:Local South Sound Blues
END:VEVENT
BEGIN:VEVENT
DTSTART;TZID=America/Los_Angeles:20230624T150000
DTEND;TZID=America/Los_Angeles:20230624T160000
DTSTAMP:20260424T200611
CREATED:20230417T203751Z
LAST-MODIFIED:20230417T204225Z
UID:10168-1687618800-1687622400@southsoundblues.org
SUMMARY:Retro Gruve at Sumners Rhubarb Festival
DESCRIPTION:Retro Gruve at Sumners Rhubarb Festival June 24th\, 3-4 pm on Main Street\, Sumner\, WA\n Retro Gruve with Linda Carroll
URL:https://southsoundblues.org/event/retro-gruve-at-sumners-rhubarb-festival/
LOCATION:Sumner Rhubarb festival\, 923 Kincaide Ave\, Sumner\, WA\, 98390
CATEGORIES:Local South Sound Blues
END:VEVENT
BEGIN:VEVENT
DTSTART;TZID=America/Los_Angeles:20230624T190000
DTEND;TZID=America/Los_Angeles:20230624T220000
DTSTAMP:20260424T200611
CREATED:20230421T064140Z
LAST-MODIFIED:20230421T064140Z
UID:10226-1687633200-1687644000@southsoundblues.org
SUMMARY:Trailer Park Kings at the Spar
DESCRIPTION:Sat\, Jun 24th. The Spar\, Tacoma: Trailer Park Kings 7pm\n \n 
URL:https://southsoundblues.org/event/trailer-park-kings-at-the-spar-5/
LOCATION:The Spar\, 2121 N 30th St\, Tacoma\, WA\, 98403
CATEGORIES:Featured
END:VEVENT
BEGIN:VEVENT
DTSTART;TZID=America/Los_Angeles:20230624T200000
DTEND;TZID=America/Los_Angeles:20230624T200000
DTSTAMP:20260424T200611
CREATED:20230421T063142Z
LAST-MODIFIED:20230421T063142Z
UID:10220-1687636800-1687636800@southsoundblues.org
SUMMARY:Billy Stapleton's POWERHOUSE at the Easy Monkey Taphouse
DESCRIPTION:Jun 24th. Easy Monkey Taphouse\, Shoreline: Billy Stapleton’s POWERHOUSE\, 8pm
URL:https://southsoundblues.org/event/billy-stapletons-powerhouse-at-the-easy-monkey-taphouse-3/
LOCATION:Easy Monkey Taphouse\, 17537 15th Ave NE Suite B\, Shoreline\, WA\, 98155
CATEGORIES:Featured
END:VEVENT
BEGIN:VEVENT
DTSTART;TZID=America/Los_Angeles:20230625T190000
DTEND;TZID=America/Los_Angeles:20230625T220000
DTSTAMP:20260424T200611
CREATED:20230201T193315Z
LAST-MODIFIED:20230201T193315Z
UID:9697-1687719600-1687730400@southsoundblues.org
SUMMARY:King Kom Beaux at the Spar
DESCRIPTION:King Kom Beaux at the Spar June 25th\, 7-10 pm
URL:https://southsoundblues.org/event/king-kom-beaux-at-the-spar-3/
LOCATION:The Spar\, 2121 N 30th St\, Tacoma\, WA\, 98403
CATEGORIES:Local South Sound Blues
END:VEVENT
END:VCALENDAR