BEGIN:VCALENDAR
VERSION:2.0
PRODID:-//South Sound Blues Association - ECPv6.15.18//NONSGML v1.0//EN
CALSCALE:GREGORIAN
METHOD:PUBLISH
X-ORIGINAL-URL:https://southsoundblues.org
X-WR-CALDESC:Events for South Sound Blues Association
REFRESH-INTERVAL;VALUE=DURATION:PT1H
X-Robots-Tag:noindex
X-PUBLISHED-TTL:PT1H
BEGIN:VTIMEZONE
TZID:America/Los_Angeles
BEGIN:DAYLIGHT
TZOFFSETFROM:-0800
TZOFFSETTO:-0700
TZNAME:PDT
DTSTART:20230312T100000
END:DAYLIGHT
BEGIN:STANDARD
TZOFFSETFROM:-0700
TZOFFSETTO:-0800
TZNAME:PST
DTSTART:20231105T090000
END:STANDARD
BEGIN:DAYLIGHT
TZOFFSETFROM:-0800
TZOFFSETTO:-0700
TZNAME:PDT
DTSTART:20240310T100000
END:DAYLIGHT
BEGIN:STANDARD
TZOFFSETFROM:-0700
TZOFFSETTO:-0800
TZNAME:PST
DTSTART:20241103T090000
END:STANDARD
BEGIN:DAYLIGHT
TZOFFSETFROM:-0800
TZOFFSETTO:-0700
TZNAME:PDT
DTSTART:20250309T100000
END:DAYLIGHT
BEGIN:STANDARD
TZOFFSETFROM:-0700
TZOFFSETTO:-0800
TZNAME:PST
DTSTART:20251102T090000
END:STANDARD
END:VTIMEZONE
BEGIN:VEVENT
DTSTART;TZID=America/Los_Angeles:20240411T190000
DTEND;TZID=America/Los_Angeles:20240411T210000
DTSTAMP:20260424T045942
CREATED:20240406T233706Z
LAST-MODIFIED:20240406T234327Z
UID:12521-1712862000-1712869200@southsoundblues.org
SUMMARY:Walker Sherman at APIZZA\, Tacoma
DESCRIPTION:Thursday\, April 11th\, Walker Sherman (southern soul\, Tacoma grit)\, 7-9 PM at APIZZA\nhttps://apizzalittleitaly.com/live-music/ \nAPIZZA LITTLE ITALY\n821 Pacific Ave\nTacoma\, WA 98402 \n(253) 367-4992 \n 
URL:https://southsoundblues.org/event/walker-sherman-at-apizza/
LOCATION:APIZZA\, 821 Pacific Ave\, Tacoma\, WA\, 98402
CATEGORIES:Featured
END:VEVENT
BEGIN:VEVENT
DTSTART;TZID=America/Los_Angeles:20240411T190000
DTEND;TZID=America/Los_Angeles:20240411T220000
DTSTAMP:20260424T045942
CREATED:20240314T003309Z
LAST-MODIFIED:20240314T003309Z
UID:12468-1712862000-1712872800@southsoundblues.org
SUMMARY:“Billy the Pocket Jam” Thursday nights at Dawson’s
DESCRIPTION:“Billy the Pocket Jam” Thursday nights at Dawson’s\, 7-10 pm\n Billy “the Pocket”
URL:https://southsoundblues.org/event/billy-the-pocket-jam-thursday-nights-at-dawsons-31/
LOCATION:Dawson’s Bar & Grill\, 5443 South Tacoma Way\, Tacoma\, WA\, 98409
CATEGORIES:Local South Sound Blues
END:VEVENT
BEGIN:VEVENT
DTSTART;TZID=America/Los_Angeles:20240411T200000
DTEND;TZID=America/Los_Angeles:20240411T200000
DTSTAMP:20260424T045942
CREATED:20240314T200616Z
LAST-MODIFIED:20240314T200616Z
UID:12475-1712865600-1712865600@southsoundblues.org
SUMMARY:Too Slim and the Taildraggers at Jazzbones\, Tacoma
DESCRIPTION:April 11th\, Too Slim and the Taildraggers at Jazzbones\, Doors: 7:00PM | Show: 8:00PM \n\n\n\nTim “Too Slim“ Langford is a monster guitarist and unabashed  blues rocker whose influences run the gamut from Lightnin’ Hopkins\,  Freddy King\, Duane Allman\, Lynyrd Skynyrd and Robin  Trower. \nHe is a prolific singer/songwriter whose songs have now  yielded an impressive 14 studio albums\, 2 solo albums and several live CD’s on the Vizztone and his own Underworld Records labels.  Too Slim and the Taildraggers are Tim “Too Slim” Langford on guitar/vocals\, Zach Kasik on bass/vocals and Chris Reiser on drums/vocals. \nBrace Yourself the new live release is the latest effort in the evolution of their contemporary Blues/Rock sound that has been described as ‘Straight Whiskey Blues with a Southern Rock Beer Chaser’ \n\n\n\n\nhttps://wl.seetickets.us/event/too-slim-and-the-taildraggers/589481?afflky=Jazzbones
URL:https://southsoundblues.org/event/too-slim-and-the-taildraggers-at-jazzbones-tacoma/
LOCATION:Jazzbones\, 2803 6th Ave\, Tacoma\, WA\, 98406
CATEGORIES:Local South Sound Blues
END:VEVENT
BEGIN:VEVENT
DTSTART;TZID=America/Los_Angeles:20240412T190000
DTEND;TZID=America/Los_Angeles:20240412T210000
DTSTAMP:20260424T045942
CREATED:20240313T224428Z
LAST-MODIFIED:20240313T224453Z
UID:12412-1712948400-1712955600@southsoundblues.org
SUMMARY:Steve Bailey & The Blue Flames at Kimball Coffeehouse
DESCRIPTION:Apr 12th\, Kimball Coffeehouse\, Gig Harbor\, Steve Bailey & The Blue Flames\, 7-9 pm
URL:https://southsoundblues.org/event/steve-bailey-the-blue-flames-at-kimball-coffeehouse/
LOCATION:Kimball’s Coffeehouse\, 6659 Kimball Dr\, Gig Harbor\, WA\, 98335
CATEGORIES:Local South Sound Blues
END:VEVENT
BEGIN:VEVENT
DTSTART;TZID=America/Los_Angeles:20240413T190000
DTEND;TZID=America/Los_Angeles:20240413T190000
DTSTAMP:20260424T045942
CREATED:20240313T231925Z
LAST-MODIFIED:20240313T231925Z
UID:12435-1713034800-1713034800@southsoundblues.org
SUMMARY:Silver City at The Spar
DESCRIPTION:Apr 13th\, The Spar\, Tacoma\, Silver City\, 7pm
URL:https://southsoundblues.org/event/silver-city-at-the-spar-2/
LOCATION:The Spar\, 2121 N 30th St\, Tacoma\, WA\, 98403
CATEGORIES:Featured
END:VEVENT
BEGIN:VEVENT
DTSTART;TZID=America/Los_Angeles:20240413T190000
DTEND;TZID=America/Los_Angeles:20240413T190000
DTSTAMP:20260424T045942
CREATED:20240404T194107Z
LAST-MODIFIED:20240404T194107Z
UID:12518-1713034800-1713034800@southsoundblues.org
SUMMARY:Heather Jones & The Groove Master at Chicago Pizza
DESCRIPTION:Heather Jones & The Groove Master at Chicago Pizza April 13th\, 7pm
URL:https://southsoundblues.org/event/heather-jones-the-groove-master-at-chicago-pizza/
LOCATION:Chitown Pizza\, 15619 Pacific Ave S\, Tacoma\, WA\, 98444
CATEGORIES:Local South Sound Blues
END:VEVENT
BEGIN:VEVENT
DTSTART;TZID=America/Los_Angeles:20240413T200000
DTEND;TZID=America/Los_Angeles:20240413T200000
DTSTAMP:20260424T045942
CREATED:20240314T004458Z
LAST-MODIFIED:20240314T004458Z
UID:12470-1713038400-1713038400@southsoundblues.org
SUMMARY:Kim & Brian Duet at The Pints Barn\, Tumwater
DESCRIPTION:Saturday\, April 13th\,  8:00 pm\, at the Pints Barn\, Tumwater\, Kim & Brian Duet\n \n\n\nPints Barn\, 114 E St SW\, Tumwater\, WA 98501
URL:https://southsoundblues.org/event/kim-brian-duet-at-the-pints-barn-tumwater/
LOCATION:Pints Barn\, 114 E St SW\, Tumwater\, WA\, 98501
CATEGORIES:Local South Sound Blues
END:VEVENT
BEGIN:VEVENT
DTSTART;TZID=America/Los_Angeles:20240414T170000
DTEND;TZID=America/Los_Angeles:20240414T200000
DTSTAMP:20260424T045942
CREATED:20240307T231340Z
LAST-MODIFIED:20240307T231729Z
UID:12334-1713114000-1713124800@southsoundblues.org
SUMMARY:Sundays Blues Jam at Brother Don's Bar and Grill
DESCRIPTION:Sundays Blues Jam at Brother Don’s Bar and Grill\, 5-8 pm\, Bremerton
URL:https://southsoundblues.org/event/sundays-blues-jam-at-brother-dons/
LOCATION:Brother Don’s Bar & Grill\, 4200 Kitsap Way\, Bremerton\, WA\, 98312
CATEGORIES:Local South Sound Blues
END:VEVENT
BEGIN:VEVENT
DTSTART;TZID=America/Los_Angeles:20240414T190000
DTEND;TZID=America/Los_Angeles:20240414T220000
DTSTAMP:20260424T045942
CREATED:20240313T223456Z
LAST-MODIFIED:20240313T223456Z
UID:12406-1713121200-1713132000@southsoundblues.org
SUMMARY:Sunday Blues at The Spar with Dr. Jop's Funkin' Shop
DESCRIPTION:Apr 14th\, The Spar\, Dr. Jop’s Funkin’ Shop\, 7-10 pm
URL:https://southsoundblues.org/event/sunday-blues-at-the-spar-with-dr-jops-funkin-shop/
LOCATION:The Spar\, 2121 N 30th St\, Tacoma\, WA\, 98403
CATEGORIES:Local South Sound Blues
END:VEVENT
BEGIN:VEVENT
DTSTART;TZID=America/Los_Angeles:20240416T190000
DTEND;TZID=America/Los_Angeles:20240416T210000
DTSTAMP:20260424T045942
CREATED:20240307T232459Z
LAST-MODIFIED:20240307T232459Z
UID:12345-1713294000-1713301200@southsoundblues.org
SUMMARY:Rob Tudor and Dave McKibbin at the Twisted Fork Saloon every Tuesday
DESCRIPTION:Rob Tudor and Dave McKibbin at the Twisted Fork Saloon every Tuesday\, 7-9 pm
URL:https://southsoundblues.org/event/rob-tudor-and-dave-mckibbin-at-the-twisted-fork-saloon-every-tuesday-4/
LOCATION:Twisted Fork Saloon\, 5005 Main St\, Tacoma\, WA\, 98407
CATEGORIES:Local South Sound Blues
END:VEVENT
BEGIN:VEVENT
DTSTART;TZID=America/Los_Angeles:20240417T180000
DTEND;TZID=America/Los_Angeles:20240417T180000
DTSTAMP:20260424T045942
CREATED:20240313T231221Z
LAST-MODIFIED:20240313T231221Z
UID:12427-1713376800-1713376800@southsoundblues.org
SUMMARY:Marcel Smith with The LTD Band at The Spar
DESCRIPTION:Apr 17th\, The Spar\, LTD Presents: Marcel Smith with The LTD Band\, 6pm
URL:https://southsoundblues.org/event/marcel-smith-with-the-ltd-band-at-the-spar/
LOCATION:The Spar\, 2121 N 30th St\, Tacoma\, WA\, 98403
CATEGORIES:Featured
END:VEVENT
BEGIN:VEVENT
DTSTART;TZID=America/Los_Angeles:20240417T200000
DTEND;TZID=America/Los_Angeles:20240417T200000
DTSTAMP:20260424T045942
CREATED:20240222T000444Z
LAST-MODIFIED:20240222T000444Z
UID:12221-1713384000-1713384000@southsoundblues.org
SUMMARY:Tinsley Ellis at the Spanish Ballroom\, Tacoma
DESCRIPTION:Tinsley Ellis will be at the Spanish Ballroom April 17th \, McMenamins historic Tacoma Elks. It’s a stop on his ‘Naked Truth’ Tour. 7 pm doors\, 8 pm show. $35 advance\, $40 day of show. All ages welcome. https://www.mcmenamins.com/events/251834-tinsley-ellis
URL:https://southsoundblues.org/event/tinsley-ellis-at-the-spanish-ballroom-tacoma/
LOCATION:McMenaminsTacoma Elks\, 565 Broadway\, Tacoma\, WA\, 98402
CATEGORIES:Featured,Local South Sound Blues
END:VEVENT
BEGIN:VEVENT
DTSTART;TZID=America/Los_Angeles:20240418T190000
DTEND;TZID=America/Los_Angeles:20240418T190000
DTSTAMP:20260424T045942
CREATED:20240313T230602Z
LAST-MODIFIED:20240313T230602Z
UID:12425-1713466800-1713466800@southsoundblues.org
SUMMARY:Marcel Smith with The LTD Band at The Slippery Pig Brewery\, Poulsbo
DESCRIPTION:Apr 18th\, Slippery Pig\, Poulsbo\, LTD Presents & PB&J Present: Marcel Smith with The LTD Band\, 7pm
URL:https://southsoundblues.org/event/marcel-smith-with-the-ltd-band-at-the-slippery-pig-brewery-poulsbo/
LOCATION:Slippery Pig Brewery\, 18801 Front St NE\, Poulsbo\, WA\, 98370
CATEGORIES:Local South Sound Blues
END:VEVENT
BEGIN:VEVENT
DTSTART;TZID=America/Los_Angeles:20240418T190000
DTEND;TZID=America/Los_Angeles:20240418T210000
DTSTAMP:20260424T045942
CREATED:20240406T233943Z
LAST-MODIFIED:20240406T234426Z
UID:12524-1713466800-1713474000@southsoundblues.org
SUMMARY:South Sound Express Trio at APIZZA\, Tacoms
DESCRIPTION:Thursday\, April 18 – South Sound Express Trio (funk\, jazz\, blues) 7-9 PM at APIZZA\n 
URL:https://southsoundblues.org/event/south-sound-express-trio-at-apizza/
LOCATION:APIZZA\, 821 Pacific Ave\, Tacoma\, WA\, 98402
CATEGORIES:Featured
END:VEVENT
BEGIN:VEVENT
DTSTART;TZID=America/Los_Angeles:20240419T190000
DTEND;TZID=America/Los_Angeles:20240419T210000
DTSTAMP:20260424T045942
CREATED:20240313T225944Z
LAST-MODIFIED:20240313T225944Z
UID:12422-1713553200-1713560400@southsoundblues.org
SUMMARY:Roeman & The Whereabouts at Kimball Coffeehouse
DESCRIPTION:Apr 19th\, Kimball Coffeehouse\, Tacoma\, Roeman & The Whereabouts\, 7pm
URL:https://southsoundblues.org/event/roeman-the-whereabouts-at-kimball-coffeehouse/
LOCATION:Kimball’s Coffeehouse\, 6659 Kimball Dr\, Gig Harbor\, WA\, 98335
CATEGORIES:Featured
END:VEVENT
BEGIN:VEVENT
DTSTART;TZID=America/Los_Angeles:20240419T200000
DTEND;TZID=America/Los_Angeles:20240419T200000
DTSTAMP:20260424T045942
CREATED:20240112T014120Z
LAST-MODIFIED:20240112T014303Z
UID:12059-1713556800-1713556800@southsoundblues.org
SUMMARY:Stephanie Anne Johnson with Sweetkiss Momma at the Spanish Ballroom
DESCRIPTION:Stephanie Anne Johnson with Sweetkiss Momma at the Spanish Ballroom April 19th\, doors 7pm \n \nhttps://event.etix.com/ticket/online/performanceSale.do?performance_id=93062571&method=restoreToken&fbclid=IwAR2kfad5Z16QVr-8fhPc7b4IpLf7UlxCxHgbnjg1DW_N3ypjKmJk_VK4Kwc \nMcMenamins Elks Temple‘s Spanish Ballroom April 19th with the legendary Stephanie Anne Johnson!!!
URL:https://southsoundblues.org/event/stephanie-anne-johnson-with-sweetkiss-momma-at-the-spanish-ballroom/
LOCATION:McMenaminsTacoma Elks\, 565 Broadway\, Tacoma\, WA\, 98402
CATEGORIES:Featured
END:VEVENT
BEGIN:VEVENT
DTSTART;TZID=America/Los_Angeles:20240420T190000
DTEND;TZID=America/Los_Angeles:20240420T190000
DTSTAMP:20260424T045942
CREATED:20240313T232324Z
LAST-MODIFIED:20240313T232324Z
UID:12439-1713639600-1713639600@southsoundblues.org
SUMMARY:Tupelo at The Spar
DESCRIPTION:Apr 20th\, The Spar\, Tacoma\, Tupelo\, 7pm
URL:https://southsoundblues.org/event/tupelo-at-the-spar-4/
LOCATION:The Spar\, 2121 N 30th St\, Tacoma\, WA\, 98403
CATEGORIES:Featured
END:VEVENT
BEGIN:VEVENT
DTSTART;TZID=America/Los_Angeles:20240420T193000
DTEND;TZID=America/Los_Angeles:20240420T210000
DTSTAMP:20260424T045942
CREATED:20240314T005154Z
LAST-MODIFIED:20240314T005154Z
UID:12473-1713641400-1713646800@southsoundblues.org
SUMMARY:Pearl Django at the Palindrome Port Townsend Event Center
DESCRIPTION:Pearl Django LIVE in Port Townsend\, April 20th\, 7:30- 9:00pm (PDT)\n\nTickets are available online through RSVPIFY:\nhttps://pearldjangoatthepalindrom.rsvpify.com\n\nPalindrome Port Townsend Event Center\, 1893 South Jacob Miller Road\, Port Townsend\, WA 98368
URL:https://southsoundblues.org/event/pearl-django-at-the-palindrome-port-townsend-event-center/
LOCATION:Palindrome Port Townsend Event Center\, 1893 S Jacob Miller Rd\, Port Townsend\, WA\, 98368
CATEGORIES:Featured
END:VEVENT
BEGIN:VEVENT
DTSTART;TZID=America/Los_Angeles:20240420T200000
DTEND;TZID=America/Los_Angeles:20240420T230000
DTSTAMP:20260424T045942
CREATED:20240403T194045Z
LAST-MODIFIED:20240403T194125Z
UID:12511-1713643200-1713654000@southsoundblues.org
SUMMARY:Groove Colony with Mid-Nite Bourbon at The Valley
DESCRIPTION:Saturday April-20th\, The  Groove Colony with Mid-Nite Bourbon at The Valley\, Tacoma\, 8-11 pm.
URL:https://southsoundblues.org/event/groove-colony-with-mid-nite-bourbon-at-the-valley/
LOCATION:The Valley\, 1206 Puyallup Ave\, Tacoma\, WA\, 98421
CATEGORIES:Local South Sound Blues
END:VEVENT
BEGIN:VEVENT
DTSTART;TZID=America/Los_Angeles:20240421T120000
DTEND;TZID=America/Los_Angeles:20240421T180000
DTSTAMP:20260424T045942
CREATED:20240220T013204Z
LAST-MODIFIED:20240222T004550Z
UID:12151-1713700800-1713722400@southsoundblues.org
SUMMARY:WBS 2024 Best of the Blues Awards show at Nile Shrine Center Ballroom\, Mountlake Terrace\, WA
DESCRIPTION:2024 Best of the Blues Awards ​-Sunday April 21st\, time TBA\, at the Nile Shrine Center Ballroom\n\nWashington Blues Society \n\n\nHonoring achievements in the PNW music community in over 30 categories and induction into the\nWashington Blues Society Hall of Fame with performances from Select Nominees.\n6601 244th St SW\, Mountlake Terrace\, WA 98043
URL:https://southsoundblues.org/event/wbs-2024-best-of-the-blues-awards-show-at-nile-shrine-center-ballroom-mountlake-terrace-wa/
LOCATION:WA
CATEGORIES:Special Event
END:VEVENT
BEGIN:VEVENT
DTSTART;TZID=America/Los_Angeles:20240421T190000
DTEND;TZID=America/Los_Angeles:20240421T220000
DTSTAMP:20260424T045942
CREATED:20240313T223836Z
LAST-MODIFIED:20240313T223836Z
UID:12408-1713726000-1713736800@southsoundblues.org
SUMMARY:Sunday Blues at The Spar with Kimball & The Fugitives\, featuring Annie Eastwood
DESCRIPTION:Apr 21st\, The Spar\, Kimball & The Fugitives\, featuring Annie Eastwood\, 7-10 pm
URL:https://southsoundblues.org/event/sunday-blues-at-the-spar-with-kimball-the-fugitives-featuring-annie-eastwood/
LOCATION:The Spar\, 2121 N 30th St\, Tacoma\, WA\, 98403
CATEGORIES:Local South Sound Blues
END:VEVENT
BEGIN:VEVENT
DTSTART;TZID=America/Los_Angeles:20240422T180000
DTEND;TZID=America/Los_Angeles:20240422T210000
DTSTAMP:20260424T045942
CREATED:20240307T232745Z
LAST-MODIFIED:20240401T235613Z
UID:12347-1713808800-1713819600@southsoundblues.org
SUMMARY:Monday Jazz at Brother Don’s Bar and Grill
DESCRIPTION:Monday Jazz at Brother Don’s Bar and Grill\, 6-9 pm\, Bremerton\, WA
URL:https://southsoundblues.org/event/monday-jazz-at-brother-dons-bar-and-grill-5/
LOCATION:Brother Don’s Bar & Grill\, 4200 Kitsap Way\, Bremerton\, WA\, 98312
CATEGORIES:Local South Sound Blues
END:VEVENT
BEGIN:VEVENT
DTSTART;TZID=America/Los_Angeles:20240424T180000
DTEND;TZID=America/Los_Angeles:20240424T180000
DTSTAMP:20260424T045942
CREATED:20240313T232440Z
LAST-MODIFIED:20240313T232440Z
UID:12441-1713981600-1713981600@southsoundblues.org
SUMMARY:Race to the Light at The Spar
DESCRIPTION:Apr 24th\, The Spar\, Tacoma\, Race to the Light\, 6pm
URL:https://southsoundblues.org/event/race-to-the-light-at-the-spar/
LOCATION:The Spar\, 2121 N 30th St\, Tacoma\, WA\, 98403
CATEGORIES:Featured
END:VEVENT
BEGIN:VEVENT
DTSTART;TZID=America/Los_Angeles:20240424T183000
DTEND;TZID=America/Los_Angeles:20240424T203000
DTSTAMP:20260424T045942
CREATED:20240402T000428Z
LAST-MODIFIED:20240402T000428Z
UID:12501-1713983400-1713990600@southsoundblues.org
SUMMARY:Billy Stoops with Leanne Trevalyan at the TK Irish Pub\, Puyallup
DESCRIPTION:Billy Stoops with Leanne Trevalyan at the TK Irish Pub\, Puyallup\, April 24th\, 6:30-8:30 pm
URL:https://southsoundblues.org/event/billy-stoops-with-leanne-trevalyan-at-the-tk-irish-pub-puyallup/
LOCATION:Twisted Kilt\, 109 S Meridian\, Puyallup\, WA\, 98371
CATEGORIES:Local South Sound Blues
END:VEVENT
BEGIN:VEVENT
DTSTART;TZID=America/Los_Angeles:20240425T190000
DTEND;TZID=America/Los_Angeles:20240425T210000
DTSTAMP:20260424T045942
CREATED:20240406T234232Z
LAST-MODIFIED:20240406T234528Z
UID:12526-1714071600-1714078800@southsoundblues.org
SUMMARY:Hector Sosa at APIZZA\, Tacoma\, Tacoma
DESCRIPTION:Thursday\, April 25 – Guitarist Hector Sosa (classical\, jazz\, modern hits) 7-9 PM at APIZZA
URL:https://southsoundblues.org/event/hector-sosa-at-apizza-tacoma/
LOCATION:APIZZA\, 821 Pacific Ave\, Tacoma\, WA\, 98402
CATEGORIES:Featured
END:VEVENT
BEGIN:VEVENT
DTSTART;TZID=America/Los_Angeles:20240426T190000
DTEND;TZID=America/Los_Angeles:20240426T210000
DTSTAMP:20260424T045942
CREATED:20240313T225525Z
LAST-MODIFIED:20240313T225525Z
UID:12418-1714158000-1714165200@southsoundblues.org
SUMMARY:Joel Astley Band at Kimball Coffeehouse
DESCRIPTION:Apr 26th\, Kimball Coffeehouse\, Joel Astley Band\, 7-9 pm
URL:https://southsoundblues.org/event/joel-astley-band-at-kimball-coffeehouse/
LOCATION:Kimball’s Coffeehouse\, 6659 Kimball Dr\, Gig Harbor\, WA\, 98335
CATEGORIES:Local South Sound Blues
END:VEVENT
BEGIN:VEVENT
DTSTART;TZID=America/Los_Angeles:20240426T200000
DTEND;TZID=America/Los_Angeles:20240426T200000
DTSTAMP:20260424T045942
CREATED:20240311T212936Z
LAST-MODIFIED:20240311T212936Z
UID:12372-1714161600-1714161600@southsoundblues.org
SUMMARY:King Kom Beaux at Zesty's
DESCRIPTION:King Kom Beaux at Zesty’s Steakhouse\, April 26th\, 8pm.
URL:https://southsoundblues.org/event/king-kom-beaux-at-zestys/
LOCATION:Zesty’s Cajun Steakhouse\, 9905 Bridgeport Way Southwest\, Lakewood\, WA\, 98499
CATEGORIES:Local South Sound Blues
END:VEVENT
BEGIN:VEVENT
DTSTART;TZID=America/Los_Angeles:20240427T190000
DTEND;TZID=America/Los_Angeles:20240427T190000
DTSTAMP:20260424T045942
CREATED:20240313T232615Z
LAST-MODIFIED:20240313T232615Z
UID:12443-1714244400-1714244400@southsoundblues.org
SUMMARY:The Elevators at The Spar
DESCRIPTION:Apr 27th\, The Spar\, Tacoma\, The Elevators\, 7pm
URL:https://southsoundblues.org/event/the-elevators-at-the-spar-2/
LOCATION:The Spar\, 2121 N 30th St\, Tacoma\, WA\, 98403
CATEGORIES:Featured
END:VEVENT
BEGIN:VEVENT
DTSTART;TZID=America/Los_Angeles:20240427T193000
DTEND;TZID=America/Los_Angeles:20240427T220000
DTSTAMP:20260424T045942
CREATED:20240313T225737Z
LAST-MODIFIED:20240314T001351Z
UID:12420-1714246200-1714255200@southsoundblues.org
SUMMARY:The Mark DuFresne Band at the Third Place Commons\, Lake Forest Park
DESCRIPTION:April 27th\, at the Third Place Commons\, Lake Forest Park\, The Mark DuFresne Band\, featuring Billy Stapleton on guitar\,  7:30-10pm
URL:https://southsoundblues.org/event/mark-dufresne-at-the-third-place-commons-lake-forest-park/
LOCATION:Third Place Commons\, 17171 Bothell Way NE\, Lake Forest Park\, WA\, 98155
CATEGORIES:Featured
END:VEVENT
BEGIN:VEVENT
DTSTART;TZID=America/Los_Angeles:20240427T200000
DTEND;TZID=America/Los_Angeles:20240427T233000
DTSTAMP:20260424T045942
CREATED:20240125T212230Z
LAST-MODIFIED:20240125T212514Z
UID:12092-1714248000-1714260600@southsoundblues.org
SUMMARY:Suze Sims La Roca Boom at Dawson's
DESCRIPTION:Suze Sims La Roca Boom at Dawson’s April 27th 8-12pm\n  \n 
URL:https://southsoundblues.org/event/suze-sims-la-roca-boom-at-dawsons/
LOCATION:Dawson’s Bar & Grill\, 5443 South Tacoma Way\, Tacoma\, WA\, 98409
CATEGORIES:Local South Sound Blues
END:VEVENT
END:VCALENDAR