BEGIN:VCALENDAR
VERSION:2.0
PRODID:-//South Sound Blues Association - ECPv6.15.18//NONSGML v1.0//EN
CALSCALE:GREGORIAN
METHOD:PUBLISH
X-ORIGINAL-URL:https://southsoundblues.org
X-WR-CALDESC:Events for South Sound Blues Association
REFRESH-INTERVAL;VALUE=DURATION:PT1H
X-Robots-Tag:noindex
X-PUBLISHED-TTL:PT1H
BEGIN:VTIMEZONE
TZID:America/Los_Angeles
BEGIN:DAYLIGHT
TZOFFSETFROM:-0800
TZOFFSETTO:-0700
TZNAME:PDT
DTSTART:20230312T100000
END:DAYLIGHT
BEGIN:STANDARD
TZOFFSETFROM:-0700
TZOFFSETTO:-0800
TZNAME:PST
DTSTART:20231105T090000
END:STANDARD
BEGIN:DAYLIGHT
TZOFFSETFROM:-0800
TZOFFSETTO:-0700
TZNAME:PDT
DTSTART:20240310T100000
END:DAYLIGHT
BEGIN:STANDARD
TZOFFSETFROM:-0700
TZOFFSETTO:-0800
TZNAME:PST
DTSTART:20241103T090000
END:STANDARD
BEGIN:DAYLIGHT
TZOFFSETFROM:-0800
TZOFFSETTO:-0700
TZNAME:PDT
DTSTART:20250309T100000
END:DAYLIGHT
BEGIN:STANDARD
TZOFFSETFROM:-0700
TZOFFSETTO:-0800
TZNAME:PST
DTSTART:20251102T090000
END:STANDARD
END:VTIMEZONE
BEGIN:VEVENT
DTSTART;TZID=America/Los_Angeles:20241011T190000
DTEND;TZID=America/Los_Angeles:20241011T210000
DTSTAMP:20260423T202706
CREATED:20240903T174000Z
LAST-MODIFIED:20240903T174000Z
UID:13383-1728673200-1728680400@southsoundblues.org
SUMMARY:Melanie Vail & Friends at Kimball Coffeehouse
DESCRIPTION:October 11th\,Melanie Vail & Friends LIVE at Kimball Coffeehouse\, 7-9 pm\n\n\n\n\n 6659 Kimball Drive\, Suite A102\, Gig Harbor\, W
URL:https://southsoundblues.org/event/melanie-vail-friends-at-kimball-coffeehouse-2/
LOCATION:Kimball’s Coffeehouse\, 6659 Kimball Dr\, Gig Harbor\, WA\, 98335
CATEGORIES:Featured
END:VEVENT
BEGIN:VEVENT
DTSTART;TZID=America/Los_Angeles:20241011T200000
DTEND;TZID=America/Los_Angeles:20241011T200000
DTSTAMP:20260423T202706
CREATED:20240902T180534Z
LAST-MODIFIED:20240902T192250Z
UID:13333-1728676800-1728676800@southsoundblues.org
SUMMARY:Stacy Jones Birthday Harmonica Blow Out at Aurora Borealis
DESCRIPTION:Stacy Jones Birthday Harmonica Blow Out at Aurora Borealis\, Friday October 11th – 8pm\n\n\n\n\n\n\n\n\n\n\n\n\n\n© 2018 Brian and Jo Benedetti \n\n\n\n\n\n\n\n\n\n\n\n\n\nTickets · $20 – $25\nwww.eventbrite.com/e/stacy-jones-birthday-harmonica-blow-out-tickets-1000807451027\n\n\n\n\n\n\n\n\n\nThe Stacy Jones Band w Special guests Lee Oskar\, Bill Davis\, Mitch Pumpian\n\n\n\n\n\nTickets are $20 advance\, $25 doorAll Ages Welcome\npresented by Stacy Jones Band and Lee Oskar Harmonicas
URL:https://southsoundblues.org/event/stacy-jones-birthday-harmonica-blow-out-at-aurora-borealis/
LOCATION:Aurora Borealis\, 16708 Aurora Ave N\, Shoreline\, WA\, 98133
CATEGORIES:Featured
END:VEVENT
BEGIN:VEVENT
DTSTART;TZID=America/Los_Angeles:20241011T210000
DTEND;TZID=America/Los_Angeles:20241011T233000
DTSTAMP:20260423T202706
CREATED:20241008T011427Z
LAST-MODIFIED:20241008T011917Z
UID:13643-1728680400-1728689400@southsoundblues.org
SUMMARY:Billy Stapleton's Powerhouse at the Brick Saloon\, Roslyn
DESCRIPTION:Friday\, October 11th in Roslyn WA at the legendary Brick Saloon\, Billy Stapleton’s POWERHOUSE plays from 9-midnight.\n \n100 W Pennsylvania Ave\,\nRoslyn\, WA 98941\n(509) 649-2643
URL:https://southsoundblues.org/event/billy-stapletons-powerhouse-at-the-brick-saloon-roslyn/
LOCATION:Brick Saloon\, 100 W Pennsylvania Ave\, Roslyn\, WA\, 98941
CATEGORIES:Featured
END:VEVENT
BEGIN:VEVENT
DTSTART;TZID=America/Los_Angeles:20241012T190000
DTEND;TZID=America/Los_Angeles:20241012T190000
DTSTAMP:20260423T202706
CREATED:20240902T203416Z
LAST-MODIFIED:20240902T203416Z
UID:13350-1728759600-1728759600@southsoundblues.org
SUMMARY:Lost and Found at the Spar
DESCRIPTION:Oct 12th\, Lost and Found at the Spar\, 7-10 pm
URL:https://southsoundblues.org/event/lost-and-found-at-the-spar-2/
LOCATION:The Spar\, 2121 N 30th St\, Tacoma\, WA\, 98403
CATEGORIES:Featured
END:VEVENT
BEGIN:VEVENT
DTSTART;TZID=America/Los_Angeles:20241012T200000
DTEND;TZID=America/Los_Angeles:20241012T200000
DTSTAMP:20260423T202706
CREATED:20240916T220945Z
LAST-MODIFIED:20240916T221247Z
UID:13448-1728763200-1728763200@southsoundblues.org
SUMMARY:Randy Hansen (A Tribute to Jimi Hendrix) at Jazzbones
DESCRIPTION:Saturday\, October 12th\, Randy Hansen\, (A tribute to Jimi Hendrix) at Jazzbones\, 8pm with special guest Stonehouse Wednesday\n\n\n Randy Hansen\n\n\n\nOne full night of the incredible Randy Hansen! Randy Hansen (A Tribute to Jimi Hendrix) w/ his original band Stonehouse Wednesday! \nJazzbones ticket office:   https://jazzbones.com/ \nFor over thirty years\, Hansen has been building a reputation as the foremost Hendrix tribute on Earth. As one of the few players officially recognized by the Hendrix family\, he has been successfully doing his act since the ’70s\, stunning audiences worldwide as he channels the spirit of Jimi and perfectly recreates the stage presence and skill of the legendary axeman. Aside from his loyal fanbase\, Hansen’s guitar work is respected throughout the music business. He’s played alongside some of the greats\, including Stevie Ray Vaughan\, Steve Miller\, Paul Rodgers\, Herbie Hancock\, and original Jimi Hendrix Experience members Noel Redding and Mitch Mitchell… Also original Band Of Gypsies members\, Buddy Miles and Billy Cox. \nDoors: 7:00PM | Show: 8:00PM 21+
URL:https://southsoundblues.org/event/randy-hansen-a-tribute-to-jimi-hendrix-at-jazzbones/
LOCATION:Jazzbones\, 2803 6th Ave\, Tacoma\, WA\, 98406
CATEGORIES:Featured,Local South Sound Blues,Special Event
END:VEVENT
BEGIN:VEVENT
DTSTART;TZID=America/Los_Angeles:20241013T130000
DTEND;TZID=America/Los_Angeles:20241013T210000
DTSTAMP:20260423T202706
CREATED:20240912T003909Z
LAST-MODIFIED:20240912T003909Z
UID:13434-1728824400-1728853200@southsoundblues.org
SUMMARY:WBS Snohomish Blues Invasion\, Snohomish\, WA
DESCRIPTION:October 13th\, WBS Snohomish Blues Invasion\, Snohomish\, WA \nWashington Blues Society \n\nSun Oct 13th 1:00pm – 9:00pm (PDT)\nOxford Saloon\, 913 1st Street\, Snohomish\, WA 98290
URL:https://southsoundblues.org/event/wbs-snohomish-blues-invasion-snohomish-wa/
LOCATION:Oxford Saloon\, 913 1st St\, Snohomish\, WA\, 98290
CATEGORIES:Featured
END:VEVENT
BEGIN:VEVENT
DTSTART;TZID=America/Los_Angeles:20241013T190000
DTEND;TZID=America/Los_Angeles:20241013T190000
DTSTAMP:20260423T202706
CREATED:20240822T191257Z
LAST-MODIFIED:20240822T192755Z
UID:13297-1728846000-1728846000@southsoundblues.org
SUMMARY:Lisa Mann & Lara Price\, at the Slippery Pig\, Poulsbo
DESCRIPTION:October 13th\, Lisa Mann & Lara Price\, at the Slippery Pig In Poulsbo\, 7pm\n  \nSee their website\, Poulsbobluesandjazzfestival.com or their Facebook page @poulsbobluesandjazzfestival for tickets and more information
URL:https://southsoundblues.org/event/lisa-mann-lara-price-at-the-slippery-pig-poulsbo/
LOCATION:Slippery Pig Brewery\, 18801 Front St NE\, Poulsbo\, WA\, 98370
CATEGORIES:Local South Sound Blues
END:VEVENT
BEGIN:VEVENT
DTSTART;TZID=America/Los_Angeles:20241013T190000
DTEND;TZID=America/Los_Angeles:20241013T220000
DTSTAMP:20260423T202706
CREATED:20240902T203718Z
LAST-MODIFIED:20240902T203718Z
UID:13352-1728846000-1728856800@southsoundblues.org
SUMMARY:Sunday Blues at the Spar\, JoMamma with Sheri Roberts Greimes
DESCRIPTION:Oct 13th\, JoMamma with Sheri Roberts Greimes at the Spar\, 7-10 pm
URL:https://southsoundblues.org/event/sunday-blues-at-the-spar-jomamma-with-sheri-roberts-greimes/
LOCATION:The Spar\, 2121 N 30th St\, Tacoma\, WA\, 98403
CATEGORIES:Local South Sound Blues
END:VEVENT
BEGIN:VEVENT
DTSTART;TZID=America/Los_Angeles:20241014T200000
DTEND;TZID=America/Los_Angeles:20241014T220000
DTSTAMP:20260423T202706
CREATED:20240827T011025Z
LAST-MODIFIED:20240827T012011Z
UID:13328-1728936000-1728943200@southsoundblues.org
SUMMARY:Mike Witmer hosts “Mojo Mike’s Blues Revue” every Monday on KVSH 101.9 FM
DESCRIPTION:Mike Witmer hosts “Mojo Mike’s Blues Revue” every Monday on KVSH 101.9 FM 8-10 pm
URL:https://southsoundblues.org/event/mike-witmer-hosts-mojo-mikes-blues-revue-every-monday-on-kvsh-101-9-fm-25/
LOCATION:KVSH\, 17643 Vashon Hwy SW\, Vashon Island\, WA\, 98070
CATEGORIES:Local South Sound Blues
END:VEVENT
BEGIN:VEVENT
DTSTART;TZID=America/Los_Angeles:20241015T190000
DTEND;TZID=America/Los_Angeles:20241015T220000
DTSTAMP:20260423T202706
CREATED:20240821T000545Z
LAST-MODIFIED:20240821T000545Z
UID:13285-1729018800-1729029600@southsoundblues.org
SUMMARY:Jam every Tuesday at Brother Don’s Bar & Grill with the Tim Hall band
DESCRIPTION:Jam every Tuesday at Brother Don’s Bar & Grill with the Tim Hall band\, 7-10 pm.
URL:https://southsoundblues.org/event/jam-every-tuesday-at-brother-dons-bar-grill-with-the-tim-hall-band-6/
LOCATION:Brother Don’s Bar & Grill\, 4200 Kitsap Way\, Bremerton\, WA\, 98312
CATEGORIES:Local South Sound Blues
END:VEVENT
BEGIN:VEVENT
DTSTART;TZID=America/Los_Angeles:20241016T180000
DTEND;TZID=America/Los_Angeles:20241016T180000
DTSTAMP:20260423T202706
CREATED:20240902T204038Z
LAST-MODIFIED:20240902T204038Z
UID:13354-1729101600-1729101600@southsoundblues.org
SUMMARY:Velocity at the Spar
DESCRIPTION:Oct 16th\, Velocity at the Spar\, 6pm
URL:https://southsoundblues.org/event/velocity-at-the-spar-6/
LOCATION:The Spar\, 2121 N 30th St\, Tacoma\, WA\, 98403
CATEGORIES:Featured
END:VEVENT
BEGIN:VEVENT
DTSTART;TZID=America/Los_Angeles:20241017T190000
DTEND;TZID=America/Los_Angeles:20241017T220000
DTSTAMP:20260423T202706
CREATED:20240902T211047Z
LAST-MODIFIED:20240902T211047Z
UID:13374-1729191600-1729202400@southsoundblues.org
SUMMARY:“Billy the Pocket Jam” Thursday nights at Dawson’s
DESCRIPTION:“Billy the Pocket Jam” Thursday nights at Dawson’s\, 7-10 pm
URL:https://southsoundblues.org/event/billy-the-pocket-jam-thursday-nights-at-dawsons-39/
LOCATION:Dawson’s Bar & Grill\, 5443 South Tacoma Way\, Tacoma\, WA\, 98409
CATEGORIES:Local South Sound Blues
END:VEVENT
BEGIN:VEVENT
DTSTART;TZID=America/Los_Angeles:20241018T190000
DTEND;TZID=America/Los_Angeles:20241018T210000
DTSTAMP:20260423T202706
CREATED:20241007T202511Z
LAST-MODIFIED:20241007T202511Z
UID:13544-1729278000-1729285200@southsoundblues.org
SUMMARY:Cheaper Than Therapy at Kimball Coffeehouse
DESCRIPTION:Oct 18th\, Kimball Coffeehouse\, Gig Harbor: Cheaper Than Therapy\, 7-9p
URL:https://southsoundblues.org/event/cheaper-than-therapy-at-kimball-coffeehouse/
LOCATION:Kimball’s Coffeehouse\, 6659 Kimball Dr\, Gig Harbor\, WA\, 98335
CATEGORIES:Featured
END:VEVENT
BEGIN:VEVENT
DTSTART;TZID=America/Los_Angeles:20241018T200000
DTEND;TZID=America/Los_Angeles:20241018T220000
DTSTAMP:20260423T202706
CREATED:20240916T222339Z
LAST-MODIFIED:20240916T222410Z
UID:13454-1729281600-1729288800@southsoundblues.org
SUMMARY:Kim Archer Band at the Airport Tavern\, Tacoma
DESCRIPTION:Kim Archer Band at The Airport Tavern \n\nFri Oct 18th 8:00pm – 10:00pm (PDT)\n\n\n\n \nAirport Tavern Presents:\nFunk It Up Friday\nA throw back night with The Kim Archer Band! Wear your dancing shoes and make a plan for transportation\, cause the drink specials with be flowin like the funk!!\nFriday October 18th\, 2024\n7pm Doors\n8pm The show begins!!\nGuilded Lilly – Kim Archer Band\n21+\n$20 adv at www.airportavern.com\n5406 S. Tacoma Way Tacoma WA 98409
URL:https://southsoundblues.org/event/kim-archer-band-at-the-airport-tavern-tacoma/
LOCATION:Airport Tavern\, 5406 S Tacoma Way\, Tacoma\, WA\, 98409
CATEGORIES:Local South Sound Blues
END:VEVENT
BEGIN:VEVENT
DTSTART;TZID=America/Los_Angeles:20241018T200000
DTEND;TZID=America/Los_Angeles:20241018T230000
DTSTAMP:20260423T202706
CREATED:20240916T221808Z
LAST-MODIFIED:20240916T221808Z
UID:13452-1729281600-1729292400@southsoundblues.org
SUMMARY:Billy Stapleton's Power House at the Salmon Bay Eagles\, Ballard
DESCRIPTION:Billy Stapleton’s Power House at the Salmon Bay Eagles\, Ballard\n\nFri Oct 18th 8:00pm – 11:00pm (PDT)\n\n\n\n\n5216 20th Avenue Northwest\, Seattle\, WA 98107\, USA map \n\n\n \nPOWERHOUSE is a super tight\, dynamic\, trio of Northwest Luminaries. Award Winning Guitarist Billy Stapleton on rhythm\, lead and slide guitar\, the great Don Wilhelm on vocals and bass guitar is a show onto himself\, backed by superlative drummer and vocalist Steve Peterson. Rock and roll\, Rhythm and Blues\, Soul Ballads\, a little country\, some Funk and a bit of Jazz. POWERHOUSE plays a wide variety of danceable and listening music. Gonna be a great night! See you there!
URL:https://southsoundblues.org/event/billy-stapletons-power-house-at-the-salmon-bay-eagles-ballard/
LOCATION:Salmon Bay Eagles\, 5216 20th Ave NW\, Seattle\, WA\, 98107
CATEGORIES:Featured
END:VEVENT
BEGIN:VEVENT
DTSTART;TZID=America/Los_Angeles:20241019T190000
DTEND;TZID=America/Los_Angeles:20241019T190000
DTSTAMP:20260423T202706
CREATED:20240902T204257Z
LAST-MODIFIED:20240902T204257Z
UID:13356-1729364400-1729364400@southsoundblues.org
SUMMARY:Mr. Blackwatch at the Spar
DESCRIPTION:Oct 19th\, Mr. Blackwatch at the Spar 7-10 pm
URL:https://southsoundblues.org/event/mr-blackwatch-at-the-spar-3/
LOCATION:The Spar\, 2121 N 30th St\, Tacoma\, WA\, 98403
CATEGORIES:Featured
END:VEVENT
BEGIN:VEVENT
DTSTART;TZID=America/Los_Angeles:20241019T200000
DTEND;TZID=America/Los_Angeles:20241019T230000
DTSTAMP:20260423T202706
CREATED:20241015T005454Z
LAST-MODIFIED:20241015T005454Z
UID:13669-1729368000-1729378800@southsoundblues.org
SUMMARY:The Spin-Offs at the Salmon Bay Eagles
DESCRIPTION:The Spin-offs\, Salmon Bay Eagles-FOE#2141 October 19th\, 8-11 pm\n\n\n\n\n\n\n\n\n\n\n\n\n\n\n\n\n\n\n\n\n\n\n\n\n\n\n\n\n\n\nWe’re excited to be back at Salmon Bay Eagles! Great room for music!\n\nSalmon Bay Eagles Blues\n5216 20th Ave NW\, Seattle\, WA 98107\n\n\nFood: Judy’s Prawn Po’ Boy’s with chips! $14\nMembers enjoy all shows at no charge!(Only $40 a year to be a Salmon Bay Eagles member)\nNot a member? No worries\, SBE is hosting an Open House Membership Drive so the $5 temporary membership fee is waived the night of our show.
URL:https://southsoundblues.org/event/the-spin-offs-at-the-salmon-bay-eagles/
LOCATION:Salmon Bay Eagles\, 5216 20th Ave NW\, Seattle\, WA\, 98107
CATEGORIES:Featured
END:VEVENT
BEGIN:VEVENT
DTSTART;TZID=America/Los_Angeles:20241020T190000
DTEND;TZID=America/Los_Angeles:20241020T220000
DTSTAMP:20260423T202706
CREATED:20240902T204501Z
LAST-MODIFIED:20240902T204501Z
UID:13358-1729450800-1729461600@southsoundblues.org
SUMMARY:Sunday Blues with the Cold 102's
DESCRIPTION:Oct 20th\, Cold 102’s at the Spar\, 7-10 PM
URL:https://southsoundblues.org/event/sunday-blues-with-the-cold-102s/
LOCATION:The Spar\, 2121 N 30th St\, Tacoma\, WA\, 98403
CATEGORIES:Local South Sound Blues
END:VEVENT
BEGIN:VEVENT
DTSTART;TZID=America/Los_Angeles:20241020T190000
DTEND;TZID=America/Los_Angeles:20241020T230000
DTSTAMP:20260423T202706
CREATED:20240826T215647Z
LAST-MODIFIED:20240826T215822Z
UID:13323-1729450800-1729465200@southsoundblues.org
SUMMARY:Billy Shew Blues Jam\, every Sunday at Dawson’s
DESCRIPTION:Billy Shew Blues Jam\, every Sunday at Dawson’s\, 7-11 pm
URL:https://southsoundblues.org/event/billy-shew-blues-jam-every-sunday-at-dawsons-24/
LOCATION:Dawson’s Bar & Grill\, 5443 South Tacoma Way\, Tacoma\, WA\, 98409
CATEGORIES:Local South Sound Blues
END:VEVENT
BEGIN:VEVENT
DTSTART;TZID=America/Los_Angeles:20241021T200000
DTEND;TZID=America/Los_Angeles:20241021T220000
DTSTAMP:20260423T202706
CREATED:20240820T235927Z
LAST-MODIFIED:20240903T220319Z
UID:13279-1729540800-1729548000@southsoundblues.org
SUMMARY:Mike Witmer hosts “Mojo Mike’s Blues Revue” every Monday on KVSH 101.9 FM
DESCRIPTION:Mike Witmer hosts “Mojo Mike’s Blues Revue” every Monday on KVSH 101.9 FM 8-10 pm\n \nVoice of Vashon \n17643 Vashon Hwy SW\nVashon Island\, WA  98070\nhttps://voiceofvashon.org/ \n 
URL:https://southsoundblues.org/event/mike-witmer-hosts-mojo-mikes-blues-revue-every-monday-on-kvsh-101-9-fm-24/
LOCATION:KVSH\, 17643 Vashon Hwy SW\, Vashon Island\, WA\, 98070
CATEGORIES:Local South Sound Blues
END:VEVENT
BEGIN:VEVENT
DTSTART;TZID=America/Los_Angeles:20241022T190000
DTEND;TZID=America/Los_Angeles:20241022T210000
DTSTAMP:20260423T202706
CREATED:20240821T001844Z
LAST-MODIFIED:20240821T001844Z
UID:13287-1729623600-1729630800@southsoundblues.org
SUMMARY:Rob Tudor and Dave McKibbin at the Twisted Fork Saloon every Tuesday
DESCRIPTION:Rob Tudor and Dave McKibbin at the Twisted Fork Saloon every Tuesday\, 7-9 pm
URL:https://southsoundblues.org/event/rob-tudor-and-dave-mckibbin-at-the-twisted-fork-saloon-every-tuesday-10/
LOCATION:Twisted Fork Saloon\, 5005 Main St\, Tacoma\, WA\, 98407
CATEGORIES:Local South Sound Blues
END:VEVENT
BEGIN:VEVENT
DTSTART;TZID=America/Los_Angeles:20241022T190000
DTEND;TZID=America/Los_Angeles:20241022T220000
DTSTAMP:20260423T202706
CREATED:20241014T065132Z
LAST-MODIFIED:20241014T065132Z
UID:13660-1729623600-1729634400@southsoundblues.org
SUMMARY:Taylor Hardin Blues Band at George's BLT\, Bonny Lake
DESCRIPTION:Taylor Hardin Blues Band at the Bonny Lake Tavern October 22nd\, 7-10 pm\n \nGeorge’s BLT\, 18212 HWY 410 E Bonney Lake\, WA 98391
URL:https://southsoundblues.org/event/taylor-hardin-blues-band-at-georges-blt-bonny-lake/
LOCATION:George’s BLT\, 18212 HWY 410 E\, Bonney Lake\, WA\, 98391
CATEGORIES:Local South Sound Blues
END:VEVENT
BEGIN:VEVENT
DTSTART;TZID=America/Los_Angeles:20241023T180000
DTEND;TZID=America/Los_Angeles:20241023T180000
DTSTAMP:20260423T202706
CREATED:20240902T204702Z
LAST-MODIFIED:20240902T204702Z
UID:13360-1729706400-1729706400@southsoundblues.org
SUMMARY:King Dre at the Spar
DESCRIPTION:Oct 23rd\, King Dre at the Spar 6 pm
URL:https://southsoundblues.org/event/king-dre-at-the-spar-2/
LOCATION:WA
CATEGORIES:Featured
END:VEVENT
BEGIN:VEVENT
DTSTART;TZID=America/Los_Angeles:20241024T180000
DTEND;TZID=America/Los_Angeles:20241024T210000
DTSTAMP:20260423T202706
CREATED:20241007T202734Z
LAST-MODIFIED:20241007T202734Z
UID:13546-1729792800-1729803600@southsoundblues.org
SUMMARY:Annie Eastwood at Bad Alberts
DESCRIPTION:Oct 24th\, Bad Alberts\, Ballard: Annie Eastwood\, 6-9pm
URL:https://southsoundblues.org/event/annie-eastwood-at-bad-alberts/
LOCATION:Bad Albert’s\, 5100 Ballard Avenue Northwest\, Seattle\, WA\, 98107
CATEGORIES:Featured
END:VEVENT
BEGIN:VEVENT
DTSTART;TZID=America/Los_Angeles:20241024T190000
DTEND;TZID=America/Los_Angeles:20241024T210000
DTSTAMP:20260423T202706
CREATED:20240927T215105Z
LAST-MODIFIED:20240927T215105Z
UID:13468-1729796400-1729803600@southsoundblues.org
SUMMARY:Michele D'Amour & The Love Dealers at APIZZA\, Tacoma
DESCRIPTION:Michele D’Amour & The Love Dealers at APIZZA in Tacoma\, October 24th\, 7-9 pm
URL:https://southsoundblues.org/event/michele-damour-the-love-dealers-at-apizza-tacoma/
LOCATION:APIZZA\, 821 Pacific Ave\, Tacoma\, WA\, 98402
CATEGORIES:Local South Sound Blues
END:VEVENT
BEGIN:VEVENT
DTSTART;TZID=America/Los_Angeles:20241024T190000
DTEND;TZID=America/Los_Angeles:20241024T210000
DTSTAMP:20260423T202706
CREATED:20241004T203746Z
LAST-MODIFIED:20241004T205519Z
UID:13538-1729796400-1729803600@southsoundblues.org
SUMMARY:The Blue Tide at Metier Brewing Taproom\, Seattle
DESCRIPTION:Join The Blue Tide for their in person live show at Metier Brewing Cherry St Location (2616 E Cherry St\, Seattle\, WA 98122) October 24th from 7-9pm. FREE admission!\n J.D. and Daniel- ‘The Blue Tide’ \nThe Blue Tide is a Seattle-based blues duo comprised of Daniel Rapport on guitar (including slide guitar) and J.D. Lenoir on harmonica. Daniel and J.D. are lifelong friends and collaborators who grew up in Seattle and have been playing blues since the days of their high school band with the same name.\nThe Blue Tide’s sound is rooted in the classic delta blues tradition while their lyrics and attitude are firmly in the present.
URL:https://southsoundblues.org/event/the-blue-tide-at-metier-brewing-taproom-seattle/
LOCATION:Metier Brewing Taproom\, 2616 E Cherry St\, Seattle\, WA\, 98122
CATEGORIES:Featured
END:VEVENT
BEGIN:VEVENT
DTSTART;TZID=America/Los_Angeles:20241025T190000
DTEND;TZID=America/Los_Angeles:20241025T210000
DTSTAMP:20260423T202706
CREATED:20240903T173743Z
LAST-MODIFIED:20240903T173743Z
UID:13381-1729882800-1729890000@southsoundblues.org
SUMMARY:Michele D’Amour & The Love Dealers at Kimball Coffeehouse
DESCRIPTION:Oct25th\, Michele D’Amour & The Love Dealers at Kimball Coffeehouse\, 7-9 pm\n\n\n\n 6659 Kimball Drive\, Suite A102\, Gig Harbor\, WA\,
URL:https://southsoundblues.org/event/michele-damour-the-love-dealers-at-kimball-coffeehouse-2/
LOCATION:Kimball’s Coffeehouse\, 6659 Kimball Dr\, Gig Harbor\, WA\, 98335
CATEGORIES:Local South Sound Blues
END:VEVENT
BEGIN:VEVENT
DTSTART;TZID=America/Los_Angeles:20241025T200000
DTEND;TZID=America/Los_Angeles:20241025T233000
DTSTAMP:20260423T202706
CREATED:20241008T000007Z
LAST-MODIFIED:20241008T000007Z
UID:13620-1729886400-1729899000@southsoundblues.org
SUMMARY:Cory Wilds Band at the Renton Eagles
DESCRIPTION:Cory Wilds Band at the Renton Eagles\, 8-11:30 pm\n\n\n  \nLocation: Fraternal Order of Eagles\, 220 Wells Ave S\, Renton\, WA 98057
URL:https://southsoundblues.org/event/cory-wilds-band-at-the-renton-eagles/
LOCATION:Renton Eagles\, 220 Wells Ave S\, Renton\, WA\, 98057
CATEGORIES:Local South Sound Blues
END:VEVENT
BEGIN:VEVENT
DTSTART;TZID=America/Los_Angeles:20241026T190000
DTEND;TZID=America/Los_Angeles:20241026T190000
DTSTAMP:20260423T202706
CREATED:20240902T204932Z
LAST-MODIFIED:20240902T204932Z
UID:13362-1729969200-1729969200@southsoundblues.org
SUMMARY:Slainte at the Spar
DESCRIPTION:Oct 26th\, Slainte at the Spar 7-10 pm
URL:https://southsoundblues.org/event/slainte-at-the-spar-3/
LOCATION:The Spar\, 2121 N 30th St\, Tacoma\, WA\, 98403
CATEGORIES:Featured
END:VEVENT
BEGIN:VEVENT
DTSTART;TZID=America/Los_Angeles:20241026T200000
DTEND;TZID=America/Los_Angeles:20241026T233000
DTSTAMP:20260423T202706
CREATED:20241018T214753Z
LAST-MODIFIED:20241018T214753Z
UID:13677-1729972800-1729985400@southsoundblues.org
SUMMARY:Heather Jones & The Groove Masters at Dawson's Halloween show
DESCRIPTION:Heather Jones & The Groove Masters at Dawson’s\, Halloween show\, October 26th\, 8-midnight.
URL:https://southsoundblues.org/event/heather-jones-the-groove-masters-at-dawsons-halloween-show/
LOCATION:Dawson’s Bar & Grill\, 5443 South Tacoma Way\, Tacoma\, WA\, 98409
CATEGORIES:Local South Sound Blues
END:VEVENT
END:VCALENDAR