BEGIN:VCALENDAR
VERSION:2.0
PRODID:-//South Sound Blues Association - ECPv6.15.18//NONSGML v1.0//EN
CALSCALE:GREGORIAN
METHOD:PUBLISH
X-ORIGINAL-URL:https://southsoundblues.org
X-WR-CALDESC:Events for South Sound Blues Association
REFRESH-INTERVAL;VALUE=DURATION:PT1H
X-Robots-Tag:noindex
X-PUBLISHED-TTL:PT1H
BEGIN:VTIMEZONE
TZID:America/Los_Angeles
BEGIN:DAYLIGHT
TZOFFSETFROM:-0800
TZOFFSETTO:-0700
TZNAME:PDT
DTSTART:20240310T100000
END:DAYLIGHT
BEGIN:STANDARD
TZOFFSETFROM:-0700
TZOFFSETTO:-0800
TZNAME:PST
DTSTART:20241103T090000
END:STANDARD
BEGIN:DAYLIGHT
TZOFFSETFROM:-0800
TZOFFSETTO:-0700
TZNAME:PDT
DTSTART:20250309T100000
END:DAYLIGHT
BEGIN:STANDARD
TZOFFSETFROM:-0700
TZOFFSETTO:-0800
TZNAME:PST
DTSTART:20251102T090000
END:STANDARD
BEGIN:DAYLIGHT
TZOFFSETFROM:-0800
TZOFFSETTO:-0700
TZNAME:PDT
DTSTART:20260308T100000
END:DAYLIGHT
BEGIN:STANDARD
TZOFFSETFROM:-0700
TZOFFSETTO:-0800
TZNAME:PST
DTSTART:20261101T090000
END:STANDARD
END:VTIMEZONE
BEGIN:VEVENT
DTSTART;TZID=America/Los_Angeles:20251207T170000
DTEND;TZID=America/Los_Angeles:20251207T200000
DTSTAMP:20260423T014042
CREATED:20251030T195758Z
LAST-MODIFIED:20251030T195758Z
UID:16362-1765126800-1765137600@southsoundblues.org
SUMMARY:Joe Faker Band Jam Sunday's at Brother Don's
DESCRIPTION:Joe Faker Band Jam Sunday’s at Brother Don’s 5-8 pm
URL:https://southsoundblues.org/event/joe-faker-band-jam-sundays-at-brother-dons-2/
LOCATION:Brother Don’s Bar & Grill\, 4200 Kitsap Way\, Bremerton\, WA\, 98312
CATEGORIES:Featured
END:VEVENT
BEGIN:VEVENT
DTSTART;TZID=America/Los_Angeles:20251207T170000
DTEND;TZID=America/Los_Angeles:20251207T203000
DTSTAMP:20260423T014042
CREATED:20251105T013042Z
LAST-MODIFIED:20251105T013042Z
UID:16467-1765126800-1765139400@southsoundblues.org
SUMMARY:Jones Family Christmas/Toys for Tots at Madison Ave Pub\, Everett
DESCRIPTION:Jones Family Christmas/Toys for Tots at Madison Ave Pub December 7th\, 5pm\,  Stacy Jones Band
URL:https://southsoundblues.org/event/jones-family-christmas-toys-for-tots-at-madison-ave-pub-everett/
LOCATION:Madison Avenue Pub\, 905 Madison St\, Everett\, WA\, 98203
END:VEVENT
BEGIN:VEVENT
DTSTART;TZID=America/Los_Angeles:20251207T170000
DTEND;TZID=America/Los_Angeles:20251207T210000
DTSTAMP:20260423T014042
CREATED:20250710T215455Z
LAST-MODIFIED:20250830T200031Z
UID:15427-1765126800-1765141200@southsoundblues.org
SUMMARY:South Sound Blues Association Holiday Party and celebration\, 20th anniversary of the South Sound Blues Association at the Spanish Ballroom!
DESCRIPTION:South Sound Blues Association Holiday Party and celebration of TWENTY YEARS of the South Sound Blues Association\, at the Spanish Ballroom.\nhttps://www.mcmenamins.com/events/270615-ssba-holiday-party \nThis year’s Holiday Party will also be a celebration of the 20th anniversary of the South Sound Blues Association. To honor this occasion\, the event will begin with an All-Star jam featuring musicians who have played a significant role in the South Sound blues scene over the past two decades. It will be an exciting opportunity to hear many of the area’s leading musicians\, most of whom front their own bands\, spontaneously making music together. \nFeatured musical guests: The Coyote Kings!\n \nSince 2006 Blues rockers\, Coyote Kings\, have been performing and recording\, winning awards\, collecting rave reviews\, and playing to enthusiastic audiences and devoted fans. With five albums released and one on the way\, “That little ‘ol band from Walla Walla” has established themselves as a musical force in the Northwest and World-wide. \nIn 2014 vocalist\, Michelle “Mush” Morgan\, and drummer\, Curtis Johnson\, left for other pursuits. The band was reborn as Robin Barrett and Coyote Kings\, with Robin’s writing\, singing\, and sometimes blistering (but always tasty) guitar work fronting the band and Kit Kuhlmann on bass and Gordon Townsend-Farr laying down the groove. \n Coyote Kings’ Tiphony Dames & Robin Barrett \nRobin Barrett and Coyote Kings received the 2014 Empire Award for “Best Blues Band” and Robin for “Best Blues Guitarist.”Following their 2013 award winning 4th album\, “Nasty Habits & Dirty Little Secrets\,” RBnCK’s latest CD “Howl\,” has won the 2015 Empire Award for “Best Blues CD!”  http://coyotekings.com/bio \n  \n  \n  \n 
URL:https://southsoundblues.org/event/south-sound-blues-association-holiday-party-at-the-spanish-ballroom/
LOCATION:McMenaminsTacoma Elks\, 565 Broadway\, Tacoma\, WA\, 98402
CATEGORIES:Featured,Local South Sound Blues,Special Event,SSBA Event
END:VEVENT
BEGIN:VEVENT
DTSTART;TZID=America/Los_Angeles:20251207T180000
DTEND;TZID=America/Los_Angeles:20251207T210000
DTSTAMP:20260423T014042
CREATED:20250718T224700Z
LAST-MODIFIED:20250906T235503Z
UID:15477-1765130400-1765141200@southsoundblues.org
SUMMARY:Tim Hall Blues Jam every Sunday at Zesty’s Steakhouse
DESCRIPTION:Tim Hall Blues Jam every Sunday at Zesty’s Steakhouse\, 6-9pm
URL:https://southsoundblues.org/event/15477/
LOCATION:Zesty’s Cajun Steakhouse\, 9905 Bridgeport Way Southwest\, Lakewood\, WA\, 98499
CATEGORIES:Featured,Local South Sound Blues
END:VEVENT
BEGIN:VEVENT
DTSTART;TZID=America/Los_Angeles:20251207T190000
DTEND;TZID=America/Los_Angeles:20251207T220000
DTSTAMP:20260423T014042
CREATED:20251102T223212Z
LAST-MODIFIED:20251105T205144Z
UID:16404-1765134000-1765144800@southsoundblues.org
SUMMARY:Sunday Blues at the Spar with Chad Rupp and the Sugar Roots
DESCRIPTION:Sunday Blues at the Spar with Chad Rupp and the Sugar Roots December 7th\, 7-10pm
URL:https://southsoundblues.org/event/sunday-blues-at-the-spar-with-chad-rupp/
LOCATION:The Spar\, 2121 N 30th St\, Tacoma\, WA\, 98403
CATEGORIES:Local South Sound Blues
END:VEVENT
BEGIN:VEVENT
DTSTART;TZID=America/Los_Angeles:20251208T200000
DTEND;TZID=America/Los_Angeles:20251208T220000
DTSTAMP:20260423T014042
CREATED:20250901T192436Z
LAST-MODIFIED:20250901T192436Z
UID:15994-1765224000-1765231200@southsoundblues.org
SUMMARY:Mike Witmer hosts “Mojo Mike’s Blues Revue” every Monday on KVSH 101.9 FM
DESCRIPTION:Mike Witmer hosts “Mojo Mike’s Blues Revue” every Monday on KVSH 101.9 FM\, 8-10 pm
URL:https://southsoundblues.org/event/mike-witmer-hosts-mojo-mikes-blues-revue-every-monday-on-kvsh-101-9-fm-46/
LOCATION:KVSH\, 17643 Vashon Hwy SW\, Vashon Island\, WA\, 98070
CATEGORIES:Local South Sound Blues
END:VEVENT
BEGIN:VEVENT
DTSTART;TZID=America/Los_Angeles:20251209T190000
DTEND;TZID=America/Los_Angeles:20251209T213000
DTSTAMP:20260423T014042
CREATED:20251112T213834Z
LAST-MODIFIED:20251112T213834Z
UID:16524-1765306800-1765315800@southsoundblues.org
SUMMARY:WBS Blues Bash with the Blue Tide at Aurora Borealis\, Shoreline
DESCRIPTION:WBS Blues Bash with The “Blue Tide” at Aurora Borealis at 7 pm (Also Christi Michelle & her Hired Guns) December 9th\n Blue Tide
URL:https://southsoundblues.org/event/wbs-blues-bash-with-the-blue-tide-at-aurora-borealis-shoreline/
LOCATION:Aurora Borealis\, 16708 Aurora Ave N\, Shoreline\, WA\, 98133
CATEGORIES:Featured
END:VEVENT
BEGIN:VEVENT
DTSTART;TZID=America/Los_Angeles:20251209T190000
DTEND;TZID=America/Los_Angeles:20251209T220000
DTSTAMP:20260423T014042
CREATED:20250831T224825Z
LAST-MODIFIED:20250831T224825Z
UID:15870-1765306800-1765317600@southsoundblues.org
SUMMARY:Billy Shew hosts the Burien Eagles Tuesday Night Jams
DESCRIPTION:Billy Shew hosts the Burien Eagles Tuesday Night Jams\,  7:00pm
URL:https://southsoundblues.org/event/billy-shew-hosts-the-burien-eagles-tuesday-night-jams-19/
LOCATION:Burien Eagles\, 920 SW 150th St\, Burien\, WA\, 98166
CATEGORIES:Local South Sound Blues
END:VEVENT
BEGIN:VEVENT
DTSTART;TZID=America/Los_Angeles:20251209T190000
DTEND;TZID=America/Los_Angeles:20251209T220000
DTSTAMP:20260423T014042
CREATED:20251030T202423Z
LAST-MODIFIED:20251030T202423Z
UID:16376-1765306800-1765317600@southsoundblues.org
SUMMARY:Jam every Tuesday at Brother Don’s Bar & Grill with the Tim Hall band
DESCRIPTION:Jam every Tuesday at Brother Don’s Bar & Grill with the Tim Hall band 7-10 pm
URL:https://southsoundblues.org/event/jam-every-tuesday-at-brother-dons-bar-grill-with-the-tim-hall-band-24/
LOCATION:Brother Don’s Bar & Grill\, 4200 Kitsap Way\, Bremerton\, WA\, 98312
CATEGORIES:Local South Sound Blues
END:VEVENT
BEGIN:VEVENT
DTSTART;TZID=America/Los_Angeles:20251210T180000
DTEND;TZID=America/Los_Angeles:20251210T210000
DTSTAMP:20260423T014042
CREATED:20250831T235838Z
LAST-MODIFIED:20251102T225833Z
UID:15918-1765389600-1765400400@southsoundblues.org
SUMMARY:Wednesday Funky Jazz at the Spar\, "Velocity Christmas Show"
DESCRIPTION:Velocity Christmas Show at the Spar
URL:https://southsoundblues.org/event/wednesday-funky-jazz-at-the-spar-12/
LOCATION:The Spar\, 2121 N 30th St\, Tacoma\, WA\, 98403
CATEGORIES:Featured
END:VEVENT
BEGIN:VEVENT
DTSTART;TZID=America/Los_Angeles:20251211T180000
DTEND;TZID=America/Los_Angeles:20251211T210000
DTSTAMP:20260423T014042
CREATED:20251021T205659Z
LAST-MODIFIED:20251021T205659Z
UID:16273-1765476000-1765486800@southsoundblues.org
SUMMARY:Annie Eastwood & Friends Featuring Beth Wulff at Bad Albert’s Tap & Grill\, Ballard/Seattle 
DESCRIPTION:Annie Eastwood & Friends Featuring Beth Wulff at Bad Albert’s Tap & Grill Thursday December 11th\, 6pm to 9pm
URL:https://southsoundblues.org/event/annie-eastwood-friends-featuring-beth-wulff-at-bad-alberts-tap-grill-ballard-seattle/
LOCATION:Bad Albert’s\, 5100 Ballard Avenue Northwest\, Seattle\, WA\, 98107
CATEGORIES:Featured
END:VEVENT
BEGIN:VEVENT
DTSTART;TZID=America/Los_Angeles:20251211T190000
DTEND;TZID=America/Los_Angeles:20251211T220000
DTSTAMP:20260423T014042
CREATED:20250901T005243Z
LAST-MODIFIED:20250901T005243Z
UID:15969-1765479600-1765490400@southsoundblues.org
SUMMARY:Thursdays Red Dog Saloon Jams\, Maple Valley\, with host Billy Shew
DESCRIPTION:Thursdays Red Dog Saloon Jams\, Maple Valley\, with host Billy Shew\, 7-10 pm
URL:https://southsoundblues.org/event/thursdays-red-dog-saloon-jams-maple-valley-with-host-billy-shew-9/
LOCATION:Red Dog Saloon\, 18605 Renton-Maple Valley Rd\, Maple Valley\, WA\, 98038
CATEGORIES:Local South Sound Blues
END:VEVENT
BEGIN:VEVENT
DTSTART;TZID=America/Los_Angeles:20251212T190000
DTEND;TZID=America/Los_Angeles:20251212T210000
DTSTAMP:20260423T014042
CREATED:20250703T172332Z
LAST-MODIFIED:20250703T172332Z
UID:15365-1765566000-1765573200@southsoundblues.org
SUMMARY:Michele D'Amour and the Love Dealers at Third Place Commons\, Lake Forrest Park
DESCRIPTION:December 12th\, 7 – 8:45 pm\,  Michele D’Amour and the Love Dealers at the Third Place Commons\, Lake Forrest Park\n\n\n\n\n\n\n\n\nfun\, funky\, danceable blues!
URL:https://southsoundblues.org/event/michele-damour-and-the-love-dealers-at-third-place-commons-lake-forrest-park/
LOCATION:Third Place Commons\, 17171 Bothell Way NE\, Lake Forest Park\, WA\, 98155
CATEGORIES:Featured
END:VEVENT
BEGIN:VEVENT
DTSTART;TZID=America/Los_Angeles:20251212T190000
DTEND;TZID=America/Los_Angeles:20251212T210000
DTSTAMP:20260423T014042
CREATED:20251030T205221Z
LAST-MODIFIED:20251030T205221Z
UID:16384-1765566000-1765573200@southsoundblues.org
SUMMARY:Trailer Park Kings at Kimball Coffeehouse\, Gig Harbor
DESCRIPTION:Trailer Park Kings at Kimball Coffeehouse December 12th 7-9 pm
URL:https://southsoundblues.org/event/trailer-park-kings-at-kimball-coffeehouse-gig-harbor/
LOCATION:Kimball’s Coffeehouse\, 6659 Kimball Dr\, Gig Harbor\, WA\, 98335
CATEGORIES:Featured
END:VEVENT
BEGIN:VEVENT
DTSTART;TZID=America/Los_Angeles:20251213T160000
DTEND;TZID=America/Los_Angeles:20251213T190000
DTSTAMP:20260423T014042
CREATED:20251030T004245Z
LAST-MODIFIED:20251030T004245Z
UID:16331-1765641600-1765652400@southsoundblues.org
SUMMARY:Mark Hurwitz & Gin Creek at the Urban Elk\, Tacoma
DESCRIPTION:Mark Hurwitz & Gin Creek at the Urban Elk\, December 13th\, 4pm to 7pm
URL:https://southsoundblues.org/event/mark-hurwitz-gin-creek-at-the-urban-elk-tacoma/
LOCATION:Urban Elk\, 2013 S Cedar St\, Tacoma\, WA\, 98405
CATEGORIES:Local South Sound Blues
END:VEVENT
BEGIN:VEVENT
DTSTART;TZID=America/Los_Angeles:20251213T190000
DTEND;TZID=America/Los_Angeles:20251213T220000
DTSTAMP:20260423T014042
CREATED:20250501T013030Z
LAST-MODIFIED:20250501T013030Z
UID:14780-1765652400-1765663200@southsoundblues.org
SUMMARY:Billy Shew and the Sole Providers at South Tacoma Eagles
DESCRIPTION:Dec 13th\, Billy Shew and the Sole Providers at South Tacoma Eagles\, 7:00 PM
URL:https://southsoundblues.org/event/billy-shew-and-the-sole-providers-at-south-tacoma-eagles/
LOCATION:South Tacoma Eagles\, 7037 S Pine St\, Tacoma\, WA\, 98409
CATEGORIES:Featured
END:VEVENT
BEGIN:VEVENT
DTSTART;TZID=America/Los_Angeles:20251213T190000
DTEND;TZID=America/Los_Angeles:20251213T220000
DTSTAMP:20260423T014042
CREATED:20251102T225547Z
LAST-MODIFIED:20251102T225547Z
UID:16419-1765652400-1765663200@southsoundblues.org
SUMMARY:Blumeadows at the Spar
DESCRIPTION:Saturday December 13th\,  Blumeadows at the Spar
URL:https://southsoundblues.org/event/blumeadows-at-the-spar-2/
LOCATION:The Spar\, 2121 N 30th St\, Tacoma\, WA\, 98403
CATEGORIES:Featured
END:VEVENT
BEGIN:VEVENT
DTSTART;TZID=America/Los_Angeles:20251213T193000
DTEND;TZID=America/Los_Angeles:20251213T220000
DTSTAMP:20260423T014042
CREATED:20251208T221521Z
LAST-MODIFIED:20251208T221521Z
UID:16618-1765654200-1765663200@southsoundblues.org
SUMMARY:Harp Attack! Showcase at the Rockfish Grill\, featuring Joel Astley\, Anacortes
DESCRIPTION:Harp Attack! Showcase at the Rockfish Grill\, Joel Astley December 13th\, 7:30-10:00 pm\n \n  \n 
URL:https://southsoundblues.org/event/harp-attack-showcase-at-the-rockfish-grill-featuring-joel-astley-anacortes/
LOCATION:Rockfish Grill & Brewery\, 320 Commercial Ave\, Anacortes\, WA\, 98221
CATEGORIES:Featured
END:VEVENT
BEGIN:VEVENT
DTSTART;TZID=America/Los_Angeles:20251213T200000
DTEND;TZID=America/Los_Angeles:20251213T223000
DTSTAMP:20260423T014042
CREATED:20250926T174407Z
LAST-MODIFIED:20250926T174407Z
UID:16126-1765656000-1765665000@southsoundblues.org
SUMMARY:Laurel Canyon Legacy at Jazzbones\, Tacoma
DESCRIPTION:Laurel Canyon Legacy at Jazzbones\, December 13th\, 8pm\nhttps://tickets.venuepilot.com/e/laurel-canyon-legacy-2025-12-13-jazzbones-tacoma-c0c3c5\n\nAbout: Laurel Canyon Legacy celebrates the explosion of popular music that came out of LA’s Laurel Canyon in the mid-60s as folk music blended with rock and went electric.\n\n\nA musical journey through the 60’s and 70’s as we perform your favorite songs by groups like The Eagles\, Fleetwood Mac\, The Byrds\, Beach Boys\, Carole King\, America\, Buffalo Springfield\, The Mamas and the Papas\, The Doors\, The Monkees\, The Association\, Jackson Browne\, Carly Simon\, Neil Young\, Linda Ronstadt\, CSNY\, Joni Mitchell and much more. \n\n\nLineup: Laurel Canyon Legacy\, Roemen and the Whereabouts\n\n\n\nJazzbones\, 2803 6th Ave.\, Tacoma\, WA 98406 \nAll shows are 21+ Only \nIf you need ADA seating please contact jazzbones.reservations@gmail.com
URL:https://southsoundblues.org/event/laurel-canyon-legacy-at-jazzbones-tacoma/
LOCATION:Jazzbones\, 2803 6th Ave\, Tacoma\, WA\, 98406
CATEGORIES:Featured
END:VEVENT
BEGIN:VEVENT
DTSTART;TZID=America/Los_Angeles:20251213T200000
DTEND;TZID=America/Los_Angeles:20251213T230000
DTSTAMP:20260423T014042
CREATED:20251007T012836Z
LAST-MODIFIED:20251007T012836Z
UID:16230-1765656000-1765666800@southsoundblues.org
SUMMARY:Ron Bailey & the Tangents at the Salmon Bay Eagles\, Seattle
DESCRIPTION:Ron Bailey & the Tangents at the Salmon Bay Eagles\, Saturday\, December 13th 8:00pm – 11:00pm\nTangents perform infectious music. Ron has been pleasing audiences with his showmanship since back when. The history of these performers would fill a book and includes some of the best-known bands around the Sound. Ron & the Tangents fill the dance floor from the opening song until closing time\, so get ready to shake ‘em on down! Ron is accompanied by Kelly Van Camp on drums\, Rod Cook on guitar\, Mark Dalton on bass and Steve Flynn-keys.
URL:https://southsoundblues.org/event/ron-bailey-the-tangents-at-the-salmon-bay-eagles-seattle/
LOCATION:Salmon Bay Eagles\, 5216 20th Ave NW\, Seattle\, WA\, 98107
CATEGORIES:Local South Sound Blues
END:VEVENT
BEGIN:VEVENT
DTSTART;TZID=America/Los_Angeles:20251213T200000
DTEND;TZID=America/Los_Angeles:20251213T230000
DTSTAMP:20260423T014042
CREATED:20251021T213833Z
LAST-MODIFIED:20251021T213833Z
UID:16291-1765656000-1765666800@southsoundblues.org
SUMMARY:Heather Jones Duo at Rock the Dock\, Tacoma
DESCRIPTION:Heather Jones Duo at Rock the Dock\, Saturday\, December 13th\, 8-11 pm
URL:https://southsoundblues.org/event/heather-jones-duo-at-rock-the-dock-tacoma-2/
LOCATION:Rock the Dock\, 535 Dock St # 118\, Tacoma\, WA\, 98402
CATEGORIES:Local South Sound Blues
END:VEVENT
BEGIN:VEVENT
DTSTART;TZID=America/Los_Angeles:20251213T200000
DTEND;TZID=America/Los_Angeles:20251213T230000
DTSTAMP:20260423T014042
CREATED:20251030T194253Z
LAST-MODIFIED:20251030T194253Z
UID:16354-1765656000-1765666800@southsoundblues.org
SUMMARY:Harmonious Funk at Dawson's
DESCRIPTION:Harmonious Funk at Dawson’s December 13th\, 8-11 pm
URL:https://southsoundblues.org/event/harmonious-funk-at-dawsons/
LOCATION:Dawson’s Bar & Grill\, 5443 South Tacoma Way\, Tacoma\, WA\, 98409
CATEGORIES:Featured
END:VEVENT
BEGIN:VEVENT
DTSTART;TZID=America/Los_Angeles:20251214T170000
DTEND;TZID=America/Los_Angeles:20251214T183000
DTSTAMP:20260423T014042
CREATED:20251105T013413Z
LAST-MODIFIED:20251105T013413Z
UID:16469-1765731600-1765737000@southsoundblues.org
SUMMARY:Blues Vespers featuring the Stacy Jones Band at Kilworth Memorial Chapel\, UPS\, Tacoma
DESCRIPTION:Pastor Dave Brown’s Blues Vespers featuring the Stacy Jones Band at Kilworth Chapel December 14th\, 5pm\n 
URL:https://southsoundblues.org/event/blues-vespers-featuring-the-stacy-jones-band-at-kilworth-memorial-chapel-ups-tacoma/
LOCATION:Kilworth Memorial Chapel\, 3410 N 18th St\, Tacoma\, WA\, 98416
CATEGORIES:Local South Sound Blues
END:VEVENT
BEGIN:VEVENT
DTSTART;TZID=America/Los_Angeles:20251214T180000
DTEND;TZID=America/Los_Angeles:20251214T210000
DTSTAMP:20260423T014042
CREATED:20251030T002245Z
LAST-MODIFIED:20251030T002245Z
UID:16318-1765735200-1765746000@southsoundblues.org
SUMMARY:Tim Hall Blues Jam every Sunday at Zesty’s Steakhouse
DESCRIPTION:Tim Hall Blues Jam every Sunday at Zesty’s Steakhouse\, 6-9pm\n\n6PM-9PM Every Sunday\nBar & Lounge. Must be 21 & over to enter\nNo Cover Fee. First Come First Served\n\n\nZesty Steakhouse\n9905 Bridgeport Way SW\nLakewood\, WA 98499\n(253) 300-7993\n\nhttps://www.zestycajungrill.com/jam-night
URL:https://southsoundblues.org/event/tim-hall-blues-jam-every-sunday-at-zestys-steakhouse-16/
LOCATION:Zesty’s Cajun Steakhouse\, 9905 Bridgeport Way Southwest\, Lakewood\, WA\, 98499
END:VEVENT
BEGIN:VEVENT
DTSTART;TZID=America/Los_Angeles:20251214T190000
DTEND;TZID=America/Los_Angeles:20251214T220000
DTSTAMP:20260423T014042
CREATED:20250718T232344Z
LAST-MODIFIED:20251213T204840Z
UID:15501-1765738800-1765749600@southsoundblues.org
SUMMARY:Sunday Blues at the Spar
DESCRIPTION:Sunday Blues at the Spar 7-10 pm\n  \n 
URL:https://southsoundblues.org/event/sunday-blues-at-the-spar-42/
LOCATION:The Spar\, 2121 N 30th St\, Tacoma\, WA\, 98403
CATEGORIES:Local South Sound Blues
END:VEVENT
BEGIN:VEVENT
DTSTART;TZID=America/Los_Angeles:20251214T190000
DTEND;TZID=America/Los_Angeles:20251214T230000
DTSTAMP:20260423T014042
CREATED:20250718T230020Z
LAST-MODIFIED:20250718T230020Z
UID:15483-1765738800-1765753200@southsoundblues.org
SUMMARY:Billy Shew Blues Jam\, every Sunday at Dawson’s
DESCRIPTION:Billy Shew Blues Jam\, every Sunday at Dawson’s\, 7-11 pm
URL:https://southsoundblues.org/event/billy-shew-blues-jam-every-sunday-at-dawsons-50/
LOCATION:Dawson’s Bar & Grill\, 5443 South Tacoma Way\, Tacoma\, WA\, 98409
CATEGORIES:Featured
END:VEVENT
BEGIN:VEVENT
DTSTART;TZID=America/Los_Angeles:20251215T180000
DTEND;TZID=America/Los_Angeles:20251215T210000
DTSTAMP:20260423T014042
CREATED:20250831T232419Z
LAST-MODIFIED:20250831T232419Z
UID:15896-1765821600-1765832400@southsoundblues.org
SUMMARY:Monday Jazz at Brother Don’s Bar & Grill\, Bremerton
DESCRIPTION:Monday Jazz at Brother Don’s Bar & Grill\, Bremerton\, 6-9 pm
URL:https://southsoundblues.org/event/monday-jazz-at-brother-dons-bar-grill-bremerton-29/
LOCATION:Brother Don’s Bar & Grill\, 4200 Kitsap Way\, Bremerton\, WA\, 98312
CATEGORIES:Featured
END:VEVENT
BEGIN:VEVENT
DTSTART;TZID=America/Los_Angeles:20251216T190000
DTEND;TZID=America/Los_Angeles:20251216T220000
DTSTAMP:20260423T014042
CREATED:20250831T231454Z
LAST-MODIFIED:20250831T231454Z
UID:15888-1765911600-1765922400@southsoundblues.org
SUMMARY:Jam every Tuesday at Brother Don’s Bar & Grill with the Tim Hall band
DESCRIPTION:Jam every Tuesday at Brother Don’s Bar & Grill with the Tim Hall band\, 7-10 pm.
URL:https://southsoundblues.org/event/jam-every-tuesday-at-brother-dons-bar-grill-with-the-tim-hall-band-22/
LOCATION:Brother Don’s Bar & Grill\, 4200 Kitsap Way\, Bremerton\, WA\, 98312
CATEGORIES:Local South Sound Blues
END:VEVENT
BEGIN:VEVENT
DTSTART;TZID=America/Los_Angeles:20251217T180000
DTEND;TZID=America/Los_Angeles:20251217T200000
DTSTAMP:20260423T014042
CREATED:20251021T210025Z
LAST-MODIFIED:20251021T210025Z
UID:16275-1765994400-1766001600@southsoundblues.org
SUMMARY:Annie Eastwood & Billy Stapleton Duo at the Sparrow\, Kirkland 
DESCRIPTION:Annie Eastwood & Billy Stapleton Duo at the Sparrow Wednesday December 17th\, 6pm to 8pm 
URL:https://southsoundblues.org/event/annie-eastwood-billy-stapleton-duo-at-the-sparrow-kirkland-3/
LOCATION:Sparrow\, 9736 Northeast 120th Place\, Kirkland\, WA\, 98034
CATEGORIES:Featured
END:VEVENT
BEGIN:VEVENT
DTSTART;TZID=America/Los_Angeles:20251217T180000
DTEND;TZID=America/Los_Angeles:20251217T210000
DTSTAMP:20260423T014042
CREATED:20251102T225317Z
LAST-MODIFIED:20251102T225317Z
UID:16417-1765994400-1766005200@southsoundblues.org
SUMMARY:King Dre at the Spar\, Tacoma
DESCRIPTION:Wednesday Jazz at the Spar with King Dre
URL:https://southsoundblues.org/event/king-dre-at-the-spar-tacoma/
LOCATION:The Spar\, 2121 N 30th St\, Tacoma\, WA\, 98403
CATEGORIES:Featured
END:VEVENT
END:VCALENDAR