BEGIN:VCALENDAR
VERSION:2.0
PRODID:-//South Sound Blues Association - ECPv6.15.18//NONSGML v1.0//EN
CALSCALE:GREGORIAN
METHOD:PUBLISH
X-ORIGINAL-URL:https://southsoundblues.org
X-WR-CALDESC:Events for South Sound Blues Association
REFRESH-INTERVAL;VALUE=DURATION:PT1H
X-Robots-Tag:noindex
X-PUBLISHED-TTL:PT1H
BEGIN:VTIMEZONE
TZID:America/Los_Angeles
BEGIN:DAYLIGHT
TZOFFSETFROM:-0800
TZOFFSETTO:-0700
TZNAME:PDT
DTSTART:20250309T100000
END:DAYLIGHT
BEGIN:STANDARD
TZOFFSETFROM:-0700
TZOFFSETTO:-0800
TZNAME:PST
DTSTART:20251102T090000
END:STANDARD
BEGIN:DAYLIGHT
TZOFFSETFROM:-0800
TZOFFSETTO:-0700
TZNAME:PDT
DTSTART:20260308T100000
END:DAYLIGHT
BEGIN:STANDARD
TZOFFSETFROM:-0700
TZOFFSETTO:-0800
TZNAME:PST
DTSTART:20261101T090000
END:STANDARD
BEGIN:DAYLIGHT
TZOFFSETFROM:-0800
TZOFFSETTO:-0700
TZNAME:PDT
DTSTART:20270314T100000
END:DAYLIGHT
BEGIN:STANDARD
TZOFFSETFROM:-0700
TZOFFSETTO:-0800
TZNAME:PST
DTSTART:20271107T090000
END:STANDARD
END:VTIMEZONE
BEGIN:VEVENT
DTSTART;TZID=America/Los_Angeles:20260111T190000
DTEND;TZID=America/Los_Angeles:20260111T220000
DTSTAMP:20260423T000311
CREATED:20251117T014858Z
LAST-MODIFIED:20260101T013522Z
UID:16556-1768158000-1768168800@southsoundblues.org
SUMMARY:Sunday Blues at the Spar with Stevie & The Blue Flames
DESCRIPTION:Sunday Blues at the Spar 7-10 pm\, Stevie & The Blue Flames
URL:https://southsoundblues.org/event/sunday-blues-at-the-spar-47/
LOCATION:The Spar\, 2121 N 30th St\, Tacoma\, WA\, 98403
CATEGORIES:Local South Sound Blues
END:VEVENT
BEGIN:VEVENT
DTSTART;TZID=America/Los_Angeles:20260112T180000
DTEND;TZID=America/Los_Angeles:20260112T210000
DTSTAMP:20260423T000311
CREATED:20260101T012420Z
LAST-MODIFIED:20260101T012420Z
UID:16682-1768240800-1768251600@southsoundblues.org
SUMMARY:Monday Jazz at Brother Don’s Bar & Grill\, Bremerton
DESCRIPTION:Monday Jazz at Brother Don’s Bar & Grill\, Bremerton\, 6-9 pm
URL:https://southsoundblues.org/event/monday-jazz-at-brother-dons-bar-grill-bremerton-34/
LOCATION:Brother Don’s Bar & Grill\, 4200 Kitsap Way\, Bremerton\, WA\, 98312
CATEGORIES:Featured
END:VEVENT
BEGIN:VEVENT
DTSTART;TZID=America/Los_Angeles:20260113T190000
DTEND;TZID=America/Los_Angeles:20260113T230000
DTSTAMP:20260423T000311
CREATED:20251230T023018Z
LAST-MODIFIED:20251230T023018Z
UID:16662-1768330800-1768345200@southsoundblues.org
SUMMARY:Billy Shew hosts the Burien Eagles Tuesday Night Jams
DESCRIPTION:Billy Shew hosts the Burien Eagles Tuesday Night Jams\,  7:00pm\n Billy Shew
URL:https://southsoundblues.org/event/billy-shew-hosts-the-burien-eagles-tuesday-night-jams-20/
LOCATION:Burien Eagles\, 920 SW 150th St\, Burien\, WA\, 98166
CATEGORIES:Featured
END:VEVENT
BEGIN:VEVENT
DTSTART;TZID=America/Los_Angeles:20260114T180000
DTEND;TZID=America/Los_Angeles:20260114T210000
DTSTAMP:20260423T000311
CREATED:20251117T013908Z
LAST-MODIFIED:20260101T013702Z
UID:16542-1768413600-1768424400@southsoundblues.org
SUMMARY:Funky Jazz Wednesdays at the Spar with The Tim Lerch Trio
DESCRIPTION:Funky Jazz Wednesdays at the Spar 6-9 pm\, The Tim Lerch Trio
URL:https://southsoundblues.org/event/funky-jazz-wednesdays-at-the-spar-4/
LOCATION:The Spar\, 2121 N 30th St\, Tacoma\, WA\, 98403
CATEGORIES:Featured
END:VEVENT
BEGIN:VEVENT
DTSTART;TZID=America/Los_Angeles:20260114T183000
DTEND;TZID=America/Los_Angeles:20260114T203000
DTSTAMP:20260423T000311
CREATED:20260109T231917Z
LAST-MODIFIED:20260109T231917Z
UID:16734-1768415400-1768422600@southsoundblues.org
SUMMARY:Kevin Jones at TK Irish Pub & Eatery\, Puyallup
DESCRIPTION:Kevin Jones at the TK Irish Pub January 14th 6:30-8:30 pm
URL:https://southsoundblues.org/event/kevin-jones-at-tk-irish-pub-eatery-puyallup/
LOCATION:Twisted Kilt\, 109 S Meridian\, Puyallup\, WA\, 98371
CATEGORIES:Featured
END:VEVENT
BEGIN:VEVENT
DTSTART;TZID=America/Los_Angeles:20260115T173000
DTEND;TZID=America/Los_Angeles:20260115T210000
DTSTAMP:20260423T000311
CREATED:20251204T023844Z
LAST-MODIFIED:20251204T024001Z
UID:16607-1768498200-1768510800@southsoundblues.org
SUMMARY:LTD Presents: WINTER MINI-FEST - LIVE in Tacoma at the Historic Blue Mouse Theatre\, Tacoma
DESCRIPTION:LTD Presents: WINTER MINI-FEST – LIVE in Tacoma at the Historic Blue Mouse Theatre\n\nA fundraiser for the DOWNTOWN TACOMA BLUES FESTIVAL 2026 happening in August\, LTD PRESENTS brings you a showcase of TACOMA music and bands with direct LTD connections.\nScheduled to Perform in no particular order:Queen Street GangJames Lee Murray BandTrailer Park KingsT-Town AcesKing GrandEvan Purcell & The Big Hello\nAll seats are theater-style. A limited number of VIP seats (the center section of the first three rows) are available for $50 in advance. VIP seats will be assigned in order purchased. GENERAL ADMISSION seats ($25 in advance) are first-come\, first-served open seating. All tickets cost $5 more on the day of the performance.\n****Queen Street Gang has Lorenzo Farrell on keys & Zak Stoldt on drums with select guests on guitar. Each performance is a revelation of style and groove.*James Lee Murray Band has James Lee Murray on keys/lead vocals\, Tanya Hodel on vocals/percussion\, David Hudson on drums\, Stefan Popasoff on guitar/vocals\, Brady Kish on bass/vocals. Blue-eyed soul/funk originals with curated covers.*Trailer Park Kings are John Comstock on vocals/guitar/sax\, Tanya Hodel on vocals/percussion\, Scott Donaldson on guitar/mandolin\, Stan Benson on bass/vocals\, Dave Hodel on keyboards/vocals\, David Hudson on drums.*T-Town Aces are David Hudson on drums/ringleader\, Mark DuFresne on vocals/harmonica\, Tom Boyle on guitar\, Les White on bass/vocals\, Billy Spaulding on keys/vocals.*King Grand is Jeff Conlin on keys\, Brady Kish on bass\, Rafael Tranquilino on guitar\, David Hudson on drums and Angelo Guerrero on sax.*Evan Purcell & The Big Hello is Evan Purcell on guitar/vocals\, Doug Mackey on guitar/vocals\, Brady Kish on bass\, David Hudson on drums.
URL:https://southsoundblues.org/event/ltd-presents-winter-mini-fest-live-in-tacoma-at-the-historic-blue-mouse-theatre/
LOCATION:Blue Mouse Theatre\, 2611 N Proctor\, Tacoma\, WA\, 98407
CATEGORIES:Festival,Special Event
END:VEVENT
BEGIN:VEVENT
DTSTART;TZID=America/Los_Angeles:20260116T190000
DTEND;TZID=America/Los_Angeles:20260116T210000
DTSTAMP:20260423T000311
CREATED:20251201T225817Z
LAST-MODIFIED:20251201T225817Z
UID:16582-1768590000-1768597200@southsoundblues.org
SUMMARY:Friday Night Music at Kimball Coffeehouse Presents: Taylor Hardin Blues Band
DESCRIPTION:Friday Night Music at Kimball Coffeehouse Presents: Taylor Hardin Blues Band January 16th 7-9 pm\n The Taylor Hardin Blues Band brings a fresh\, electrifying energy to the world of modern blues. Fronted by Taylor John Hardin\, a masterful guitarist and dynamic performer\, the band blends classic blues traditions with innovative twists from genres like rock\, funk\, country\, grunge\, and even heavy metal.Known for their high-energy performancesand soulful arrangements\, the Taylor Hardin Blues Band delivers a unique experience by “bluesifying” songs from a wide variety of styles\, creating something both familiar and refreshingly new. Their setlist moves seamlessly from iconic blues standards to reimagined hits\, keeping audiences dancing\, singing\, and always wanting more.The band’s lineup includes a tight rhythm section of bass and drums\, layered with keyboard and organ textures\, all tied together by Hardin’s fiery guitar work and passionate vocals. Whether playing a gritty roadhouse tune or a slow-burning ballad\, the Taylor Hardin Blues Band promises a show that’s both technically superb and emotionally resonant.Perfect for blues lovers and music fans alike\, the Taylor Hardin Blues Band delivers a performance that celebrates the past while carving out their own space in the future of blues musicBand Member BiosOn bass:Born in Tacoma\, Washington\, Roman Winkel began playing bass at the age of 9. Heavily inspired by bassists such as Victor Wooten\, Les Claypool\, and Jaco Pastorius\, he quickly developed a passion for rhythm and groove. Since 2014\, he has been actively performing funk and blues music around the vibrant Seattle area. His current musical projects include Heather Jones & The Groovemasters (since 2014) as well as the Taylor Hardin Blues Band (since 2024)On drums:Reece Webber has been playing drums for over 25 years. Raised in the Pacific Northwest during the 90s\, his style is heavily influenced by the rock and grunge music that defines that era. After performing in jazz bands through middle and high school\, he studied audio engineering in college and continued to expand his playing into more professional settings. Today he is a member of several local original and cover bands and is excited to break into the blues scene with the Taylor Hardin Blues Band.On keys:Brad Bentley is a highly skilled and accomplished keyboardist\, renowned for his captivating performances. Concertgoers can look forward to dynamic displays of showmanship\, as Brad effortlessly dazzles on the keys\, often incorporating a talkbox for an extra touch of flair. Throughout his career\, Brad has had the privilege of playing alongside some of the biggest names in music\, including the legendary B.B. King.***Kimball Coffeehouse – Doors Open at 6pm – Music Starts at 7pm
URL:https://southsoundblues.org/event/friday-night-music-at-kimball-coffeehouse-presents-taylor-hardin-blues-band/
LOCATION:Kimball’s Coffeehouse\, 6659 Kimball Dr\, Gig Harbor\, WA\, 98335
CATEGORIES:Local South Sound Blues
END:VEVENT
BEGIN:VEVENT
DTSTART;TZID=America/Los_Angeles:20260116T200000
DTEND;TZID=America/Los_Angeles:20260116T220000
DTSTAMP:20260423T000311
CREATED:20251007T003757Z
LAST-MODIFIED:20251007T003757Z
UID:16206-1768593600-1768600800@southsoundblues.org
SUMMARY:Pat Travers Band at the Airport Tavern\, Tacoma
DESCRIPTION:Pat Travers Band at the Airport Tavern January 16th\, 8pm\, (doors at 7pm) 21+\ntickets:  https://www.eventim.us/event/pat-travers-band/666812 \n 
URL:https://southsoundblues.org/event/pat-travers-band-at-the-airport-tavern-tacoma/
LOCATION:Airport Tavern\, 5406 S Tacoma Way\, Tacoma\, WA\, 98409
CATEGORIES:Local South Sound Blues
END:VEVENT
BEGIN:VEVENT
DTSTART;TZID=America/Los_Angeles:20260117T190000
DTEND;TZID=America/Los_Angeles:20260117T223000
DTSTAMP:20260423T000311
CREATED:20251105T014502Z
LAST-MODIFIED:20251105T014635Z
UID:16471-1768676400-1768689000@southsoundblues.org
SUMMARY:Ana Popovic at the Historic Everett Theater with The Stacy Jones Band
DESCRIPTION:ANA POPOVIC\, BLUES SINGER AND GUITARIST WITH THE STACY JONES BAND at the Historic Everett Theatre January 17th\n7:00 PM\, Doors open at 6:00 PM  \nhttps://events.theatreconcertconsulting.com/ana-popovic/\nThe Historic Everett Theatre\, 2911 Colby Ave\, Everett\, WA 98201\nEvent Organized By: The Historic Everett Theatre \n\nhttps://events.theatreconcertconsulting.com/ana-popovic/
URL:https://southsoundblues.org/event/ana-popovic-at-the-historic-everett-theater-with-the-stacy-jones-band/
LOCATION:Everett Theatre\, 2911 Colby Ave\, Everett\, WA\, 98201
CATEGORIES:Featured
END:VEVENT
BEGIN:VEVENT
DTSTART;TZID=America/Los_Angeles:20260117T200000
DTEND;TZID=America/Los_Angeles:20260117T233000
DTSTAMP:20260423T000311
CREATED:20260109T231057Z
LAST-MODIFIED:20260109T231057Z
UID:16730-1768680000-1768692600@southsoundblues.org
SUMMARY:Heather Jones & the Groove Masters at Gabriela's\, Maple Valley
DESCRIPTION:Heather Jones & the Groove Masters at Gabriela’s January 17th 8-midnight\n  \n 
URL:https://southsoundblues.org/event/heather-jones-the-groove-masters-at-gabrielas-maple-valley/
LOCATION:Gabriela’s Restaurant and Bar\, 23220 Maple Valley Black Diamond Rd Se #7\, Maple Valley\, WA\, 98038
CATEGORIES:Local South Sound Blues
END:VEVENT
BEGIN:VEVENT
DTSTART;TZID=America/Los_Angeles:20260118T190000
DTEND;TZID=America/Los_Angeles:20260118T220000
DTSTAMP:20260423T000311
CREATED:20251117T014400Z
LAST-MODIFIED:20260101T013848Z
UID:16548-1768762800-1768773600@southsoundblues.org
SUMMARY:Sunday Blues at the Spar with Planet Groove
DESCRIPTION:Sunday Blues at the Spar 7-10 pm\, Planet Groove
URL:https://southsoundblues.org/event/sunday-blues-at-the-spar-31/
LOCATION:The Spar\, 2121 N 30th St\, Tacoma\, WA\, 98403
CATEGORIES:Local South Sound Blues
END:VEVENT
BEGIN:VEVENT
DTSTART;TZID=America/Los_Angeles:20260118T190000
DTEND;TZID=America/Los_Angeles:20260118T230000
DTSTAMP:20260423T000311
CREATED:20251117T014758Z
LAST-MODIFIED:20260115T022349Z
UID:16554-1768762800-1768777200@southsoundblues.org
SUMMARY:Billy Shew Blues Jam\, every Sunday at Dawson’s
DESCRIPTION:Billy Shew Blues Jam\, every Sunday at Dawson’s\, 7-11 pm
URL:https://southsoundblues.org/event/sunday-blues-at-the-spar-46/
LOCATION:Dawson’s Bar & Grill\, 5443 South Tacoma Way\, Tacoma\, WA\, 98409
CATEGORIES:Local South Sound Blues
END:VEVENT
BEGIN:VEVENT
DTSTART;TZID=America/Los_Angeles:20260119T200000
DTEND;TZID=America/Los_Angeles:20260119T220000
DTSTAMP:20260423T000311
CREATED:20260101T013109Z
LAST-MODIFIED:20260101T013109Z
UID:16690-1768852800-1768860000@southsoundblues.org
SUMMARY:Mike Witmer hosts “Mojo Mike’s Blues Revue” every Monday on KVSH 101.9 FM
DESCRIPTION:Mike Witmer hosts “Mojo Mike’s Blues Revue” every Monday on KVSH 101.9 FM\, 8-10 pm
URL:https://southsoundblues.org/event/mike-witmer-hosts-mojo-mikes-blues-revue-every-monday-on-kvsh-101-9-fm-48/
LOCATION:KVSH\, 17643 Vashon Hwy SW\, Vashon Island\, WA\, 98070
CATEGORIES:Local South Sound Blues
END:VEVENT
BEGIN:VEVENT
DTSTART;TZID=America/Los_Angeles:20260120T200000
DTEND;TZID=America/Los_Angeles:20260120T233000
DTSTAMP:20260423T000311
CREATED:20251230T022807Z
LAST-MODIFIED:20251230T022807Z
UID:16660-1768939200-1768951800@southsoundblues.org
SUMMARY:Cory Wilds Band Tuesday open Jam Night at Elmer’s Bar and Grill
DESCRIPTION:Cory Wilds Band Tuesday open Jam Night at Elmer’s Bar and Grill\, 8-11:30 pm
URL:https://southsoundblues.org/event/cory-wilds-band-tuesday-open-jam-night-at-elmers-bar-and-grill-41/
LOCATION:Elmer’s Bar & Grill\, 15027 Ambaum Blvd SW\, Burien\, WA\, 98166
CATEGORIES:Featured
END:VEVENT
BEGIN:VEVENT
DTSTART;TZID=America/Los_Angeles:20260121T180000
DTEND;TZID=America/Los_Angeles:20260121T210000
DTSTAMP:20260423T000311
CREATED:20251117T014038Z
LAST-MODIFIED:20260101T014000Z
UID:16544-1769018400-1769029200@southsoundblues.org
SUMMARY:Funky Jazz Wednesdays at the Spar with LaVon Harrison
DESCRIPTION:Funky Jazz Wednesdays at the Spar 6-9 pm\, LaVon Harrison
URL:https://southsoundblues.org/event/funky-jazz-wednesdays-at-the-spar-5/
LOCATION:The Spar\, 2121 N 30th St\, Tacoma\, WA\, 98403
CATEGORIES:Featured
END:VEVENT
BEGIN:VEVENT
DTSTART;TZID=America/Los_Angeles:20260121T180000
DTEND;TZID=America/Los_Angeles:20260121T210000
DTSTAMP:20260423T000311
CREATED:20251230T023444Z
LAST-MODIFIED:20251230T023444Z
UID:16664-1769018400-1769029200@southsoundblues.org
SUMMARY:Wednesday Jam Night at Gabriela’s hosted by Billy Shew & Friends
DESCRIPTION:Wednesday Jam Night at Gabriela’s hosted by Billy Shew & Friends 6-9 pm
URL:https://southsoundblues.org/event/wednesday-jam-night-at-gabrielas-hosted-by-billy-shew-friends/
LOCATION:Gabriela’s Restaurant and Bar\, 23220 Maple Valley Black Diamond Rd Se #7\, Maple Valley\, WA\, 98038
CATEGORIES:Local South Sound Blues
END:VEVENT
BEGIN:VEVENT
DTSTART;TZID=America/Los_Angeles:20260121T183000
DTEND;TZID=America/Los_Angeles:20260121T203000
DTSTAMP:20260423T000311
CREATED:20260109T232225Z
LAST-MODIFIED:20260109T232225Z
UID:16736-1769020200-1769027400@southsoundblues.org
SUMMARY:Rob Tudor & Dave McKibbin at TK Irish Pub & Eatery\, Puyallup
DESCRIPTION:Rob Tudor & Dave McKibbin at TK Irish Pub & Eatery January 21st 6:30-8:30 pm
URL:https://southsoundblues.org/event/rob-tudor-dave-mckibbin-at-tk-irish-pub-eatery-puyallup/
LOCATION:Twisted Kilt\, 109 S Meridian\, Puyallup\, WA\, 98371
CATEGORIES:Local South Sound Blues
END:VEVENT
BEGIN:VEVENT
DTSTART;TZID=America/Los_Angeles:20260122T200000
DTEND;TZID=America/Los_Angeles:20260122T223000
DTSTAMP:20260423T000311
CREATED:20251204T014639Z
LAST-MODIFIED:20251204T014639Z
UID:16605-1769112000-1769121000@southsoundblues.org
SUMMARY:Salmon Bay Eagles Membership Drive and Open House featuring The Stacy Jones Band\, Ballard
DESCRIPTION:Stacy Jones band is the featured performer for the Salmon Bay Eagles Membership Drive and Open House! 1/22/26\, 8pm\nThe Stacy Jones Band delivers an electrifying blend of blues\, roots rock\, and Americana that’ll keep you moving all night long. Don’t miss this incredible opportunity to experience one of Seattle’s finest artists while learning about your Eagles community. \n\nThe Stacy Jones Band delivers an electrifying blend of blues\, roots rock\, and Americana that’ll keep you moving all night long. Alongside Stacy’s dynamic lead\, the band features the rock-solid rhythm section of Tom Jones (bass) and Rick J. Bowen (drums)\, plus their newest addition\, “Best of the Blues” award winner Eric Rice.
URL:https://southsoundblues.org/event/salmon-bay-eagles-membership-drive-and-open-house-featuring-the-stacy-jones-band-ballard/
LOCATION:Salmon Bay Eagles\, 5216 20th Ave NW\, Seattle\, WA\, 98107
CATEGORIES:Featured
END:VEVENT
BEGIN:VEVENT
DTSTART;TZID=America/Los_Angeles:20260123T190000
DTEND;TZID=America/Los_Angeles:20260123T210000
DTSTAMP:20260423T000311
CREATED:20251204T001059Z
LAST-MODIFIED:20251204T001059Z
UID:16592-1769194800-1769202000@southsoundblues.org
SUMMARY:Eric's Main Connection at Kimball Coffeehouse\, Gig Harbor
DESCRIPTION:Eric’s Main Connection at Kimball Coffeehouse January 23rd\, 7-9 pm\n \n 
URL:https://southsoundblues.org/event/erics-main-connection-at-kimball-coffeehouse-gig-harbor/
LOCATION:Kimball’s Coffeehouse\, 6659 Kimball Dr\, Gig Harbor\, WA\, 98335
CATEGORIES:Local South Sound Blues
END:VEVENT
BEGIN:VEVENT
DTSTART;TZID=America/Los_Angeles:20260123T203000
DTEND;TZID=America/Los_Angeles:20260123T220000
DTSTAMP:20260423T000311
CREATED:20251208T221919Z
LAST-MODIFIED:20251208T221919Z
UID:16620-1769200200-1769205600@southsoundblues.org
SUMMARY:Joel Astley Band at Bake's Place\, Bellevue
DESCRIPTION:Joel Astley Band at Bake’s Place January 23rd\, 8:30-10:00 pm
URL:https://southsoundblues.org/event/joel-astley-band-at-bakes-place-bellevue-2/
LOCATION:Bake’s Place\, 155 108th Ave NE Ste 110\, Bellevue\, WA\, 98004
CATEGORIES:Local South Sound Blues
END:VEVENT
BEGIN:VEVENT
DTSTART;TZID=America/Los_Angeles:20260124T190000
DTEND;TZID=America/Los_Angeles:20260124T210000
DTSTAMP:20260423T000311
CREATED:20260119T202605Z
LAST-MODIFIED:20260119T202605Z
UID:16804-1769281200-1769288400@southsoundblues.org
SUMMARY:Stickshift Annie with Kimball Conant and the Fugitives at Third Place Commons in Lake Forest Park
DESCRIPTION:Dance opportunity this Saturday January 24th\, 7pm – 9pm \n\n\n\n\nAnnie Eastwood with the Fabulous Kimball Conant and the Fugitives\nat Third Place Commons in Lake Forest Park.\n \nFree\, all-ages concert for listening\, dancing and enjoying friends at this wonderful community venue. \n\nStickshift Annie with Kimball and the Fugitives perform every style from Freddie King shuffles\, smoldering grinders and Texas 2-beat blues\, to swing\, rock & roll\, and R&B tunes. Kimball Conant performs on his vintage 1962 Gretsch electric guitar in a distinctive Chet Atkins finger style and easily shifts to a deep down Johnny Winter style acoustic slide for burning blues\, with the Dynamic Duo of Rhythm Jeff Davies on electric and upright bass and John Rockin’ em well Rockwell on drums\, and Annie singing the blues and swingin’.\n\n\nThird Place Commons in Lake Forest Park \n17171 Bothell Way NE \nLake Forest Park\, WA 98155
URL:https://southsoundblues.org/event/stickshift-annie-with-kimball-conant-and-the-fugitives-at-third-place-commons-in-lake-forest-park/
LOCATION:Third Place Commons\, 17171 Bothell Way NE\, Lake Forest Park\, WA\, 98155
CATEGORIES:Featured
END:VEVENT
BEGIN:VEVENT
DTSTART;TZID=America/Los_Angeles:20260124T190000
DTEND;TZID=America/Los_Angeles:20260124T220000
DTSTAMP:20260423T000311
CREATED:20260109T234206Z
LAST-MODIFIED:20260109T234206Z
UID:16740-1769281200-1769292000@southsoundblues.org
SUMMARY:Slainte-Irish Rock at O'Looney's Irish Pub\, Gig Harbor
DESCRIPTION:Slainte-Irish Rock at O’Looney’s Irish Pub January 24th 7pm
URL:https://southsoundblues.org/event/slainte-irish-rock-at-olooneys-irish-pub-gig-harbor/
LOCATION:O’Looney’s Irish Pub\, 322 56th St\, Gig Harbor\, WA\, 98335
CATEGORIES:Featured
END:VEVENT
BEGIN:VEVENT
DTSTART;TZID=America/Los_Angeles:20260124T190000
DTEND;TZID=America/Los_Angeles:20260124T220000
DTSTAMP:20260423T000311
CREATED:20260110T012546Z
LAST-MODIFIED:20260110T012546Z
UID:16758-1769281200-1769292000@southsoundblues.org
SUMMARY:Sturgeon Moon at The Spar
DESCRIPTION:Sturgeon Moon at The Spar January 24th 7-10 pm
URL:https://southsoundblues.org/event/sturgeon-moon-at-the-spar/
LOCATION:The Spar\, 2121 N 30th St\, Tacoma\, WA\, 98403
CATEGORIES:Featured
END:VEVENT
BEGIN:VEVENT
DTSTART;TZID=America/Los_Angeles:20260124T200000
DTEND;TZID=America/Los_Angeles:20260124T233000
DTSTAMP:20260423T000311
CREATED:20260109T230601Z
LAST-MODIFIED:20260109T230601Z
UID:16728-1769284800-1769297400@southsoundblues.org
SUMMARY:Heather Jones & The Groove Masters at Dawson's Bar and Grill\, Tacoma
DESCRIPTION:Heather Jones & The Groove Masters at Dawson’s Bar and Grill January 24th 8-midnight\n 
URL:https://southsoundblues.org/event/heather-jones-the-groove-masters-at-dawsons-bar-and-grill-tacoma/
LOCATION:Dawson’s Bar & Grill\, 5443 South Tacoma Way\, Tacoma\, WA\, 98409
CATEGORIES:Local South Sound Blues
END:VEVENT
BEGIN:VEVENT
DTSTART;TZID=America/Los_Angeles:20260124T203000
DTEND;TZID=America/Los_Angeles:20260124T223000
DTSTAMP:20260423T000311
CREATED:20251030T210226Z
LAST-MODIFIED:20251030T210226Z
UID:16388-1769286600-1769293800@southsoundblues.org
SUMMARY:Trailer Park Kings at the Oxford Saloon
DESCRIPTION:Trailer Park Kings at the Oxford Saloon January 24th\, 8:30 pm
URL:https://southsoundblues.org/event/trailer-park-kings-at-the-oxford-saloon-2/
LOCATION:Oxford Saloon\, 913 1st St\, Snohomish\, WA\, 98290
CATEGORIES:Featured
END:VEVENT
BEGIN:VEVENT
DTSTART;TZID=America/Los_Angeles:20260125T190000
DTEND;TZID=America/Los_Angeles:20260125T220000
DTSTAMP:20260423T000311
CREATED:20251117T014659Z
LAST-MODIFIED:20260110T012633Z
UID:16552-1769367600-1769378400@southsoundblues.org
SUMMARY:Sunday Blues at the Spar
DESCRIPTION:Sunday Blues at the Spar 7-10 pm
URL:https://southsoundblues.org/event/sunday-blues-at-the-spar-43/
LOCATION:The Spar\, 2121 N 30th St\, Tacoma\, WA\, 98403
CATEGORIES:Local South Sound Blues
END:VEVENT
BEGIN:VEVENT
DTSTART;TZID=America/Los_Angeles:20260126T180000
DTEND;TZID=America/Los_Angeles:20260126T210000
DTSTAMP:20260423T000311
CREATED:20260101T012533Z
LAST-MODIFIED:20260101T012533Z
UID:16684-1769450400-1769461200@southsoundblues.org
SUMMARY:Monday Jazz at Brother Don’s Bar & Grill\, Bremerton
DESCRIPTION:Monday Jazz at Brother Don’s Bar & Grill\, Bremerton\, 6-9 pm
URL:https://southsoundblues.org/event/monday-jazz-at-brother-dons-bar-grill-bremerton-35/
LOCATION:Brother Don’s Bar & Grill\, 4200 Kitsap Way\, Bremerton\, WA\, 98312
CATEGORIES:Featured
END:VEVENT
BEGIN:VEVENT
DTSTART;TZID=America/Los_Angeles:20260127T190000
DTEND;TZID=America/Los_Angeles:20260127T210000
DTSTAMP:20260423T000311
CREATED:20251227T203943Z
LAST-MODIFIED:20251227T203943Z
UID:16628-1769540400-1769547600@southsoundblues.org
SUMMARY:Purdy's Tuesday Blues Showcase with Mark Hurwitz & Gin Creek\, Sumner
DESCRIPTION:Purdy’s Tuesday Blues Showcase with Mark Hurwitz & Gin Creek January 27th 7-9 pm at Purdy’s Public House & Arcade
URL:https://southsoundblues.org/event/purdys-tuesday-blues-showcase-with-mark-hurwitz-gin-creek-sumner/
LOCATION:Purdy’s Public House & Arcade\, Sumner\, 16202 64th St E\, Sumner\, WA\, 98390
CATEGORIES:Local South Sound Blues
END:VEVENT
BEGIN:VEVENT
DTSTART;TZID=America/Los_Angeles:20260128T180000
DTEND;TZID=America/Los_Angeles:20260128T200000
DTSTAMP:20260423T000311
CREATED:20251202T015402Z
LAST-MODIFIED:20251202T015402Z
UID:16585-1769623200-1769630400@southsoundblues.org
SUMMARY:Walker Sherman at Headworks Brewing\, Enumclaw
DESCRIPTION:January 28th from 6:00-8:00 pm\, live music from Walker Sherman at Headworks Brewing in Enumclaw\, WA.\n\nWalker Sherman grew up on the Gulf Coast of Alabama. He’s the son of a touring artist who left the 70s behind to start a family. His music is distinctly southern and unapologetically Rock N’ Roll with a sound that has been compared to Chris Stapleton\, Jack White\, and Tom Petty.\nWalker has released 10 studio albums across a number of projects\, including Tacoma-based Champaign Sunday\, Sound & Fury\, Blonde Tiger\, The Sherman Family\, Keith Musig Trio\, The Heartless Kind\, and The Heresy. He has opened for such national touring acts as Roger Cline/The Refreshments\, Michael Gungor\, Charmaine Neville\, The Old 97’s\, and The Steve Miller Band.\nThis intimate all-acoustic show takes the listener on an emotional journey as the artist reflects upon five years of loss and reinvention\, inviting you to reflect on the beauty and absurdity of our travels.\nWalker has been called “a songwriter’s songwriter” and “The PNW music scene’s best kept secret”\, serving up barroom stompers and earnest vocals in equal measure…a perfect blend of southern soul and Tacoma grit!\nGrab a beer and a burger and get ready for a great night of music!\n1110 Marshall Ave\, Enumclaw\, WA\, United States\, Washington 98022
URL:https://southsoundblues.org/event/walker-sherman-at-headworks-brewing-enumclaw/
LOCATION:Headworks Brewing\, 1110 Marshall Ave\, Enumclaw\, w
CATEGORIES:Featured
END:VEVENT
BEGIN:VEVENT
DTSTART;TZID=America/Los_Angeles:20260128T180000
DTEND;TZID=America/Los_Angeles:20260128T210000
DTSTAMP:20260423T000311
CREATED:20251117T014129Z
LAST-MODIFIED:20260101T014240Z
UID:16546-1769623200-1769634000@southsoundblues.org
SUMMARY:Funky Jazz Wednesdays at the Spar with the James Lee Murray Band
DESCRIPTION:Funky Jazz Wednesdays at the Spar 6-9 pm\, James Lee Murray Band
URL:https://southsoundblues.org/event/funky-jazz-wednesdays-at-the-spar-6/
LOCATION:The Spar\, 2121 N 30th St\, Tacoma\, WA\, 98403
CATEGORIES:Featured
END:VEVENT
END:VCALENDAR