BEGIN:VCALENDAR
VERSION:2.0
PRODID:-//South Sound Blues Association - ECPv6.15.18//NONSGML v1.0//EN
CALSCALE:GREGORIAN
METHOD:PUBLISH
X-WR-CALNAME:South Sound Blues Association
X-ORIGINAL-URL:https://southsoundblues.org
X-WR-CALDESC:Events for South Sound Blues Association
REFRESH-INTERVAL;VALUE=DURATION:PT1H
X-Robots-Tag:noindex
X-PUBLISHED-TTL:PT1H
BEGIN:VTIMEZONE
TZID:America/Los_Angeles
BEGIN:DAYLIGHT
TZOFFSETFROM:-0800
TZOFFSETTO:-0700
TZNAME:PDT
DTSTART:20230312T100000
END:DAYLIGHT
BEGIN:STANDARD
TZOFFSETFROM:-0700
TZOFFSETTO:-0800
TZNAME:PST
DTSTART:20231105T090000
END:STANDARD
BEGIN:DAYLIGHT
TZOFFSETFROM:-0800
TZOFFSETTO:-0700
TZNAME:PDT
DTSTART:20240310T100000
END:DAYLIGHT
BEGIN:STANDARD
TZOFFSETFROM:-0700
TZOFFSETTO:-0800
TZNAME:PST
DTSTART:20241103T090000
END:STANDARD
BEGIN:DAYLIGHT
TZOFFSETFROM:-0800
TZOFFSETTO:-0700
TZNAME:PDT
DTSTART:20250309T100000
END:DAYLIGHT
BEGIN:STANDARD
TZOFFSETFROM:-0700
TZOFFSETTO:-0800
TZNAME:PST
DTSTART:20251102T090000
END:STANDARD
END:VTIMEZONE
BEGIN:VEVENT
DTSTART;TZID=America/Los_Angeles:20241110T170000
DTEND;TZID=America/Los_Angeles:20241110T170000
DTSTAMP:20260423T221423
CREATED:20241102T202123Z
LAST-MODIFIED:20241102T205417Z
UID:13750-1731258000-1731258000@southsoundblues.org
SUMMARY:Blues Vespers featuring Mark Riley at the Kilworth Memorial Chapel
DESCRIPTION:Blues Vespers featuring Mark Riley at the Kilworth Memorial Chapel\, November 10th\, 5pm\n Dave Brown and Blues Vespers
URL:https://southsoundblues.org/event/blues-vespers-featuring-mark-riley-at-the-kilworth-memorial-chapel/
LOCATION:Kilworth Memorial Chapel\, 3410 N 18th St\, Tacoma\, WA\, 98416
CATEGORIES:Local South Sound Blues
END:VEVENT
BEGIN:VEVENT
DTSTART;TZID=America/Los_Angeles:20241109T200000
DTEND;TZID=America/Los_Angeles:20241109T233000
DTSTAMP:20260423T221423
CREATED:20241014T005040Z
LAST-MODIFIED:20241014T005040Z
UID:13656-1731182400-1731195000@southsoundblues.org
SUMMARY:Billy Stoops & The Dirt Angels at Aurora Borealis
DESCRIPTION:Billy Stoops & The Dirt Angels at Aurora Borealis November 9th\, 8pm
URL:https://southsoundblues.org/event/billy-stoops-the-dirt-angels-at-aurora-borealis/
LOCATION:Aurora Borealis\, 16708 Aurora Ave N\, Shoreline\, WA\, 98133
CATEGORIES:Featured
END:VEVENT
BEGIN:VEVENT
DTSTART;TZID=America/Los_Angeles:20241109T200000
DTEND;TZID=America/Los_Angeles:20241109T230000
DTSTAMP:20260423T221423
CREATED:20241018T215538Z
LAST-MODIFIED:20241018T215538Z
UID:13679-1731182400-1731193200@southsoundblues.org
SUMMARY:Heather Jones & the Groove Masters at the Sandbar & Grill
DESCRIPTION:Heather Jones & the Groove Masters at the Sandbar & Grill November 9th\, 8-11 pm\, $5 at the door.
URL:https://southsoundblues.org/event/heather-jones-the-groove-masters-at-the-sandbar-grill/
LOCATION:Sandbar & Grill\, 1941 Marine View Dr\, Tacoma\, WA\, 98422
CATEGORIES:Local South Sound Blues
END:VEVENT
BEGIN:VEVENT
DTSTART;TZID=America/Los_Angeles:20241109T190000
DTEND;TZID=America/Los_Angeles:20241109T230000
DTSTAMP:20260423T221423
CREATED:20241008T004023Z
LAST-MODIFIED:20241008T004023Z
UID:13631-1731178800-1731193200@southsoundblues.org
SUMMARY:Kimball & The Fugitives with Annie Eastwood at the West Seattle Eagles
DESCRIPTION:Kimball & The Fugitives with Annie Eastwood at the West Seattle Eagles\n\nSat Nov 9th 7:00pm – 11:00pm (PST)\n\n\nBluesJazzRock\n\nWest Seattle Eagles Aerie #2643\, 4426 California Avenue Southwest\, Seattle\, WA
URL:https://southsoundblues.org/event/kimball-the-fugitives-with-annie-eastwood-at-the-west-seattle-eagles/
LOCATION:West Seattle Eagles\, 4426 California Ave SW\, Seattle\, WA\, 98116
CATEGORIES:Featured
END:VEVENT
BEGIN:VEVENT
DTSTART;TZID=America/Los_Angeles:20241109T180000
DTEND;TZID=America/Los_Angeles:20241109T200000
DTSTAMP:20260423T221423
CREATED:20241108T225002Z
LAST-MODIFIED:20241108T225031Z
UID:13781-1731175200-1731182400@southsoundblues.org
SUMMARY:Reji Marc at Velvet's Big Easy\, Spanaway
DESCRIPTION:Reji Marc at Velvet’s Big Easy\, November 9th in Spanaway for an evening of incredible music\, great vibes\, and good company. Reji will be performing live on guitar from 6 to 8 PM.\n\n\nAddress: 124 146th St S\, Parkland\, WA 98444
URL:https://southsoundblues.org/event/reji-marc-at-velvets-big-easy-spanaway/
LOCATION:Velvet’s Big Easy\, 124 146th St S\, Parkland\, WA\, 98444
CATEGORIES:Local South Sound Blues
END:VEVENT
BEGIN:VEVENT
DTSTART;TZID=America/Los_Angeles:20241108T213000
DTEND;TZID=America/Los_Angeles:20241108T230000
DTSTAMP:20260423T221423
CREATED:20241007T205351Z
LAST-MODIFIED:20241007T205351Z
UID:13550-1731101400-1731106800@southsoundblues.org
SUMMARY:Mark DuFresne Band at Bakes Place\, Bellevue
DESCRIPTION:Nov 8th\, Bakes Place\, The Mark DuFresne Band\, 9:30 -11pm
URL:https://southsoundblues.org/event/mark-dufresne-band-at-bakes-place-bellevue/
LOCATION:Bake’s Place\, 155 108th Ave NE Ste 110\, Bellevue\, WA\, 98004
CATEGORIES:Local South Sound Blues
END:VEVENT
BEGIN:VEVENT
DTSTART;TZID=America/Los_Angeles:20241108T200000
DTEND;TZID=America/Los_Angeles:20241108T230000
DTSTAMP:20260423T221423
CREATED:20241014T004755Z
LAST-MODIFIED:20241014T005315Z
UID:13654-1731096000-1731106800@southsoundblues.org
SUMMARY:Billy Stoops & The Dirt Angels at Jazzbones New Album Release Event
DESCRIPTION:Billy Stoops & The Dirt Angels at Jazzbones November 8th\, 8pm\nThe Dirt Angels will be sharing the music of their new CD with a live showcase performance. Billy Stoops with Trev Cutler\, Leanne Trevalyan\, Barbra Blue\, and Troy Moss at Jazzbones in Tacoma.
URL:https://southsoundblues.org/event/billy-stoops-the-dirt-angels-at-jazzbones/
LOCATION:Jazzbones\, 2803 6th Ave\, Tacoma\, WA\, 98406
CATEGORIES:Local South Sound Blues,Special Event
END:VEVENT
BEGIN:VEVENT
DTSTART;TZID=America/Los_Angeles:20241108T200000
DTEND;TZID=America/Los_Angeles:20241108T200000
DTSTAMP:20260423T221423
CREATED:20241022T151659Z
LAST-MODIFIED:20241022T151659Z
UID:13682-1731096000-1731096000@southsoundblues.org
SUMMARY:Hurts Like Hell at the Spanish Ballroom
DESCRIPTION:About Hurts Like Hell at the Spanish Ballroom November 8th\, 8pm\, (doors at 7:00 pm)\n\n \nHurts Like Hell is an Olympia based all original blues/rock band with Michael Smith (lead guitar and vocals)\, Chris Petersen (lead guitar and vocals)\, Doug Howard (bass) and Ben Hawkes (drums and vocals). Hurts Like Hell has opened for many national acts such as: Mick Fleetwood\, 38 Special\, The Outlaws\, Little River Band and more. They were nominated for best blues album of the year in the UK in 2019. The band released their 5th album “In Through the Eye” 2023.
URL:https://southsoundblues.org/event/hurts-like-hell-at-the-spanish-ballroom/
LOCATION:McMenaminsTacoma Elks\, 565 Broadway\, Tacoma\, WA\, 98402
CATEGORIES:Local South Sound Blues
END:VEVENT
BEGIN:VEVENT
DTSTART;TZID=America/Los_Angeles:20241108T190000
DTEND;TZID=America/Los_Angeles:20241108T210000
DTSTAMP:20260423T221423
CREATED:20240903T174438Z
LAST-MODIFIED:20240903T174438Z
UID:13387-1731092400-1731099600@southsoundblues.org
SUMMARY:Trailer Park Kings at Kimball Coffeehouse
DESCRIPTION:November 8th\, Trailer Park Kings at Kimball Coffeehouse\, 7-9 pm\n  \n \n\n 6659 Kimball Drive\, Suite A102\, Gig Harbor\, W
URL:https://southsoundblues.org/event/trailer-park-kings-at-kimball-coffeehouse/
LOCATION:Kimball’s Coffeehouse\, 6659 Kimball Dr\, Gig Harbor\, WA\, 98335
CATEGORIES:Local South Sound Blues
END:VEVENT
BEGIN:VEVENT
DTSTART;TZID=America/Los_Angeles:20241107T193000
DTEND;TZID=America/Los_Angeles:20241107T213000
DTSTAMP:20260423T221424
CREATED:20241008T205150Z
LAST-MODIFIED:20241008T205150Z
UID:13648-1731007800-1731015000@southsoundblues.org
SUMMARY:Michele D'Amour and the Love Dealers trio at The Roadhouse SeaTac
DESCRIPTION:Michele D’Amour and the Love Dealers trio show: Thursday\, November 7th\, 7:30 – 9:30 p.m. at The Roadhouse SeaTac\n \n  \n  \n  \nhttp://maps.google.com/maps?q=The%20Roadhouse%2019955%2028th%20S%20SeaTac%20WA%2098188
URL:https://southsoundblues.org/event/michele-damour-and-the-love-dealers-trio-at-the-roadhouse-seatac/
LOCATION:Roadhouse SeaTac\, 19955 28th So\, SEA TAC\, WA\, 98188
CATEGORIES:Local South Sound Blues
END:VEVENT
BEGIN:VEVENT
DTSTART;TZID=America/Los_Angeles:20241107T190000
DTEND;TZID=America/Los_Angeles:20241107T220000
DTSTAMP:20260423T221424
CREATED:20241031T002646Z
LAST-MODIFIED:20241031T002646Z
UID:13713-1731006000-1731016800@southsoundblues.org
SUMMARY:“Billy the Pocket Jam” Thursday nights at Dawson’s
DESCRIPTION:“Billy the Pocket Jam” Thursday nights at Dawson’s\, 7-10 pm
URL:https://southsoundblues.org/event/billy-the-pocket-jam-thursday-nights-at-dawsons-42/
LOCATION:Dawson’s Bar & Grill\, 5443 South Tacoma Way\, Tacoma\, WA\, 98409
CATEGORIES:Local South Sound Blues
END:VEVENT
BEGIN:VEVENT
DTSTART;TZID=America/Los_Angeles:20241106T190000
DTEND;TZID=America/Los_Angeles:20241106T190000
DTSTAMP:20260423T221424
CREATED:20240929T220452Z
LAST-MODIFIED:20240929T220452Z
UID:13476-1730919600-1730919600@southsoundblues.org
SUMMARY:Apollo Suns at the New Frontier Lounge
DESCRIPTION:   Apollo Suns at the New Frontier Lounge November 6th\, 7pm
URL:https://southsoundblues.org/event/apollo-suns-at-the-new-frontier-lounge/
LOCATION:New Frontier Lounge\, 301 E 25th St\, Tacoma\, WA\, 98421
CATEGORIES:Featured
END:VEVENT
BEGIN:VEVENT
DTSTART;TZID=America/Los_Angeles:20241106T180000
DTEND;TZID=America/Los_Angeles:20241106T210000
DTSTAMP:20260423T221424
CREATED:20240930T214456Z
LAST-MODIFIED:20240930T214456Z
UID:13495-1730916000-1730926800@southsoundblues.org
SUMMARY:Billy Shew and Friends host an open Jam every Wednesday at Stockton’s
DESCRIPTION:Billy Shew and Friends host an open Jam every Wednesday at Stockton’s\, 6-9pm
URL:https://southsoundblues.org/event/billy-shew-and-friends-host-an-open-jam-every-wednesday-at-stocktons-23/
LOCATION:Stockton’s Restaurant & Spirits\, 23220 Maple Valley Black Diamond Rd SE\, Maple Valley\, WA\, 98038
CATEGORIES:Local South Sound Blues
END:VEVENT
BEGIN:VEVENT
DTSTART;TZID=America/Los_Angeles:20241105T190000
DTEND;TZID=America/Los_Angeles:20241105T190000
DTSTAMP:20260423T221424
CREATED:20240930T214301Z
LAST-MODIFIED:20240930T214301Z
UID:13493-1730833200-1730833200@southsoundblues.org
SUMMARY:Billy Shew hosts the Burien Eagles Tuesday Night Jams
DESCRIPTION:Billy Shew hosts the Burien Eagles Tuesday Night Jams\,  7:00pm
URL:https://southsoundblues.org/event/billy-shew-hosts-the-burien-eagles-tuesday-night-jams-3/
LOCATION:Burien Eagles\, 920 SW 150th St\, Burien\, WA\, 98166
CATEGORIES:Local South Sound Blues
END:VEVENT
BEGIN:VEVENT
DTSTART;TZID=America/Los_Angeles:20241104T200000
DTEND;TZID=America/Los_Angeles:20241104T200000
DTSTAMP:20260423T221424
CREATED:20240525T184337Z
LAST-MODIFIED:20240525T184337Z
UID:12768-1730750400-1730750400@southsoundblues.org
SUMMARY:Joanne Shaw Taylor at the Neptune Theatre\, Seattle
DESCRIPTION:Joanne Shaw Taylor\, Monday\, Nov 4th\, 8:00 PM\, Neptune Theatre — Seattle
URL:https://southsoundblues.org/event/joanne-shaw-taylor-at-the-neptune-theatre-seattle/
LOCATION:Neptune Theatre\, 1303 NE 45th St\, Seattle\, WA\, 98105
CATEGORIES:Special Event
END:VEVENT
BEGIN:VEVENT
DTSTART;TZID=America/Los_Angeles:20241104T180000
DTEND;TZID=America/Los_Angeles:20241104T210000
DTSTAMP:20260423T221424
CREATED:20240930T214107Z
LAST-MODIFIED:20240930T214107Z
UID:13491-1730743200-1730754000@southsoundblues.org
SUMMARY:Monday Jazz at Brother Don’s Bar & Grill\, Bremerton
DESCRIPTION:Monday Jazz at Brother Don’s Bar & Grill\, Bremerton\, 6-9 pm.
URL:https://southsoundblues.org/event/monday-jazz-at-brother-dons-bar-grill-bremerton-5/
LOCATION:Brother Don’s Bar & Grill\, 4200 Kitsap Way\, Bremerton\, WA\, 98312
CATEGORIES:Featured
END:VEVENT
BEGIN:VEVENT
DTSTART;TZID=America/Los_Angeles:20241103T190000
DTEND;TZID=America/Los_Angeles:20241103T230000
DTSTAMP:20260423T221424
CREATED:20240930T213917Z
LAST-MODIFIED:20240930T213917Z
UID:13489-1730660400-1730674800@southsoundblues.org
SUMMARY:Billy Shew Blues Jam\, every Sunday at Dawson’s
DESCRIPTION:Billy Shew Blues Jam\, every Sunday at Dawson’s\, 7-11 pm
URL:https://southsoundblues.org/event/billy-shew-blues-jam-every-sunday-at-dawsons-25/
LOCATION:Dawson’s Bar & Grill\, 5443 South Tacoma Way\, Tacoma\, WA\, 98409
CATEGORIES:Local South Sound Blues
END:VEVENT
BEGIN:VEVENT
DTSTART;TZID=America/Los_Angeles:20241103T190000
DTEND;TZID=America/Los_Angeles:20241103T220000
DTSTAMP:20260423T221424
CREATED:20241007T203646Z
LAST-MODIFIED:20241007T203646Z
UID:13548-1730660400-1730671200@southsoundblues.org
SUMMARY:Sunday Blues at the Spar with the Annie Eastwood All-Stars
DESCRIPTION:Nov 3rd at the Spar\, Annie Eastwood All Stars\, 7-10pm
URL:https://southsoundblues.org/event/sunday-blues-at-the-spar-with-the-annie-eastwood-all-stars/
LOCATION:The Spar\, 2121 N 30th St\, Tacoma\, WA\, 98403
CATEGORIES:Local South Sound Blues
END:VEVENT
BEGIN:VEVENT
DTSTART;TZID=America/Los_Angeles:20241102T200000
DTEND;TZID=America/Los_Angeles:20241102T233000
DTSTAMP:20260423T221424
CREATED:20241102T194756Z
LAST-MODIFIED:20241102T194756Z
UID:13748-1730577600-1730590200@southsoundblues.org
SUMMARY:The Soulful 88's at Dawson's
DESCRIPTION:The Soulful 88’s at Dawson’s Saturday\, November 2nd\, 8pm
URL:https://southsoundblues.org/event/the-soulful-88s-at-dawsons-2/
LOCATION:Dawson’s Bar & Grill\, 5443 South Tacoma Way\, Tacoma\, WA\, 98409
CATEGORIES:Local South Sound Blues
END:VEVENT
BEGIN:VEVENT
DTSTART;TZID=America/Los_Angeles:20241102T190000
DTEND;TZID=America/Los_Angeles:20241102T220000
DTSTAMP:20260423T221424
CREATED:20241007T234920Z
LAST-MODIFIED:20241007T234920Z
UID:13618-1730574000-1730584800@southsoundblues.org
SUMMARY:Cory Wilds Band at the Chalet Theatre\, Enumclaw
DESCRIPTION:Cory Wilds Band at the Chalet Theatre\, November 2nd\, 7-10 pm\n\n  \nLocation: Chalet Theatre\, 1721 Wells St\, Enumclaw\, WA 98022\, USA
URL:https://southsoundblues.org/event/cory-wilds-band-at-the-chalet-theatre-enumclaw/
LOCATION:Chalet Theatre\, 1721 Wells St\, Enumclaw\, WA\, 98022
CATEGORIES:Local South Sound Blues
END:VEVENT
BEGIN:VEVENT
DTSTART;TZID=America/Los_Angeles:20241102T180000
DTEND;TZID=America/Los_Angeles:20241102T180000
DTSTAMP:20260423T221424
CREATED:20241022T232352Z
LAST-MODIFIED:20241022T232352Z
UID:13684-1730570400-1730570400@southsoundblues.org
SUMMARY:Nick Cain Band with Billy Shew at The Garage Bar & Grill\, Bremerton
DESCRIPTION:Nick Cain Band with Billy Shew at The Garage Bar & Grill November 2nd\, 6pm
URL:https://southsoundblues.org/event/nick-cain-band-with-billy-shew-at-the-garage-bar-grill-bremerton/
LOCATION:The Garage Bar and Grill\, 6812 Kitsap Way\, Bremerton\, WA\, 98312
CATEGORIES:Featured
END:VEVENT
BEGIN:VEVENT
DTSTART;TZID=America/Los_Angeles:20241101T190000
DTEND;TZID=America/Los_Angeles:20241101T210000
DTSTAMP:20260423T221424
CREATED:20240903T174227Z
LAST-MODIFIED:20240903T174227Z
UID:13385-1730487600-1730494800@southsoundblues.org
SUMMARY:HD Fusion at Kimball Coffeehouse
DESCRIPTION:November 1st\, HD Fusion at Kimball Coffeehouse\, 7-9 pm\n\n\n\n 6659 Kimball Drive\, Suite A102\, Gig Harbor\, W
URL:https://southsoundblues.org/event/hd-fusion-at-kimball-coffeehouse/
LOCATION:Kimball’s Coffeehouse\, 6659 Kimball Dr\, Gig Harbor\, WA\, 98335
CATEGORIES:Featured
END:VEVENT
BEGIN:VEVENT
DTSTART;TZID=America/Los_Angeles:20241031T180000
DTEND;TZID=America/Los_Angeles:20241031T203000
DTSTAMP:20260423T221424
CREATED:20241014T070835Z
LAST-MODIFIED:20241014T070835Z
UID:13664-1730397600-1730406600@southsoundblues.org
SUMMARY:Taylor Hardin solo at Toscano's\, Puyallup
DESCRIPTION:Taylor Hardin solo at Toscano’s Italian restaurant October 31st\, 6-8:30pm. on Toscanos Terrazzo covered\, heated space!
URL:https://southsoundblues.org/event/taylor-hardin-solo-at-toscanos-puyallup/
LOCATION:Toscano’s Italian Restaurant\, 437 29TH ST NE STE G\, Puyallup\, WA\, 98372
CATEGORIES:Local South Sound Blues
END:VEVENT
BEGIN:VEVENT
DTSTART;TZID=America/Los_Angeles:20241030T190000
DTEND;TZID=America/Los_Angeles:20241030T220000
DTSTAMP:20260423T221424
CREATED:20241031T002135Z
LAST-MODIFIED:20241031T002135Z
UID:13709-1730314800-1730325600@southsoundblues.org
SUMMARY:Wednesdays Blues “Jam Night” with Brian Olver and Glenn Hummel at Purdy’s\, Sumner
DESCRIPTION:Wednesdays Blues “Jam Night” with Brian Olver and Glenn Hummel at Purdy’s\, Sumner\, WA. 7-10 pm
URL:https://southsoundblues.org/event/wednesdays-blues-jam-night-with-brian-olver-and-glenn-hummel-at-purdys-sumner-17/
LOCATION:Purdy’s Public House & Arcade\, Sumner\, 16202 64th St E\, Sumner\, WA\, 98390
CATEGORIES:Local South Sound Blues
END:VEVENT
BEGIN:VEVENT
DTSTART;TZID=America/Los_Angeles:20241030T180000
DTEND;TZID=America/Los_Angeles:20241030T180000
DTSTAMP:20260423T221424
CREATED:20240902T205351Z
LAST-MODIFIED:20240902T205351Z
UID:13366-1730311200-1730311200@southsoundblues.org
SUMMARY:Fusion Axe at the Spar
DESCRIPTION:Oct 30th\, Fusion Axe at the Spar\, 6 pm
URL:https://southsoundblues.org/event/fusion-axe-at-the-spar/
LOCATION:The Spar\, 2121 N 30th St\, Tacoma\, WA\, 98403
CATEGORIES:Featured
END:VEVENT
BEGIN:VEVENT
DTSTART;TZID=America/Los_Angeles:20241029T190000
DTEND;TZID=America/Los_Angeles:20241029T210000
DTSTAMP:20260423T221424
CREATED:20240708T202545Z
LAST-MODIFIED:20240813T214736Z
UID:13009-1730228400-1730235600@southsoundblues.org
SUMMARY:SSBA All-Star Tribute to Jerry Miller\, at Purdy's Public House and Arcade\, Sumner WA
DESCRIPTION:SSBA All-Star Tribute to Jerry Miller\, at Purdy’s Public House October 29th 7-9 pm.
URL:https://southsoundblues.org/event/purdys-tuesday-blues-showcase-features-the-jerry-miller-band-at-purdys-public-house-and-arcade-sumner-wa/
LOCATION:Purdy’s Public House & Arcade\, Sumner\, 16202 64th St E\, Sumner\, WA\, 98390
CATEGORIES:Local South Sound Blues,Special Event,SSBA Event
END:VEVENT
BEGIN:VEVENT
DTSTART;TZID=America/Los_Angeles:20241028T180000
DTEND;TZID=America/Los_Angeles:20241028T210000
DTSTAMP:20260423T221424
CREATED:20240903T220519Z
LAST-MODIFIED:20240903T220837Z
UID:13400-1730138400-1730149200@southsoundblues.org
SUMMARY:Monday Jazz at Brother Don’s Bar & Grill\, Bremerton
DESCRIPTION:Monday Jazz at Brother Don’s Bar & Grill\, Bremerton\, 6-9 pm.
URL:https://southsoundblues.org/event/monday-jazz-at-brother-dons-bar-grill-bremerton-4/
LOCATION:Brother Don’s Bar & Grill\, 4200 Kitsap Way\, Bremerton\, WA\, 98312
CATEGORIES:Local South Sound Blues
END:VEVENT
BEGIN:VEVENT
DTSTART;TZID=America/Los_Angeles:20241027T190000
DTEND;TZID=America/Los_Angeles:20241027T220000
DTSTAMP:20260423T221424
CREATED:20240902T205141Z
LAST-MODIFIED:20241023T200057Z
UID:13364-1730055600-1730066400@southsoundblues.org
SUMMARY:Sunday Blues at the Spar
DESCRIPTION:Oct 27th\, Sunday Blues at the Spar 7-10 pm
URL:https://southsoundblues.org/event/cory-wilds-band-at-the-spar/
LOCATION:The Spar\, 2121 N 30th St\, Tacoma\, WA\, 98403
CATEGORIES:Local South Sound Blues
END:VEVENT
BEGIN:VEVENT
DTSTART;TZID=America/Los_Angeles:20241027T160000
DTEND;TZID=America/Los_Angeles:20241027T173000
DTSTAMP:20260423T221424
CREATED:20240619T182528Z
LAST-MODIFIED:20240619T182528Z
UID:12883-1730044800-1730050200@southsoundblues.org
SUMMARY:An Acoustic Evening with John Hiatt at the Performance Art Events Center\, Federal Way
DESCRIPTION:PAEC presents\, ‘An Acoustic Evening with John Hiatt’\, Sunday\, October 27th at 4pm\nAn Acoustic Evening With John Hiatt\nJohn Hiatt’s legacy reaches far and wide across the Great American Songwriter’s landscape. The Indiana native has long been regarded as one of the most respected and gifted songwriters of our time.\nTickets are $44-$71.\nhttps://www.etix.com/ticket/v/23921/federal-way-performing-arts-and-event-center??performance_id=5201673&country=US&language=en\nDoors open at 3:00
URL:https://southsoundblues.org/event/an-acoustic-evening-with-john-hiatt-at-the-performance-art-events-center-federal-way/
LOCATION:Federal Way Performing Arts & Events Center\, 31510 Pete von Reichbauer Way S\, Federal Way\, WA\, 98003
CATEGORIES:Special Event
END:VEVENT
BEGIN:VEVENT
DTSTART;TZID=America/Los_Angeles:20241026T210000
DTEND;TZID=America/Los_Angeles:20241026T233000
DTSTAMP:20260423T221424
CREATED:20241008T000441Z
LAST-MODIFIED:20241008T000441Z
UID:13623-1729976400-1729985400@southsoundblues.org
SUMMARY:Halloween Bash with The Cory Wilds Band at Stimpy's Sports Bar and Grill\, Kent
DESCRIPTION:Cory Wilds Band at Stimpy’s Sports Bar and Grill\, October 26th\,  9-11:30 pm\n\n\n  \nLocation: Stimpy’s Sports Bar and Grill\, 25608 Pacific Hwy S\, Kent\, WA 98032
URL:https://southsoundblues.org/event/halloween-bash-with-the-cory-wilds-band-at-stimpys-sports-bar-and-grill-kent/
LOCATION:Stimpy’s Sports Bar and Grill\, 25608 Pacific Hwy S\, Kent\, WA\, 98032
END:VEVENT
END:VCALENDAR