BEGIN:VCALENDAR
VERSION:2.0
PRODID:-//South Sound Blues Association - ECPv6.15.18//NONSGML v1.0//EN
CALSCALE:GREGORIAN
METHOD:PUBLISH
X-WR-CALNAME:South Sound Blues Association
X-ORIGINAL-URL:https://southsoundblues.org
X-WR-CALDESC:Events for South Sound Blues Association
REFRESH-INTERVAL;VALUE=DURATION:PT1H
X-Robots-Tag:noindex
X-PUBLISHED-TTL:PT1H
BEGIN:VTIMEZONE
TZID:America/Los_Angeles
BEGIN:DAYLIGHT
TZOFFSETFROM:-0800
TZOFFSETTO:-0700
TZNAME:PDT
DTSTART:20240310T100000
END:DAYLIGHT
BEGIN:STANDARD
TZOFFSETFROM:-0700
TZOFFSETTO:-0800
TZNAME:PST
DTSTART:20241103T090000
END:STANDARD
BEGIN:DAYLIGHT
TZOFFSETFROM:-0800
TZOFFSETTO:-0700
TZNAME:PDT
DTSTART:20250309T100000
END:DAYLIGHT
BEGIN:STANDARD
TZOFFSETFROM:-0700
TZOFFSETTO:-0800
TZNAME:PST
DTSTART:20251102T090000
END:STANDARD
BEGIN:DAYLIGHT
TZOFFSETFROM:-0800
TZOFFSETTO:-0700
TZNAME:PDT
DTSTART:20260308T100000
END:DAYLIGHT
BEGIN:STANDARD
TZOFFSETFROM:-0700
TZOFFSETTO:-0800
TZNAME:PST
DTSTART:20261101T090000
END:STANDARD
END:VTIMEZONE
BEGIN:VEVENT
DTSTART;TZID=America/Los_Angeles:20250307T193000
DTEND;TZID=America/Los_Angeles:20250307T223000
DTSTAMP:20260423T151816
CREATED:20241228T084217Z
LAST-MODIFIED:20241228T084217Z
UID:14043-1741375800-1741386600@southsoundblues.org
SUMMARY:Colin James at the Admiral Theater\, Bremerton
DESCRIPTION:Colin James at the Admiral Theater March 7th\, 7:30-10:30 pm\nColin James’s career spans 30 years\, with a track record that includes 20 studio albums\, 8 Juno Awards\, 30 Maple Blues Awards and multi-platinum record sales. His album Open Road\, for which he won a 2022 Juno Award for best Blues Album and was nominated for Blues Foundation 2023 best Blues Rock Album\, is a celebration of personal connections. It includes original tunes written with long time collaborators such as Colin Linden\, Craig \nNorthey and Tom Wilson and reinterpretations of covers by a diverse group of songwriters including Bob Dylan\, Albert King\, Tony Joe White and others.\n\nDoors are at 6:30 pm\,  Tickets:    https://ci.ovationtix.com/36645/production/1197873?performanceId=11455594\n\n\n\n\n\nAdmiral Theater\, 515 Pacific Ave\, Bremerton\, WA 98337
URL:https://southsoundblues.org/event/colin-james-at-the-admiral-theater-bremerton/
LOCATION:Admiral Theater\, 515 Pacific Ave\, Bremerton\, WA\, 98337
CATEGORIES:Local South Sound Blues,Special Event
END:VEVENT
BEGIN:VEVENT
DTSTART;TZID=America/Los_Angeles:20250307T190000
DTEND;TZID=America/Los_Angeles:20250307T210000
DTSTAMP:20260423T151816
CREATED:20250107T015439Z
LAST-MODIFIED:20250107T015439Z
UID:14127-1741374000-1741381200@southsoundblues.org
SUMMARY:King Kom Beaux at Kimball Coffeehouse
DESCRIPTION:King Kom Beaux at Kimball Coffeehouse Friday March 7th\, 7-9 pm
URL:https://southsoundblues.org/event/king-kom-beaux-at-kimball-coffeehouse/
LOCATION:Kimball’s Coffeehouse\, 6659 Kimball Dr\, Gig Harbor\, WA\, 98335
CATEGORIES:Local South Sound Blues
END:VEVENT
BEGIN:VEVENT
DTSTART;TZID=America/Los_Angeles:20250306T200000
DTEND;TZID=America/Los_Angeles:20250306T230000
DTSTAMP:20260423T151816
CREATED:20241228T210751Z
LAST-MODIFIED:20241228T210926Z
UID:14066-1741291200-1741302000@southsoundblues.org
SUMMARY:Thursdays\, Steve Itterly & Guests at the Snapdragon
DESCRIPTION:Thursdays\, Steve Itterly & Guests at the Snapdragon\, 8-11 pm\nSteve Itterly & Guests\n\nEvery Thursday night at Snapdragon\, 8pm (after Trivia)\n\n\nThe acclaimed blues guitarist and songwriter\, Steve Itterly\, The performances resonate with a dynamic connection\, evident in the rhythmic boot stomping and impassioned solos that characterize their music.\n\n 
URL:https://southsoundblues.org/event/thursdays-steve-itterly-guests-at-the-snapdragon-2/
LOCATION:Snapdragon\, 17817 Vashon Hwy\, Vashon\, WA\, 98070
CATEGORIES:Local South Sound Blues
END:VEVENT
BEGIN:VEVENT
DTSTART;TZID=America/Los_Angeles:20250305T190000
DTEND;TZID=America/Los_Angeles:20250305T220000
DTSTAMP:20260423T151816
CREATED:20250113T223403Z
LAST-MODIFIED:20250113T223403Z
UID:14144-1741201200-1741212000@southsoundblues.org
SUMMARY:Wednesdays Blues “Jam Night” with Brian Olver and Glenn Hummel at Purdy’s\, Sumner
DESCRIPTION:Wednesdays Blues “Jam Night” with Brian Olver and Glenn Hummel at Purdy’s\, Sumner\, WA. 7-10 pm
URL:https://southsoundblues.org/event/wednesdays-blues-jam-night-with-brian-olver-and-glenn-hummel-at-purdys-sumner-21/
LOCATION:Purdy’s Public House & Arcade\, Sumner\, 16202 64th St E\, Sumner\, WA\, 98390
CATEGORIES:Local South Sound Blues
END:VEVENT
BEGIN:VEVENT
DTSTART;TZID=America/Los_Angeles:20250305T180000
DTEND;TZID=America/Los_Angeles:20250305T210000
DTSTAMP:20260423T151816
CREATED:20250127T203120Z
LAST-MODIFIED:20250127T203120Z
UID:14231-1741197600-1741208400@southsoundblues.org
SUMMARY:Wednesday Jazz at the Spar
DESCRIPTION:Jazz\, Wednesday’s at the Spar\, 6-9 pm 
URL:https://southsoundblues.org/event/wednesday-jazz-at-the-spar-3/
LOCATION:The Spar\, 2121 N 30th St\, Tacoma\, WA\, 98403
CATEGORIES:Featured
END:VEVENT
BEGIN:VEVENT
DTSTART;TZID=America/Los_Angeles:20250304T190000
DTEND;TZID=America/Los_Angeles:20250304T220000
DTSTAMP:20260423T151816
CREATED:20241228T084759Z
LAST-MODIFIED:20241228T084759Z
UID:14048-1741114800-1741125600@southsoundblues.org
SUMMARY:Jam every Tuesday at Brother Don’s Bar & Grill with the Tim Hall band
DESCRIPTION:Jam every Tuesday at Brother Don’s Bar & Grill with the Tim Hall band\, 7-10 pm.
URL:https://southsoundblues.org/event/jam-every-tuesday-at-brother-dons-bar-grill-with-the-tim-hall-band-11/
LOCATION:Brother Don’s Bar & Grill\, 4200 Kitsap Way\, Bremerton\, WA\, 98312
CATEGORIES:Local South Sound Blues
END:VEVENT
BEGIN:VEVENT
DTSTART;TZID=America/Los_Angeles:20250303T200000
DTEND;TZID=America/Los_Angeles:20250303T220000
DTSTAMP:20260423T151816
CREATED:20241228T065421Z
LAST-MODIFIED:20241228T065421Z
UID:14009-1741032000-1741039200@southsoundblues.org
SUMMARY:Mike Witmer hosts “Mojo Mike’s Blues Revue” every Monday on KVSH 101.9 FM
DESCRIPTION:Mike Witmer hosts “Mojo Mike’s Blues Revue” every Monday on KVSH 101.9 FM 8-10 pm
URL:https://southsoundblues.org/event/mike-witmer-hosts-mojo-mikes-blues-revue-every-monday-on-kvsh-101-9-fm-32/
LOCATION:KVSH\, 17643 Vashon Hwy SW\, Vashon Island\, WA\, 98070
CATEGORIES:Local South Sound Blues
END:VEVENT
BEGIN:VEVENT
DTSTART;TZID=America/Los_Angeles:20250302T190000
DTEND;TZID=America/Los_Angeles:20250302T220000
DTSTAMP:20260423T151816
CREATED:20241228T090054Z
LAST-MODIFIED:20250227T220918Z
UID:14058-1740942000-1740952800@southsoundblues.org
SUMMARY:Sunday Blues at the Spar featuring Mark Hurwitz & Gin Creek
DESCRIPTION:Sunday Blues at the Spar\, Mark Hurwitz & Gin Creek\, 7-10 pm
URL:https://southsoundblues.org/event/sunday-blues-at-the-spar-13/
LOCATION:The Spar\, 2121 N 30th St\, Tacoma\, WA\, 98403
CATEGORIES:Local South Sound Blues
END:VEVENT
BEGIN:VEVENT
DTSTART;TZID=America/Los_Angeles:20250301T200000
DTEND;TZID=America/Los_Angeles:20250301T230000
DTSTAMP:20260423T151816
CREATED:20241228T081035Z
LAST-MODIFIED:20241228T081035Z
UID:14039-1740859200-1740870000@southsoundblues.org
SUMMARY:John Stephan Band at the Madison Pub
DESCRIPTION:John Stephan Band @ Madison Pub March 1st\, 8pm
URL:https://southsoundblues.org/event/john-stephan-band-at-the-madison-pub/
LOCATION:Madison Avenue Pub\, 905 Madison St\, Everett\, WA\, 98203
CATEGORIES:Featured
END:VEVENT
BEGIN:VEVENT
DTSTART;TZID=America/Los_Angeles:20250301T190000
DTEND;TZID=America/Los_Angeles:20250301T223000
DTSTAMP:20260423T151816
CREATED:20241220T222014Z
LAST-MODIFIED:20241220T222036Z
UID:13955-1740855600-1740868200@southsoundblues.org
SUMMARY:Northwest Blues Allstars at the Triple Door Theatre\, Seattle
DESCRIPTION:Northwest Blues Allstars at the Triple Door Theatre in Seattle\,  March 1st\, show starts at 7:30
URL:https://southsoundblues.org/event/northwest-blues-allstars-at-the-triple-door-theatre-seattle/
LOCATION:The Triple Door\, 216 Union St\,\, Seattle\, WA\, 98101
CATEGORIES:Special Event
END:VEVENT
BEGIN:VEVENT
DTSTART;TZID=America/Los_Angeles:20250228T200000
DTEND;TZID=America/Los_Angeles:20250228T223000
DTSTAMP:20260423T151816
CREATED:20241228T231144Z
LAST-MODIFIED:20241228T231420Z
UID:14104-1740772800-1740781800@southsoundblues.org
SUMMARY:Reverend Horton Heat at the Spanish Ballroom
DESCRIPTION:Reverend Horton Heat at the Spanish Ballroom Friday\, February 28th\, 7 pm doors\, 8 pm show\nTrue to his high evangelical calling\, Jim is a Revelator\, both revealing & reinterpreting the country-blues-rock roots of American music. He’s a time-travelling space-cowboy on a endless interstellar musical tour\, and we are all the richer & “psychobillier” for getting to tag along. Jim Heath & Jimbo Wallace have chewed up more road than the Google Maps drivers. For twenty-five Psychobilly years\, they have blazed an indelible\, unforgettable\, and meteoric trail across the globe with their unique blend of musical virtuosity\, legendary showmanship\, and mythic imagery. \n\n\n\n\n\n\n\n$35.50 advance\, $40.50 day of show\, $45.50 advance Mezzanine\, $50.50 day of show Mezzanine \n21 and over
URL:https://southsoundblues.org/event/reverend-horton-heat-at-the-spanish-ballroom/
LOCATION:McMenaminsTacoma Elks\, 565 Broadway\, Tacoma\, WA\, 98402
CATEGORIES:Local South Sound Blues
END:VEVENT
BEGIN:VEVENT
DTSTART;TZID=America/Los_Angeles:20250227T190000
DTEND;TZID=America/Los_Angeles:20250227T220000
DTSTAMP:20260423T151816
CREATED:20241228T221547Z
LAST-MODIFIED:20241228T221547Z
UID:14081-1740682800-1740693600@southsoundblues.org
SUMMARY:“Billy the Pocket Jam” Thursday nights at Dawson’s
DESCRIPTION:“Billy the Pocket Jam” Thursday nights at Dawson’s\, 7-10 pm
URL:https://southsoundblues.org/event/billy-the-pocket-jam-thursday-nights-at-dawsons-3/
LOCATION:Dawson’s Bar & Grill\, 5443 South Tacoma Way\, Tacoma\, WA\, 98409
CATEGORIES:Local South Sound Blues
END:VEVENT
BEGIN:VEVENT
DTSTART;TZID=America/Los_Angeles:20250226T193000
DTEND;TZID=America/Los_Angeles:20250226T220000
DTSTAMP:20260423T151816
CREATED:20241206T224108Z
LAST-MODIFIED:20241206T224454Z
UID:13924-1740598200-1740607200@southsoundblues.org
SUMMARY:Ronnie Baker Brooks at Jazz Alley\, Seattle
DESCRIPTION:Ronnie Baker Brooks – Tue\, Feb 25 – Wed\, Feb 26\, 2025 – Jazz Alley\, 7:30 pm\nhttps://www.jazzalley.com/www-home/artist.jsp?shownum=7618 \nDimitiriou’s Jazz Alley welcomes living Chicago blues legend and Alligator Recording artist Ronnie Baker Brooks\, on tour in support of his new release Blues In My DNA (10/11/2024) for two nights and two shows. Band members are Ronnie Baker Brooks (guitar/vocals)\, Daryl Coutts (organ)\, Philip Castleberry (bass) and Chris Singleton (drums). Show times Tuesday and Wednesday at 7:30pm. Doors open at 6:00pm each night. This show is supported by KNKX and the Washington Blues Society
URL:https://southsoundblues.org/event/ronnie-baker-brooks-at-jazz-alley-seattle/
LOCATION:Dimitriou’s Jazz Alley\, 2033 6th Avenue\, Seattle\, WA\, 98121
CATEGORIES:Featured
END:VEVENT
BEGIN:VEVENT
DTSTART;TZID=America/Los_Angeles:20250226T180000
DTEND;TZID=America/Los_Angeles:20250226T210000
DTSTAMP:20260423T151816
CREATED:20250130T232054Z
LAST-MODIFIED:20250130T232054Z
UID:14277-1740592800-1740603600@southsoundblues.org
SUMMARY:Live Jazz at the Spar with How Now Brown Cow
DESCRIPTION:Wed\, Feb 26th – How Now Brown Cow at the Spar\, 6-9 pm
URL:https://southsoundblues.org/event/live-jazz-at-the-spar-with-how-now-brown-cow/
LOCATION:The Spar\, 2121 N 30th St\, Tacoma\, WA\, 98403
CATEGORIES:Featured
END:VEVENT
BEGIN:VEVENT
DTSTART;TZID=America/Los_Angeles:20250225T190000
DTEND;TZID=America/Los_Angeles:20250225T210000
DTSTAMP:20260423T151816
CREATED:20241031T010207Z
LAST-MODIFIED:20241031T010207Z
UID:13736-1740510000-1740517200@southsoundblues.org
SUMMARY:"Tuesday Blues Showcase" featuring the Billy Shew Band at Purdy's Public House & Arcade\, Sumner
DESCRIPTION:“Tuesday Blues Showcase” featuring the Billy Shew Band at Purdy’s Public House & Arcade\, February 25th\, 7-9 pm
URL:https://southsoundblues.org/event/tuesday-blues-showcase-featuring-the-billy-shew-band-at-purdys-public-house-arcade-sumner/
LOCATION:Purdy’s Public House & Arcade\, Sumner\, 16202 64th St E\, Sumner\, WA\, 98390
CATEGORIES:Local South Sound Blues
END:VEVENT
BEGIN:VEVENT
DTSTART;TZID=America/Los_Angeles:20250224T200000
DTEND;TZID=America/Los_Angeles:20250224T220000
DTSTAMP:20260423T151816
CREATED:20241228T230354Z
LAST-MODIFIED:20241228T230354Z
UID:14102-1740427200-1740434400@southsoundblues.org
SUMMARY:Mike Witmer hosts “Mojo Mike’s Blues Revue” every Monday on KVSH 101.9 FM
DESCRIPTION:Mike Witmer hosts “Mojo Mike’s Blues Revue” every Monday on KVSH 101.9 FM 8-10 pm
URL:https://southsoundblues.org/event/mike-witmer-hosts-mojo-mikes-blues-revue-every-monday-on-kvsh-101-9-fm-34/
LOCATION:KVSH\, 17643 Vashon Hwy SW\, Vashon Island\, WA\, 98070
CATEGORIES:Local South Sound Blues
END:VEVENT
BEGIN:VEVENT
DTSTART;TZID=America/Los_Angeles:20250223T190000
DTEND;TZID=America/Los_Angeles:20250223T220000
DTSTAMP:20260423T151816
CREATED:20241228T081429Z
LAST-MODIFIED:20241228T081429Z
UID:14041-1740337200-1740348000@southsoundblues.org
SUMMARY:Sunday Blues at the Spar with McPage & Powell Band
DESCRIPTION:McPage & Powell Band at The Historic Spar Tavern for Sunday Blues\n\nSunday February 23rd 7:00- 10:00pm
URL:https://southsoundblues.org/event/sunday-blues-at-the-spar-with-mcpage-powell-band/
LOCATION:The Spar\, 2121 N 30th St\, Tacoma\, WA\, 98403
CATEGORIES:Local South Sound Blues
END:VEVENT
BEGIN:VEVENT
DTSTART;TZID=America/Los_Angeles:20250223T190000
DTEND;TZID=America/Los_Angeles:20250223T220000
DTSTAMP:20260423T151816
CREATED:20241228T072756Z
LAST-MODIFIED:20241228T072756Z
UID:14024-1740337200-1740348000@southsoundblues.org
SUMMARY:Ayron Jones at the Moore Theatre\, Seattle
DESCRIPTION:Ayron Jones at the Moore Theatre\, February 23rd\, 7pm\n  \n\n\n\n\nMoore Theatre \n\n\n1932 2nd Ave\nSeattle\, WA 98101
URL:https://southsoundblues.org/event/ayron-jones-at-the-moore-theatre-seattle/
LOCATION:Moore Theatre\, 1932 2nd Avenue\, Seattle\, WA\, 98101
CATEGORIES:Featured
END:VEVENT
BEGIN:VEVENT
DTSTART;TZID=America/Los_Angeles:20250222T200000
DTEND;TZID=America/Los_Angeles:20250222T233000
DTSTAMP:20260423T151816
CREATED:20250208T003536Z
LAST-MODIFIED:20250208T003536Z
UID:14299-1740254400-1740267000@southsoundblues.org
SUMMARY:Heather Jones & The Groove Masters at Dawson's
DESCRIPTION:Heather Jones & The Groove Masters at Dawson’s February 22nd\, 8 Pm\n 
URL:https://southsoundblues.org/event/heather-jones-the-groove-masters-at-dawsons-4/
LOCATION:Dawson’s Bar & Grill\, 5443 South Tacoma Way\, Tacoma\, WA\, 98409
CATEGORIES:Local South Sound Blues
END:VEVENT
BEGIN:VEVENT
DTSTART;TZID=America/Los_Angeles:20250222T200000
DTEND;TZID=America/Los_Angeles:20250222T223000
DTSTAMP:20260423T151816
CREATED:20250217T211218Z
LAST-MODIFIED:20250217T214001Z
UID:14349-1740254400-1740263400@southsoundblues.org
SUMMARY:Mark Hummel's Harp Blowout at the Airport Tavern\, Tacoma
DESCRIPTION:MARK HUMMEL’S HARP BLOWOUT at the Airport Tavern February 22nd\, at 8pm\n\n5406 S. Tacoma Way Tacoma WA 98409
URL:https://southsoundblues.org/event/mark-hummels-harp-blowout-at-the-airport-tavern-tacoma/
LOCATION:Airport Tavern\, 5406 S Tacoma Way\, Tacoma\, WA\, 98409
CATEGORIES:Local South Sound Blues
END:VEVENT
BEGIN:VEVENT
DTSTART;TZID=America/Los_Angeles:20250222T190000
DTEND;TZID=America/Los_Angeles:20250222T220000
DTSTAMP:20260423T151816
CREATED:20241228T221909Z
LAST-MODIFIED:20250130T231822Z
UID:14083-1740250800-1740261600@southsoundblues.org
SUMMARY:Live music at the Spar with the Twang Junkies
DESCRIPTION:Live music at the Spar 7-10 pm Sat\, Feb 22nd – Twang Junkies\n 
URL:https://southsoundblues.org/event/live-music-at-the-spar-3/
LOCATION:The Spar\, 2121 N 30th St\, Tacoma\, WA\, 98403
CATEGORIES:Featured
END:VEVENT
BEGIN:VEVENT
DTSTART;TZID=America/Los_Angeles:20250221T200000
DTEND;TZID=America/Los_Angeles:20250221T230000
DTSTAMP:20260423T151816
CREATED:20241228T080737Z
LAST-MODIFIED:20241228T080737Z
UID:14037-1740168000-1740178800@southsoundblues.org
SUMMARY:Tumbling Dice at the Salmon Bay Eagles
DESCRIPTION:Tumbling Dice at the Salmon Bay Eagles February 21st\, 8pm\n\nTumbling Dice is on the journey to becoming the Pacific Northwest’s premier Rolling Stones cover band. While formed only a few years ago\, all five members are not only lovers of the Stone’s timeless music\, but are all experienced musicians who don’t just “play” the songs\, but bring true energy and love of music to their performances.” Band member: David Walthew – lead singer\, Ciggy Carter – rhythm guitar\, Patrick McKenna – lead guitar\, Dom Campese – drums and Jimmy Boal – bass
URL:https://southsoundblues.org/event/tumbling-dice-at-the-salmon-bay-eagles/
LOCATION:Salmon Bay Eagles\, 5216 20th Ave NW\, Seattle\, WA\, 98107
CATEGORIES:Featured
END:VEVENT
BEGIN:VEVENT
DTSTART;TZID=America/Los_Angeles:20250221T190000
DTEND;TZID=America/Los_Angeles:20250221T210000
DTSTAMP:20260423T151816
CREATED:20250124T214837Z
LAST-MODIFIED:20250124T214837Z
UID:14207-1740164400-1740171600@southsoundblues.org
SUMMARY:Soulful 88s at the Kimball Coffeehouse
DESCRIPTION:February 21st\, Soulful 88s at the Kimball Coffeehouse\, 7-9 pm\n \n\n 6659 Kimball Drive\, Suite A102\, Gig Harbor\,
URL:https://southsoundblues.org/event/soulful-88s-at-the-kimball-coffeehouse/
LOCATION:Kimball’s Coffeehouse\, 6659 Kimball Dr\, Gig Harbor\, WA\, 98335
CATEGORIES:Local South Sound Blues
END:VEVENT
BEGIN:VEVENT
DTSTART;TZID=America/Los_Angeles:20250221T180000
DTEND;TZID=America/Los_Angeles:20250221T200000
DTSTAMP:20260423T151816
CREATED:20250124T222805Z
LAST-MODIFIED:20250124T222805Z
UID:14214-1740160800-1740168000@southsoundblues.org
SUMMARY:Kristen Marlo at Post & Pour Cafe\, Bonny Lake
DESCRIPTION:Kristen Marlo at Post & Pour Cafe February 21st\, 6:00 pm\n\nKristen Marlo\n 
URL:https://southsoundblues.org/event/kristen-marlo-at-post-pour-cafe-bonny-lake/
LOCATION:Post and Pour Cafe\, 19001 Cascadia Boulevard East\, Bonney Lake\, WA\, 98391
CATEGORIES:Featured
END:VEVENT
BEGIN:VEVENT
DTSTART;VALUE=DATE:20250221
DTEND;VALUE=DATE:20250224
DTSTAMP:20260423T151816
CREATED:20240822T192251Z
LAST-MODIFIED:20240822T214900Z
UID:13305-1740103200-1740275999@southsoundblues.org
SUMMARY:Poulsbo Blues and Jazz Festival in Downtown Poulsbo
DESCRIPTION:February 21st – 22nd\, Poulsbo Blues and Jazz Festival in Downtown Poulsbo\n \nThe festival begins at 5:30 pm on Friday\, Feb 21st and ends at 11pm. On Saturday\, Feb 22nd\, it begins at 2:30 and ends at 11 pm. \nSee their website\, Poulsbobluesandjazzfestival.com or their Facebook page @poulsbobluesandjazzfestival for tickets and more information
URL:https://southsoundblues.org/event/poulsbo-blues-and-jazz-festival-in-downtown-poulsbo-february-21-22/
LOCATION:Slippery Pig Brewery\, 18801 Front St NE\, Poulsbo\, WA\, 98370
CATEGORIES:Festival,Local South Sound Blues
END:VEVENT
BEGIN:VEVENT
DTSTART;TZID=America/Los_Angeles:20250220T200000
DTEND;TZID=America/Los_Angeles:20250220T230000
DTSTAMP:20260423T151816
CREATED:20241228T221118Z
LAST-MODIFIED:20241228T221118Z
UID:14079-1740081600-1740092400@southsoundblues.org
SUMMARY:Mark Dufrense Band at the Salmon Bay Eagles
DESCRIPTION:Mark Dufrense Band at the Salmon Bay Eagles February 20th\, 8pm
URL:https://southsoundblues.org/event/mark-dufrense-band-at-the-salmon-bay-eagles/
LOCATION:Salmon Bay Eagles\, 5216 20th Ave NW\, Seattle\, WA\, 98107
CATEGORIES:Local South Sound Blues
END:VEVENT
BEGIN:VEVENT
DTSTART;TZID=America/Los_Angeles:20250220T190000
DTEND;TZID=America/Los_Angeles:20250220T230000
DTSTAMP:20260423T151816
CREATED:20250122T232904Z
LAST-MODIFIED:20250122T232904Z
UID:14197-1740078000-1740092400@southsoundblues.org
SUMMARY:Billy the Pocket Jam at Dawsons Celebrating three years!
DESCRIPTION:Billy the Pocket Jam at Dawsons Celebrating three years!
URL:https://southsoundblues.org/event/billy-the-pocket-jam-at-dawsons-celebrating-three-years/
LOCATION:Dawson’s Bar & Grill\, 5443 South Tacoma Way\, Tacoma\, WA\, 98409
CATEGORIES:Local South Sound Blues
END:VEVENT
BEGIN:VEVENT
DTSTART;TZID=America/Los_Angeles:20250220T170000
DTEND;TZID=America/Los_Angeles:20250220T170000
DTSTAMP:20260423T151816
CREATED:20250210T202108Z
LAST-MODIFIED:20250210T202108Z
UID:14306-1740070800-1740070800@southsoundblues.org
SUMMARY:James Coates at Cockrell Cider\, Puyallup
DESCRIPTION:Join Sumner\, WA singer-songwriter James Coates for an evening of soulful Americana stories and songs at Cockrell Cider Farm\, 5pm
URL:https://southsoundblues.org/event/james-coates-at-cockrell-cider-puyallup/
LOCATION:COCKRELL FARMS\, 6613 114TH AVE CT E\, PUYALLUP\, WA\, 98372
CATEGORIES:Featured
END:VEVENT
BEGIN:VEVENT
DTSTART;TZID=America/Los_Angeles:20250219T180000
DTEND;TZID=America/Los_Angeles:20250219T210000
DTSTAMP:20260423T151816
CREATED:20250130T231439Z
LAST-MODIFIED:20250130T231611Z
UID:14273-1739988000-1739998800@southsoundblues.org
SUMMARY:LTD Presents Spotlight at The Spar: Bennett/Matteo Band
DESCRIPTION:Wed\, Feb 19th – LTD Presents Spotlight at The Spar: Bennett/Matteo Band  6-9 pm
URL:https://southsoundblues.org/event/ltd-presents-spotlight-at-the-spar-bennett-matteo-band/
LOCATION:The Spar\, 2121 N 30th St\, Tacoma\, WA\, 98403
CATEGORIES:Featured
END:VEVENT
BEGIN:VEVENT
DTSTART;TZID=America/Los_Angeles:20250219T180000
DTEND;TZID=America/Los_Angeles:20250219T210000
DTSTAMP:20260423T151816
CREATED:20250113T223717Z
LAST-MODIFIED:20250113T223717Z
UID:14146-1739988000-1739998800@southsoundblues.org
SUMMARY:Billy Shew and Friends host an open Jam every Wednesday at Stockton’s
DESCRIPTION:Billy Shew and Friends host an open Jam every Wednesday at Stockton’s\, 6-9pm
URL:https://southsoundblues.org/event/billy-shew-and-friends-host-an-open-jam-every-wednesday-at-stocktons-28/
LOCATION:Stockton’s Restaurant & Spirits\, 23220 Maple Valley Black Diamond Rd SE\, Maple Valley\, WA\, 98038
CATEGORIES:Local South Sound Blues
END:VEVENT
END:VCALENDAR