BEGIN:VCALENDAR
VERSION:2.0
PRODID:-//South Sound Blues Association - ECPv6.15.18//NONSGML v1.0//EN
CALSCALE:GREGORIAN
METHOD:PUBLISH
X-WR-CALNAME:South Sound Blues Association
X-ORIGINAL-URL:https://southsoundblues.org
X-WR-CALDESC:Events for South Sound Blues Association
REFRESH-INTERVAL;VALUE=DURATION:PT1H
X-Robots-Tag:noindex
X-PUBLISHED-TTL:PT1H
BEGIN:VTIMEZONE
TZID:America/Los_Angeles
BEGIN:DAYLIGHT
TZOFFSETFROM:-0800
TZOFFSETTO:-0700
TZNAME:PDT
DTSTART:20240310T100000
END:DAYLIGHT
BEGIN:STANDARD
TZOFFSETFROM:-0700
TZOFFSETTO:-0800
TZNAME:PST
DTSTART:20241103T090000
END:STANDARD
BEGIN:DAYLIGHT
TZOFFSETFROM:-0800
TZOFFSETTO:-0700
TZNAME:PDT
DTSTART:20250309T100000
END:DAYLIGHT
BEGIN:STANDARD
TZOFFSETFROM:-0700
TZOFFSETTO:-0800
TZNAME:PST
DTSTART:20251102T090000
END:STANDARD
BEGIN:DAYLIGHT
TZOFFSETFROM:-0800
TZOFFSETTO:-0700
TZNAME:PDT
DTSTART:20260308T100000
END:DAYLIGHT
BEGIN:STANDARD
TZOFFSETFROM:-0700
TZOFFSETTO:-0800
TZNAME:PST
DTSTART:20261101T090000
END:STANDARD
END:VTIMEZONE
BEGIN:VEVENT
DTSTART;TZID=America/Los_Angeles:20251213T200000
DTEND;TZID=America/Los_Angeles:20251213T230000
DTSTAMP:20260423T025752
CREATED:20251021T213833Z
LAST-MODIFIED:20251021T213833Z
UID:16291-1765656000-1765666800@southsoundblues.org
SUMMARY:Heather Jones Duo at Rock the Dock\, Tacoma
DESCRIPTION:Heather Jones Duo at Rock the Dock\, Saturday\, December 13th\, 8-11 pm
URL:https://southsoundblues.org/event/heather-jones-duo-at-rock-the-dock-tacoma-2/
LOCATION:Rock the Dock\, 535 Dock St # 118\, Tacoma\, WA\, 98402
CATEGORIES:Local South Sound Blues
END:VEVENT
BEGIN:VEVENT
DTSTART;TZID=America/Los_Angeles:20251213T200000
DTEND;TZID=America/Los_Angeles:20251213T230000
DTSTAMP:20260423T025752
CREATED:20251030T194253Z
LAST-MODIFIED:20251030T194253Z
UID:16354-1765656000-1765666800@southsoundblues.org
SUMMARY:Harmonious Funk at Dawson's
DESCRIPTION:Harmonious Funk at Dawson’s December 13th\, 8-11 pm
URL:https://southsoundblues.org/event/harmonious-funk-at-dawsons/
LOCATION:Dawson’s Bar & Grill\, 5443 South Tacoma Way\, Tacoma\, WA\, 98409
CATEGORIES:Featured
END:VEVENT
BEGIN:VEVENT
DTSTART;TZID=America/Los_Angeles:20251214T170000
DTEND;TZID=America/Los_Angeles:20251214T183000
DTSTAMP:20260423T025752
CREATED:20251105T013413Z
LAST-MODIFIED:20251105T013413Z
UID:16469-1765731600-1765737000@southsoundblues.org
SUMMARY:Blues Vespers featuring the Stacy Jones Band at Kilworth Memorial Chapel\, UPS\, Tacoma
DESCRIPTION:Pastor Dave Brown’s Blues Vespers featuring the Stacy Jones Band at Kilworth Chapel December 14th\, 5pm\n 
URL:https://southsoundblues.org/event/blues-vespers-featuring-the-stacy-jones-band-at-kilworth-memorial-chapel-ups-tacoma/
LOCATION:Kilworth Memorial Chapel\, 3410 N 18th St\, Tacoma\, WA\, 98416
CATEGORIES:Local South Sound Blues
END:VEVENT
BEGIN:VEVENT
DTSTART;TZID=America/Los_Angeles:20251214T180000
DTEND;TZID=America/Los_Angeles:20251214T210000
DTSTAMP:20260423T025752
CREATED:20251030T002245Z
LAST-MODIFIED:20251030T002245Z
UID:16318-1765735200-1765746000@southsoundblues.org
SUMMARY:Tim Hall Blues Jam every Sunday at Zesty’s Steakhouse
DESCRIPTION:Tim Hall Blues Jam every Sunday at Zesty’s Steakhouse\, 6-9pm\n\n6PM-9PM Every Sunday\nBar & Lounge. Must be 21 & over to enter\nNo Cover Fee. First Come First Served\n\n\nZesty Steakhouse\n9905 Bridgeport Way SW\nLakewood\, WA 98499\n(253) 300-7993\n\nhttps://www.zestycajungrill.com/jam-night
URL:https://southsoundblues.org/event/tim-hall-blues-jam-every-sunday-at-zestys-steakhouse-16/
LOCATION:Zesty’s Cajun Steakhouse\, 9905 Bridgeport Way Southwest\, Lakewood\, WA\, 98499
END:VEVENT
BEGIN:VEVENT
DTSTART;TZID=America/Los_Angeles:20251214T190000
DTEND;TZID=America/Los_Angeles:20251214T220000
DTSTAMP:20260423T025752
CREATED:20250718T232344Z
LAST-MODIFIED:20251213T204840Z
UID:15501-1765738800-1765749600@southsoundblues.org
SUMMARY:Sunday Blues at the Spar
DESCRIPTION:Sunday Blues at the Spar 7-10 pm\n  \n 
URL:https://southsoundblues.org/event/sunday-blues-at-the-spar-42/
LOCATION:The Spar\, 2121 N 30th St\, Tacoma\, WA\, 98403
CATEGORIES:Local South Sound Blues
END:VEVENT
BEGIN:VEVENT
DTSTART;TZID=America/Los_Angeles:20251214T190000
DTEND;TZID=America/Los_Angeles:20251214T230000
DTSTAMP:20260423T025752
CREATED:20250718T230020Z
LAST-MODIFIED:20250718T230020Z
UID:15483-1765738800-1765753200@southsoundblues.org
SUMMARY:Billy Shew Blues Jam\, every Sunday at Dawson’s
DESCRIPTION:Billy Shew Blues Jam\, every Sunday at Dawson’s\, 7-11 pm
URL:https://southsoundblues.org/event/billy-shew-blues-jam-every-sunday-at-dawsons-50/
LOCATION:Dawson’s Bar & Grill\, 5443 South Tacoma Way\, Tacoma\, WA\, 98409
CATEGORIES:Featured
END:VEVENT
BEGIN:VEVENT
DTSTART;TZID=America/Los_Angeles:20251215T180000
DTEND;TZID=America/Los_Angeles:20251215T210000
DTSTAMP:20260423T025752
CREATED:20250831T232419Z
LAST-MODIFIED:20250831T232419Z
UID:15896-1765821600-1765832400@southsoundblues.org
SUMMARY:Monday Jazz at Brother Don’s Bar & Grill\, Bremerton
DESCRIPTION:Monday Jazz at Brother Don’s Bar & Grill\, Bremerton\, 6-9 pm
URL:https://southsoundblues.org/event/monday-jazz-at-brother-dons-bar-grill-bremerton-29/
LOCATION:Brother Don’s Bar & Grill\, 4200 Kitsap Way\, Bremerton\, WA\, 98312
CATEGORIES:Featured
END:VEVENT
BEGIN:VEVENT
DTSTART;TZID=America/Los_Angeles:20251216T190000
DTEND;TZID=America/Los_Angeles:20251216T220000
DTSTAMP:20260423T025752
CREATED:20250831T231454Z
LAST-MODIFIED:20250831T231454Z
UID:15888-1765911600-1765922400@southsoundblues.org
SUMMARY:Jam every Tuesday at Brother Don’s Bar & Grill with the Tim Hall band
DESCRIPTION:Jam every Tuesday at Brother Don’s Bar & Grill with the Tim Hall band\, 7-10 pm.
URL:https://southsoundblues.org/event/jam-every-tuesday-at-brother-dons-bar-grill-with-the-tim-hall-band-22/
LOCATION:Brother Don’s Bar & Grill\, 4200 Kitsap Way\, Bremerton\, WA\, 98312
CATEGORIES:Local South Sound Blues
END:VEVENT
BEGIN:VEVENT
DTSTART;TZID=America/Los_Angeles:20251217T180000
DTEND;TZID=America/Los_Angeles:20251217T200000
DTSTAMP:20260423T025752
CREATED:20251021T210025Z
LAST-MODIFIED:20251021T210025Z
UID:16275-1765994400-1766001600@southsoundblues.org
SUMMARY:Annie Eastwood & Billy Stapleton Duo at the Sparrow\, Kirkland 
DESCRIPTION:Annie Eastwood & Billy Stapleton Duo at the Sparrow Wednesday December 17th\, 6pm to 8pm 
URL:https://southsoundblues.org/event/annie-eastwood-billy-stapleton-duo-at-the-sparrow-kirkland-3/
LOCATION:Sparrow\, 9736 Northeast 120th Place\, Kirkland\, WA\, 98034
CATEGORIES:Featured
END:VEVENT
BEGIN:VEVENT
DTSTART;TZID=America/Los_Angeles:20251217T180000
DTEND;TZID=America/Los_Angeles:20251217T210000
DTSTAMP:20260423T025752
CREATED:20251102T225317Z
LAST-MODIFIED:20251102T225317Z
UID:16417-1765994400-1766005200@southsoundblues.org
SUMMARY:King Dre at the Spar\, Tacoma
DESCRIPTION:Wednesday Jazz at the Spar with King Dre
URL:https://southsoundblues.org/event/king-dre-at-the-spar-tacoma/
LOCATION:The Spar\, 2121 N 30th St\, Tacoma\, WA\, 98403
CATEGORIES:Featured
END:VEVENT
BEGIN:VEVENT
DTSTART;TZID=America/Los_Angeles:20251217T183000
DTEND;TZID=America/Los_Angeles:20251217T203000
DTSTAMP:20260423T025752
CREATED:20251204T003217Z
LAST-MODIFIED:20251204T003217Z
UID:16598-1765996200-1766003400@southsoundblues.org
SUMMARY:Octopus Ballet Christmas Show at TK Irish Pub\, Puyallup
DESCRIPTION:Octopus Ballet Christmas Show at TK Irish Pub December 17th\, 6:30-8:30 pm
URL:https://southsoundblues.org/event/octopus-ballet-christmas-show-at-tk-irish-pub-puyallup/
LOCATION:Twisted Kilt\, 109 S Meridian\, Puyallup\, WA\, 98371
CATEGORIES:Featured
END:VEVENT
BEGIN:VEVENT
DTSTART;TZID=America/Los_Angeles:20251218T190000
DTEND;TZID=America/Los_Angeles:20251218T220000
DTSTAMP:20260423T025752
CREATED:20250901T003652Z
LAST-MODIFIED:20250901T003652Z
UID:15955-1766084400-1766095200@southsoundblues.org
SUMMARY:Thursday nights- Billy “The Pocket” Blues Jams at Dawsons
DESCRIPTION:Thursday nights- Billy “The Pocket” Blues Jams at Dawsons\, 7-10 pm
URL:https://southsoundblues.org/event/thursday-nights-billy-the-pocket-blues-jams-at-dawsons-10/
LOCATION:Dawson’s Bar & Grill\, 5443 South Tacoma Way\, Tacoma\, WA\, 98409
CATEGORIES:Local South Sound Blues
END:VEVENT
BEGIN:VEVENT
DTSTART;TZID=America/Los_Angeles:20251219T190000
DTEND;TZID=America/Los_Angeles:20251219T210000
DTSTAMP:20260423T025752
CREATED:20251102T225011Z
LAST-MODIFIED:20251102T225011Z
UID:16415-1766170800-1766178000@southsoundblues.org
SUMMARY:The Profits at Kimball Coffeehouse\, Gig Harbor
DESCRIPTION:The Profits at Kimball Coffeehouse\n 
URL:https://southsoundblues.org/event/the-profits-at-kimball-coffeehouse-gig-harbor-2/
LOCATION:Kimball’s Coffeehouse\, 6659 Kimball Dr\, Gig Harbor\, WA\, 98335
CATEGORIES:Featured
END:VEVENT
BEGIN:VEVENT
DTSTART;TZID=America/Los_Angeles:20251219T190000
DTEND;TZID=America/Los_Angeles:20251219T220000
DTSTAMP:20260423T025752
CREATED:20251207T005944Z
LAST-MODIFIED:20251207T011223Z
UID:16616-1766170800-1766181600@southsoundblues.org
SUMMARY:Ugly Christmas sweater night with The Tim Hall Band at Brother Don's\, Bremerton
DESCRIPTION:Tim Hall Band at Brother Don’s December 19th\, 7-10pm\nUgly Christmas sweater night at bro Don’s! Prizes for most creative or ugly sweater. Great atmosphere\, food and staff. Come and join the party! Blues\, Funk\, Soul & a little Outlaw Country.\nThanks for supporting live music. \n 
URL:https://southsoundblues.org/event/ugly-christmas-sweater-night-with-the-tim-hall-band-at-brother-dons-bremerton/
LOCATION:Brother Don’s Bar & Grill\, 4200 Kitsap Way\, Bremerton\, WA\, 98312
CATEGORIES:Local South Sound Blues
END:VEVENT
BEGIN:VEVENT
DTSTART;TZID=America/Los_Angeles:20251220T170000
DTEND;TZID=America/Los_Angeles:20251220T200000
DTSTAMP:20260423T025752
CREATED:20251030T004523Z
LAST-MODIFIED:20251030T004523Z
UID:16333-1766250000-1766260800@southsoundblues.org
SUMMARY:Mark Hurwitz & Gin Creek at Johnny's Dock\, Tacoma
DESCRIPTION:Mark Hurwitz & Gin Creek at Johnny’s Dock\, December 20th\, 5pm to 8pm
URL:https://southsoundblues.org/event/mark-hurwitz-gin-creek-at-johnnys-dock-tacoma/
LOCATION:Johnny’s Dock\, 1900 E D St\, Tacoma\, WA\, 98421
CATEGORIES:Local South Sound Blues
END:VEVENT
BEGIN:VEVENT
DTSTART;TZID=America/Los_Angeles:20251220T190000
DTEND;TZID=America/Los_Angeles:20251220T220000
DTSTAMP:20260423T025752
CREATED:20251112T205639Z
LAST-MODIFIED:20251112T205639Z
UID:16520-1766257200-1766268000@southsoundblues.org
SUMMARY:The Mistaken at the Spar\, Tacoma
DESCRIPTION:The Mistaken at the Spar December 20th\, 7-10 pm
URL:https://southsoundblues.org/event/the-mistaken-at-the-spar-tacoma/
LOCATION:The Spar\, 2121 N 30th St\, Tacoma\, WA\, 98403
CATEGORIES:Featured
END:VEVENT
BEGIN:VEVENT
DTSTART;TZID=America/Los_Angeles:20251220T200000
DTEND;TZID=America/Los_Angeles:20251220T220000
DTSTAMP:20260423T025752
CREATED:20250723T215529Z
LAST-MODIFIED:20250723T215529Z
UID:15541-1766260800-1766268000@southsoundblues.org
SUMMARY:Maia Santell & House Blend at the Mill\, Milton
DESCRIPTION:Maia Santell & House Blend yearly Holiday Show at The Mill Steakhouse + Spirits on Sat\, Dec. 20th\, 8pm!\n \n 
URL:https://southsoundblues.org/event/maia-santell-house-blend-at-the-mill-milton/
LOCATION:The Mill of Milton\, 900 Meridian E. #50\, Milton\, WA\, 98354
CATEGORIES:Featured
END:VEVENT
BEGIN:VEVENT
DTSTART;TZID=America/Los_Angeles:20251220T200000
DTEND;TZID=America/Los_Angeles:20251220T230000
DTSTAMP:20260423T025752
CREATED:20250501T013236Z
LAST-MODIFIED:20250501T013236Z
UID:14782-1766260800-1766271600@southsoundblues.org
SUMMARY:Billy Shew and the Sole Providers at City Hall Saloon
DESCRIPTION:Dec 20th\, Billy Shew and the Sole Providers @ City Hall Saloon\, 8:00 PM
URL:https://southsoundblues.org/event/billy-shew-and-the-sole-providers-at-city-hall-saloon/
LOCATION:City Hall Saloon\, 35317 314th Way SE\, Cumberland\, WA\, 98022
CATEGORIES:Featured
END:VEVENT
BEGIN:VEVENT
DTSTART;TZID=America/Los_Angeles:20251220T200000
DTEND;TZID=America/Los_Angeles:20251220T230000
DTSTAMP:20260423T025752
CREATED:20251021T210327Z
LAST-MODIFIED:20251021T210327Z
UID:16277-1766260800-1766271600@southsoundblues.org
SUMMARY:Kimball & The Fugitives with Annie Eastwood at Rock the Dock Pub\, Tacoma
DESCRIPTION:Kimball & The Fugitives with Annie Eastwood at Rock the Dock Pub Saturday December 20th\, 8pm to 11pm
URL:https://southsoundblues.org/event/kimball-the-fugitives-with-annie-eastwood-at-rock-the-dock-pub-tacoma-2/
LOCATION:Rock the Dock\, 535 Dock St # 118\, Tacoma\, WA\, 98402
CATEGORIES:Local South Sound Blues
END:VEVENT
BEGIN:VEVENT
DTSTART;TZID=America/Los_Angeles:20251220T200000
DTEND;TZID=America/Los_Angeles:20251220T230000
DTSTAMP:20260423T025752
CREATED:20251030T194519Z
LAST-MODIFIED:20251030T194519Z
UID:16356-1766260800-1766271600@southsoundblues.org
SUMMARY:Enders Band at Dawson's
DESCRIPTION:Enders Band at Dawson’s December 20th\, 8-11 pm
URL:https://southsoundblues.org/event/enders-band-at-dawsons/
LOCATION:Dawson’s Bar & Grill\, 5443 South Tacoma Way\, Tacoma\, WA\, 98409
CATEGORIES:Featured
END:VEVENT
BEGIN:VEVENT
DTSTART;TZID=America/Los_Angeles:20251221T180000
DTEND;TZID=America/Los_Angeles:20251221T210000
DTSTAMP:20260423T025752
CREATED:20251030T002430Z
LAST-MODIFIED:20251030T002430Z
UID:16320-1766340000-1766350800@southsoundblues.org
SUMMARY:Tim Hall Blues Jam every Sunday at Zesty’s Steakhouse
DESCRIPTION:Tim Hall Blues Jam every Sunday at Zesty’s Steakhouse\, 6-9pm\n\n6PM-9PM Every Sunday\nBar & Lounge. Must be 21 & over to enter\nNo Cover Fee. First Come First Served\n\n\nZesty Steakhouse\n9905 Bridgeport Way SW\nLakewood\, WA 98499\n(253) 300-7993\n\nhttps://www.zestycajungrill.com/jam-night
URL:https://southsoundblues.org/event/tim-hall-blues-jam-every-sunday-at-zestys-steakhouse-17/
LOCATION:Zesty’s Cajun Steakhouse\, 9905 Bridgeport Way Southwest\, Lakewood\, WA\, 98499
END:VEVENT
BEGIN:VEVENT
DTSTART;TZID=America/Los_Angeles:20251221T190000
DTEND;TZID=America/Los_Angeles:20251221T220000
DTSTAMP:20260423T025752
CREATED:20250718T232650Z
LAST-MODIFIED:20251102T224102Z
UID:15505-1766343600-1766354400@southsoundblues.org
SUMMARY:Sunday Blues at the Spar featuring 'Two Guitars' with Jay Mabin
DESCRIPTION:Sunday Blues at the Spar featuring ‘Two Guitars’ with Jay Mabin\n Jay Mabin \n 
URL:https://southsoundblues.org/event/sunday-blues-at-the-spar-44/
LOCATION:The Spar\, 2121 N 30th St\, Tacoma\, WA\, 98403
CATEGORIES:Local South Sound Blues
END:VEVENT
BEGIN:VEVENT
DTSTART;TZID=America/Los_Angeles:20251221T200000
DTEND;TZID=America/Los_Angeles:20251221T223000
DTSTAMP:20260423T025752
CREATED:20250906T205431Z
LAST-MODIFIED:20250906T205431Z
UID:16036-1766347200-1766356200@southsoundblues.org
SUMMARY:Steely Dead - A Sonic Fusion of The Grateful Dead and Steely Dan at the Spanish Ballroom
DESCRIPTION:Steely Dead – A Sonic Fusion of The Grateful Dead and Steely Dan at the Spanish Ballroom December 21st\, 8pm\n\n\n\n\n\n\n\n\n\n\n7pm doors\, 8pm show\, 21 and over
URL:https://southsoundblues.org/event/steely-dead-a-sonic-fusion-of-the-grateful-dead-and-steely-dan-at-the-spanish-ballroom/
LOCATION:McMenaminsTacoma Elks\, 565 Broadway\, Tacoma\, WA\, 98402
CATEGORIES:Featured
END:VEVENT
BEGIN:VEVENT
DTSTART;TZID=America/Los_Angeles:20251222T200000
DTEND;TZID=America/Los_Angeles:20251222T220000
DTSTAMP:20260423T025752
CREATED:20250901T192701Z
LAST-MODIFIED:20250901T192701Z
UID:15996-1766433600-1766440800@southsoundblues.org
SUMMARY:Mike Witmer hosts “Mojo Mike’s Blues Revue” every Monday on KVSH 101.9 FM
DESCRIPTION:Mike Witmer hosts “Mojo Mike’s Blues Revue” every Monday on KVSH 101.9 FM\, 8-10 pm
URL:https://southsoundblues.org/event/mike-witmer-hosts-mojo-mikes-blues-revue-every-monday-on-kvsh-101-9-fm-47/
LOCATION:KVSH\, 17643 Vashon Hwy SW\, Vashon Island\, WA\, 98070
CATEGORIES:Local South Sound Blues
END:VEVENT
BEGIN:VEVENT
DTSTART;TZID=America/Los_Angeles:20251223T200000
DTEND;TZID=America/Los_Angeles:20251223T233000
DTSTAMP:20260423T025752
CREATED:20250831T230446Z
LAST-MODIFIED:20250831T230446Z
UID:15882-1766520000-1766532600@southsoundblues.org
SUMMARY:Cory Wilds Band Tuesday open Jam Night at Elmer’s Bar and Grill
DESCRIPTION:Cory Wilds Band Tuesday open Jam Night at Elmer’s Bar and Grill\, 8-11:30 pm
URL:https://southsoundblues.org/event/cory-wilds-band-tuesday-open-jam-night-at-elmers-bar-and-grill-40/
LOCATION:Elmer’s Bar & Grill\, 15027 Ambaum Blvd SW\, Burien\, WA\, 98166
CATEGORIES:Local South Sound Blues
END:VEVENT
BEGIN:VEVENT
DTSTART;TZID=America/Los_Angeles:20251224T190000
DTEND;TZID=America/Los_Angeles:20251224T220000
DTSTAMP:20260423T025752
CREATED:20250831T222428Z
LAST-MODIFIED:20250831T222652Z
UID:15857-1766602800-1766613600@southsoundblues.org
SUMMARY:Annual Christmas Eve Show at the Spanish Ballroom with Mark Hurwitz and Gin Creek
DESCRIPTION:Annual Christmas Eve Show at the Spanish Ballroom with Mark Hurwitz and Gin Creek Wednesday\, 24th of December 2025\n \nMark Hurwitz and Gin Creek is a two-time nominee for the Best Band award from the Washington Blues Society\, and leader Mark Hurwitz has been nominated three times for Best Piano/Keyboards as well as winning the prestigious Keeping the Blues Alive award. They play a variety of blues genres\, specializing in jump blues\, an upbeat style with elements of swing and jazz. They also play rhythm & blues\, soul\, and roots rock\, all with a strong rhythmic drive that keeps dance floors packed. \n\n\n6pm doors\, 7pm show\, Free\, All ages welcome
URL:https://southsoundblues.org/event/annual-christmas-eve-show-at-the-spanish-ballroom-with-mark-hurwitz-and-gin-creek/
LOCATION:McMenaminsTacoma Elks\, 565 Broadway\, Tacoma\, WA\, 98402
CATEGORIES:Local South Sound Blues,Special Event
END:VEVENT
BEGIN:VEVENT
DTSTART;VALUE=DATE:20251225
DTEND;VALUE=DATE:20251227
DTSTAMP:20260423T025752
CREATED:20250901T002259Z
LAST-MODIFIED:20250901T002259Z
UID:15942-1766628000-1766714399@southsoundblues.org
SUMMARY:Happy Christmas!
DESCRIPTION:Happy Christmas!
URL:https://southsoundblues.org/event/happy-christmas/
LOCATION:WA
CATEGORIES:Special Event
END:VEVENT
BEGIN:VEVENT
DTSTART;TZID=America/Los_Angeles:20251226T190000
DTEND;TZID=America/Los_Angeles:20251226T210000
DTSTAMP:20260423T025752
CREATED:20251021T210721Z
LAST-MODIFIED:20251021T210721Z
UID:16279-1766775600-1766782800@southsoundblues.org
SUMMARY:Annie Eastwood & Her All-Star Band Featuring Billy Stapleton and Bruce Laven at the North City Bistro\, Shoreline/Seattle
DESCRIPTION:Annie Eastwood & Her All-Star Band Featuring Billy Stapleton and Bruce Laven at the North City Bistro\, Friday December 26th\,  7pm to 9pm\n\n 
URL:https://southsoundblues.org/event/annie-eastwood-her-all-star-band-featuring-billy-stapleton-and-bruce-laven-at-the-north-city-bistro-shoreline-seattle/
LOCATION:North City Bistro\, 1520 NE 177th St\, Shoreline\, WA\, 98155
CATEGORIES:Featured
END:VEVENT
BEGIN:VEVENT
DTSTART;TZID=America/Los_Angeles:20251226T200000
DTEND;TZID=America/Los_Angeles:20251226T230000
DTSTAMP:20260423T025752
CREATED:20250926T011647Z
LAST-MODIFIED:20250926T011647Z
UID:16122-1766779200-1766790000@southsoundblues.org
SUMMARY:Tim Hall Band at Zesty's Steakhouse
DESCRIPTION:Tim Hall Band at Zesty’s Steakhouse 8-11 pm
URL:https://southsoundblues.org/event/tim-hall-band-at-zestys-steakhouse-4/
LOCATION:Zesty’s Cajun Steakhouse\, 9905 Bridgeport Way Southwest\, Lakewood\, WA\, 98499
CATEGORIES:Local South Sound Blues
END:VEVENT
BEGIN:VEVENT
DTSTART;TZID=America/Los_Angeles:20251226T200000
DTEND;TZID=America/Los_Angeles:20251226T230000
DTSTAMP:20260423T025752
CREATED:20251007T013254Z
LAST-MODIFIED:20251007T013254Z
UID:16232-1766779200-1766790000@southsoundblues.org
SUMMARY:Ryan T Higgins Band at the Salmon Bay Eagles\, Seattle
DESCRIPTION:Ryan T Higgins Band at the Salmon Bay Eagles\, Friday\, December 26th\, 8-11pm\n\n\n\nRyan T Higgins is a seasoned musician and guitar builder from the Pacific NW\, renowned for his captivating blend of rock\, blues\, jam and roots music. Ryan brings the sonic rock blues straight to your ears with tons of endless energy and that perfect sort of swagger that gets you hook right from the get-go. Ryan is joined by Joe Cook on harmonica & vocals\, Robert Baker on bass & vocals and Rick Bowen on drums & vocals. This is a show you don’t want to miss!
URL:https://southsoundblues.org/event/ryan-t-higgins-band-at-the-salmon-bay-eagles-seattle/
LOCATION:Salmon Bay Eagles\, 5216 20th Ave NW\, Seattle\, WA\, 98107
CATEGORIES:Local South Sound Blues
END:VEVENT
END:VCALENDAR