BEGIN:VCALENDAR
VERSION:2.0
PRODID:-//South Sound Blues Association - ECPv6.15.18//NONSGML v1.0//EN
CALSCALE:GREGORIAN
METHOD:PUBLISH
X-ORIGINAL-URL:https://southsoundblues.org
X-WR-CALDESC:Events for South Sound Blues Association
REFRESH-INTERVAL;VALUE=DURATION:PT1H
X-Robots-Tag:noindex
X-PUBLISHED-TTL:PT1H
BEGIN:VTIMEZONE
TZID:America/Los_Angeles
BEGIN:DAYLIGHT
TZOFFSETFROM:-0800
TZOFFSETTO:-0700
TZNAME:PDT
DTSTART:20240310T100000
END:DAYLIGHT
BEGIN:STANDARD
TZOFFSETFROM:-0700
TZOFFSETTO:-0800
TZNAME:PST
DTSTART:20241103T090000
END:STANDARD
BEGIN:DAYLIGHT
TZOFFSETFROM:-0800
TZOFFSETTO:-0700
TZNAME:PDT
DTSTART:20250309T100000
END:DAYLIGHT
BEGIN:STANDARD
TZOFFSETFROM:-0700
TZOFFSETTO:-0800
TZNAME:PST
DTSTART:20251102T090000
END:STANDARD
BEGIN:DAYLIGHT
TZOFFSETFROM:-0800
TZOFFSETTO:-0700
TZNAME:PDT
DTSTART:20260308T100000
END:DAYLIGHT
BEGIN:STANDARD
TZOFFSETFROM:-0700
TZOFFSETTO:-0800
TZNAME:PST
DTSTART:20261101T090000
END:STANDARD
END:VTIMEZONE
BEGIN:VEVENT
DTSTART;TZID=America/Los_Angeles:20251115T193000
DTEND;TZID=America/Los_Angeles:20251115T220000
DTSTAMP:20260423T042113
CREATED:20251103T010529Z
LAST-MODIFIED:20251103T010849Z
UID:16446-1763235000-1763244000@southsoundblues.org
SUMMARY:Led Zeppelin tribute -'No Quarter'\, at the Temple Theater\, Tacoma
DESCRIPTION:Led Zeppelin tribute band\, ‘No Quarter’ returns to the Temple Theater\, Tacoma\nAttention Led Zeppelin fans! Get ready to rock! Led Zeppelin tribute band No Quarter returns to the Temple Theater on November 15th to honor the 50th anniversary of the Physical Graffiti album in it’s entirety. Plus special guests Good Times Roll\, the Cars tribute band\, will start the night with classic hits and their signature rock sound. Don’t miss this unforgettable night honoring two legendary rock groups. Get your tickets now at the link below.\nhttps://www.etix.com/…/no-quarter-international-tribute…\n\n\nTemple Theatre\n47 St Helens Ave\, Tacoma\, WA 98402-2604\, United States
URL:https://southsoundblues.org/event/no-quarter-returns-to-the-temple-theater-led-zeppelin-tribute/
LOCATION:Temple Theatre\, 47 St Helens Ave\, Tacoma\, WA\, 98402
CATEGORIES:Featured
END:VEVENT
BEGIN:VEVENT
DTSTART;TZID=America/Los_Angeles:20251115T193000
DTEND;TZID=America/Los_Angeles:20251115T220000
DTSTAMP:20260423T042113
CREATED:20251110T005037Z
LAST-MODIFIED:20251110T005037Z
UID:16513-1763235000-1763244000@southsoundblues.org
SUMMARY:Taylor Hardin Blues Band at the Green River College Student Affairs Building
DESCRIPTION:Taylor Hardin Blues Band at the Green River College Student Affairs Building November 15th\, 7:30 pm\nGreen River College – Student Affairs Building\, 12401 SE 320th St. \nRegular: $25; Student/Senior: $22 \nThe Taylor Hardin Blues Band delivers a powerful blend of gritty blues\, driving rock\, and soulful grooves\, bringing fresh energy to classic tunes and unexpected twists to modern hits. Fronted by guitarist and vocalist Taylor John Hardin\, the band is known for its dynamic performances\, tight musicianship\, and a signature style that “bluesifies” everything from funk to grunge. With searing solos\, and a rhythm section that keeps the crowd moving\, the Taylor Hardin Blues Band transforms every show into a high-voltage\, feel-it-in-your-bones experience. \n  \n 
URL:https://southsoundblues.org/event/taylor-hardin-blues-band-at-the-green-river-college-student-affairs-building/
LOCATION:Green River College\, 12401 SE 320th St.\, Auburn\, WA\, 98092
CATEGORIES:Local South Sound Blues
END:VEVENT
BEGIN:VEVENT
DTSTART;TZID=America/Los_Angeles:20251115T200000
DTEND;TZID=America/Los_Angeles:20251115T230000
DTSTAMP:20260423T042113
CREATED:20251007T005331Z
LAST-MODIFIED:20251007T005331Z
UID:16212-1763236800-1763247600@southsoundblues.org
SUMMARY:Red House at the Salmon Bay Eagles\, Seattle
DESCRIPTION:Red House at the Salmon Bay Eagles November 15th 8-11 pm\n\n\n\n\n\n Red House is a Seattle/Tacoma-based band comprised of Drummer Robin Crane\, on Harmonicas John Deely\, Keyboards Mike Japp\, Guitarist Mark Noftsger and on Bass John Bayless. Red House isn’t just a Blues Band. They embrace many of the idioms that sprang from the Blues – R&B\, Soul\, Funk and even a little jazz. They are five of the baddest players/singers in the Northwest\, they play what they want and do it Their Way!
URL:https://southsoundblues.org/event/red-house-at-the-salmon-bay-eagles-seattle/
LOCATION:Salmon Bay Eagles\, 5216 20th Ave NW\, Seattle\, WA\, 98107
CATEGORIES:Local South Sound Blues
END:VEVENT
BEGIN:VEVENT
DTSTART;TZID=America/Los_Angeles:20251115T200000
DTEND;TZID=America/Los_Angeles:20251115T230000
DTSTAMP:20260423T042113
CREATED:20251030T192738Z
LAST-MODIFIED:20251030T192738Z
UID:16346-1763236800-1763247600@southsoundblues.org
SUMMARY:Heather Jones & The Groove Masters at Dawsons
DESCRIPTION:Heather Jones & The Groove Masters at Dawson’s November 15th\, 8-11 pm
URL:https://southsoundblues.org/event/heather-jones-the-groove-masters-at-dawsons-5/
LOCATION:Dawson’s Bar & Grill\, 5443 South Tacoma Way\, Tacoma\, WA\, 98409
CATEGORIES:Local South Sound Blues
END:VEVENT
BEGIN:VEVENT
DTSTART;TZID=America/Los_Angeles:20251115T210000
DTEND;TZID=America/Los_Angeles:20251115T233000
DTSTAMP:20260423T042113
CREATED:20251110T002153Z
LAST-MODIFIED:20251110T002153Z
UID:16509-1763240400-1763249400@southsoundblues.org
SUMMARY:The Tim Hall Band at the Float\, Gig Harbor
DESCRIPTION:The Tim Hall Band will be Rockin the Float in Gig Harbor Saturday November 15th at 9pm!
URL:https://southsoundblues.org/event/the-tim-hall-band-at-the-float-gig-harbor/
LOCATION:Floatation Device Pub & Grill\, 14511 Sherman Dr NW\, Gig Harbor\, WA\, 98332
CATEGORIES:Featured
END:VEVENT
BEGIN:VEVENT
DTSTART;TZID=America/Los_Angeles:20251116T160000
DTEND;TZID=America/Los_Angeles:20251116T183000
DTSTAMP:20260423T042113
CREATED:20251112T212155Z
LAST-MODIFIED:20251112T212155Z
UID:16522-1763308800-1763317800@southsoundblues.org
SUMMARY:The Blue Skies Blues Band at Salmon Bay Eagles
DESCRIPTION:The Blue Skies Blues Band at the Salmon Bay Eagles Sunday\, November 16\, 4pm\n 
URL:https://southsoundblues.org/event/the-blue-skies-blues-band-at-salmon-bay-eagles/
LOCATION:Salmon Bay Eagles\, 5216 20th Ave NW\, Seattle\, WA\, 98107
CATEGORIES:Local South Sound Blues
END:VEVENT
BEGIN:VEVENT
DTSTART;TZID=America/Los_Angeles:20251116T170000
DTEND;TZID=America/Los_Angeles:20251116T190000
DTSTAMP:20260423T042113
CREATED:20251102T232151Z
LAST-MODIFIED:20251102T232727Z
UID:16437-1763312400-1763319600@southsoundblues.org
SUMMARY:Blues Vespers at Fox Island United Church of Christ featuring Joe Cook Blues Band\, with Tim Sherman
DESCRIPTION:Blues Vespers\, November 16th at the Fox Island United Church of Christ \, 5:00 pm featuring Joe Cook Blues Band\, with Tim Sherman\nFOX ISLAND UNITED CHURCH OF CHRIST\n756 6th Avenue\, Fox Island \nFree Donation for the band and Key Peninsula Community Services. Blues\, poetry and a little something to think about in a spiritual celebration of music and the arts. Please bring a food donation (juice\, canned green beans\, stuffing mix\, cranberry sauce\, baking items\, canned tuna & chicken) for the Key Peninsula Community Services: Food Bank.
URL:https://southsoundblues.org/event/blues-vespers-at-fox-island-united-church-of-christ/
LOCATION:Fox Island United Church of Christ\, 726 6th Ave\, Fox Island\, WA\, 98333
CATEGORIES:Featured,Local South Sound Blues
END:VEVENT
BEGIN:VEVENT
DTSTART;TZID=America/Los_Angeles:20251116T170000
DTEND;TZID=America/Los_Angeles:20251116T200000
DTSTAMP:20260423T042113
CREATED:20251030T195443Z
LAST-MODIFIED:20251030T195443Z
UID:16360-1763312400-1763323200@southsoundblues.org
SUMMARY:Joe Faker Band Jam Sunday's at Brother Don's
DESCRIPTION:Joe Faker Band Jam Sunday’s at Brother Don’s 5-8 pm
URL:https://southsoundblues.org/event/joe-faker-band-jam-sundays-at-brother-dons/
LOCATION:Brother Don’s Bar & Grill\, 4200 Kitsap Way\, Bremerton\, WA\, 98312
CATEGORIES:Featured
END:VEVENT
BEGIN:VEVENT
DTSTART;TZID=America/Los_Angeles:20251116T170000
DTEND;TZID=America/Los_Angeles:20251116T200000
DTSTAMP:20260423T042113
CREATED:20251111T011632Z
LAST-MODIFIED:20251111T011632Z
UID:16517-1763312400-1763323200@southsoundblues.org
SUMMARY:Blues Redemption at Johnny’s Dock\, Tacoma
DESCRIPTION:Blues Redemption at Johnny’s dock\, Sunday\, November 16th\,      5 o’clock\, bring a foot and tap it!\n Doug Skoog
URL:https://southsoundblues.org/event/blues-redemption-at-johnnys-dock-tacoma/
LOCATION:Johnny’s Dock\, 1900 E D St\, Tacoma\, WA\, 98421
CATEGORIES:Local South Sound Blues
END:VEVENT
BEGIN:VEVENT
DTSTART;TZID=America/Los_Angeles:20251116T180000
DTEND;TZID=America/Los_Angeles:20251116T210000
DTSTAMP:20260423T042113
CREATED:20250718T224526Z
LAST-MODIFIED:20250718T224526Z
UID:15475-1763316000-1763326800@southsoundblues.org
SUMMARY:Tim Hall Blues Jam every Sunday at Zesty’s Steakhouse
DESCRIPTION:Tim Hall Blues Jam every Sunday at Zesty’s Steakhouse\, 6-9pm
URL:https://southsoundblues.org/event/tim-hall-blues-jam-every-sunday-at-zestys-steakhouse-8/
LOCATION:Zesty’s Cajun Steakhouse\, 9905 Bridgeport Way Southwest\, Lakewood\, WA\, 98499
CATEGORIES:Featured
END:VEVENT
BEGIN:VEVENT
DTSTART;TZID=America/Los_Angeles:20251116T190000
DTEND;TZID=America/Los_Angeles:20251116T220000
DTSTAMP:20260423T042113
CREATED:20250718T231616Z
LAST-MODIFIED:20251102T222339Z
UID:15495-1763319600-1763330400@southsoundblues.org
SUMMARY:Sunday Blues at the Spar featuring the T-Town Aces
DESCRIPTION:Sunday Blues at the Spar 7-10 pm featuring the T-Town Aces\n 
URL:https://southsoundblues.org/event/sunday-blues-at-the-spar-39/
LOCATION:The Spar\, 2121 N 30th St\, Tacoma\, WA\, 98403
CATEGORIES:Featured
END:VEVENT
BEGIN:VEVENT
DTSTART;TZID=America/Los_Angeles:20251117T180000
DTEND;TZID=America/Los_Angeles:20251117T210000
DTSTAMP:20260423T042113
CREATED:20251002T214324Z
LAST-MODIFIED:20251002T214324Z
UID:16174-1763402400-1763413200@southsoundblues.org
SUMMARY:Monday Jazz at Brother Don’s Bar & Grill\, Bremerton
DESCRIPTION:Monday Jazz at Brother Don’s Bar & Grill\, Bremerton\, 6-9 pm
URL:https://southsoundblues.org/event/monday-jazz-at-brother-dons-bar-grill-bremerton-31/
LOCATION:Brother Don’s Bar & Grill\, 4200 Kitsap Way\, Bremerton\, WA\, 98312
CATEGORIES:Featured
END:VEVENT
BEGIN:VEVENT
DTSTART;TZID=America/Los_Angeles:20251117T190000
DTEND;TZID=America/Los_Angeles:20251117T213000
DTSTAMP:20260423T042113
CREATED:20251024T015241Z
LAST-MODIFIED:20251024T015241Z
UID:16308-1763406000-1763415000@southsoundblues.org
SUMMARY:Rosie Flores at the Traditions Cafe\, Olympia
DESCRIPTION:Rosie Flores at the Traditions Cafe\, November 17th\, 7-9:15 pm\nRosie Flores the “rockabilly filly” is coming on Nov. 17th. Won a National Endowment for the Arts award\, also has played the Lincoln Center.  Rosie is one of the 2024 NEA National Heritage Fellows. In September 2024 she accepted her gold medal award at the Library Of Congress\, appearing at the Kennedy Center as well as the White House.\n\nHome \n\n$25 / $18 for students & those w/low incomes \n\nLive Music and Performance Calendar
URL:https://southsoundblues.org/event/rosie-flores-at-the-traditions-cafe-olympia/
LOCATION:Soul Cafe\, Traditions Fair Trade\, 300 5th Ave SW\, Olympia\, WA\, 98501
CATEGORIES:Featured,Local South Sound Blues
END:VEVENT
BEGIN:VEVENT
DTSTART;TZID=America/Los_Angeles:20251118T190000
DTEND;TZID=America/Los_Angeles:20251118T220000
DTSTAMP:20260423T042113
CREATED:20251030T202047Z
LAST-MODIFIED:20251030T202047Z
UID:16374-1763492400-1763503200@southsoundblues.org
SUMMARY:Jam every Tuesday at Brother Don’s Bar & Grill with the Tim Hall band
DESCRIPTION:Jam every Tuesday at Brother Don’s Bar & Grill with the Tim Hall band\, 7-10 pm.
URL:https://southsoundblues.org/event/jam-every-tuesday-at-brother-dons-bar-grill-with-the-tim-hall-band-23/
LOCATION:Brother Don’s Bar & Grill\, 4200 Kitsap Way\, Bremerton\, WA\, 98312
CATEGORIES:Local South Sound Blues
END:VEVENT
BEGIN:VEVENT
DTSTART;TZID=America/Los_Angeles:20251118T200000
DTEND;TZID=America/Los_Angeles:20251118T233000
DTSTAMP:20260423T042113
CREATED:20250831T225614Z
LAST-MODIFIED:20250831T225614Z
UID:15876-1763496000-1763508600@southsoundblues.org
SUMMARY:Cory Wilds Band Tuesday open Jam Night at Elmer’s Bar and Grill
DESCRIPTION:Cory Wilds Band Tuesday open Jam Night at Elmer’s Bar and Grill\, 8-11:30 pm
URL:https://southsoundblues.org/event/cory-wilds-band-tuesday-open-jam-night-at-elmers-bar-and-grill-37/
LOCATION:Elmer’s Bar & Grill\, 15027 Ambaum Blvd SW\, Burien\, WA\, 98166
CATEGORIES:Local South Sound Blues
END:VEVENT
BEGIN:VEVENT
DTSTART;TZID=America/Los_Angeles:20251119T180000
DTEND;TZID=America/Los_Angeles:20251119T210000
DTSTAMP:20260423T042113
CREATED:20250831T235554Z
LAST-MODIFIED:20251102T230634Z
UID:15916-1763575200-1763586000@southsoundblues.org
SUMMARY:Wednesday Funky Jazz at the Spar with Butch Harrison & Good Company
DESCRIPTION:Funky Jazz at the Spar\, with Butch Harrison & Good Company\n 
URL:https://southsoundblues.org/event/wednesday-funky-jazz-at-the-spar-11/
LOCATION:The Spar\, 2121 N 30th St\, Tacoma\, WA\, 98403
CATEGORIES:Featured
END:VEVENT
BEGIN:VEVENT
DTSTART;TZID=America/Los_Angeles:20251120T180000
DTEND;TZID=America/Los_Angeles:20251120T210000
DTSTAMP:20260423T042113
CREATED:20251103T011917Z
LAST-MODIFIED:20251103T011917Z
UID:16451-1763661600-1763672400@southsoundblues.org
SUMMARY:Rod Cook & Toast at Tim's Tavern
DESCRIPTION:Rod Cook & Toast at Tim’s Tavern November 20th 6-9\, also\, the Dusty 45’s
URL:https://southsoundblues.org/event/rod-cook-toast-at-tims-tavern/
LOCATION:Tims Tavern\, 9655 16th Av Sw\, Seattle\, WA\, 98106
CATEGORIES:Local South Sound Blues
END:VEVENT
BEGIN:VEVENT
DTSTART;TZID=America/Los_Angeles:20251120T190000
DTEND;TZID=America/Los_Angeles:20251120T220000
DTSTAMP:20260423T042113
CREATED:20250901T003259Z
LAST-MODIFIED:20250901T003259Z
UID:15951-1763665200-1763676000@southsoundblues.org
SUMMARY:Thursday nights- Billy “The Pocket” Blues Jams at Dawsons
DESCRIPTION:Thursday nights- Billy “The Pocket” Blues Jams at Dawsons\, 7-10 pm
URL:https://southsoundblues.org/event/thursday-nights-billy-the-pocket-blues-jams-at-dawsons-8/
LOCATION:Dawson’s Bar & Grill\, 5443 South Tacoma Way\, Tacoma\, WA\, 98409
CATEGORIES:Local South Sound Blues
END:VEVENT
BEGIN:VEVENT
DTSTART;TZID=America/Los_Angeles:20251121T190000
DTEND;TZID=America/Los_Angeles:20251121T210000
DTSTAMP:20260423T042113
CREATED:20251102T224713Z
LAST-MODIFIED:20251102T224713Z
UID:16413-1763751600-1763758800@southsoundblues.org
SUMMARY:Roemen & The Whereabouts at Kimball Coffeehouse\, Gig Harbor
DESCRIPTION:Roemen & The Whereabouts at Kimball Coffeehouse
URL:https://southsoundblues.org/event/roemen-the-whereabouts-at-kimball-coffeehouse-gig-harbor/
LOCATION:Kimball’s Coffeehouse\, 6659 Kimball Dr\, Gig Harbor\, WA\, 98335
CATEGORIES:Featured
END:VEVENT
BEGIN:VEVENT
DTSTART;TZID=America/Los_Angeles:20251121T193000
DTEND;TZID=America/Los_Angeles:20251130T210000
DTSTAMP:20260423T042113
CREATED:20250906T224947Z
LAST-MODIFIED:20250906T224947Z
UID:16049-1763753400-1764536400@southsoundblues.org
SUMMARY:The Taj Mahal Quintet 30th Anniversary performing at Jazz Alley
DESCRIPTION:The Taj Mahal Quintet 30th Anniversary performing at Jazz Alley Friday\, Nov 21st –Sunday\, Nov 30th\nDimitiriou’s Jazz Alley presents 5x Grammy-winner\, Recording Academy 2025 Lifetime Achievement Award winner\, B.B. King “Entertainer of the Year” Taj Mahal in a Quintet format for his annual Thanksgiving residency. The Quintet is made up of Taj Mahal (vocals\, guitar\, piano\, banjo and more)\, internationally renowned bassist Bill Rich\, steel drummer Robert Greenidge (Jimmy Buffett’s Coral Reefer Band)\, revered percussionist/drummer Tony Durham and Jim Pugh on keyboard/organ (Etta James\, Robert Cray\, Chris Isaak\, Clarence Foundation\, D.K. Harrell).     \nInfo and Tickets: https://www.jazzalley.com/www-home/artist.jsp?shownum=8711 \nSet times Friday and Saturday (11/22-23 and 11/29-30) at 7:30pm AND 9:30pm. Set times on Sunday (11/24 & 12/1)\, Tuesday (11/26) and Wednesday (11/27) at 7:30pm only. Doors open at 6:00pm Friday 11/22 and 5:30pm all other nights. \n  \nThis show is supported by KBCS\, KNKX and the Washington Blues Society. \n 
URL:https://southsoundblues.org/event/the-taj-mahal-quintet-30th-anniversary-performing-at-jazz-alley/
LOCATION:Dimitriou’s Jazz Alley\, 2033 6th Avenue\, Seattle\, WA\, 98121
CATEGORIES:Featured
END:VEVENT
BEGIN:VEVENT
DTSTART;TZID=America/Los_Angeles:20251121T200000
DTEND;TZID=America/Los_Angeles:20251121T230000
DTSTAMP:20260423T042113
CREATED:20251007T005848Z
LAST-MODIFIED:20251007T005848Z
UID:16214-1763755200-1763766000@southsoundblues.org
SUMMARY:Mark DuFrense Band at the Salmon Bay Eagles\, Seattle
DESCRIPTION:Mark DuFrense Band at the Salmon Bay Eagles November 21st\, 8-11 pm\n\n\n\n\n\n“The Mark DuFresne Band”: Grammy Nominated\, three octave tenor\, Mark Dufresne (Dufrane) leads the Mark DuFresne Band through tight sets of original rhythm and blues\, soul\, ballads and blues. A multi-WBA award winner for Best Harmonica\, Best Blues Song Writer\, Best Blues Singer and Best Band. Mark is a powerhouse singer and a consummate stage performer. A native of Kansas City Missouri Mark has been in the NW since 1979. Starting in 2002 Mark was a Member of “Roomful of Blues” for 5 years and toured the US and Europe extensively. \nOn Guitar\, WBA Blues Hall of Fame Guitarist Billy Stapleton holds down all guitar duties\, Rhythm\, Lead and Slide Guitar. \nOn Fender bass the great Kelly Leifer. Kelly has played with Mark for over twenty years and is an integral component to the original material and song arrangements. Drums and Vocals Steve Peterson. Steve has been the back beat of the Northwest since his teen years.
URL:https://southsoundblues.org/event/mark-dufrense-band-at-the-salmon-bay-eagles-seattle/
LOCATION:Salmon Bay Eagles\, 5216 20th Ave NW\, Seattle\, WA\, 98107
CATEGORIES:Local South Sound Blues
END:VEVENT
BEGIN:VEVENT
DTSTART;TZID=America/Los_Angeles:20251121T200000
DTEND;TZID=America/Los_Angeles:20251121T230000
DTSTAMP:20260423T042113
CREATED:20251030T014043Z
LAST-MODIFIED:20251030T014200Z
UID:16335-1763755200-1763766000@southsoundblues.org
SUMMARY:Terry & The Trouble Makers Band at Zesty Steakhouse
DESCRIPTION:Terry & The Trouble Makers Band at Zesty Steakhouse November 21st\, 8-11 pm\n  \nTerry & The Trouble Makers Band
URL:https://southsoundblues.org/event/terry-the-trouble-makers-band-at-zesty-steakhouse/
LOCATION:Zesty’s Cajun Steakhouse\, 9905 Bridgeport Way Southwest\, Lakewood\, WA\, 98499
CATEGORIES:Featured
END:VEVENT
BEGIN:VEVENT
DTSTART;TZID=America/Los_Angeles:20251122T170000
DTEND;TZID=America/Los_Angeles:20251122T200000
DTSTAMP:20260423T042113
CREATED:20251021T222019Z
LAST-MODIFIED:20251021T222019Z
UID:16304-1763830800-1763841600@southsoundblues.org
SUMMARY:MoJo Attitude at Johnny's Dock\, Tacoma
DESCRIPTION:MoJo Attitude at Johnny’s Dock November 22nd 5-8 pm\n 
URL:https://southsoundblues.org/event/mojo-attitude-at-johnnys-dock-tacoma/
LOCATION:Johnny’s Dock\, 1900 E D St\, Tacoma\, WA\, 98421
CATEGORIES:Local South Sound Blues
END:VEVENT
BEGIN:VEVENT
DTSTART;TZID=America/Los_Angeles:20251122T180000
DTEND;TZID=America/Los_Angeles:20251122T200000
DTSTAMP:20260423T042113
CREATED:20251105T022718Z
LAST-MODIFIED:20251105T022718Z
UID:16489-1763834400-1763841600@southsoundblues.org
SUMMARY:Michele D'Amour & the Love Dealers trio at The Keg and I\, Olalla
DESCRIPTION:Michele D’Amour & the Love Dealers trio at The Keg and I November 22nd\, 6-8 pm\n  \n  \n 
URL:https://southsoundblues.org/event/michele-damour-the-love-dealers-trio-at-the-keg-and-i-olalla/
LOCATION:The Keg and I\, 1291 Chimacum Rd.\, Chimacum\, WA\, 98325
CATEGORIES:Featured
END:VEVENT
BEGIN:VEVENT
DTSTART;TZID=America/Los_Angeles:20251122T180000
DTEND;TZID=America/Los_Angeles:20251122T223000
DTSTAMP:20260423T042113
CREATED:20250824T005532Z
LAST-MODIFIED:20250824T005532Z
UID:15781-1763834400-1763850600@southsoundblues.org
SUMMARY:Samantha Fish at the Crocodile\, Seattle
DESCRIPTION:Samantha Fish at the Crocodile November 22nd\, 6 pm
URL:https://southsoundblues.org/event/samantha-fish-at-the-crocodile-seattle/
LOCATION:Crocodile\, 2200 2nd Ave\, Seattle\, WA\, 98121
CATEGORIES:Featured
END:VEVENT
BEGIN:VEVENT
DTSTART;TZID=America/Los_Angeles:20251122T200000
DTEND;TZID=America/Los_Angeles:20251122T230000
DTSTAMP:20260423T042113
CREATED:20250501T012544Z
LAST-MODIFIED:20250501T012544Z
UID:14776-1763841600-1763852400@southsoundblues.org
SUMMARY:Billy Shew and the Sole Providers at Rock the Dock
DESCRIPTION:November 22nd\, Billy Shew and the Sole Providers at Rock the Dock\, 8:00 PM
URL:https://southsoundblues.org/event/billy-shew-and-the-sole-providers-at-rock-the-dock/
LOCATION:Rock the Dock\, 535 Dock St # 118\, Tacoma\, WA\, 98402
CATEGORIES:Featured
END:VEVENT
BEGIN:VEVENT
DTSTART;TZID=America/Los_Angeles:20251122T200000
DTEND;TZID=America/Los_Angeles:20251122T230000
DTSTAMP:20260423T042113
CREATED:20251007T010502Z
LAST-MODIFIED:20251007T010659Z
UID:16217-1763841600-1763852400@southsoundblues.org
SUMMARY:Rod Cook & Toast at the Salmon Bay Eagles\, Seattle
DESCRIPTION:Rod Cook & Toast at the Salmon Bay Eagles November 22nd\, 8-11pm\n\n\n\n\nRod Cook and Toast has been thrilling audiences around the Pacific NW for over twenty-five years performing an eclectic mix of American roots music based in but not restricted to blues. The band consists of Rod Cook\, guitar\, vocals; Jon Bayless\, bass\, vocals and Chris Leighton\, drums. All three members have an extensive resume and are well respected throughout the Northwest music community. Rod Cook\, apart from his work with Toast\, has played and/or recorded with former Mercury recording artist\, Laura Love\, NBC’s The Voice Finalist Vicci Martinez\, former Steve Miller Band member the late James “Curley” Cooke\, Northwest Blues and Rock and Roll icon Little Bill Englehart\, The Dusty 45s\, in addition to many other musical endeavors. Jon Bayless is known for his work as bassist with Rock and Roll Hall of Famers\, Heart\, in addition to holding down the groove with countless bands in the Northwest. Chris Leighton also has played with too many Northwest bands to count in the last forty years as well as national acts Randy Bachmann and Laura Love. The band has recorded two albums\, 1998’s “I Ain’t The Fool” and 2006’s “Troublemaker.” Toast offers an energetic mix of originals and covers encompassing a wide variety of styles.
URL:https://southsoundblues.org/event/rod-cook-toast-at-the-salmon-bay-eagles-seattle/
LOCATION:Salmon Bay Eagles\, 5216 20th Ave NW\, Seattle\, WA\, 98107
CATEGORIES:Local South Sound Blues
END:VEVENT
BEGIN:VEVENT
DTSTART;TZID=America/Los_Angeles:20251122T200000
DTEND;TZID=America/Los_Angeles:20251122T230000
DTSTAMP:20260423T042113
CREATED:20251030T193128Z
LAST-MODIFIED:20251030T193128Z
UID:16348-1763841600-1763852400@southsoundblues.org
SUMMARY:The 'Names' at Dawson's
DESCRIPTION:The ‘Names’ at Dawson’s November 22nd\, 8-11 pm\n 
URL:https://southsoundblues.org/event/the-names-at-dawsons/
LOCATION:Dawson’s Bar & Grill\, 5443 South Tacoma Way\, Tacoma\, WA\, 98409
CATEGORIES:Featured
END:VEVENT
BEGIN:VEVENT
DTSTART;TZID=America/Los_Angeles:20251123T170000
DTEND;TZID=America/Los_Angeles:20251123T183000
DTSTAMP:20260423T042113
CREATED:20251102T234631Z
LAST-MODIFIED:20251102T234908Z
UID:16441-1763917200-1763922600@southsoundblues.org
SUMMARY:Blues Vespers featuring the John Kessler Band at Kilworth Memorial Chapel\, UPS\, Tacoma
DESCRIPTION:Blues Vespers featuring the John Kessler Band at Kilworth Memorial Chapel\, UPS\, Tacoma at 5pm\nA little Jazzy Blues Vespers. John Kessler’s band makes its south sound debut November 23rd.
URL:https://southsoundblues.org/event/blues-vespers-featuring-the-john-kessler-band-at-kilworth-memorial-chapel-ups-tacoma/
LOCATION:Kilworth Memorial Chapel\, 3410 N 18th St\, Tacoma\, WA\, 98416
CATEGORIES:Featured
END:VEVENT
BEGIN:VEVENT
DTSTART;TZID=America/Los_Angeles:20251123T180000
DTEND;TZID=America/Los_Angeles:20251123T210000
DTSTAMP:20260423T042113
CREATED:20250901T191306Z
LAST-MODIFIED:20250901T191339Z
UID:15988-1763920800-1763931600@southsoundblues.org
SUMMARY:Tim Hall Blues Jam every Sunday at Zesty’s Steakhouse
DESCRIPTION:Tim Hall Blues Jam every Sunday at Zesty’s Steakhouse\, 6-9pm
URL:https://southsoundblues.org/event/tim-hall-blues-jam-every-sunday-at-zestys-steakhouse-13/
LOCATION:Zesty’s Cajun Steakhouse\, 9905 Bridgeport Way Southwest\, Lakewood\, WA\, 98499
CATEGORIES:Local South Sound Blues
END:VEVENT
END:VCALENDAR