BEGIN:VCALENDAR
VERSION:2.0
PRODID:-//South Sound Blues Association - ECPv6.15.18//NONSGML v1.0//EN
CALSCALE:GREGORIAN
METHOD:PUBLISH
X-WR-CALNAME:South Sound Blues Association
X-ORIGINAL-URL:https://southsoundblues.org
X-WR-CALDESC:Events for South Sound Blues Association
REFRESH-INTERVAL;VALUE=DURATION:PT1H
X-Robots-Tag:noindex
X-PUBLISHED-TTL:PT1H
BEGIN:VTIMEZONE
TZID:America/Los_Angeles
BEGIN:DAYLIGHT
TZOFFSETFROM:-0800
TZOFFSETTO:-0700
TZNAME:PDT
DTSTART:20230312T100000
END:DAYLIGHT
BEGIN:STANDARD
TZOFFSETFROM:-0700
TZOFFSETTO:-0800
TZNAME:PST
DTSTART:20231105T090000
END:STANDARD
BEGIN:DAYLIGHT
TZOFFSETFROM:-0800
TZOFFSETTO:-0700
TZNAME:PDT
DTSTART:20240310T100000
END:DAYLIGHT
BEGIN:STANDARD
TZOFFSETFROM:-0700
TZOFFSETTO:-0800
TZNAME:PST
DTSTART:20241103T090000
END:STANDARD
BEGIN:DAYLIGHT
TZOFFSETFROM:-0800
TZOFFSETTO:-0700
TZNAME:PDT
DTSTART:20250309T100000
END:DAYLIGHT
BEGIN:STANDARD
TZOFFSETFROM:-0700
TZOFFSETTO:-0800
TZNAME:PST
DTSTART:20251102T090000
END:STANDARD
END:VTIMEZONE
BEGIN:VEVENT
DTSTART;TZID=America/Los_Angeles:20241209T200000
DTEND;TZID=America/Los_Angeles:20241209T220000
DTSTAMP:20260425T034417
CREATED:20241108T203215Z
LAST-MODIFIED:20241108T203215Z
UID:13779-1733774400-1733781600@southsoundblues.org
SUMMARY:Mike Witmer hosts “Mojo Mike’s Blues Revue” every Monday on KVSH 101.9 FM
DESCRIPTION:Mike Witmer hosts “Mojo Mike’s Blues Revue” every Monday on KVSH 101.9 FM 8-10 pm
URL:https://southsoundblues.org/event/mike-witmer-hosts-mojo-mikes-blues-revue-every-monday-on-kvsh-101-9-fm-28/
LOCATION:KVSH\, 17643 Vashon Hwy SW\, Vashon Island\, WA\, 98070
CATEGORIES:Local South Sound Blues
END:VEVENT
BEGIN:VEVENT
DTSTART;TZID=America/Los_Angeles:20241208T190000
DTEND;TZID=America/Los_Angeles:20241208T220000
DTSTAMP:20260425T034417
CREATED:20241007T214412Z
LAST-MODIFIED:20241007T214437Z
UID:13581-1733684400-1733695200@southsoundblues.org
SUMMARY:Sunday Blues at the Spar with Rafael Tranquillino
DESCRIPTION:Dec 8th\, Spar\, Rafael Tranquillino\, 7-10p
URL:https://southsoundblues.org/event/sunday-blues-at-the-spar-with-rafael-tranquillino/
LOCATION:The Spar\, 2121 N 30th St\, Tacoma\, WA\, 98403
CATEGORIES:Local South Sound Blues
END:VEVENT
BEGIN:VEVENT
DTSTART;TZID=America/Los_Angeles:20241207T200000
DTEND;TZID=America/Los_Angeles:20241207T200000
DTSTAMP:20260425T034417
CREATED:20240311T221814Z
LAST-MODIFIED:20240311T221814Z
UID:12389-1733601600-1733601600@southsoundblues.org
SUMMARY:King Kom Beaux at the Manchester Pub
DESCRIPTION:King Kom Beaux at the Manchester Pub December 7th\, 8pm
URL:https://southsoundblues.org/event/king-kom-beaux-at-the-manchester-pub-2/
LOCATION:Manchester Pub\, 2350 Colchester Dr E\, Manchester\, WA\, 98366
CATEGORIES:Local South Sound Blues
END:VEVENT
BEGIN:VEVENT
DTSTART;TZID=America/Los_Angeles:20241207T190000
DTEND;TZID=America/Los_Angeles:20241207T220000
DTSTAMP:20260425T034417
CREATED:20241205T004149Z
LAST-MODIFIED:20241205T004149Z
UID:13906-1733598000-1733608800@southsoundblues.org
SUMMARY:The Soulful 88's at the Burien Eagles
DESCRIPTION:The Soulful 88’s will bring their RAWKIN’ BLUES back to the Burien Eagles December 7th. Bring your DANCIN’ SHOES\, they will make you want to get up and shake it\, and there is plenty of room! Burien Eagles\, 7pm \n 
URL:https://southsoundblues.org/event/the-soulful-88s-at-the-burien-eagles/
LOCATION:Burien Eagles\, 920 SW 150th St\, Burien\, WA\, 98166
CATEGORIES:Local South Sound Blues
END:VEVENT
BEGIN:VEVENT
DTSTART;TZID=America/Los_Angeles:20241207T190000
DTEND;TZID=America/Los_Angeles:20241207T220000
DTSTAMP:20260425T034417
CREATED:20241007T214107Z
LAST-MODIFIED:20241007T214107Z
UID:13579-1733598000-1733608800@southsoundblues.org
SUMMARY:Mark DuFresne Band at the Rockfish
DESCRIPTION:Dec 7th\, The Rockfish\, Anacortes: Mark DuFresne Band\, 7-10pm
URL:https://southsoundblues.org/event/mark-dufresne-band-at-the-rockfish/
LOCATION:Rockfish Grill & Brewery\, 320 Commercial Ave\, Anacortes\, WA\, 98221
CATEGORIES:Featured
END:VEVENT
BEGIN:VEVENT
DTSTART;TZID=America/Los_Angeles:20241206T200000
DTEND;TZID=America/Los_Angeles:20241206T200000
DTSTAMP:20260425T034417
CREATED:20241112T235344Z
LAST-MODIFIED:20241113T001150Z
UID:13819-1733515200-1733515200@southsoundblues.org
SUMMARY:Curtis Salgado at the Airport Tavern
DESCRIPTION:Danno Presents\, Airport Tavern and Curtis Salgado\nCurtis Salgado at the Airport Tavern\, December 6th\, 7pm doors\, 8pm show\, 21+ $30 Advance\n\n\n\n\n\n\n\n\n\n\n\n\n\n5406 S. Tacoma Way Tacoma WA 98409\n\n\n\nhttps://www.seetickets.us/event/curtis-salgado/622434?fbclid=IwZXh0bgNhZW0CMTAAAR1QbtLjVf0UplEmrAtUyXqWDRK4p1sIwdtwJ8QIuw_KaMAwdAFgmiFe5_4_aem_dxSl-NcCBfZKpV0PPM-nBA
URL:https://southsoundblues.org/event/13819/
LOCATION:Airport Tavern\, 5406 S Tacoma Way\, Tacoma\, WA\, 98409
CATEGORIES:Local South Sound Blues,Special Event
END:VEVENT
BEGIN:VEVENT
DTSTART;TZID=America/Los_Angeles:20241206T190000
DTEND;TZID=America/Los_Angeles:20241206T210000
DTSTAMP:20260425T034417
CREATED:20241007T213917Z
LAST-MODIFIED:20241007T213917Z
UID:13577-1733511600-1733518800@southsoundblues.org
SUMMARY:The Profits at Kimball Coffeehouse
DESCRIPTION:Dec 6th\, Kimball Coffeehouse\, Gig Harbor: The Profits\, 7pm
URL:https://southsoundblues.org/event/the-profits-at-kimball-coffeehouse/
LOCATION:Kimball’s Coffeehouse\, 6659 Kimball Dr\, Gig Harbor\, WA\, 98335
CATEGORIES:Local South Sound Blues
END:VEVENT
BEGIN:VEVENT
DTSTART;TZID=America/Los_Angeles:20241205T190000
DTEND;TZID=America/Los_Angeles:20241205T220000
DTSTAMP:20260425T034417
CREATED:20241015T232627Z
LAST-MODIFIED:20241015T232627Z
UID:13671-1733425200-1733436000@southsoundblues.org
SUMMARY:Billy 'the pocket' Jam every Thursday night at Dawson's
DESCRIPTION:Billy ‘the pocket’ Jam every Thursday night at Dawson’s\, 7-10 pm\n Billy Barner \n 
URL:https://southsoundblues.org/event/billy-the-pocket-jam-every-thursday-night-at-dawsons/
LOCATION:Dawson’s Bar & Grill\, 5443 South Tacoma Way\, Tacoma\, WA\, 98409
CATEGORIES:Local South Sound Blues
END:VEVENT
BEGIN:VEVENT
DTSTART;TZID=America/Los_Angeles:20241205T170000
DTEND;TZID=America/Los_Angeles:20241205T170000
DTSTAMP:20260425T034417
CREATED:20241111T215017Z
LAST-MODIFIED:20241111T215017Z
UID:13789-1733418000-1733418000@southsoundblues.org
SUMMARY:Octopus Ballet at Cockrell Farms\, Cozy Concert
DESCRIPTION:Octopus Ballet at Cockrell Farms\, Cozy Concert\, 5pm
URL:https://southsoundblues.org/event/octopus-ballet-at-cockrell-farms-cozy-concert/
LOCATION:COCKRELL FARMS\, 6613 114TH AVE CT E\, PUYALLUP\, WA\, 98372
CATEGORIES:Featured
END:VEVENT
BEGIN:VEVENT
DTSTART;TZID=America/Los_Angeles:20241204T190000
DTEND;TZID=America/Los_Angeles:20241204T220000
DTSTAMP:20260425T034417
CREATED:20241007T232426Z
LAST-MODIFIED:20241007T232426Z
UID:13600-1733338800-1733349600@southsoundblues.org
SUMMARY:Wednesdays Blues “Jam Night” with Brian Olver and Glenn Hummel at Purdy’s\, Sumner
DESCRIPTION:Wednesdays Blues “Jam Night” with Brian Olver and Glenn Hummel at Purdy’s\, Sumner\, WA. 7-10 pm
URL:https://southsoundblues.org/event/wednesdays-blues-jam-night-with-brian-olver-and-glenn-hummel-at-purdys-sumner-15/
LOCATION:Purdy’s Public House & Arcade\, Sumner\, 16202 64th St E\, Sumner\, WA\, 98390
CATEGORIES:Local South Sound Blues
END:VEVENT
BEGIN:VEVENT
DTSTART;TZID=America/Los_Angeles:20241203T190000
DTEND;TZID=America/Los_Angeles:20241203T220000
DTSTAMP:20260425T034417
CREATED:20241007T231813Z
LAST-MODIFIED:20241007T231813Z
UID:13594-1733252400-1733263200@southsoundblues.org
SUMMARY:Jam every Tuesday at Brother Don’s Bar & Grill with the Tim Hall band
DESCRIPTION:Jam every Tuesday at Brother Don’s Bar & Grill with the Tim Hall band\, 7-10 pm.
URL:https://southsoundblues.org/event/jam-every-tuesday-at-brother-dons-bar-grill-with-the-tim-hall-band-8/
LOCATION:Brother Don’s Bar & Grill\, 4200 Kitsap Way\, Bremerton\, WA\, 98312
CATEGORIES:Local South Sound Blues
END:VEVENT
BEGIN:VEVENT
DTSTART;TZID=America/Los_Angeles:20241202T180000
DTEND;TZID=America/Los_Angeles:20241202T210000
DTSTAMP:20260425T034417
CREATED:20241007T231626Z
LAST-MODIFIED:20241007T231626Z
UID:13592-1733162400-1733173200@southsoundblues.org
SUMMARY:Monday Jazz at Brother Don’s Bar & Grill
DESCRIPTION:Monday Jazz at Brother Don’s Bar & Grill\, Bremerton\, 6-9 pm.
URL:https://southsoundblues.org/event/monday-jazz-at-brother-dons-bar-grill/
LOCATION:Brother Don’s Bar & Grill\, 4200 Kitsap Way\, Bremerton\, WA\, 98312
CATEGORIES:Local South Sound Blues
END:VEVENT
BEGIN:VEVENT
DTSTART;TZID=America/Los_Angeles:20241201T190000
DTEND;TZID=America/Los_Angeles:20241201T220000
DTSTAMP:20260425T034417
CREATED:20241007T213236Z
LAST-MODIFIED:20241007T213318Z
UID:13573-1733079600-1733090400@southsoundblues.org
SUMMARY:Sunday Blues at the Spar with Jesse James & the Mob
DESCRIPTION:Sunday Blues\, Dec 1st\,  at the Spar\, Jesse James & the Mob\, 7-10p
URL:https://southsoundblues.org/event/sunday-blues-at-the-spar-with-jesse-james-the-mob/
LOCATION:The Spar\, 2121 N 30th St\, Tacoma\, WA\, 98403
CATEGORIES:Local South Sound Blues
END:VEVENT
BEGIN:VEVENT
DTSTART;TZID=America/Los_Angeles:20241201T180000
DTEND;TZID=America/Los_Angeles:20241201T210000
DTSTAMP:20260425T034417
CREATED:20240822T231353Z
LAST-MODIFIED:20241031T013917Z
UID:13317-1733076000-1733086800@southsoundblues.org
SUMMARY:South Sound Blues Association Holiday Party featuring The Lloyd Jones Band at the Spanish Ballroom
DESCRIPTION:South Sound Blues Association Holiday Party at the Spanish Ballroom\nThe South Sound Blues Association returns to the Spanish Ballroom for their annual Holiday Party\, featuring the Lloyd Jones Band. Doors are 5:00\, show starts at 6:00 pm. Members us the promotion code to save for your ticket. questions? info@southsoundblues.org \nhttps://www.etix.com/ticket/p/31406786/the-lloyd-jones-band-south-sound-blues-association-holiday-partyall-ages-tacoma-mcmenamins-spanish-ballroom-elks-temple\nPortland-based blues and roots artist Lloyd Jones has recorded six critically acclaimed albums\, toured internationally\, and racked up dozens of major awards. He’s forged a 30-plus-year career as an impassioned singer and fierce guitar slinger\, a clever and soulful songwriter\, bandleader\, and record producer. He’s been a featured performer on six of Delbert McClinton’s blues cruises and is a regular fixture at the Portland Waterfront Blues Festival.  Many blues artists have recorded his songs\, including Gatemouth Brown\, Joe Louis Walker and Coco Montoya\, and he’s toured and shared stages with musical legends such as Big Mama Thornton\, B.B. King\, Etta James\, Bonnie Raitt\, Dr. John\,  Taj Mahal and many more. \n Lloyd Jones \nHis newest recording\, “Tennessee Run\,” recorded in Nashville\, features 14 original songs. It’s garnered rave reviews and received the Cascade Blues Association’s Muddy Award for National Album of the Year. Glide Magazine wrote\, “Jones and band bring unrelenting energy and contagious\, infectious hooks and groves that make it impossible to sit still… A “must-have” for lovers of high powered\, horn-fueled rowdy roadhouse fare.” \nFor this performance at the 2024 SSBA Holiday Party\, Lloyd is bringing his full six-piece band\, including a horn section. It promises to be a rocking\, high-energy show that will keep the dance floor packed all night.
URL:https://southsoundblues.org/event/south-sound-blues-association-holiday-party-at-the-spanish-ballroom-4/
LOCATION:McMenaminsTacoma Elks\, 565 Broadway\, Tacoma\, WA\, 98402
CATEGORIES:Featured,Local South Sound Blues,Special Event,SSBA Event
END:VEVENT
BEGIN:VEVENT
DTSTART;TZID=America/Los_Angeles:20241130T200000
DTEND;TZID=America/Los_Angeles:20241130T200000
DTSTAMP:20260425T034417
CREATED:20241008T205705Z
LAST-MODIFIED:20241008T205705Z
UID:13651-1732996800-1732996800@southsoundblues.org
SUMMARY:John Stephan Band at the Salmon Bay Eagles
DESCRIPTION:John Stephan Band at the Salmon Bay Eagles November 30th\, 8:00pm
URL:https://southsoundblues.org/event/john-stephan-band-at-the-salmon-bay-eagles/
LOCATION:Salmon Bay Eagles\, 5216 20th Ave NW\, Seattle\, WA\, 98107
CATEGORIES:Featured
END:VEVENT
BEGIN:VEVENT
DTSTART;TZID=America/Los_Angeles:20241130T200000
DTEND;TZID=America/Los_Angeles:20241130T200000
DTSTAMP:20260425T034417
CREATED:20240706T215415Z
LAST-MODIFIED:20240706T215415Z
UID:12998-1732996800-1732996800@southsoundblues.org
SUMMARY:The Thunderbirds at Dawson's Bar & Grill
DESCRIPTION:The Thunderbirds at Dawson’s Bar & Gril\, November 30th\, 8pm\n  \n 
URL:https://southsoundblues.org/event/the-thunderbirds-at-dawsons-bar-grill/
LOCATION:Dawson’s Bar & Grill\, 5443 South Tacoma Way\, Tacoma\, WA\, 98409
CATEGORIES:Featured
END:VEVENT
BEGIN:VEVENT
DTSTART;TZID=America/Los_Angeles:20241130T190000
DTEND;TZID=America/Los_Angeles:20241130T190000
DTSTAMP:20260425T034417
CREATED:20241111T214715Z
LAST-MODIFIED:20241111T214715Z
UID:13787-1732993200-1732993200@southsoundblues.org
SUMMARY:Octopus Ballet at the Lake City Pub
DESCRIPTION:Octopus Ballet at the Lake City Pub November 30th\, 7pm
URL:https://southsoundblues.org/event/octopus-ballet-at-the-lake-city-pub-3/
LOCATION:Lake City Pub\, 9106 Veterans Dr\, Lakewood\, WA\, 98498
CATEGORIES:Featured
END:VEVENT
BEGIN:VEVENT
DTSTART;TZID=America/Los_Angeles:20241129T200000
DTEND;TZID=America/Los_Angeles:20241129T230000
DTSTAMP:20260425T034417
CREATED:20241008T004736Z
LAST-MODIFIED:20241008T004736Z
UID:13635-1732910400-1732921200@southsoundblues.org
SUMMARY:Blue Healers at the Salmon Bay Eagles
DESCRIPTION:Fri Nov 29th 8- 11:00pm\, The Blue Healers at the Salmon Bay Eagles\n\n\n\n\n\n\nBlue Healers is a roots duo based in Snohomish WA. Playing stripped down originals and covers with grit. Don Forsyth is an innovative guitarist with deep blues influences and an unconventional expansive and expressive style. Diane Forsyth is a singer and bass playing songwriter with soul\, folk\, country and interstellar influences. \nBlue Healers won the 2023 IBC solo/duo category and represented Washington State in Memphis in January 2024. In the 2024 Best Blues Awards\, they won Best Solo/Duo\, Best New Blues Act and Best Female Vocalist. Don was nominated Best Acoustic Blues guitar 2023 by the Washington Blues Society and best blues band by the Seattle Weekly in 2009. \nThey released the full-length album Transmissions in March 2023 and an EP of all original blues songs in Winter 2023.
URL:https://southsoundblues.org/event/blue-healers-at-the-salmon-bay-eagles/
LOCATION:Salmon Bay Eagles\, 5216 20th Ave NW\, Seattle\, WA\, 98107
CATEGORIES:Local South Sound Blues
END:VEVENT
BEGIN:VEVENT
DTSTART;VALUE=DATE:20241128
DTEND;VALUE=DATE:20241130
DTSTAMP:20260425T034417
CREATED:20241007T212410Z
LAST-MODIFIED:20241007T212410Z
UID:13569-1732759200-1732845599@southsoundblues.org
SUMMARY:Happy Thanksgiving!
DESCRIPTION:
URL:https://southsoundblues.org/event/happy-thanksgiving-2/
LOCATION:WA
END:VEVENT
BEGIN:VEVENT
DTSTART;TZID=America/Los_Angeles:20241127T200000
DTEND;TZID=America/Los_Angeles:20241127T200000
DTSTAMP:20260425T034417
CREATED:20241109T202026Z
LAST-MODIFIED:20241109T202123Z
UID:13784-1732737600-1732737600@southsoundblues.org
SUMMARY:Randy Hansen\, Celebrating Jimi Hendrix's Birthday\, at the Spanish Ballroom
DESCRIPTION:Randy Hansen\, Celebrating Jimi Hendrix’s Birthday\, at the Spanish Ballroom\, November 27th\, doors @ 7pm\, show at 8pm\, all ages \n  \n \nhttps://www.etix.com/ticket/p/58920049/jimi-hendrix-birthday-bash-wrandy-hansenall-ages-tacoma-mcmenamins-spanish-ballroom-elks-temple?utm_source=hive&utm_medium=email&utm_campaign=hive_email_id_359770_monthly-music-round-up-november-2024&h_sid=cf707bfb34-60341d01f9e6900f60899729&h_slt=eyJoaXZlX3VzZXJfaWQiOjQyMzUxMzEwLCJoYXNoIjoiYTRhYWJhNWEzMDFiOGZmIn0%3D \n  \n  \n 
URL:https://southsoundblues.org/event/randy-hansen-celebrating-jimi-hendrixs-birthday-at-the-spanish-ballroom/
LOCATION:McMenaminsTacoma Elks\, 565 Broadway\, Tacoma\, WA\, 98402
CATEGORIES:Local South Sound Blues,Special Event
END:VEVENT
BEGIN:VEVENT
DTSTART;TZID=America/Los_Angeles:20241127T190000
DTEND;TZID=America/Los_Angeles:20241127T220000
DTSTAMP:20260425T034417
CREATED:20241008T005656Z
LAST-MODIFIED:20241008T005656Z
UID:13641-1732734000-1732744800@southsoundblues.org
SUMMARY:Wednesdays Blues “Jam Night” with Brian Olver and Glenn Hummel at Purdy’s\, Sumner
DESCRIPTION:Wednesdays Blues “Jam Night” with Brian Olver and Glenn Hummel at Purdy’s\, Sumner\, WA. 7-10 pm
URL:https://southsoundblues.org/event/wednesdays-blues-jam-night-with-brian-olver-and-glenn-hummel-at-purdys-sumner-16/
LOCATION:Purdy’s Public House & Arcade\, Sumner\, 16202 64th St E\, Sumner\, WA\, 98390
CATEGORIES:Local South Sound Blues
END:VEVENT
BEGIN:VEVENT
DTSTART;TZID=America/Los_Angeles:20241126T190000
DTEND;TZID=America/Los_Angeles:20241126T210000
DTSTAMP:20260425T034417
CREATED:20240930T215958Z
LAST-MODIFIED:20240930T215958Z
UID:13505-1732647600-1732654800@southsoundblues.org
SUMMARY:Purdy's "Tuesday Blues Showcase" featuring the Trailer Park Kings\, Sumner
DESCRIPTION:Purdy’s “Tuesday Blues Showcase” featuring the Trailer Park Kings 7-9 pm at Purdy’s Public House & Arcade Sumner\, WA
URL:https://southsoundblues.org/event/purdys-tuesday-blues-showcase-featuring-the-trailer-park-kings-sumner/
LOCATION:Purdy’s Public House & Arcade\, Sumner\, 16202 64th St E\, Sumner\, WA\, 98390
CATEGORIES:Featured,Local South Sound Blues
END:VEVENT
BEGIN:VEVENT
DTSTART;TZID=America/Los_Angeles:20241125T200000
DTEND;TZID=America/Los_Angeles:20241125T220000
DTSTAMP:20260425T034417
CREATED:20241031T001845Z
LAST-MODIFIED:20241031T001845Z
UID:13707-1732564800-1732572000@southsoundblues.org
SUMMARY:Mike Witmer hosts “Mojo Mike’s Blues Revue” every Monday on KVSH 101.9 FM
DESCRIPTION:Mike Witmer hosts “Mojo Mike’s Blues Revue” every Monday on KVSH 101.9 FM 8-10 pm
URL:https://southsoundblues.org/event/mike-witmer-hosts-mojo-mikes-blues-revue-every-monday-on-kvsh-101-9-fm-27/
LOCATION:KVSH\, 17643 Vashon Hwy SW\, Vashon Island\, WA\, 98070
CATEGORIES:Local South Sound Blues
END:VEVENT
BEGIN:VEVENT
DTSTART;TZID=America/Los_Angeles:20241124T190000
DTEND;TZID=America/Los_Angeles:20241124T220000
DTSTAMP:20260425T034417
CREATED:20240906T003933Z
LAST-MODIFIED:20240906T003933Z
UID:13408-1732474800-1732485600@southsoundblues.org
SUMMARY:Sunday Blues at the Spar with The Joel Astley Band
DESCRIPTION:Sunday Blues at the Spar with The Joel Astley Band\, November 24th\, 7-10 pm\n \n  \n  \n  \n 
URL:https://southsoundblues.org/event/sunday-blues-at-the-spar-with-the-joel-astley-band-3/
LOCATION:The Spar\, 2121 N 30th St\, Tacoma\, WA\, 98403
CATEGORIES:Local South Sound Blues
END:VEVENT
BEGIN:VEVENT
DTSTART;TZID=America/Los_Angeles:20241123T200000
DTEND;TZID=America/Los_Angeles:20241123T230000
DTSTAMP:20260425T034417
CREATED:20241008T004352Z
LAST-MODIFIED:20241008T004352Z
UID:13633-1732392000-1732402800@southsoundblues.org
SUMMARY:Tony Lease Trio at the Salmon Bay Eagles
DESCRIPTION:Tony Lease Trio at the salmon Bay Eagles\, Nov 23rd\, 8-11 pm \n\n\n\n\n\n\n\nA blend of blues-rock and straight-ahead blues with a little top 40 tossed into the mix. Tony Lease’s dynamic\, husky voice and spirited guitar playing are sure to please\, while Marty Vadalabene’s drumming provides a rock solid\, tasteful foundation and Don Wilhelm’s bass playing is the perfect complement to that. All are longtime Seattle residents and denizens of the music scene there (and elsewhere) and you can see and hear their life stories come out in their music.
URL:https://southsoundblues.org/event/tony-lease-trio-at-the-salmon-bay-eagles/
LOCATION:Salmon Bay Eagles\, 5216 20th Ave NW\, Seattle\, WA\, 98107
CATEGORIES:Local South Sound Blues
END:VEVENT
BEGIN:VEVENT
DTSTART;TZID=America/Los_Angeles:20241122T213000
DTEND;TZID=America/Los_Angeles:20241122T230000
DTSTAMP:20260425T034417
CREATED:20241007T212924Z
LAST-MODIFIED:20241007T212924Z
UID:13571-1732311000-1732316400@southsoundblues.org
SUMMARY:Billy Stapleton’s Powerhouse Band at Bakes Place\, Bellevue
DESCRIPTION:Nov 22nd\, Bakes\, Bellevue: Billy Stapleton’s Powerhouse Band\, 9:30-11pm\n \n 
URL:https://southsoundblues.org/event/billy-stapletons-powerhouse-band-at-bakes-place-bellevue/
LOCATION:Bake’s Place\, 155 108th Ave NE Ste 110\, Bellevue\, WA\, 98004
CATEGORIES:Local South Sound Blues
END:VEVENT
BEGIN:VEVENT
DTSTART;TZID=America/Los_Angeles:20241122T190000
DTEND;TZID=America/Los_Angeles:20241122T210000
DTSTAMP:20260425T034417
CREATED:20241007T212054Z
LAST-MODIFIED:20241007T212054Z
UID:13567-1732302000-1732309200@southsoundblues.org
SUMMARY:Jim Valley Project at Kimball Coffeehouse
DESCRIPTION:Nov 22nd\, Kimball Coffeehouse\, Gig Harbor: Jim Valley Project\, 7-9pm
URL:https://southsoundblues.org/event/jim-valley-project-at-kimball-coffeehouse-2/
LOCATION:Kimball’s Coffeehouse\, 6659 Kimball Dr\, Gig Harbor\, WA\, 98335
CATEGORIES:Featured
END:VEVENT
BEGIN:VEVENT
DTSTART;TZID=America/Los_Angeles:20241121T190000
DTEND;TZID=America/Los_Angeles:20241121T190000
DTSTAMP:20260425T034417
CREATED:20240822T191600Z
LAST-MODIFIED:20240822T193018Z
UID:13299-1732215600-1732215600@southsoundblues.org
SUMMARY:November 21st\, Rick Estrin & the Nightcats\, at the Slippery Pig\, Poulsbo
DESCRIPTION:November 21st\, Rick Estrin & the Nightcats\, at the Slippery Pig in Poulsbo\, 7pm\n  \nSee their website\, Poulsbobluesandjazzfestival.com or their Facebook page @poulsbobluesandjazzfestival for tickets and more information
URL:https://southsoundblues.org/event/november-21st-rick-estrin-the-nightcats-at-the-slippery-pig-poulsbo/
LOCATION:Slippery Pig Brewery\, 18801 Front St NE\, Poulsbo\, WA\, 98370
CATEGORIES:Local South Sound Blues
END:VEVENT
BEGIN:VEVENT
DTSTART;TZID=America/Los_Angeles:20241120T180000
DTEND;TZID=America/Los_Angeles:20241120T210000
DTSTAMP:20260425T034417
CREATED:20241031T001229Z
LAST-MODIFIED:20241031T001229Z
UID:13703-1732125600-1732136400@southsoundblues.org
SUMMARY:Billy Shew and Friends host an open Jam every Wednesday at Stockton’s
DESCRIPTION:Billy Shew and Friends host an open Jam every Wednesday at Stockton’s\, 6-9pm
URL:https://southsoundblues.org/event/billy-shew-and-friends-host-an-open-jam-every-wednesday-at-stocktons-25/
LOCATION:Stockton’s Restaurant & Spirits\, 23220 Maple Valley Black Diamond Rd SE\, Maple Valley\, WA\, 98038
CATEGORIES:Local South Sound Blues
END:VEVENT
BEGIN:VEVENT
DTSTART;TZID=America/Los_Angeles:20241120T180000
DTEND;TZID=America/Los_Angeles:20241120T210000
DTSTAMP:20260425T034417
CREATED:20241007T211822Z
LAST-MODIFIED:20241007T211822Z
UID:13565-1732125600-1732136400@southsoundblues.org
SUMMARY:Boss Tenors at the Spar
DESCRIPTION:Nov 20th\, Spar\, Tacoma: Boss Tenors\, 6-9pm
URL:https://southsoundblues.org/event/boss-tenors-at-the-spar-3/
LOCATION:The Spar\, 2121 N 30th St\, Tacoma\, WA\, 98403
CATEGORIES:Local South Sound Blues
END:VEVENT
END:VCALENDAR