BEGIN:VCALENDAR
VERSION:2.0
PRODID:-//South Sound Blues Association - ECPv6.15.18//NONSGML v1.0//EN
CALSCALE:GREGORIAN
METHOD:PUBLISH
X-WR-CALNAME:South Sound Blues Association
X-ORIGINAL-URL:https://southsoundblues.org
X-WR-CALDESC:Events for South Sound Blues Association
REFRESH-INTERVAL;VALUE=DURATION:PT1H
X-Robots-Tag:noindex
X-PUBLISHED-TTL:PT1H
BEGIN:VTIMEZONE
TZID:America/Los_Angeles
BEGIN:DAYLIGHT
TZOFFSETFROM:-0800
TZOFFSETTO:-0700
TZNAME:PDT
DTSTART:20250309T100000
END:DAYLIGHT
BEGIN:STANDARD
TZOFFSETFROM:-0700
TZOFFSETTO:-0800
TZNAME:PST
DTSTART:20251102T090000
END:STANDARD
BEGIN:DAYLIGHT
TZOFFSETFROM:-0800
TZOFFSETTO:-0700
TZNAME:PDT
DTSTART:20260308T100000
END:DAYLIGHT
BEGIN:STANDARD
TZOFFSETFROM:-0700
TZOFFSETTO:-0800
TZNAME:PST
DTSTART:20261101T090000
END:STANDARD
BEGIN:DAYLIGHT
TZOFFSETFROM:-0800
TZOFFSETTO:-0700
TZNAME:PDT
DTSTART:20270314T100000
END:DAYLIGHT
BEGIN:STANDARD
TZOFFSETFROM:-0700
TZOFFSETTO:-0800
TZNAME:PST
DTSTART:20271107T090000
END:STANDARD
END:VTIMEZONE
BEGIN:VEVENT
DTSTART;TZID=America/Los_Angeles:20260301T180000
DTEND;TZID=America/Los_Angeles:20260301T210000
DTSTAMP:20260423T031644
CREATED:20251030T002927Z
LAST-MODIFIED:20251030T002927Z
UID:16326-1772388000-1772398800@southsoundblues.org
SUMMARY:Tim Hall Blues Jam every Sunday at Zesty’s Steakhouse
DESCRIPTION:Tim Hall Blues Jam every Sunday at Zesty’s Steakhouse\, 6-9pm\n\n6PM-9PM Every Sunday\nBar & Lounge. Must be 21 & over to enter\nNo Cover Fee. First Come First Served\n\n\nZesty Steakhouse\n9905 Bridgeport Way SW\nLakewood\, WA 98499\n(253) 300-7993\n\nhttps://www.zestycajungrill.com/jam-night
URL:https://southsoundblues.org/event/tim-hall-blues-jam-every-sunday-at-zestys-steakhouse-20/
LOCATION:Zesty’s Cajun Steakhouse\, 9905 Bridgeport Way Southwest\, Lakewood\, WA\, 98499
CATEGORIES:Local South Sound Blues
END:VEVENT
BEGIN:VEVENT
DTSTART;TZID=America/Los_Angeles:20260228T210000
DTEND;TZID=America/Los_Angeles:20260228T233000
DTSTAMP:20260423T031644
CREATED:20260223T001952Z
LAST-MODIFIED:20260223T001952Z
UID:17096-1772312400-1772321400@southsoundblues.org
SUMMARY:Blue The Blue Tide and 'All The Rain' at the Mermaid Lounge\, Fremont
DESCRIPTION:Blue The Blue Tide and ‘All The Rain’ at the Mermaid Lounge Saturday February 28th 9pm.\n Blue Tide \n\n\n303 n 36th st\, Seattle\, WA\, United States\, 98103\nmermaidloungefremont.com
URL:https://southsoundblues.org/event/blue-the-blue-tide-and-all-the-rain-at-the-mermaid-lounge-fremont/
LOCATION:Mermaid Lounge\, 303 n 36th st\, Seattle\, WA\, 98103
CATEGORIES:Featured
END:VEVENT
BEGIN:VEVENT
DTSTART;TZID=America/Los_Angeles:20260228T190000
DTEND;TZID=America/Los_Angeles:20260228T220000
DTSTAMP:20260423T031644
CREATED:20260206T210443Z
LAST-MODIFIED:20260206T210443Z
UID:16988-1772305200-1772316000@southsoundblues.org
SUMMARY:Jake McVay at the Spar
DESCRIPTION:Jake McVay at the Spar 7-10 pm February 28th
URL:https://southsoundblues.org/event/jake-mcvay-at-the-spar/
LOCATION:The Spar\, 2121 N 30th St\, Tacoma\, WA\, 98403
CATEGORIES:Featured
END:VEVENT
BEGIN:VEVENT
DTSTART;TZID=America/Los_Angeles:20260228T183000
DTEND;TZID=America/Los_Angeles:20260228T213000
DTSTAMP:20260423T031644
CREATED:20260222T220401Z
LAST-MODIFIED:20260222T220401Z
UID:17094-1772303400-1772314200@southsoundblues.org
SUMMARY:Annie Eastwood & Chris Stevens Duo at The Repp in Historic Downtown Snohomish
DESCRIPTION:Saturday February 28th\, 6:30pm to 9:30pm\, Annie Eastwood & Chris Stevens Duo at The Repp in Historic Downtown Snohomish. \n\nBlues\, jazz and swing to accompany the great menu\, beverages and cozy atmosphere of The Repp.  \nSeattle guitarist and singer Chris Stevens combines scorching blues feeling with dazzling chops. Fans and fellow musicians have likened his talents to those of B.B. King\, T-Bone Walker and Duke Robillard. \nThe Repp \n924 1st Street \nSnohomish\, WA 98290 \n360-568-3928
URL:https://southsoundblues.org/event/annie-eastwood-chris-stevens-duo-at-the-repp-in-historic-downtown-snohomish/
LOCATION:The Repp\, 924 1st St\, Snohomish\, WA\, 98290
CATEGORIES:Featured
END:VEVENT
BEGIN:VEVENT
DTSTART;TZID=America/Los_Angeles:20260228T183000
DTEND;TZID=America/Los_Angeles:20260228T193000
DTSTAMP:20260423T031644
CREATED:20260127T021648Z
LAST-MODIFIED:20260127T021759Z
UID:16852-1772303400-1772307000@southsoundblues.org
SUMMARY:Cory Wilds Band at the Whitaker Bunk House Yurt\, Ashford
DESCRIPTION:Cory Wilds Band at the Whitaker Bunk House Yurt February 28th\, 6:30-7:30 pm\n \nWhitaker Bunk House Yurt\nLocation: Whittaker’s Bunkhouse\, 30205 WA-706\, Ashford\, WA 98304\nhttps://whittakersbunkhouse.com/
URL:https://southsoundblues.org/event/cory-wilds-band-at-the-whitaker-bunk-house-yurt-ashford/
LOCATION:Whitaker Bunk House Yurt\, 30205 WA-706\, Ashford\, WA\, 98304
CATEGORIES:Local South Sound Blues
END:VEVENT
BEGIN:VEVENT
DTSTART;TZID=America/Los_Angeles:20260228T180000
DTEND;TZID=America/Los_Angeles:20260228T200000
DTSTAMP:20260423T031644
CREATED:20260101T021006Z
LAST-MODIFIED:20260123T212905Z
UID:16699-1772301600-1772308800@southsoundblues.org
SUMMARY:Bruce Maier Blues Band at Matchless Brewing Company\, Olympia
DESCRIPTION:Bruce Maier Blues Band at Matchless Brewing Company 6-8 pm\n \n8036 River Dr SE #208\, Tumwater\, Washington 98501
URL:https://southsoundblues.org/event/bruce-maier-at-matchless-brewing-company-olympia/
LOCATION:Matchless Brewing Company\, 8036 River Dr SE #208\, Tumwater\, WA\, 98501
CATEGORIES:Local South Sound Blues
END:VEVENT
BEGIN:VEVENT
DTSTART;TZID=America/Los_Angeles:20260227T210000
DTEND;TZID=America/Los_Angeles:20260227T233000
DTSTAMP:20260423T031644
CREATED:20260226T215539Z
LAST-MODIFIED:20260226T215940Z
UID:17100-1772226000-1772235000@southsoundblues.org
SUMMARY:CD Woodbury trio\, 'CD3' at Engels Pub
DESCRIPTION:CD Woodbury trio\, CD3\, at Engels Pub\, Friday February 27th 9-12 pm\n \nhttps://cdwoodbury.com/contact) \n  \n 
URL:https://southsoundblues.org/event/cd-woodbury-trio-cd3-at-engels-pub/
LOCATION:Engels Pub\, 113 5th Ave S\, Edmonds\, WA\, 98020
CATEGORIES:Local South Sound Blues
END:VEVENT
BEGIN:VEVENT
DTSTART;TZID=America/Los_Angeles:20260227T200000
DTEND;TZID=America/Los_Angeles:20260227T223000
DTSTAMP:20260423T031644
CREATED:20260123T213156Z
LAST-MODIFIED:20260123T213156Z
UID:16843-1772222400-1772231400@southsoundblues.org
SUMMARY:Rod Cook and Toast at the North City Bistro
DESCRIPTION:Rod Cook and Toast at the North City Bistro February 27th\, 8pm
URL:https://southsoundblues.org/event/rod-cook-and-toast-at-the-north-city-bistro/
LOCATION:North City Bistro\, 1520 NE 177th St\, Shoreline\, WA\, 98155
CATEGORIES:Featured
END:VEVENT
BEGIN:VEVENT
DTSTART;TZID=America/Los_Angeles:20260227T180000
DTEND;TZID=America/Los_Angeles:20260228T233000
DTSTAMP:20260423T031644
CREATED:20250825T200210Z
LAST-MODIFIED:20250918T202922Z
UID:15806-1772215200-1772321400@southsoundblues.org
SUMMARY:Poulsbo Blues & Jazz Festival
DESCRIPTION:Poulsbo Blues & Jazz Festival February 27th – 28th\, 2026\nJoin us at the Poulsbo Blues and Jazz Festival\, located in downtown historic Poulsbo\, “Little Norway\,” from February 27-28\, 2026. This exclusive intimate event will be like no other. 20+ amazing bands over the course of 2 days in select venues. Tickets are limited. The experience will be coveted. Don’t miss out. \nThe festival is entirely indoors and easily walkable\, so leave your car behind. For those planning to stay the night\, there are several nearby hotels to choose from\, allowing you to explore our charming town on Sunday! Poulsbo will be bustling all weekend with its restaurants\, shops\, and the world-famous Sluy’s bakery for delicious donuts. \ntickets:  https://www.eventbrite.com/e/poulsbo-blues-and-jazz-festival-2026-tickets-1222878896699?aff=oddtdtcreator \nThe Poulsbo Blues and Jazz Festival is created and produced by Mary Gorman and Joe Hulsey. After extensive travel to over 100 music festivals they felt it was time that their town have its own. PB&J was born. The festival is a vital part of our community and benefits the Poulsbo Rotary Club’s ongoing efforts. \nQuestions? Please email poulsbobluesandjazzfestival@gmail.com.
URL:https://southsoundblues.org/event/poulsbo-blues-jazz-festival/
LOCATION:Poulsbo Eagles\, 4228 NE Lincoln Rd\, Poulsbo\, WA\, 98370
CATEGORIES:Festival,Local South Sound Blues
END:VEVENT
BEGIN:VEVENT
DTSTART;TZID=America/Los_Angeles:20260226T190000
DTEND;TZID=America/Los_Angeles:20260226T220000
DTSTAMP:20260423T031644
CREATED:20260123T211155Z
LAST-MODIFIED:20260123T211155Z
UID:16833-1772132400-1772143200@southsoundblues.org
SUMMARY:Thursday nights- Billy “The Pocket” Blues Jams at Dawsons
DESCRIPTION:Thursday nights- Billy “The Pocket” Blues Jams at Dawsons\, 7-10 pm
URL:https://southsoundblues.org/event/thursday-nights-billy-the-pocket-blues-jams-at-dawsons-15/
LOCATION:Dawson’s Bar & Grill\, 5443 South Tacoma Way\, Tacoma\, WA\, 98409
CATEGORIES:Local South Sound Blues
END:VEVENT
BEGIN:VEVENT
DTSTART;TZID=America/Los_Angeles:20260226T180000
DTEND;TZID=America/Los_Angeles:20260226T210000
DTSTAMP:20260423T031644
CREATED:20260222T220013Z
LAST-MODIFIED:20260222T220013Z
UID:17092-1772128800-1772139600@southsoundblues.org
SUMMARY:Annie Eastwood All-Star Band Featuring Award Winning Guitarist Billy Stapleton at Bad Albert’s\, Ballard
DESCRIPTION:Thursday February 26th\, 6pm – 9pm Annie Eastwood All-Star Band Featuring Award Winning Guitarist Billy Stapleton at Bad Albert’s in Ballard. \n\nLive music and featured guests on the 2nd and 4th Thursdays of each month at this favorite Ballard venue.  \nThis week live music featuring Billy Stapleton on guitar with Jeff Davies on bass and Steve Peterson on drums at Bad Albert’s in Ballard from 6pm to 9pm. No cover\, relaxing\, family friendly venue. A fabulous time with good friends is guaranteed. See you in Ballard.\n\n\n\n\n\n\n\n\n\n\n\n\n\n\n\n\n\n\n\n\n\n\n\n\nBad Albert’s Tap & Grill \n5100 Ballard Avenue NW\, Seattle\, at the corner of Dock Street and Ballard Avenue. \n206-789-2000
URL:https://southsoundblues.org/event/annie-eastwood-all-star-band-featuring-award-winning-guitarist-billy-stapleton-at-bad-alberts-ballard/
LOCATION:Bad Albert’s\, 5100 Ballard Avenue Northwest\, Seattle\, WA\, 98107
CATEGORIES:Featured
END:VEVENT
BEGIN:VEVENT
DTSTART;TZID=America/Los_Angeles:20260225T183000
DTEND;TZID=America/Los_Angeles:20260225T203000
DTSTAMP:20260423T031644
CREATED:20260205T234135Z
LAST-MODIFIED:20260205T234135Z
UID:16935-1772044200-1772051400@southsoundblues.org
SUMMARY:Octopus Ballet at the TK Irish Pub\, Puyallup
DESCRIPTION:Octopus Ballet at the TK Irish Pub\, February 25th\, 6:30-8:30 pm
URL:https://southsoundblues.org/event/octopus-ballet-at-the-tk-irish-pub-puyallup/
LOCATION:Twisted Kilt\, 109 S Meridian\, Puyallup\, WA\, 98371
CATEGORIES:Featured
END:VEVENT
BEGIN:VEVENT
DTSTART;TZID=America/Los_Angeles:20260225T180000
DTEND;TZID=America/Los_Angeles:20260225T210000
DTSTAMP:20260423T031644
CREATED:20260123T210815Z
LAST-MODIFIED:20260206T210245Z
UID:16829-1772042400-1772053200@southsoundblues.org
SUMMARY:Funky Jazz Wednesdays at the Spar with Lonnie Williams
DESCRIPTION:Funky Jazz Wednesdays at the Spar 6-9 pm with Lonnie Williams
URL:https://southsoundblues.org/event/funky-jazz-wednesdays-at-the-spar-8/
LOCATION:The Spar\, 2121 N 30th St\, Tacoma\, WA\, 98403
CATEGORIES:Featured
END:VEVENT
BEGIN:VEVENT
DTSTART;TZID=America/Los_Angeles:20260225T180000
DTEND;TZID=America/Los_Angeles:20260225T200000
DTSTAMP:20260423T031644
CREATED:20260222T215122Z
LAST-MODIFIED:20260222T215122Z
UID:17090-1772042400-1772049600@southsoundblues.org
SUMMARY:Annie Eastwood & Billy Stapleton Duo at the Sparrow\, Kirkland
DESCRIPTION:Wednesday February 25th\, 6pm – 8pm Annie Eastwood & Billy Stapleton Duo at Sparrow in Kirkland. \n \n\n\nAward Winning Guitarist Billy Stapleton & Vocalist Annie Eastwood perform an eclectic variety of Rhythm & Blues\, Rock\, Blues\, Soul\, Swing\, Jazz and original tunes. An early evening of live music at this wonderful venue. Sparrow\, an inviting setting with a fabulous menu and great service. Love it.\n\n\n\n\n\nKirkland’s Favorite Neighborhood Restaurant. \nEmbracing Love\, Flavor\, and the Community: Sparrow is Kirkland’s Hidden Gem.\n \nSparrow \n\n\n9736 Northeast 120th Place\nKirkland\, WA 98034\n425-686-8231
URL:https://southsoundblues.org/event/annie-eastwood-billy-stapleton-duo-at-the-sparrow-kirkland-4/
LOCATION:Sparrow\, 9736 Northeast 120th Place\, Kirkland\, WA\, 98034
CATEGORIES:Featured
END:VEVENT
BEGIN:VEVENT
DTSTART;TZID=America/Los_Angeles:20260224T190000
DTEND;TZID=America/Los_Angeles:20260224T210000
DTSTAMP:20260423T031644
CREATED:20251227T204324Z
LAST-MODIFIED:20260203T000121Z
UID:16630-1771959600-1771966800@southsoundblues.org
SUMMARY:Purdy's Tuesday Blues Showcase featuring the Bruce Maier Blues Band\, Sumner
DESCRIPTION:Purdy’s Tuesday Blues Showcase featuring the Bruce Maier Blues Band February 24th\, 7-9 pm at Purdy’s Public House & Arcade\n \nThe BRUCE MAIER BLUES BAND \, formerly known as the Bruce Maier Band has been a professional performance and touring entity since 1978 and has included many members over the years\, each who has added their special energy and talent to the show itself. After decades of mixed genres and Bruce’s original songs the focus has shifted to The Blues and originals also including the band’s spin on some music of  the last half century’s greatest bands and writers such as The Beatles\, Rolling Stones and Eric Clapton.  \nhttps://brucejmaier.com/
URL:https://southsoundblues.org/event/purdys-tuesday-blues-showcase-featuring-the-bruce-maier-blues-band-sumner/
LOCATION:Purdy’s Public House & Arcade\, Sumner\, 16202 64th St E\, Sumner\, WA\, 98390
CATEGORIES:Local South Sound Blues
END:VEVENT
BEGIN:VEVENT
DTSTART;TZID=America/Los_Angeles:20260223T200000
DTEND;TZID=America/Los_Angeles:20260223T220000
DTSTAMP:20260423T031644
CREATED:20260123T205950Z
LAST-MODIFIED:20260123T205950Z
UID:16819-1771876800-1771884000@southsoundblues.org
SUMMARY:Mike Witmer hosts “Mojo Mike’s Blues Revue” every Monday on KVSH 101.9 FM
DESCRIPTION:Mike Witmer hosts “Mojo Mike’s Blues Revue” every Monday on KVSH 101.9 FM\, 8-10 pm
URL:https://southsoundblues.org/event/mike-witmer-hosts-mojo-mikes-blues-revue-every-monday-on-kvsh-101-9-fm-50/
LOCATION:KVSH\, 17643 Vashon Hwy SW\, Vashon Island\, WA\, 98070
CATEGORIES:Local South Sound Blues
END:VEVENT
BEGIN:VEVENT
DTSTART;TZID=America/Los_Angeles:20260222T190000
DTEND;TZID=America/Los_Angeles:20260222T220000
DTSTAMP:20260423T031644
CREATED:20251117T015247Z
LAST-MODIFIED:20260205T233209Z
UID:16562-1771786800-1771797600@southsoundblues.org
SUMMARY:Sunday Blues at the Spar with the Soulful 88s
DESCRIPTION:Sunday Blues at the Spar with the Soulful 88s\, 7-10 pm
URL:https://southsoundblues.org/event/sunday-blues-at-the-spar-50/
LOCATION:The Spar\, 2121 N 30th St\, Tacoma\, WA\, 98403
CATEGORIES:Local South Sound Blues
END:VEVENT
BEGIN:VEVENT
DTSTART;TZID=America/Los_Angeles:20260222T180000
DTEND;TZID=America/Los_Angeles:20260222T210000
DTSTAMP:20260423T031644
CREATED:20260106T020350Z
LAST-MODIFIED:20260106T020645Z
UID:16711-1771783200-1771794000@southsoundblues.org
SUMMARY:James Coates with Friends at the Spanish Ballroom
DESCRIPTION:James Coates Sunday\, 22nd of February at 6pm\nFeaturing Erina McLaren and Damage Trajectory\n\n\n\n\n\n\n\n5pm doors\, 6pm show  https://www.mcmenamins.com/events/274849-erina-mclaren \nAll ages welcome \nAbout James Coates\nPNW Roots & Americana\nSoulful Americana — it evokes images of back porch ballads\, foot-stomping anthems and everything in between. It’s also the chosen genre of James Coates\, a 15-year traveler of the Northwest’s sprawling music scene who’s spent a career struggling to define himself. \nJames didn’t choose music — after learning guitar from his father at ten\, some would say it chose him. Influences came from everywhere\, but the ones that stuck were legendary songwriters like Bob Dylan and Tom Petty as well as the unstoppable backbeat of Motown Records. \nSeattle Weekly mused about Coates that he\, “sounds like Bob Dylan would if Dylan could actually sing\, while lyrically he veers closer to Springsteen territory.” This notion would be confirmed by DJ Greg Vandy through airplay on KEXP’s Roadhouse\, a show dedicated to the region’s finest roots music.
URL:https://southsoundblues.org/event/james-coates-with-friends-at-the-spanish-ballroom/
LOCATION:McMenaminsTacoma Elks\, 565 Broadway\, Tacoma\, WA\, 98402
CATEGORIES:Featured
END:VEVENT
BEGIN:VEVENT
DTSTART;TZID=America/Los_Angeles:20260221T200000
DTEND;TZID=America/Los_Angeles:20260221T230000
DTSTAMP:20260423T031644
CREATED:20251021T214959Z
LAST-MODIFIED:20251021T214959Z
UID:16298-1771704000-1771714800@southsoundblues.org
SUMMARY:Heather Jones Duo at Rock the Dock\, Tacoma
DESCRIPTION:Heather Jones Duo at Rock the Dock Saturday\, February 21st\, 8-11 pm
URL:https://southsoundblues.org/event/heather-jones-duo-at-rock-the-dock-tacoma-4/
LOCATION:Rock the Dock\, 535 Dock St # 118\, Tacoma\, WA\, 98402
CATEGORIES:Local South Sound Blues
END:VEVENT
BEGIN:VEVENT
DTSTART;TZID=America/Los_Angeles:20260221T190000
DTEND;TZID=America/Los_Angeles:20260221T220000
DTSTAMP:20260423T031644
CREATED:20260206T210134Z
LAST-MODIFIED:20260206T210134Z
UID:16985-1771700400-1771711200@southsoundblues.org
SUMMARY:Silver City at the Spar
DESCRIPTION:Silver City at the Spar February 21st 7-10 pm
URL:https://southsoundblues.org/event/silver-city-at-the-spar-4/
LOCATION:The Spar\, 2121 N 30th St\, Tacoma\, WA\, 98403
CATEGORIES:Featured
END:VEVENT
BEGIN:VEVENT
DTSTART;TZID=America/Los_Angeles:20260221T180000
DTEND;TZID=America/Los_Angeles:20260222T000000
DTSTAMP:20260423T031644
CREATED:20260206T022343Z
LAST-MODIFIED:20260206T022417Z
UID:16968-1771696800-1771718400@southsoundblues.org
SUMMARY:All Blues\, Every Saturday and Sunday night on KNKX 88.5 fm
DESCRIPTION:All Blues\, Every Saturday and Sunday night on KNKX 88.5 fm 6pm-Midnight\nFrom Tacoma/Seattle\, blues party; hosted by John Kessler. For a full six hours each evening\, John draws from the full spectrum of the blues in his award-winning shows and offers a unique look at blues recording history.  https://www.knkx.org/listening-options
URL:https://southsoundblues.org/event/all-blues-every-saturday-and-sunday-night-on-knkx-88-5-fm/
LOCATION:KNKX\, 930 Broadway Tacoma\, WA\, 98402\, Tacoma\, WA\, 98402
CATEGORIES:Local South Sound Blues
END:VEVENT
BEGIN:VEVENT
DTSTART;TZID=America/Los_Angeles:20260221T170000
DTEND;TZID=America/Los_Angeles:20260221T200000
DTSTAMP:20260423T031644
CREATED:20260208T224912Z
LAST-MODIFIED:20260208T224912Z
UID:16990-1771693200-1771704000@southsoundblues.org
SUMMARY:Mark Hurwitz & Gin Creek at the Urban Elk\, Tacoma
DESCRIPTION:Mark Hurwitz & Gin Creek at the Urban Elk February 21st 5-8 pm\n \nUrban Elk Restaurant & Allenmore Event Center
URL:https://southsoundblues.org/event/mark-hurwitz-gin-creek-at-the-urban-elk-tacoma-2/
LOCATION:Urban Elk\, 2013 S Cedar St\, Tacoma\, WA\, 98405
CATEGORIES:Local South Sound Blues
END:VEVENT
BEGIN:VEVENT
DTSTART;TZID=America/Los_Angeles:20260220T210000
DTEND;TZID=America/Los_Angeles:20260220T233000
DTSTAMP:20260423T031644
CREATED:20260128T223951Z
LAST-MODIFIED:20260128T223951Z
UID:16899-1771621200-1771630200@southsoundblues.org
SUMMARY:The Revival Brothers Band at Billy Blues Bar and Grill
DESCRIPTION:The Revival Brothers Band at the Billy Blues Bar and Grill 2/20/26\, 9pm\n\nSpecial opener\nCascade Blues Association ‘26 IBC representative Lilla.\nWith\nBrady T Goss\nAndrew Matthews\nJeff Frankel\nJerry Jacques\nJustin DeFreece\nChuk Barber\nTimmer Blakely
URL:https://southsoundblues.org/event/the-revival-brothers-band-at-billy-blues-bar-and-grill/
LOCATION:Billy Blues Bar & Grill\, 7115 NE Hazel Dell Ave\, Vancouver\, WA\, 98665
CATEGORIES:Featured
END:VEVENT
BEGIN:VEVENT
DTSTART;TZID=America/Los_Angeles:20260220T200000
DTEND;TZID=America/Los_Angeles:20260220T223000
DTSTAMP:20260423T031644
CREATED:20260204T031050Z
LAST-MODIFIED:20260204T031050Z
UID:16921-1771617600-1771626600@southsoundblues.org
SUMMARY:Jeff Herzog and the Jet City Fliers at the Salmon Bay Eagles
DESCRIPTION:Jeff Herzog and the Jet City Fliers hits the stage for an exciting night of blues at the Salmon Bay Eagles February 20th\, 8pm.\nJeff Herzog is a cornerstone of the Seattle blues scene\, having shared the stage with virtually every blues musician in the Pacific Northwest. With guitarist Billy Lovy as a constant presence\, the Jet City Fliers have cultivated a tight-knit sound that showcases Herzog’s creative vision.
URL:https://southsoundblues.org/event/jeff-herzog-and-the-jet-city-fliers-at-the-salmon-bay-eagles/
LOCATION:Salmon Bay Eagles\, 5216 20th Ave NW\, Seattle\, WA\, 98107
CATEGORIES:Local South Sound Blues
END:VEVENT
BEGIN:VEVENT
DTSTART;TZID=America/Los_Angeles:20260220T190000
DTEND;TZID=America/Los_Angeles:20260220T220000
DTSTAMP:20260423T031644
CREATED:20260211T014459Z
LAST-MODIFIED:20260211T014640Z
UID:17061-1771614000-1771624800@southsoundblues.org
SUMMARY:Billy Shew Blues Trio at O Looneys\, Gig Harbor
DESCRIPTION:Billy Shew with Tim DWight and Jim Collins February 20th 7pm\n Billy Shew \n\n\nhttps://olooneysirishpub.com/
URL:https://southsoundblues.org/event/billy-shew-blues-trio-at-o-looneys-gig-harbor/
LOCATION:O’looney’s Irish Pub\, 3222 56th St\, Gig Harbor\, WA\, 98335
CATEGORIES:Featured
END:VEVENT
BEGIN:VEVENT
DTSTART;TZID=America/Los_Angeles:20260220T190000
DTEND;TZID=America/Los_Angeles:20260220T210000
DTSTAMP:20260423T031644
CREATED:20260128T231807Z
LAST-MODIFIED:20260211T002648Z
UID:16903-1771614000-1771621200@southsoundblues.org
SUMMARY:Live music at Kimball Coffeehouse
DESCRIPTION:Live music at Kimball Coffeehouse February 20th 7-9 pm
URL:https://southsoundblues.org/event/dusty-luck-at-kimball-coffeehouse-3/
LOCATION:Kimball’s Coffeehouse\, 6659 Kimball Dr\, Gig Harbor\, WA\, 98335
CATEGORIES:Featured
END:VEVENT
BEGIN:VEVENT
DTSTART;TZID=America/Los_Angeles:20260219T200000
DTEND;TZID=America/Los_Angeles:20260219T223000
DTSTAMP:20260423T031644
CREATED:20260205T231708Z
LAST-MODIFIED:20260205T231708Z
UID:16926-1771531200-1771540200@southsoundblues.org
SUMMARY:Joel Astley Band at the Salmon Bay Eagles
DESCRIPTION:Joel Astley Band at the Salmon Bay Eagles February 19th 8pm
URL:https://southsoundblues.org/event/joel-astley-band-at-the-salmon-bay-eagles/
LOCATION:Salmon Bay Eagles\, 5216 20th Ave NW\, Seattle\, WA\, 98107
CATEGORIES:Local South Sound Blues
END:VEVENT
BEGIN:VEVENT
DTSTART;TZID=America/Los_Angeles:20260219T190000
DTEND;TZID=America/Los_Angeles:20260219T230000
DTSTAMP:20260423T031644
CREATED:20260211T024617Z
LAST-MODIFIED:20260214T210838Z
UID:17065-1771527600-1771542000@southsoundblues.org
SUMMARY:Billy the Pocket 4-year anniversary Jam party at Dawson's Bar & Grill
DESCRIPTION:Billy the Pocket four year Anniversary Jam Party!\nThursday February 19th\, 7-11pm at Dawson’s Bar & Grill.\n Billy ‘The Pocket’ Barner  \n 
URL:https://southsoundblues.org/event/billy-the-pocket-4-year-anniversary-jam-party-at-dawsons-bar-grill/
LOCATION:Dawson’s Bar & Grill\, 5443 South Tacoma Way\, Tacoma\, WA\, 98409
CATEGORIES:Local South Sound Blues
END:VEVENT
BEGIN:VEVENT
DTSTART;TZID=America/Los_Angeles:20260219T190000
DTEND;TZID=America/Los_Angeles:20260219T230000
DTSTAMP:20260423T031644
CREATED:20260123T211557Z
LAST-MODIFIED:20260123T211557Z
UID:16835-1771527600-1771542000@southsoundblues.org
SUMMARY:Thursday night open Jam sessions at North End on Pearl
DESCRIPTION:Thursday night open Jam sessions at North End on Pearl 7-11 pm\nSing\, play an instrument? Come on in and jam on stage! All genres welcome!\n\n5037 North Pearl St \, Ruston\, WA\, United States\, 98407
URL:https://southsoundblues.org/event/thursday-night-open-jam-sessions-at-north-end-on-pearl/
LOCATION:North End On Pearl\, 5037 North Pearl Street\, Tacoma\, WA\, 98407
CATEGORIES:Featured
END:VEVENT
BEGIN:VEVENT
DTSTART;TZID=America/Los_Angeles:20260218T180000
DTEND;TZID=America/Los_Angeles:20260218T210000
DTSTAMP:20260423T031644
CREATED:20260127T022105Z
LAST-MODIFIED:20260206T205924Z
UID:16859-1771437600-1771448400@southsoundblues.org
SUMMARY:Funky Jazz Wednesdays at the Spar with the Brian Kirk Quartet
DESCRIPTION:Funky Jazz Wednesdays at the Spar 6-9 pm the Brian Kirk Quartet
URL:https://southsoundblues.org/event/funky-jazz-wednesdays-at-the-spar-10/
LOCATION:The Spar\, 2121 N 30th St\, Tacoma\, WA\, 98403
CATEGORIES:Featured
END:VEVENT
END:VCALENDAR