BEGIN:VCALENDAR
VERSION:2.0
PRODID:-//South Sound Blues Association - ECPv6.15.18//NONSGML v1.0//EN
CALSCALE:GREGORIAN
METHOD:PUBLISH
X-WR-CALNAME:South Sound Blues Association
X-ORIGINAL-URL:https://southsoundblues.org
X-WR-CALDESC:Events for South Sound Blues Association
REFRESH-INTERVAL;VALUE=DURATION:PT1H
X-Robots-Tag:noindex
X-PUBLISHED-TTL:PT1H
BEGIN:VTIMEZONE
TZID:America/Los_Angeles
BEGIN:DAYLIGHT
TZOFFSETFROM:-0800
TZOFFSETTO:-0700
TZNAME:PDT
DTSTART:20250309T100000
END:DAYLIGHT
BEGIN:STANDARD
TZOFFSETFROM:-0700
TZOFFSETTO:-0800
TZNAME:PST
DTSTART:20251102T090000
END:STANDARD
BEGIN:DAYLIGHT
TZOFFSETFROM:-0800
TZOFFSETTO:-0700
TZNAME:PDT
DTSTART:20260308T100000
END:DAYLIGHT
BEGIN:STANDARD
TZOFFSETFROM:-0700
TZOFFSETTO:-0800
TZNAME:PST
DTSTART:20261101T090000
END:STANDARD
BEGIN:DAYLIGHT
TZOFFSETFROM:-0800
TZOFFSETTO:-0700
TZNAME:PDT
DTSTART:20270314T100000
END:DAYLIGHT
BEGIN:STANDARD
TZOFFSETFROM:-0700
TZOFFSETTO:-0800
TZNAME:PST
DTSTART:20271107T090000
END:STANDARD
END:VTIMEZONE
BEGIN:VEVENT
DTSTART;TZID=America/Los_Angeles:20260225T180000
DTEND;TZID=America/Los_Angeles:20260225T210000
DTSTAMP:20260423T013933
CREATED:20260123T210815Z
LAST-MODIFIED:20260206T210245Z
UID:16829-1772042400-1772053200@southsoundblues.org
SUMMARY:Funky Jazz Wednesdays at the Spar with Lonnie Williams
DESCRIPTION:Funky Jazz Wednesdays at the Spar 6-9 pm with Lonnie Williams
URL:https://southsoundblues.org/event/funky-jazz-wednesdays-at-the-spar-8/
LOCATION:The Spar\, 2121 N 30th St\, Tacoma\, WA\, 98403
CATEGORIES:Featured
END:VEVENT
BEGIN:VEVENT
DTSTART;TZID=America/Los_Angeles:20260225T183000
DTEND;TZID=America/Los_Angeles:20260225T203000
DTSTAMP:20260423T013933
CREATED:20260205T234135Z
LAST-MODIFIED:20260205T234135Z
UID:16935-1772044200-1772051400@southsoundblues.org
SUMMARY:Octopus Ballet at the TK Irish Pub\, Puyallup
DESCRIPTION:Octopus Ballet at the TK Irish Pub\, February 25th\, 6:30-8:30 pm
URL:https://southsoundblues.org/event/octopus-ballet-at-the-tk-irish-pub-puyallup/
LOCATION:Twisted Kilt\, 109 S Meridian\, Puyallup\, WA\, 98371
CATEGORIES:Featured
END:VEVENT
BEGIN:VEVENT
DTSTART;TZID=America/Los_Angeles:20260226T180000
DTEND;TZID=America/Los_Angeles:20260226T210000
DTSTAMP:20260423T013933
CREATED:20260222T220013Z
LAST-MODIFIED:20260222T220013Z
UID:17092-1772128800-1772139600@southsoundblues.org
SUMMARY:Annie Eastwood All-Star Band Featuring Award Winning Guitarist Billy Stapleton at Bad Albert’s\, Ballard
DESCRIPTION:Thursday February 26th\, 6pm – 9pm Annie Eastwood All-Star Band Featuring Award Winning Guitarist Billy Stapleton at Bad Albert’s in Ballard. \n\nLive music and featured guests on the 2nd and 4th Thursdays of each month at this favorite Ballard venue.  \nThis week live music featuring Billy Stapleton on guitar with Jeff Davies on bass and Steve Peterson on drums at Bad Albert’s in Ballard from 6pm to 9pm. No cover\, relaxing\, family friendly venue. A fabulous time with good friends is guaranteed. See you in Ballard.\n\n\n\n\n\n\n\n\n\n\n\n\n\n\n\n\n\n\n\n\n\n\n\n\nBad Albert’s Tap & Grill \n5100 Ballard Avenue NW\, Seattle\, at the corner of Dock Street and Ballard Avenue. \n206-789-2000
URL:https://southsoundblues.org/event/annie-eastwood-all-star-band-featuring-award-winning-guitarist-billy-stapleton-at-bad-alberts-ballard/
LOCATION:Bad Albert’s\, 5100 Ballard Avenue Northwest\, Seattle\, WA\, 98107
CATEGORIES:Featured
END:VEVENT
BEGIN:VEVENT
DTSTART;TZID=America/Los_Angeles:20260226T190000
DTEND;TZID=America/Los_Angeles:20260226T220000
DTSTAMP:20260423T013933
CREATED:20260123T211155Z
LAST-MODIFIED:20260123T211155Z
UID:16833-1772132400-1772143200@southsoundblues.org
SUMMARY:Thursday nights- Billy “The Pocket” Blues Jams at Dawsons
DESCRIPTION:Thursday nights- Billy “The Pocket” Blues Jams at Dawsons\, 7-10 pm
URL:https://southsoundblues.org/event/thursday-nights-billy-the-pocket-blues-jams-at-dawsons-15/
LOCATION:Dawson’s Bar & Grill\, 5443 South Tacoma Way\, Tacoma\, WA\, 98409
CATEGORIES:Local South Sound Blues
END:VEVENT
BEGIN:VEVENT
DTSTART;TZID=America/Los_Angeles:20260227T180000
DTEND;TZID=America/Los_Angeles:20260228T233000
DTSTAMP:20260423T013933
CREATED:20250825T200210Z
LAST-MODIFIED:20250918T202922Z
UID:15806-1772215200-1772321400@southsoundblues.org
SUMMARY:Poulsbo Blues & Jazz Festival
DESCRIPTION:Poulsbo Blues & Jazz Festival February 27th – 28th\, 2026\nJoin us at the Poulsbo Blues and Jazz Festival\, located in downtown historic Poulsbo\, “Little Norway\,” from February 27-28\, 2026. This exclusive intimate event will be like no other. 20+ amazing bands over the course of 2 days in select venues. Tickets are limited. The experience will be coveted. Don’t miss out. \nThe festival is entirely indoors and easily walkable\, so leave your car behind. For those planning to stay the night\, there are several nearby hotels to choose from\, allowing you to explore our charming town on Sunday! Poulsbo will be bustling all weekend with its restaurants\, shops\, and the world-famous Sluy’s bakery for delicious donuts. \ntickets:  https://www.eventbrite.com/e/poulsbo-blues-and-jazz-festival-2026-tickets-1222878896699?aff=oddtdtcreator \nThe Poulsbo Blues and Jazz Festival is created and produced by Mary Gorman and Joe Hulsey. After extensive travel to over 100 music festivals they felt it was time that their town have its own. PB&J was born. The festival is a vital part of our community and benefits the Poulsbo Rotary Club’s ongoing efforts. \nQuestions? Please email poulsbobluesandjazzfestival@gmail.com.
URL:https://southsoundblues.org/event/poulsbo-blues-jazz-festival/
LOCATION:Poulsbo Eagles\, 4228 NE Lincoln Rd\, Poulsbo\, WA\, 98370
CATEGORIES:Festival,Local South Sound Blues
END:VEVENT
BEGIN:VEVENT
DTSTART;TZID=America/Los_Angeles:20260227T200000
DTEND;TZID=America/Los_Angeles:20260227T223000
DTSTAMP:20260423T013933
CREATED:20260123T213156Z
LAST-MODIFIED:20260123T213156Z
UID:16843-1772222400-1772231400@southsoundblues.org
SUMMARY:Rod Cook and Toast at the North City Bistro
DESCRIPTION:Rod Cook and Toast at the North City Bistro February 27th\, 8pm
URL:https://southsoundblues.org/event/rod-cook-and-toast-at-the-north-city-bistro/
LOCATION:North City Bistro\, 1520 NE 177th St\, Shoreline\, WA\, 98155
CATEGORIES:Featured
END:VEVENT
BEGIN:VEVENT
DTSTART;TZID=America/Los_Angeles:20260227T210000
DTEND;TZID=America/Los_Angeles:20260227T233000
DTSTAMP:20260423T013933
CREATED:20260226T215539Z
LAST-MODIFIED:20260226T215940Z
UID:17100-1772226000-1772235000@southsoundblues.org
SUMMARY:CD Woodbury trio\, 'CD3' at Engels Pub
DESCRIPTION:CD Woodbury trio\, CD3\, at Engels Pub\, Friday February 27th 9-12 pm\n \nhttps://cdwoodbury.com/contact) \n  \n 
URL:https://southsoundblues.org/event/cd-woodbury-trio-cd3-at-engels-pub/
LOCATION:Engels Pub\, 113 5th Ave S\, Edmonds\, WA\, 98020
CATEGORIES:Local South Sound Blues
END:VEVENT
BEGIN:VEVENT
DTSTART;TZID=America/Los_Angeles:20260228T180000
DTEND;TZID=America/Los_Angeles:20260228T200000
DTSTAMP:20260423T013934
CREATED:20260101T021006Z
LAST-MODIFIED:20260123T212905Z
UID:16699-1772301600-1772308800@southsoundblues.org
SUMMARY:Bruce Maier Blues Band at Matchless Brewing Company\, Olympia
DESCRIPTION:Bruce Maier Blues Band at Matchless Brewing Company 6-8 pm\n \n8036 River Dr SE #208\, Tumwater\, Washington 98501
URL:https://southsoundblues.org/event/bruce-maier-at-matchless-brewing-company-olympia/
LOCATION:Matchless Brewing Company\, 8036 River Dr SE #208\, Tumwater\, WA\, 98501
CATEGORIES:Local South Sound Blues
END:VEVENT
BEGIN:VEVENT
DTSTART;TZID=America/Los_Angeles:20260228T183000
DTEND;TZID=America/Los_Angeles:20260228T193000
DTSTAMP:20260423T013934
CREATED:20260127T021648Z
LAST-MODIFIED:20260127T021759Z
UID:16852-1772303400-1772307000@southsoundblues.org
SUMMARY:Cory Wilds Band at the Whitaker Bunk House Yurt\, Ashford
DESCRIPTION:Cory Wilds Band at the Whitaker Bunk House Yurt February 28th\, 6:30-7:30 pm\n \nWhitaker Bunk House Yurt\nLocation: Whittaker’s Bunkhouse\, 30205 WA-706\, Ashford\, WA 98304\nhttps://whittakersbunkhouse.com/
URL:https://southsoundblues.org/event/cory-wilds-band-at-the-whitaker-bunk-house-yurt-ashford/
LOCATION:Whitaker Bunk House Yurt\, 30205 WA-706\, Ashford\, WA\, 98304
CATEGORIES:Local South Sound Blues
END:VEVENT
BEGIN:VEVENT
DTSTART;TZID=America/Los_Angeles:20260228T183000
DTEND;TZID=America/Los_Angeles:20260228T213000
DTSTAMP:20260423T013934
CREATED:20260222T220401Z
LAST-MODIFIED:20260222T220401Z
UID:17094-1772303400-1772314200@southsoundblues.org
SUMMARY:Annie Eastwood & Chris Stevens Duo at The Repp in Historic Downtown Snohomish
DESCRIPTION:Saturday February 28th\, 6:30pm to 9:30pm\, Annie Eastwood & Chris Stevens Duo at The Repp in Historic Downtown Snohomish. \n\nBlues\, jazz and swing to accompany the great menu\, beverages and cozy atmosphere of The Repp.  \nSeattle guitarist and singer Chris Stevens combines scorching blues feeling with dazzling chops. Fans and fellow musicians have likened his talents to those of B.B. King\, T-Bone Walker and Duke Robillard. \nThe Repp \n924 1st Street \nSnohomish\, WA 98290 \n360-568-3928
URL:https://southsoundblues.org/event/annie-eastwood-chris-stevens-duo-at-the-repp-in-historic-downtown-snohomish/
LOCATION:The Repp\, 924 1st St\, Snohomish\, WA\, 98290
CATEGORIES:Featured
END:VEVENT
BEGIN:VEVENT
DTSTART;TZID=America/Los_Angeles:20260228T190000
DTEND;TZID=America/Los_Angeles:20260228T220000
DTSTAMP:20260423T013934
CREATED:20260206T210443Z
LAST-MODIFIED:20260206T210443Z
UID:16988-1772305200-1772316000@southsoundblues.org
SUMMARY:Jake McVay at the Spar
DESCRIPTION:Jake McVay at the Spar 7-10 pm February 28th
URL:https://southsoundblues.org/event/jake-mcvay-at-the-spar/
LOCATION:The Spar\, 2121 N 30th St\, Tacoma\, WA\, 98403
CATEGORIES:Featured
END:VEVENT
BEGIN:VEVENT
DTSTART;TZID=America/Los_Angeles:20260228T210000
DTEND;TZID=America/Los_Angeles:20260228T233000
DTSTAMP:20260423T013934
CREATED:20260223T001952Z
LAST-MODIFIED:20260223T001952Z
UID:17096-1772312400-1772321400@southsoundblues.org
SUMMARY:Blue The Blue Tide and 'All The Rain' at the Mermaid Lounge\, Fremont
DESCRIPTION:Blue The Blue Tide and ‘All The Rain’ at the Mermaid Lounge Saturday February 28th 9pm.\n Blue Tide \n\n\n303 n 36th st\, Seattle\, WA\, United States\, 98103\nmermaidloungefremont.com
URL:https://southsoundblues.org/event/blue-the-blue-tide-and-all-the-rain-at-the-mermaid-lounge-fremont/
LOCATION:Mermaid Lounge\, 303 n 36th st\, Seattle\, WA\, 98103
CATEGORIES:Featured
END:VEVENT
BEGIN:VEVENT
DTSTART;TZID=America/Los_Angeles:20260301T180000
DTEND;TZID=America/Los_Angeles:20260301T210000
DTSTAMP:20260423T013934
CREATED:20251030T002927Z
LAST-MODIFIED:20251030T002927Z
UID:16326-1772388000-1772398800@southsoundblues.org
SUMMARY:Tim Hall Blues Jam every Sunday at Zesty’s Steakhouse
DESCRIPTION:Tim Hall Blues Jam every Sunday at Zesty’s Steakhouse\, 6-9pm\n\n6PM-9PM Every Sunday\nBar & Lounge. Must be 21 & over to enter\nNo Cover Fee. First Come First Served\n\n\nZesty Steakhouse\n9905 Bridgeport Way SW\nLakewood\, WA 98499\n(253) 300-7993\n\nhttps://www.zestycajungrill.com/jam-night
URL:https://southsoundblues.org/event/tim-hall-blues-jam-every-sunday-at-zestys-steakhouse-20/
LOCATION:Zesty’s Cajun Steakhouse\, 9905 Bridgeport Way Southwest\, Lakewood\, WA\, 98499
CATEGORIES:Local South Sound Blues
END:VEVENT
BEGIN:VEVENT
DTSTART;TZID=America/Los_Angeles:20260301T190000
DTEND;TZID=America/Los_Angeles:20260301T230000
DTSTAMP:20260423T013934
CREATED:20260115T022715Z
LAST-MODIFIED:20260115T022715Z
UID:16783-1772391600-1772406000@southsoundblues.org
SUMMARY:Billy Shew Blues Jam\, every Sunday at Dawson’s
DESCRIPTION:Billy Shew Blues Jam\, every Sunday at Dawson’s\, 7-11 pm
URL:https://southsoundblues.org/event/billy-shew-blues-jam-every-sunday-at-dawsons-52/
LOCATION:Dawson’s Bar & Grill\, 5443 South Tacoma Way\, Tacoma\, WA\, 98409
CATEGORIES:Local South Sound Blues
END:VEVENT
BEGIN:VEVENT
DTSTART;TZID=America/Los_Angeles:20260302T180000
DTEND;TZID=America/Los_Angeles:20260302T210000
DTSTAMP:20260423T013934
CREATED:20251030T201715Z
LAST-MODIFIED:20251030T201715Z
UID:16372-1772474400-1772485200@southsoundblues.org
SUMMARY:Monday Jazz at Brother Don’s Bar & Grill\, Bremerton
DESCRIPTION:Monday Jazz at Brother Don’s Bar & Grill\, Bremerton\, 6-9 pm
URL:https://southsoundblues.org/event/monday-jazz-at-brother-dons-bar-grill-bremerton-32/
LOCATION:Brother Don’s Bar & Grill\, 4200 Kitsap Way\, Bremerton\, WA\, 98312
CATEGORIES:Featured
END:VEVENT
BEGIN:VEVENT
DTSTART;TZID=America/Los_Angeles:20260303T190000
DTEND;TZID=America/Los_Angeles:20260303T220000
DTSTAMP:20260423T013934
CREATED:20251030T204506Z
LAST-MODIFIED:20251030T204506Z
UID:16382-1772564400-1772575200@southsoundblues.org
SUMMARY:Jam every Tuesday at Brother Don’s Bar & Grill with the Tim Hall band
DESCRIPTION:Jam every Tuesday at Brother Don’s Bar & Grill with the Tim Hall band 7-10 pm
URL:https://southsoundblues.org/event/jam-every-tuesday-at-brother-dons-bar-grill-with-the-tim-hall-band-27/
LOCATION:Brother Don’s Bar & Grill\, 4200 Kitsap Way\, Bremerton\, WA\, 98312
CATEGORIES:Featured
END:VEVENT
BEGIN:VEVENT
DTSTART;TZID=America/Los_Angeles:20260303T190000
DTEND;TZID=America/Los_Angeles:20260303T220000
DTSTAMP:20260423T013934
CREATED:20260112T015735Z
LAST-MODIFIED:20260112T015735Z
UID:16770-1772564400-1772575200@southsoundblues.org
SUMMARY:Ronnie Baker Brooks at Jazz Alley\, Seattle
DESCRIPTION:Ronnie Baker Brooks –Blues In My DNA Album Release Celebration\n\n\nTue\, March 3rd -Wed\, March 4th Dimitiriou’s Jazz Alley welcomes living Chicago blues legend and Alligator Recording artist Ronnie Baker Brooks\, on tour in support of his new release Blues In My DNA (10/11/2024) for two nights and two shows. Band members are Ronnie Baker Brooks (guitar/vocals)\, Jeff Paris (keys) – has played with Bill Withers\, Keb Mo and CoCo Montoya\, Philip Castleberry (bass) and Chris Singleton (drums). Show times Tuesday and Wednesday at 7:30pm. Doors open at 6:00pm each night. This show is supported by KNKX and the Washington Blues Society. \nhttps://www.jazzalley.com/www-home/artist.jsp?shownum=8758 \n\n\n$42.50Includes a $12.00 Handling Fee. All purchases are nonrefundable/nonexchangeable. \n\n\n\nTickets may be purchased on-line or by phone. Night of show seating typically available.
URL:https://southsoundblues.org/event/ronnie-baker-brooks-at-jazz-alley-seattle-2/
LOCATION:Dimitriou’s Jazz Alley\, 2033 6th Avenue\, Seattle\, WA\, 98121
CATEGORIES:Special Event
END:VEVENT
BEGIN:VEVENT
DTSTART;TZID=America/Los_Angeles:20260304T190000
DTEND;TZID=America/Los_Angeles:20260304T220000
DTSTAMP:20260423T013935
CREATED:20260112T015524Z
LAST-MODIFIED:20260112T015814Z
UID:16768-1772650800-1772661600@southsoundblues.org
SUMMARY:Ronnie Baker Brooks Blues at Jazz Alley\, Seattle
DESCRIPTION:Ronnie Baker Brooks –Blues In My DNA Album Release Celebration\n\n\nTue\, March 3rd -Wed\, March 4th Dimitiriou’s Jazz Alley welcomes living Chicago blues legend and Alligator Recording artist Ronnie Baker Brooks\, on tour in support of his new release Blues In My DNA (10/11/2024) for two nights and two shows. Band members are Ronnie Baker Brooks (guitar/vocals)\, Jeff Paris (keys) – has played with Bill Withers\, Keb Mo and CoCo Montoya\, Philip Castleberry (bass) and Chris Singleton (drums). Show times Tuesday and Wednesday at 7:30pm. Doors open at 6:00pm each night. This show is supported by KNKX and the Washington Blues Society. \nhttps://www.jazzalley.com/www-home/artist.jsp?shownum=8758 \n\n\n$42.50Includes a $12.00 Handling Fee. All purchases are nonrefundable/nonexchangeable. \n\n\n\nTickets may be purchased on-line or by phone. Night of show seating typically available.
URL:https://southsoundblues.org/event/ronnie-baker-brooks-blues-at-jazz-alley-seattle/
LOCATION:Dimitriou’s Jazz Alley\, 2033 6th Avenue\, Seattle\, WA\, 98121
CATEGORIES:Special Event
END:VEVENT
BEGIN:VEVENT
DTSTART;TZID=America/Los_Angeles:20260305T190000
DTEND;TZID=America/Los_Angeles:20260305T220000
DTSTAMP:20260423T013935
CREATED:20260211T010739Z
LAST-MODIFIED:20260211T010739Z
UID:17026-1772737200-1772748000@southsoundblues.org
SUMMARY:Thursday nights- Billy “The Pocket” Blues Jams at Dawsons
DESCRIPTION:Thursday nights- Billy “The Pocket” Blues Jams at Dawsons\, 7-10 pm
URL:https://southsoundblues.org/event/thursday-nights-billy-the-pocket-blues-jams-at-dawsons-16/
LOCATION:Dawson’s Bar & Grill\, 5443 South Tacoma Way\, Tacoma\, WA\, 98409
CATEGORIES:Local South Sound Blues
END:VEVENT
BEGIN:VEVENT
DTSTART;TZID=America/Los_Angeles:20260305T190000
DTEND;TZID=America/Los_Angeles:20260305T230000
DTSTAMP:20260423T013935
CREATED:20260123T211736Z
LAST-MODIFIED:20260123T211736Z
UID:16837-1772737200-1772751600@southsoundblues.org
SUMMARY:Thursday night open Jam sessions at North End on Pearl 
DESCRIPTION:Thursday night open Jam sessions at North End on Pearl 7-11 pm
URL:https://southsoundblues.org/event/thursday-night-open-jam-sessions-at-north-end-on-pearl-2/
LOCATION:North End On Pearl\, 5037 North Pearl Street\, Tacoma\, WA\, 98407
CATEGORIES:Featured
END:VEVENT
BEGIN:VEVENT
DTSTART;TZID=America/Los_Angeles:20260306T190000
DTEND;TZID=America/Los_Angeles:20260306T210000
DTSTAMP:20260423T013935
CREATED:20260227T223346Z
LAST-MODIFIED:20260227T223346Z
UID:17155-1772823600-1772830800@southsoundblues.org
SUMMARY:The True Romans at Kimball Coffeehouse\, Gig Harbor
DESCRIPTION:The True Romans at Kimball Coffeehouse March 6th\, 7-9 pm\nThe True Romans are a group of seasoned professionals from the Seattle music scene who love to play music! Playing songs that span the last 6 decades of music across all genres from pop\, blues\, rock\, the classics to current hits!
URL:https://southsoundblues.org/event/the-true-romans-at-kimball-coffeehouse-gig-harbor-2/
LOCATION:Kimball’s Coffeehouse\, 6659 Kimball Dr\, Gig Harbor\, WA\, 98335
CATEGORIES:Local South Sound Blues
END:VEVENT
BEGIN:VEVENT
DTSTART;TZID=America/Los_Angeles:20260306T190000
DTEND;TZID=America/Los_Angeles:20260306T220000
DTSTAMP:20260423T013935
CREATED:20260305T230902Z
LAST-MODIFIED:20260305T230902Z
UID:17183-1772823600-1772834400@southsoundblues.org
SUMMARY:Sugaray Rayford at the Airport Tavern\, Tacoma
DESCRIPTION:Airport Tavern Music Hall is at Airport Tavern Music Hall.\n\n\n\nornptosSde3t0:cag53lM5P840 M0m1ua36u6670 a6h44ur 5tcch fc5lg ·Tacoma ·\n\n\n\n\nDoors-6pm Show-7pm\,  $34.84\n\n\n\n\n\n\n\n\n\n\n\nSugaray Rayford hits Airport Tavern Music Hall on Friday\, March 6 for a night of powerhouse vocals\, deep blues\, and full-body groove. If you like your live music raw\, electrifying\, and impossible to ignore\, don’t sleep on this one.\n\n\ntickets and info at www.airporttavern.com
URL:https://southsoundblues.org/event/sugaray-rayford-at-the-airport-tavern-tacoma/
LOCATION:Airport Tavern\, 5406 S Tacoma Way\, Tacoma\, WA\, 98409
CATEGORIES:Local South Sound Blues,Special Event
END:VEVENT
BEGIN:VEVENT
DTSTART;TZID=America/Los_Angeles:20260306T200000
DTEND;TZID=America/Los_Angeles:20260306T220000
DTSTAMP:20260423T013935
CREATED:20260101T022229Z
LAST-MODIFIED:20260101T022229Z
UID:16702-1772827200-1772834400@southsoundblues.org
SUMMARY:Bruce Maier Blues Band at the Pig Bar\, Olympia
DESCRIPTION:Bruce Maier Blues Band at the Pig Bar March 6th\, 8-10 pm\n \nhttps://brucejmaier.com/bruce-maier-blues-band \nhttps://www.facebook.com/ThePigBar/events
URL:https://southsoundblues.org/event/bruce-maier-blues-band-at-the-pig-bar-olympia/
LOCATION:South Bay Dickerson’s BBQ / Pig Bar Lounge\, 619 Legion Way SE\, Olympia\, WA\, 98501
CATEGORIES:Local South Sound Blues
END:VEVENT
BEGIN:VEVENT
DTSTART;TZID=America/Los_Angeles:20260306T200000
DTEND;TZID=America/Los_Angeles:20260306T230000
DTSTAMP:20260423T013936
CREATED:20260226T223231Z
LAST-MODIFIED:20260226T223231Z
UID:17105-1772827200-1772838000@southsoundblues.org
SUMMARY:The Blue Skies Blues Band at the Salmon Bay Eagles\, Ballard
DESCRIPTION:The Blue Skies Blues Band at the Salmon Bay Eagles March 6th\, 8pm\n\nContemporary\, traditional\, and some original blues. Covering B B King\, Little Walter\, Buddy Guy\, Allman Brothers\, Joe Bonamassa\, Savoy Brown and more…\n\n\n$5 at the door if you’re not an Eagle.
URL:https://southsoundblues.org/event/the-blue-skies-blues-band-at-the-salmon-bay-eagles-ballard/
LOCATION:Salmon Bay Eagles\, 5216 20th Ave NW\, Seattle\, WA\, 98107
CATEGORIES:Featured
END:VEVENT
BEGIN:VEVENT
DTSTART;TZID=America/Los_Angeles:20260307T180000
DTEND;TZID=America/Los_Angeles:20260308T000000
DTSTAMP:20260423T013936
CREATED:20260206T022608Z
LAST-MODIFIED:20260206T022608Z
UID:16971-1772906400-1772928000@southsoundblues.org
SUMMARY:All Blues\, Every Saturday and Sunday night on KNKX 88.5 fm
DESCRIPTION:All Blues\, Every Saturday and Sunday night on KNKX 88.5 fm 6pm-Midnight\nFrom Tacoma/Seattle\, blues party; hosted by John Kessler. For a full six hours each evening\, John draws from the full spectrum of the blues in his award-winning shows and offers a unique look at blues recording history.  https://www.knkx.org/listening-options
URL:https://southsoundblues.org/event/all-blues-every-saturday-and-sunday-night-on-knkx-88-5-fm-2/
LOCATION:KNKX\, 930 Broadway Tacoma\, WA\, 98402\, Tacoma\, WA\, 98402
CATEGORIES:Local South Sound Blues
END:VEVENT
BEGIN:VEVENT
DTSTART;TZID=America/Los_Angeles:20260308T170000
DTEND;TZID=America/Los_Angeles:20260308T200000
DTSTAMP:20260423T013936
CREATED:20251030T200912Z
LAST-MODIFIED:20251030T200912Z
UID:16368-1772989200-1773000000@southsoundblues.org
SUMMARY:Joe Faker Band Jam Sunday's at Brother Don's
DESCRIPTION:Joe Faker Band Jam Sunday’s at Brother Don’s 5-8 pm
URL:https://southsoundblues.org/event/joe-faker-band-jam-sundays-at-brother-dons-5/
LOCATION:Brother Don’s Bar & Grill\, 4200 Kitsap Way\, Bremerton\, WA\, 98312
CATEGORIES:Featured
END:VEVENT
BEGIN:VEVENT
DTSTART;TZID=America/Los_Angeles:20260308T190000
DTEND;TZID=America/Los_Angeles:20260308T220000
DTSTAMP:20260423T013936
CREATED:20260123T205549Z
LAST-MODIFIED:20260306T014709Z
UID:16815-1772996400-1773007200@southsoundblues.org
SUMMARY:Sunday Blues at the Spar with the Kara Grainger Band
DESCRIPTION:Sunday Blues at the Spar with the Kara Grainger band\, 7-10 pm
URL:https://southsoundblues.org/event/sunday-blues-at-the-spar-59/
LOCATION:The Spar\, 2121 N 30th St\, Tacoma\, WA\, 98403
CATEGORIES:Local South Sound Blues
END:VEVENT
BEGIN:VEVENT
DTSTART;TZID=America/Los_Angeles:20260309T200000
DTEND;TZID=America/Los_Angeles:20260309T220000
DTSTAMP:20260423T013936
CREATED:20260206T003140Z
LAST-MODIFIED:20260206T003140Z
UID:16955-1773086400-1773093600@southsoundblues.org
SUMMARY:Mike Witmer hosts “Mojo Mike’s Blues Revue” every Monday on KVSH 101.9 FM
DESCRIPTION:Mike Witmer hosts “Mojo Mike’s Blues Revue” every Monday on KVSH 101.9 FM\, 8-10 pm
URL:https://southsoundblues.org/event/mike-witmer-hosts-mojo-mikes-blues-revue-every-monday-on-kvsh-101-9-fm-51/
LOCATION:KVSH\, 17643 Vashon Hwy SW\, Vashon Island\, WA\, 98070
CATEGORIES:Local South Sound Blues
END:VEVENT
BEGIN:VEVENT
DTSTART;TZID=America/Los_Angeles:20260310T190000
DTEND;TZID=America/Los_Angeles:20260310T220000
DTSTAMP:20260423T013936
CREATED:20260309T214506Z
LAST-MODIFIED:20260309T214506Z
UID:17234-1773169200-1773180000@southsoundblues.org
SUMMARY:Annie Eastwood & Her All-Star Band at the Salmon Bay Eagles
DESCRIPTION:March 10th\, 7pm to 10pm\, \nLive Music with Annie Eastwood & Her All-Star Band \nFeaturing Billy Stapleton on guitar and Bruce Laven on keys \nat Salmon Bay Eagles in Ballard FOE#2141.\nEclectic Rhythm & Blues\, Rock\, Blues\, Soul and Jazz. \nCelebrate the 93rd Anniversary of Salmon Bay Eagles Aerie 2141 in Ballard this Tuesday with members and special guests. An all day event with a 6pm dinner and live music and dancing from 7pm to 10pm with the All-Star Band Featuring Billy Stapleton and Bruce Laven. Looking forward to celebrating this great organization. Hope to see you there!\n\n\nSalmon Bay Eagles Aerie #2141 \nMembers Social Club \n5216 20th Avenue NW \nSeattle\, WA 98107 – 206/783-7791
URL:https://southsoundblues.org/event/annie-eastwood-her-all-star-band-at-the-salmon-bay-eagles/
LOCATION:Salmon Bay Eagles\, 5216 20th Ave NW\, Seattle\, WA\, 98107
CATEGORIES:Local South Sound Blues
END:VEVENT
BEGIN:VEVENT
DTSTART;TZID=America/Los_Angeles:20260310T200000
DTEND;TZID=America/Los_Angeles:20260310T233000
DTSTAMP:20260423T013936
CREATED:20260127T023818Z
LAST-MODIFIED:20260127T023818Z
UID:16877-1773172800-1773185400@southsoundblues.org
SUMMARY:Cory Wilds Band Tuesday open Jam Night at Elmer’s Bar and Grill
DESCRIPTION:Cory Wilds Band Tuesday open Jam Night at Elmer’s Bar and Grill\, 8-11:30 pm
URL:https://southsoundblues.org/event/cory-wilds-band-tuesday-open-jam-night-at-elmers-bar-and-grill-44/
LOCATION:Elmer’s Bar & Grill\, 15027 Ambaum Blvd SW\, Burien\, WA\, 98166
CATEGORIES:Local South Sound Blues
END:VEVENT
END:VCALENDAR