BEGIN:VCALENDAR
VERSION:2.0
PRODID:-//South Sound Blues Association - ECPv6.15.18//NONSGML v1.0//EN
CALSCALE:GREGORIAN
METHOD:PUBLISH
X-ORIGINAL-URL:https://southsoundblues.org
X-WR-CALDESC:Events for South Sound Blues Association
REFRESH-INTERVAL;VALUE=DURATION:PT1H
X-Robots-Tag:noindex
X-PUBLISHED-TTL:PT1H
BEGIN:VTIMEZONE
TZID:America/Los_Angeles
BEGIN:DAYLIGHT
TZOFFSETFROM:-0800
TZOFFSETTO:-0700
TZNAME:PDT
DTSTART:20240310T100000
END:DAYLIGHT
BEGIN:STANDARD
TZOFFSETFROM:-0700
TZOFFSETTO:-0800
TZNAME:PST
DTSTART:20241103T090000
END:STANDARD
BEGIN:DAYLIGHT
TZOFFSETFROM:-0800
TZOFFSETTO:-0700
TZNAME:PDT
DTSTART:20250309T100000
END:DAYLIGHT
BEGIN:STANDARD
TZOFFSETFROM:-0700
TZOFFSETTO:-0800
TZNAME:PST
DTSTART:20251102T090000
END:STANDARD
BEGIN:DAYLIGHT
TZOFFSETFROM:-0800
TZOFFSETTO:-0700
TZNAME:PDT
DTSTART:20260308T100000
END:DAYLIGHT
BEGIN:STANDARD
TZOFFSETFROM:-0700
TZOFFSETTO:-0800
TZNAME:PST
DTSTART:20261101T090000
END:STANDARD
END:VTIMEZONE
BEGIN:VEVENT
DTSTART;TZID=America/Los_Angeles:20251024T190000
DTEND;TZID=America/Los_Angeles:20251024T210000
DTSTAMP:20260423T084343
CREATED:20250918T221505Z
LAST-MODIFIED:20250918T221505Z
UID:16104-1761332400-1761339600@southsoundblues.org
SUMMARY:Annie Eastwood & Her All-Star Band Featuring Billy Stapleton at Kimball Coffeehouse\, Gig Harbor
DESCRIPTION:Annie Eastwood & Her All-Star Band Featuring Billy Stapleton at Kimball Coffeehouse\, Gig Harbor\, Friday October 24th\,  7pm to 9pm
URL:https://southsoundblues.org/event/annie-eastwood-her-all-star-band-featuring-billy-stapleton-at-kimball-coffeehouse-gig-harbor/
LOCATION:Kimball’s Coffeehouse\, 6659 Kimball Dr\, Gig Harbor\, WA\, 98335
CATEGORIES:Local South Sound Blues
END:VEVENT
BEGIN:VEVENT
DTSTART;TZID=America/Los_Angeles:20251024T200000
DTEND;TZID=America/Los_Angeles:20251024T230000
DTSTAMP:20260423T084343
CREATED:20250926T011355Z
LAST-MODIFIED:20250926T011355Z
UID:16118-1761336000-1761346800@southsoundblues.org
SUMMARY:Tim Hall Band at Zesty's Steakhouse
DESCRIPTION:Tim Hall Band at Zesty’s Steakhouse 8-11 pm
URL:https://southsoundblues.org/event/tim-hall-band-at-zestys-steakhouse-2/
LOCATION:Zesty’s Cajun Steakhouse\, 9905 Bridgeport Way Southwest\, Lakewood\, WA\, 98499
CATEGORIES:Local South Sound Blues
END:VEVENT
BEGIN:VEVENT
DTSTART;TZID=America/Los_Angeles:20251025T190000
DTEND;TZID=America/Los_Angeles:20251025T220000
DTSTAMP:20260423T084343
CREATED:20250927T013118Z
LAST-MODIFIED:20250927T013205Z
UID:16140-1761418800-1761429600@southsoundblues.org
SUMMARY:Michele D'Amour & The Love Dealers (trio) at Grape and Grain\, Everett
DESCRIPTION:Michele D’Amour & The Love Dealers (trio) at Grape and Grain\, October 25th\, 7pm\n 
URL:https://southsoundblues.org/event/michele-damour-the-love-dealers-trio-at-grape-and-grain-everett/
LOCATION:Grape and Grain\, 6502 Evergreen Way\, Everett\, WA\, 98203
CATEGORIES:Featured
END:VEVENT
BEGIN:VEVENT
DTSTART;TZID=America/Los_Angeles:20251025T190000
DTEND;TZID=America/Los_Angeles:20251025T220000
DTSTAMP:20260423T084343
CREATED:20251007T002135Z
LAST-MODIFIED:20251007T002135Z
UID:16198-1761418800-1761429600@southsoundblues.org
SUMMARY:Dusty Souls at the Spar
DESCRIPTION:Dusty Souls at the Spar October 25th\, 7-10 pm
URL:https://southsoundblues.org/event/dusty-souls-at-the-spar/
LOCATION:The Spar\, 2121 N 30th St\, Tacoma\, WA\, 98403
CATEGORIES:Featured
END:VEVENT
BEGIN:VEVENT
DTSTART;TZID=America/Los_Angeles:20251025T200000
DTEND;TZID=America/Los_Angeles:20251025T233000
DTSTAMP:20260423T084343
CREATED:20250918T213736Z
LAST-MODIFIED:20250918T213736Z
UID:16087-1761422400-1761435000@southsoundblues.org
SUMMARY:Heather Jones & The Groove Masters Halloween Party at Dawsons\, Tacoma
DESCRIPTION:Heather Jones & The Groove Masters Halloween Party\, October 25th at Dawsons\, 8-11 pm
URL:https://southsoundblues.org/event/heather-jones-the-groove-masters-halloween-party-at-dawsons-tacoma/
LOCATION:Dawson’s Bar & Grill\, 5443 South Tacoma Way\, Tacoma\, WA\, 98409
CATEGORIES:Local South Sound Blues
END:VEVENT
BEGIN:VEVENT
DTSTART;TZID=America/Los_Angeles:20251026T190000
DTEND;TZID=America/Los_Angeles:20251026T220000
DTSTAMP:20260423T084343
CREATED:20250718T231142Z
LAST-MODIFIED:20251008T002833Z
UID:15489-1761505200-1761516000@southsoundblues.org
SUMMARY:Sunday Blues at the Spar Featuring Billy Stapleton's Powerhouse Band
DESCRIPTION:Sunday Blues at the Spar Featuring Billy Stapleton’s Powerhouse\,  7-10 pm
URL:https://southsoundblues.org/event/sunday-blues-at-the-spar-36/
LOCATION:The Spar\, 2121 N 30th St\, Tacoma\, WA\, 98403
CATEGORIES:Featured
END:VEVENT
BEGIN:VEVENT
DTSTART;TZID=America/Los_Angeles:20251026T190000
DTEND;TZID=America/Los_Angeles:20251026T230000
DTSTAMP:20260423T084343
CREATED:20250710T202834Z
LAST-MODIFIED:20250710T202834Z
UID:15396-1761505200-1761519600@southsoundblues.org
SUMMARY:Billy Shew Blues Jam\, every Sunday at Dawson’s
DESCRIPTION:Billy Shew Blues Jam\, every Sunday at Dawson’s\, 7-11 pm
URL:https://southsoundblues.org/event/billy-shew-blues-jam-every-sunday-at-dawsons-47/
LOCATION:Dawson’s Bar & Grill\, 5443 South Tacoma Way\, Tacoma\, WA\, 98409
CATEGORIES:Local South Sound Blues
END:VEVENT
BEGIN:VEVENT
DTSTART;TZID=America/Los_Angeles:20251027T200000
DTEND;TZID=America/Los_Angeles:20251027T220000
DTSTAMP:20260423T084343
CREATED:20250831T234317Z
LAST-MODIFIED:20250831T234405Z
UID:15908-1761595200-1761602400@southsoundblues.org
SUMMARY:Mike Witmer hosts “Mojo Mike’s Blues Revue” every Monday on KVSH 101.9 FM
DESCRIPTION:Mike Witmer hosts “Mojo Mike’s Blues Revue” every Monday on KVSH 101.9 FM\, 8-10 pm
URL:https://southsoundblues.org/event/mike-witmer-hosts-mojo-mikes-blues-revue-every-monday-on-kvsh-101-9-fm-44/
LOCATION:KVSH\, 17643 Vashon Hwy SW\, Vashon Island\, WA\, 98070
CATEGORIES:Local South Sound Blues
END:VEVENT
BEGIN:VEVENT
DTSTART;TZID=America/Los_Angeles:20251028T190000
DTEND;TZID=America/Los_Angeles:20251028T210000
DTSTAMP:20260423T084343
CREATED:20250929T191334Z
LAST-MODIFIED:20250929T191334Z
UID:16144-1761678000-1761685200@southsoundblues.org
SUMMARY:Purdys 'Tuesday Blues Showcase' featuring The Linda Myers Band\, Sumner
DESCRIPTION:Purdy’s ‘Tuesday Blues Showcase’ featuring The Linda Myers Band October 28th\, 7-9 pm\n Harvey Wickland and Linda Myers \nWe’re excited to have the Linda Myers Band perform for the South Sound Blues Association monthly blues showcase at Purdy’s Public House in Sumner. Date: Tuesday\, October 28\, 2025 Time: 7pm to 9pm Free\, All ages
URL:https://southsoundblues.org/event/purdys-tuesday-blues-showcase-featuring-the-linda-myers-band-sumner/
LOCATION:Purdy’s Public House & Arcade\, Sumner\, 16202 64th St E\, Sumner\, WA\, 98390
CATEGORIES:Local South Sound Blues,SSBA Event
END:VEVENT
BEGIN:VEVENT
DTSTART;TZID=America/Los_Angeles:20251028T200000
DTEND;TZID=America/Los_Angeles:20251028T220000
DTSTAMP:20260423T084343
CREATED:20250612T195335Z
LAST-MODIFIED:20250612T195335Z
UID:15127-1761681600-1761688800@southsoundblues.org
SUMMARY:Every Tuesday at Billy Blues Bar & Grill\, Ben Rice & The PDX Hustle
DESCRIPTION:Every Tuesday at Billy Blues Bar & Grill\, Ben Rice & The PDX Hustle\, 8-10 pm\n“For our weekly Tuesday Groove Day at Billy Blues Bar & Grill\, we’ve been shaking things up a bit. We’ve been having fun throwing in new songs and bringing in some special guests to help us explore the music by artists who’ve influenced us. Come out and join us at our home court up in Vancouver\, 8:00 – 10:00 PM every Tuesday!
URL:https://southsoundblues.org/event/every-tuesday-at-billy-blues-bar-grill-ben-rice-the-pdx-hustle-5/
LOCATION:Billy Blues Bar & Grill\, 7115 NE Hazel Dell Ave\, Vancouver\, WA\, 98665
CATEGORIES:Featured
END:VEVENT
BEGIN:VEVENT
DTSTART;TZID=America/Los_Angeles:20251029T180000
DTEND;TZID=America/Los_Angeles:20251029T210000
DTSTAMP:20260423T084343
CREATED:20250901T001816Z
LAST-MODIFIED:20250901T001816Z
UID:15938-1761760800-1761771600@southsoundblues.org
SUMMARY:Wednesday Night Jams at Stockton’s with Billy Shew & Friends
DESCRIPTION:Wednesday Night Jams at Stockton’s with Billy Shew & Friends\, 6-9 pm
URL:https://southsoundblues.org/event/wednesday-night-jams-at-stocktons-with-billy-shew-friends-11/
LOCATION:Stockton’s Restaurant & Spirits\, 23220 Maple Valley Black Diamond Rd SE\, Maple Valley\, WA\, 98038
CATEGORIES:Local South Sound Blues
END:VEVENT
BEGIN:VEVENT
DTSTART;TZID=America/Los_Angeles:20251029T183000
DTEND;TZID=America/Los_Angeles:20251029T203000
DTSTAMP:20260423T084343
CREATED:20251002T003545Z
LAST-MODIFIED:20251002T003545Z
UID:16158-1761762600-1761769800@southsoundblues.org
SUMMARY:Billy Stoops Duo at TK Irish Pub\, Puyallup
DESCRIPTION:Billy Stoops Duo at the TK Irish Pub in Puyallup October 29th\, 6:30-8:30 pm
URL:https://southsoundblues.org/event/billy-stoops-duo-at-tk-irish-pub-puyallup/
LOCATION:Twisted Kilt\, 109 S Meridian\, Puyallup\, WA\, 98371
CATEGORIES:Local South Sound Blues
END:VEVENT
BEGIN:VEVENT
DTSTART;TZID=America/Los_Angeles:20251029T190000
DTEND;TZID=America/Los_Angeles:20251029T220000
DTSTAMP:20260423T084343
CREATED:20250831T235356Z
LAST-MODIFIED:20250831T235356Z
UID:15914-1761764400-1761775200@southsoundblues.org
SUMMARY:Wednesday Funky Jazz at the Spar
DESCRIPTION:Wednesday Funky Jazz at the Spar\, 7-10
URL:https://southsoundblues.org/event/wednesday-funky-jazz-at-the-spar-10/
LOCATION:The Spar\, 2121 N 30th St\, Tacoma\, WA\, 98403
CATEGORIES:Featured
END:VEVENT
BEGIN:VEVENT
DTSTART;TZID=America/Los_Angeles:20251030T190000
DTEND;TZID=America/Los_Angeles:20251030T210000
DTSTAMP:20260423T084343
CREATED:20250901T010813Z
LAST-MODIFIED:20250901T010813Z
UID:15980-1761850800-1761858000@southsoundblues.org
SUMMARY:Thursdays “Bluesland” radio show with Leo Schumaker\, KMRE 88.3 FM
DESCRIPTION:Thursdays “Bluesland” radio show with Leo Schumaker\, KMRE 88.3 FM\, 7-9pm
URL:https://southsoundblues.org/event/thursdays-bluesland-radio-show-with-leo-schumaker-kmre-88-3-fm-2/
LOCATION:KMRE\, Bellingham\, WA
CATEGORIES:Featured
END:VEVENT
BEGIN:VEVENT
DTSTART;TZID=America/Los_Angeles:20251030T190000
DTEND;TZID=America/Los_Angeles:20251030T220000
DTSTAMP:20260423T084343
CREATED:20250901T003052Z
LAST-MODIFIED:20250901T003052Z
UID:15948-1761850800-1761861600@southsoundblues.org
SUMMARY:Thursday nights- Billy “The Pocket” Blues Jams at Dawsons
DESCRIPTION:Thursday nights- Billy “The Pocket” Blues Jams at Dawsons\, 7-10 pm
URL:https://southsoundblues.org/event/thursday-nights-billy-the-pocket-blues-jams-at-dawsons-7/
LOCATION:Dawson’s Bar & Grill\, 5443 South Tacoma Way\, Tacoma\, WA\, 98409
CATEGORIES:Local South Sound Blues
END:VEVENT
BEGIN:VEVENT
DTSTART;TZID=America/Los_Angeles:20251031T183000
DTEND;TZID=America/Los_Angeles:20251031T210000
DTSTAMP:20260423T084343
CREATED:20250927T013946Z
LAST-MODIFIED:20250927T013946Z
UID:16142-1761935400-1761944400@southsoundblues.org
SUMMARY:Michele D'Amour & The Love Dealers at Sheridan Market\, Lake Forest Park
DESCRIPTION:Michele D’Amour & The Love Dealers at Sheridan Market\, October 31st\, 6:30 pm\n  \nSheridan Market\, 15348 Bothell Way NE.\, Lake Forest Park\, WA 98155 \n 
URL:https://southsoundblues.org/event/michele-damour-the-love-dealers-at-sheridan-market-lake-forest-park-2/
LOCATION:Sheridan Market\, 15348 Bothell Way NE\, Lake Forest Park\, WA\, 98155
CATEGORIES:Featured
END:VEVENT
BEGIN:VEVENT
DTSTART;TZID=America/Los_Angeles:20251031T190000
DTEND;TZID=America/Los_Angeles:20251031T210000
DTSTAMP:20260423T084343
CREATED:20250918T233709Z
LAST-MODIFIED:20250918T233709Z
UID:16110-1761937200-1761944400@southsoundblues.org
SUMMARY:Halloween Bash with Brian James Was Here at Kimball Coffeehouse\, Gig Harbor
DESCRIPTION:Halloween Bash with Brian James Was Here at Kimball Coffeehouse October 31st\, 7-9 pm
URL:https://southsoundblues.org/event/halloween-bash-with-brian-james-was-here-at-kimball-coffeehouse-gig-harbor/
LOCATION:Kimball’s Coffeehouse\, 6659 Kimball Dr\, Gig Harbor\, WA\, 98335
CATEGORIES:Featured
END:VEVENT
BEGIN:VEVENT
DTSTART;TZID=America/Los_Angeles:20251101T180000
DTEND;TZID=America/Los_Angeles:20251101T210000
DTSTAMP:20260423T084343
CREATED:20250906T221136Z
LAST-MODIFIED:20250906T221136Z
UID:16045-1762020000-1762030800@southsoundblues.org
SUMMARY:Cory Wilds Band at Club Galaxy\, Muckleshoot Casino Resort\, Auburn
DESCRIPTION:Cory Wilds Band at Club Galaxy\, Muckleshoot Casino Resort November 1st\, 6-9 pm\n\n  \nLocation: Muckleshoot Casino Resort\n2402 Auburn Way S\, Auburn\, WA 98002
URL:https://southsoundblues.org/event/cory-wilds-band-at-club-galaxy-muckleshoot-casino-resort-auburn/
LOCATION:Muckleshoot Casino Resort\, 2402 Auburn Way S\, Auburn\, WA\, 98002
CATEGORIES:Local South Sound Blues
END:VEVENT
BEGIN:VEVENT
DTSTART;TZID=America/Los_Angeles:20251101T190000
DTEND;TZID=America/Los_Angeles:20251101T220000
DTSTAMP:20260423T084343
CREATED:20251007T004839Z
LAST-MODIFIED:20251007T004839Z
UID:16210-1762023600-1762034400@southsoundblues.org
SUMMARY:Michele D'Amour and the Love Dealers at Johnny's Dock\, Tacoma
DESCRIPTION:Michele D’Amour and the Love Dealers at Johnny’s Dock\n\nSat Nov 1st 7:00pm – 10:00pm
URL:https://southsoundblues.org/event/michele-damour-and-the-love-dealers-at-johnnys-dock-tacoma/
LOCATION:Johnny’s Dock\, 1900 E D St\, Tacoma\, WA\, 98421
CATEGORIES:Local South Sound Blues
END:VEVENT
BEGIN:VEVENT
DTSTART;TZID=America/Los_Angeles:20251101T193000
DTEND;TZID=America/Los_Angeles:20251101T210000
DTSTAMP:20260423T084343
CREATED:20250905T011244Z
LAST-MODIFIED:20250905T011840Z
UID:16032-1762025400-1762030800@southsoundblues.org
SUMMARY:Elvin Bishop's Big Fun Trio with special guest Cedric Burnside at Dimitriou's Jazz Alley
DESCRIPTION:Elvin Bishop’s Big Fun Trio with special guest Cedric Burnside at Dimitriou’s Jazz Alley November 1st\, 7:30\n\nsix shows- Thursday\, Oct 30 –Sunday\, Nov 2\, 2025\n\nhttps://www.jazzalley.com/www-home/artist.jsp?shownum=8724\n\nDimitriou’s Jazz Alley\, 2033 6th Ave\, Seattle\, WA 98121\, USA  \n\n\n \nsix shows- Thursday\, Oct 30 –Sunday\, Nov 2\, 2025- 
URL:https://southsoundblues.org/event/elvin-bishops-big-fun-trio-with-special-guest-cedric-burnside-at-dimitrious-jazz-alley/
LOCATION:Dimitriou’s Jazz Alley\, 2033 6th Avenue\, Seattle\, WA\, 98121
CATEGORIES:Special Event
END:VEVENT
BEGIN:VEVENT
DTSTART;TZID=America/Los_Angeles:20251101T200000
DTEND;TZID=America/Los_Angeles:20251101T230000
DTSTAMP:20260423T084343
CREATED:20250612T194907Z
LAST-MODIFIED:20250612T194907Z
UID:15125-1762027200-1762038000@southsoundblues.org
SUMMARY:Mark Hurwitz & Gin Creek at Rock the Dock
DESCRIPTION:Mark Hurwitz & Gin Creek at Rock the Dock November 1st\, 8-11 pm
URL:https://southsoundblues.org/event/mark-hurwitz-gin-creek-at-rock-the-dock-6/
LOCATION:Rock the Dock\, 535 Dock St # 118\, Tacoma\, WA\, 98402
CATEGORIES:Local South Sound Blues
END:VEVENT
BEGIN:VEVENT
DTSTART;TZID=America/Los_Angeles:20251102T140000
DTEND;TZID=America/Los_Angeles:20251102T163000
DTSTAMP:20260423T084343
CREATED:20251021T203550Z
LAST-MODIFIED:20251021T203550Z
UID:16258-1762092000-1762101000@southsoundblues.org
SUMMARY:The Lonely Hearts Club - Beatles Tribute at the Chalet Theatre\, Enumclaw
DESCRIPTION:The Lonely Hearts Club – Beatles Tribute  at the Chalet Theatre\, Enumclaw\, Sunday November 2nd\, 2pm to 4:30pm
URL:https://southsoundblues.org/event/the-lonely-hearts-club-beatles-tribute-at-the-chalet-theatre-enumclaw/
LOCATION:Chalet Theatre\, 1721 Wells St\, Enumclaw\, WA\, 98022
CATEGORIES:Featured
END:VEVENT
BEGIN:VEVENT
DTSTART;TZID=America/Los_Angeles:20251102T180000
DTEND;TZID=America/Los_Angeles:20251102T210000
DTSTAMP:20260423T084343
CREATED:20250901T191039Z
LAST-MODIFIED:20251030T001920Z
UID:15986-1762106400-1762117200@southsoundblues.org
SUMMARY:Tim Hall Blues Jam every Sunday at Zesty’s Steakhouse
DESCRIPTION:Tim Hall Blues Jam every Sunday at Zesty’s Steakhouse\, 6-9pm\n\n6PM-9PM Every Sunday\nBar & Lounge. Must be 21 & over to enter\nNo Cover Fee. First Come First Served\n\n\nZesty Steakhouse\n9905 Bridgeport Way SW\nLakewood\, WA 98499\n(253) 300-7993\nhttps://www.zestycajungrill.com/jam-night
URL:https://southsoundblues.org/event/tim-hall-blues-jam-every-sunday-at-zestys-steakhouse-12/
LOCATION:Zesty’s Cajun Steakhouse\, 9905 Bridgeport Way Southwest\, Lakewood\, WA\, 98499
CATEGORIES:Local South Sound Blues
END:VEVENT
BEGIN:VEVENT
DTSTART;TZID=America/Los_Angeles:20251102T190000
DTEND;TZID=America/Los_Angeles:20251102T220000
DTSTAMP:20260423T084343
CREATED:20250718T231345Z
LAST-MODIFIED:20250718T231345Z
UID:15491-1762110000-1762120800@southsoundblues.org
SUMMARY:Sunday Blues at the Spar
DESCRIPTION:Sunday Blues at the Spar 7-10 pm
URL:https://southsoundblues.org/event/sunday-blues-at-the-spar-37/
LOCATION:The Spar\, 2121 N 30th St\, Tacoma\, WA\, 98403
CATEGORIES:Featured
END:VEVENT
BEGIN:VEVENT
DTSTART;TZID=America/Los_Angeles:20251103T180000
DTEND;TZID=America/Los_Angeles:20251103T210000
DTSTAMP:20260423T084343
CREATED:20250831T232045Z
LAST-MODIFIED:20250831T232045Z
UID:15892-1762192800-1762203600@southsoundblues.org
SUMMARY:Monday Jazz at Brother Don’s Bar & Grill\, Bremerton
DESCRIPTION:Monday Jazz at Brother Don’s Bar & Grill\, Bremerton\, 6-9 pm
URL:https://southsoundblues.org/event/monday-jazz-at-brother-dons-bar-grill-bremerton-27/
LOCATION:Brother Don’s Bar & Grill\, 4200 Kitsap Way\, Bremerton\, WA\, 98312
CATEGORIES:Featured
END:VEVENT
BEGIN:VEVENT
DTSTART;TZID=America/Los_Angeles:20251104T190000
DTEND;TZID=America/Los_Angeles:20251104T210000
DTSTAMP:20260423T084343
CREATED:20250831T233355Z
LAST-MODIFIED:20250831T233355Z
UID:15900-1762282800-1762290000@southsoundblues.org
SUMMARY:Georges BLT Tuesday Night Open Mic night hosted by Slim Wizzy & Friends\, Bonney Lake
DESCRIPTION:Georges BLT Tuesday Night Open Mic night hosted by Slim Wizzy & Friends at Bonney Lake Tavern\, 7-9 pm
URL:https://southsoundblues.org/event/georges-blt-tuesday-night-open-mic-night-hosted-by-slim-wizzy-friends-bonney-lake/
LOCATION:George’s BLT\, 18212 HWY 410 E\, Bonney Lake\, WA\, 98391
CATEGORIES:Featured
END:VEVENT
BEGIN:VEVENT
DTSTART;TZID=America/Los_Angeles:20251104T190000
DTEND;TZID=America/Los_Angeles:20251104T220000
DTSTAMP:20260423T084343
CREATED:20250831T224549Z
LAST-MODIFIED:20250831T224549Z
UID:15868-1762282800-1762293600@southsoundblues.org
SUMMARY:Billy Shew hosts the Burien Eagles Tuesday Night Jams
DESCRIPTION:Billy Shew hosts the Burien Eagles Tuesday Night Jams\,  7:00pm
URL:https://southsoundblues.org/event/billy-shew-hosts-the-burien-eagles-tuesday-night-jams-18/
LOCATION:Burien Eagles\, 920 SW 150th St\, Burien\, WA\, 98166
CATEGORIES:Local South Sound Blues
END:VEVENT
BEGIN:VEVENT
DTSTART;TZID=America/Los_Angeles:20251105T180000
DTEND;TZID=America/Los_Angeles:20251105T210000
DTSTAMP:20260423T084343
CREATED:20250901T000751Z
LAST-MODIFIED:20250901T000751Z
UID:15926-1762365600-1762376400@southsoundblues.org
SUMMARY:Wednesday Night Jams at Stockton’s with Billy Shew & Friends
DESCRIPTION:Wednesday Night Jams at Stockton’s with Billy Shew & Friends\, 6-9 pm
URL:https://southsoundblues.org/event/wednesday-night-jams-at-stocktons-with-billy-shew-friends-5/
LOCATION:Stockton’s Restaurant & Spirits\, 23220 Maple Valley Black Diamond Rd SE\, Maple Valley\, WA\, 98038
CATEGORIES:Local South Sound Blues
END:VEVENT
BEGIN:VEVENT
DTSTART;TZID=America/Los_Angeles:20251105T180000
DTEND;TZID=America/Los_Angeles:20251105T210000
DTSTAMP:20260423T084343
CREATED:20251102T231542Z
LAST-MODIFIED:20251102T231542Z
UID:16435-1762365600-1762376400@southsoundblues.org
SUMMARY:Lonnie Williams & Spectrum at the Spar
DESCRIPTION: Lonnie Williams & Spectrum at the Spar
URL:https://southsoundblues.org/event/lonnie-williams-spectrum-at-the-spar/
LOCATION:The Spar\, 2121 N 30th St\, Tacoma\, WA\, 98403
CATEGORIES:Featured
END:VEVENT
BEGIN:VEVENT
DTSTART;TZID=America/Los_Angeles:20251106T173000
DTEND;TZID=America/Los_Angeles:20251106T193000
DTSTAMP:20260423T084343
CREATED:20251021T203846Z
LAST-MODIFIED:20251021T203846Z
UID:16260-1762450200-1762457400@southsoundblues.org
SUMMARY:Annie Eastwood Trio Featuring Billy Stapleton at the Cellar Cat\, Kingston
DESCRIPTION:Annie Eastwood Trio Featuring Billy Stapleton at the Cellar Cat Thursday November 6th\, 5:30 to 7:45pm
URL:https://southsoundblues.org/event/annie-eastwood-trio-featuring-billy-stapleton-at-the-cellar-cat-kingston-4/
LOCATION:Cellar Cat\, 11253 State Highway 104 NE\, Kingston\, WA\, 98346
CATEGORIES:Featured
END:VEVENT
END:VCALENDAR