BEGIN:VCALENDAR
VERSION:2.0
PRODID:-//South Sound Blues Association - ECPv6.15.18//NONSGML v1.0//EN
CALSCALE:GREGORIAN
METHOD:PUBLISH
X-WR-CALNAME:South Sound Blues Association
X-ORIGINAL-URL:https://southsoundblues.org
X-WR-CALDESC:Events for South Sound Blues Association
REFRESH-INTERVAL;VALUE=DURATION:PT1H
X-Robots-Tag:noindex
X-PUBLISHED-TTL:PT1H
BEGIN:VTIMEZONE
TZID:America/Los_Angeles
BEGIN:DAYLIGHT
TZOFFSETFROM:-0800
TZOFFSETTO:-0700
TZNAME:PDT
DTSTART:20220313T100000
END:DAYLIGHT
BEGIN:STANDARD
TZOFFSETFROM:-0700
TZOFFSETTO:-0800
TZNAME:PST
DTSTART:20221106T090000
END:STANDARD
BEGIN:DAYLIGHT
TZOFFSETFROM:-0800
TZOFFSETTO:-0700
TZNAME:PDT
DTSTART:20230312T100000
END:DAYLIGHT
BEGIN:STANDARD
TZOFFSETFROM:-0700
TZOFFSETTO:-0800
TZNAME:PST
DTSTART:20231105T090000
END:STANDARD
BEGIN:DAYLIGHT
TZOFFSETFROM:-0800
TZOFFSETTO:-0700
TZNAME:PDT
DTSTART:20240310T100000
END:DAYLIGHT
BEGIN:STANDARD
TZOFFSETFROM:-0700
TZOFFSETTO:-0800
TZNAME:PST
DTSTART:20241103T090000
END:STANDARD
END:VTIMEZONE
BEGIN:VEVENT
DTSTART;TZID=America/Los_Angeles:20230215T180000
DTEND;TZID=America/Los_Angeles:20230215T210000
DTSTAMP:20260425T032543
CREATED:20230118T061247Z
LAST-MODIFIED:20230118T061247Z
UID:9626-1676484000-1676494800@southsoundblues.org
SUMMARY:Farrell/Hudson Trio with guest Tom Boyle at the Spar
DESCRIPTION:Wednesday\, February 15th at The Spar\, Farrell/Hudson Trio with guest Tom Boyle 6pm\n David Hudson
URL:https://southsoundblues.org/event/farrell-hudson-trio-with-guest-tom-boyle-at-the-spar/
LOCATION:The Spar\, 2121 N 30th St\, Tacoma\, WA\, 98403
CATEGORIES:Featured
END:VEVENT
BEGIN:VEVENT
DTSTART;TZID=America/Los_Angeles:20230214T200000
DTEND;TZID=America/Los_Angeles:20230214T233000
DTSTAMP:20260425T032543
CREATED:20230201T194451Z
LAST-MODIFIED:20230201T194451Z
UID:9700-1676404800-1676417400@southsoundblues.org
SUMMARY:Cory Wilds Band Tuesday open Jam Night at Elmer’s Bar and Grill
DESCRIPTION:Cory Wilds Band Tuesday open Jam Night at Elmer’s Bar and Grill\, 8-11:30 pm\n 
URL:https://southsoundblues.org/event/cory-wilds-band-tuesday-open-jam-night-at-elmers-bar-and-grill-2/
LOCATION:Elmer’s Bar & Grill\, 15027 Ambaum Blvd SW\, Burien\, WA\, 98166
CATEGORIES:Local South Sound Blues
END:VEVENT
BEGIN:VEVENT
DTSTART;TZID=America/Los_Angeles:20230214T183000
DTEND;TZID=America/Los_Angeles:20230214T200000
DTSTAMP:20260425T032543
CREATED:20230202T203651Z
LAST-MODIFIED:20230202T203651Z
UID:9787-1676399400-1676404800@southsoundblues.org
SUMMARY:Michele D'Amour & The Love Dealers at Crossroads
DESCRIPTION:Feb. 14 -Michele D’Amour & The Love Dealers at Crossroads Market Stage\, 6:30 to 8 p.m.\, Bellevue\, WA
URL:https://southsoundblues.org/event/michele-damour-the-love-dealers-at-crossroads/
LOCATION:Crossroads Market Stage\, 15600 NE 8th St\, Bellevue\, WA\, 98008
CATEGORIES:Local South Sound Blues
END:VEVENT
BEGIN:VEVENT
DTSTART;TZID=America/Los_Angeles:20230214T180000
DTEND;TZID=America/Los_Angeles:20230214T180000
DTSTAMP:20260425T032543
CREATED:20230208T012610Z
LAST-MODIFIED:20230208T012610Z
UID:9855-1676397600-1676397600@southsoundblues.org
SUMMARY:Kim & Brian at Smokey Joe's Cigar Lounge/BJ's Bingo
DESCRIPTION:Kim and Brian at Smokey Joe’s Cigar Lounge/BJ’s Bingo\, Tuesday\, February 14th\, 6:00pm\n\n\n\n\n\n\n\n4411 Pacific Hwy E Fife\, WA 98424 (253) 922-0430\n\n\n 
URL:https://southsoundblues.org/event/kim-brian-at-smokey-joes-cigar-lounge-bjs-bingo/
LOCATION:Smokey Joe’s Cigar Lounge\, 4411 Pacific Hwy E\, Fife\, WA\, 98424
CATEGORIES:Local South Sound Blues
END:VEVENT
BEGIN:VEVENT
DTSTART;TZID=America/Los_Angeles:20230214T173000
DTEND;TZID=America/Los_Angeles:20230214T193000
DTSTAMP:20260425T032543
CREATED:20230206T210231Z
LAST-MODIFIED:20230206T210231Z
UID:9849-1676395800-1676403000@southsoundblues.org
SUMMARY:Ross Robinson with Charlie Valentine at Lady of the Pub\, Tenino
DESCRIPTION:Ross Robinson with Charlie Valentine at Lady of the Pub\, February 14th\, 5:30-7:30 pm \nOffut Lake\, Tenino WA
URL:https://southsoundblues.org/event/ross-robinson-with-charlie-valentine-at-lady-of-the-pub-tenino/
LOCATION:Lady of the Lake Pub\, 4005 120th Ave SE\, Tenino\, WA\, 98589
CATEGORIES:Local South Sound Blues
END:VEVENT
BEGIN:VEVENT
DTSTART;TZID=America/Los_Angeles:20230212T190000
DTEND;TZID=America/Los_Angeles:20230212T230000
DTSTAMP:20260425T032543
CREATED:20230127T205512Z
LAST-MODIFIED:20230127T205512Z
UID:9683-1676228400-1676242800@southsoundblues.org
SUMMARY:Tim Hall Blues Jam\, every Sunday at Dawson’s
DESCRIPTION:Tim Hall Blues Jam\, every Sunday at Dawson’s\n\n7:00 pm – 11:00 pm
URL:https://southsoundblues.org/event/tim-hall-blues-jam-every-sunday-at-dawsons-2/
LOCATION:Dawson’s Bar & Grill\, 5443 South Tacoma Way\, Tacoma\, WA\, 98409
CATEGORIES:Local South Sound Blues
END:VEVENT
BEGIN:VEVENT
DTSTART;TZID=America/Los_Angeles:20230212T190000
DTEND;TZID=America/Los_Angeles:20230212T220000
DTSTAMP:20260425T032543
CREATED:20230118T060727Z
LAST-MODIFIED:20230118T063707Z
UID:9621-1676228400-1676239200@southsoundblues.org
SUMMARY:Sunday Blues at the Spar with Michele D'Amour & The Love Dealers (Special Valentine Edition)
DESCRIPTION:Sunday\, February 12th. The Spar\, Michele D’Amour & The Love Dealers (Special Valentine Edition) 7pm \n Michele D’Amour and the Love Dealers
URL:https://southsoundblues.org/event/michele-damour-the-love-dealers-special-valentine-edition-at-the-spar/
LOCATION:The Spar\, 2121 N 30th St\, Tacoma\, WA\, 98403
CATEGORIES:Local South Sound Blues
END:VEVENT
BEGIN:VEVENT
DTSTART;TZID=America/Los_Angeles:20230211T200000
DTEND;TZID=America/Los_Angeles:20230211T230000
DTSTAMP:20260425T032543
CREATED:20230202T065925Z
LAST-MODIFIED:20230202T065925Z
UID:9785-1676145600-1676156400@southsoundblues.org
SUMMARY:Mark Hurwitz and Gin Creek at Rock the Dock
DESCRIPTION:Mark Hurwitz and Gin Creek at Rock the Dock\, February 11th\, 8-11 pm\n\nRock The Dock Pub & Grill
URL:https://southsoundblues.org/event/mark-hurwitz-and-gin-creek-at-rock-the-dock-12/
LOCATION:Rock the Dock\, 535 Dock St # 118\, Tacoma\, WA\, 98402
CATEGORIES:Local South Sound Blues
END:VEVENT
BEGIN:VEVENT
DTSTART;TZID=America/Los_Angeles:20230211T200000
DTEND;TZID=America/Los_Angeles:20230211T220000
DTSTAMP:20260425T032543
CREATED:20221102T212905Z
LAST-MODIFIED:20221103T162910Z
UID:9161-1676145600-1676152800@southsoundblues.org
SUMMARY:Michele D'Amour & The Love Dealers at the Mill SSBA Blues Series
DESCRIPTION:Michele D’Amour & The Love Dealers on the Milltown Stage\, February 11th\, 8-10 pm
URL:https://southsoundblues.org/event/michele-damour-the-love-dealers-at-the-mill/
LOCATION:The Mill of Milton\, 900 Meridian E. #50\, Milton\, WA\, 98354
CATEGORIES:Local South Sound Blues
END:VEVENT
BEGIN:VEVENT
DTSTART;TZID=America/Los_Angeles:20230211T190000
DTEND;TZID=America/Los_Angeles:20230211T220000
DTSTAMP:20260425T032543
CREATED:20230203T224937Z
LAST-MODIFIED:20230203T224937Z
UID:9835-1676142000-1676152800@southsoundblues.org
SUMMARY:Hiway16 Rockin' Blues at the Poulsbo Eagles
DESCRIPTION:Hiway16 Rockin’ Blues at the Poulsbo Eagles February 11th\, 7-10 pm\n \n\n\n\nAddress: 4228 NE Lincoln Rd\, Poulsbo\, WA 98370 \n\n\n\n\n\n\n\n\n\n\nHours:  \n\nClosed ⋅ Opens 4 PM \nUpdated by others 4 weeks ago\n\n\n\n\n\n\n\n\n\n\nPhone: (360) 779-7272
URL:https://southsoundblues.org/event/hiway16-rockin-blues-at-the-poulsbo-eagles/
LOCATION:Poulsbo Eagles\, 4228 NE Lincoln Rd\, Poulsbo\, WA\, 98370
END:VEVENT
BEGIN:VEVENT
DTSTART;TZID=America/Los_Angeles:20230211T190000
DTEND;TZID=America/Los_Angeles:20230211T220000
DTSTAMP:20260425T032543
CREATED:20230118T060547Z
LAST-MODIFIED:20230118T060547Z
UID:9619-1676142000-1676152800@southsoundblues.org
SUMMARY:Jim Valley Project at the Spar
DESCRIPTION:Saturday\, February 11th at The Spar\, The Jim Valley Project- 7pm
URL:https://southsoundblues.org/event/jim-valley-project-at-the-spar/
LOCATION:The Spar\, 2121 N 30th St\, Tacoma\, WA\, 98403
CATEGORIES:Featured
END:VEVENT
BEGIN:VEVENT
DTSTART;TZID=America/Los_Angeles:20230211T190000
DTEND;TZID=America/Los_Angeles:20230211T190000
DTSTAMP:20260425T032543
CREATED:20230208T013642Z
LAST-MODIFIED:20230208T013642Z
UID:9861-1676142000-1676142000@southsoundblues.org
SUMMARY:Kim and Brian at the Lake City Pub
DESCRIPTION:Kim and Brian at the Lake City Pub\, Saturday\, February 11th\, 7:00pm\n\n\nLake City Pub \n9106 Veterans Drive Southwest Lakewood\, WA 98498 (253) 267-1309\n\n\n 
URL:https://southsoundblues.org/event/kim-and-brian-at-the-lake-city-pub/
LOCATION:Lake City Pub\, 9106 Veterans Dr\, Lakewood\, WA\, 98498
CATEGORIES:Local South Sound Blues
END:VEVENT
BEGIN:VEVENT
DTSTART;TZID=America/Los_Angeles:20230211T160000
DTEND;TZID=America/Los_Angeles:20230211T190000
DTSTAMP:20260425T032543
CREATED:20230123T220145Z
LAST-MODIFIED:20230123T220145Z
UID:9670-1676131200-1676142000@southsoundblues.org
SUMMARY:T-Town Aces at the Urban Elk
DESCRIPTION:T-Town Aces at the Urban Elk\, Saturday February 11th at 4 pm
URL:https://southsoundblues.org/event/t-town-aces-at-the-urban-elk-3/
LOCATION:Urban Elk\, 2013 S Cedar St\, Tacoma\, WA\, 98405
CATEGORIES:Local South Sound Blues
END:VEVENT
BEGIN:VEVENT
DTSTART;TZID=America/Los_Angeles:20230210T190000
DTEND;TZID=America/Los_Angeles:20230210T210000
DTSTAMP:20260425T032543
CREATED:20221031T205609Z
LAST-MODIFIED:20221031T205609Z
UID:9132-1676055600-1676062800@southsoundblues.org
SUMMARY:Octopus Ballet at Kimball's Coffeehouse
DESCRIPTION: Octopus Ballet at Kimball’s Coffeehouse\, February 10th\, 7-9 pm
URL:https://southsoundblues.org/event/octopus-ballet-at-kimballs-coffeehouse/
LOCATION:Kimball’s Coffeehouse\, 6659 Kimball Dr\, Gig Harbor\, WA\, 98335
CATEGORIES:Featured
END:VEVENT
BEGIN:VEVENT
DTSTART;TZID=America/Los_Angeles:20230209T200000
DTEND;TZID=America/Los_Angeles:20230209T233000
DTSTAMP:20260425T032543
CREATED:20230201T200831Z
LAST-MODIFIED:20230201T200831Z
UID:9717-1675972800-1675985400@southsoundblues.org
SUMMARY:Thursdays at the Stars Bar & Grill\, Jam hosted by Billy Shew
DESCRIPTION:Thursdays at the Stars Bar & Grill\, Jam hosted by Billy Shew\, 8-11:30 pm\n 
URL:https://southsoundblues.org/event/thursdays-at-the-stars-bar-grill-jam-hosted-by-billy-shew-8/
LOCATION:Stars Bar & Grill\, 31216 Pacific Hwy S\, Federal Way\, WA\, 98003
CATEGORIES:Local South Sound Blues
END:VEVENT
BEGIN:VEVENT
DTSTART;TZID=America/Los_Angeles:20230208T180000
DTEND;TZID=America/Los_Angeles:20230208T210000
DTSTAMP:20260425T032543
CREATED:20230201T195450Z
LAST-MODIFIED:20230201T195450Z
UID:9706-1675879200-1675890000@southsoundblues.org
SUMMARY:Billy Shew and Friends host an open Jam every Wednesday at Stockton’s
DESCRIPTION:Billy Shew and Friends host an open Jam every Wednesday at Stockton’s\, 6-9 pm
URL:https://southsoundblues.org/event/billy-shew-and-friends-host-an-open-jam-every-wednesday-at-stocktons-2/
LOCATION:Stockton’s Restaurant & Spirits\, 23220 Maple Valley Black Diamond Rd SE\, Maple Valley\, WA\, 98038
CATEGORIES:Local South Sound Blues
END:VEVENT
BEGIN:VEVENT
DTSTART;TZID=America/Los_Angeles:20230207T190000
DTEND;TZID=America/Los_Angeles:20230207T230000
DTSTAMP:20260425T032543
CREATED:20230201T195025Z
LAST-MODIFIED:20230201T195025Z
UID:9704-1675796400-1675810800@southsoundblues.org
SUMMARY:Billy Shew and friends Jam every Tuesday at the Burien Eagles
DESCRIPTION:Billy Shew and friends Jam every Tuesday at the Burien Eagles\, 7-11 pm
URL:https://southsoundblues.org/event/billy-shew-and-friends-jam-every-tuesday-at-the-burien-eagles-4/
LOCATION:Burien Eagles\, 920 SW 150th St\, Burien\, WA\, 98166
CATEGORIES:Local South Sound Blues
END:VEVENT
BEGIN:VEVENT
DTSTART;TZID=America/Los_Angeles:20230207T190000
DTEND;TZID=America/Los_Angeles:20230207T220000
DTSTAMP:20260425T032543
CREATED:20230127T205911Z
LAST-MODIFIED:20230201T220841Z
UID:9685-1675796400-1675807200@southsoundblues.org
SUMMARY:First Three Tuesdays each month\, Blues Jam with Jerry Miller\, Kim Workman and Glenn Hummel at Purdy’s\, Sumner
DESCRIPTION:First Three Tuesdays each month\, Blues Jam with Jerry Miller\, Kim Workman and Glenn Hummel at Purdy’s\, Sumner\n\n7:00 pm – 10:00 pm
URL:https://southsoundblues.org/event/blues-jam-with-jerry-miller-kim-workman-and-glenn-hummel-at-purdys-sumner/
LOCATION:Purdy’s Public House & Arcade\, Sumner\, 16202 64th St E\, Sumner\, WA\, 98390
CATEGORIES:Local South Sound Blues
END:VEVENT
BEGIN:VEVENT
DTSTART;TZID=America/Los_Angeles:20230207T080000
DTEND;TZID=America/Los_Angeles:20230207T170000
DTSTAMP:20260425T032543
CREATED:20230208T014605Z
LAST-MODIFIED:20230208T014605Z
UID:9864-1675756800-1675789200@southsoundblues.org
SUMMARY:Kim and Brian at the Goose Ridge Winery\, Woodinville
DESCRIPTION:Kim and Brian at the Goose Ridge Winery\, Friday\, February 17th\, 4pm\n\n\n\n\nGoose Ridge Winery \n14450 Redmond Woodinville\, WA 98072
URL:https://southsoundblues.org/event/kim-and-brian-at-the-goose-ridge-winery-woodinville/
LOCATION:Goose Ridge Winery\, 14450 Redmond Road\, Suite 108\, Woodinville\, WA\, 98072
CATEGORIES:Local South Sound Blues
END:VEVENT
BEGIN:VEVENT
DTSTART;TZID=America/Los_Angeles:20230206T200000
DTEND;TZID=America/Los_Angeles:20230206T220000
DTSTAMP:20260425T032543
CREATED:20230127T204615Z
LAST-MODIFIED:20230127T204615Z
UID:9680-1675713600-1675720800@southsoundblues.org
SUMMARY:Mike Witmer hosts “Mojo Mike’s Blues Revue” every Monday on KVSH 101.9 FM
DESCRIPTION:Mike Witmer hosts “Mojo Mike’s Blues Revue” every Monday on KVSH 101.9 FM\n\nJanuary 2 @ 8:00 pm – 10:00 pm
URL:https://southsoundblues.org/event/mike-witmer-hosts-mojo-mikes-blues-revue-every-monday-on-kvsh-101-9-fm-2/
LOCATION:WA
CATEGORIES:Local South Sound Blues
END:VEVENT
BEGIN:VEVENT
DTSTART;TZID=America/Los_Angeles:20230205T190000
DTEND;TZID=America/Los_Angeles:20230205T230000
DTSTAMP:20260425T032543
CREATED:20230202T205107Z
LAST-MODIFIED:20230202T205107Z
UID:9794-1675623600-1675638000@southsoundblues.org
SUMMARY:Tim Hall Blues Jam\, every Sunday at Dawson’s
DESCRIPTION:Tim Hall Blues Jam\, every Sunday at Dawson’s\n\n7:00 pm – 11:00 pm
URL:https://southsoundblues.org/event/tim-hall-blues-jam-every-sunday-at-dawsons-4/
LOCATION:Dawson’s Bar & Grill\, 5443 South Tacoma Way\, Tacoma\, WA\, 98409
CATEGORIES:Local South Sound Blues
END:VEVENT
BEGIN:VEVENT
DTSTART;TZID=America/Los_Angeles:20230205T190000
DTEND;TZID=America/Los_Angeles:20230205T220000
DTSTAMP:20260425T032543
CREATED:20230118T060327Z
LAST-MODIFIED:20230118T064107Z
UID:9617-1675623600-1675634400@southsoundblues.org
SUMMARY:Sunday Blues at the Spar with Two Scoops Combo
DESCRIPTION:Sunday\, February 5th at The Spar\, Two Scoops Combo -7pm
URL:https://southsoundblues.org/event/two-scoops-combo-at-the-spar-3/
LOCATION:The Spar\, 2121 N 30th St\, Tacoma\, WA\, 98403
CATEGORIES:Local South Sound Blues
END:VEVENT
BEGIN:VEVENT
DTSTART;TZID=America/Los_Angeles:20230205T170000
DTEND;TZID=America/Los_Angeles:20230205T170000
DTSTAMP:20260425T032543
CREATED:20221221T024530Z
LAST-MODIFIED:20230203T212239Z
UID:9430-1675616400-1675616400@southsoundblues.org
SUMMARY:Dave Brown presents: Blues Vespers with Joe T. Cook Blues Band\, featuring Tim Sherman
DESCRIPTION:Blues Vespers with the ‘Joe T. Cook Blues Band’\, featuring Tim Sherman\, February 5th\, Kilworth Chapel\, UPS\, 5:00 pm\nDue to the Super\, the date was changed to Sunday February 5th. \n \n 
URL:https://southsoundblues.org/event/dave-brown-presents-blues-vespers-with-joe-t-cook-blues-band-featuring-tim-sherman/
LOCATION:Kilworth Memorial Chapel\, 3410 N 18th St\, Tacoma\, WA\, 98416
CATEGORIES:Local South Sound Blues
END:VEVENT
BEGIN:VEVENT
DTSTART;TZID=America/Los_Angeles:20230204T190000
DTEND;TZID=America/Los_Angeles:20230204T220000
DTSTAMP:20260425T032543
CREATED:20230118T060148Z
LAST-MODIFIED:20230118T060148Z
UID:9615-1675537200-1675548000@southsoundblues.org
SUMMARY:Los Orchids at the Spar
DESCRIPTION:Saturday\, Feb 4th at The Spar\, Los Orchids- 7pm
URL:https://southsoundblues.org/event/los-orchids-at-the-spar/
LOCATION:The Spar\, 2121 N 30th St\, Tacoma\, WA\, 98403
CATEGORIES:Featured
END:VEVENT
BEGIN:VEVENT
DTSTART;TZID=America/Los_Angeles:20230204T190000
DTEND;TZID=America/Los_Angeles:20230204T190000
DTSTAMP:20260425T032543
CREATED:20221219T182350Z
LAST-MODIFIED:20230109T225247Z
UID:9389-1675537200-1675537200@southsoundblues.org
SUMMARY:Kim&Brian Band and 'Lonesome & Pine' at the Spanish Ballroom
DESCRIPTION:The Kim & Brian Band at the Spanish Ballroom\, February 4th\, with ‘Lonesome & Pine’ (Mike Nichols & Steve Itterly) show time- 7pm \nhttps://www.mcmenamins.com/events/240365-kim-brian \n \nThe winners of the 2022 “Best New Band\,” award from the Washington Blues Society\, Kim & Brian\, have released an extraordinary EP “In the Valley Of The Blues” after a successful crowdfunding campaign from their legion of supportive fans. The official release is at the Spanish Ballroom and will be presented by the Blues Vespers. The new EP from Kim & Brian is a brilliant fusion of musical influences across a gamut of styles\, mixing blues with country\, jazz\, soul\, and classic R&B. A tasty appetizer leaving the listener wanting for more. The five-song collection is exactly what you would expect from such a dedicated and talented singer/songwriter team\, who are also acclaimed guitarists\, and their impeccable rhythm section of Jerome Gates on Bass and award-winning drummer Andrew Cloutier (Left Hand Smoke\, Lee Oskar). Copies of the EP will be available at the show! \n \nLonesome & Pine is a folk-blues duo that hails from Seattle\, WA. Their music is inspired by the rich tapestry of blues and folk music of the American South\, the open roads of the American West\, and the tangible comforts of home. Their duo features Steve Itterly\, an award-winning songster and country-blues guitarist\, and Michael J. Nichols\, a vibrant and colorful harmonica virtuoso. Together they capture the true spirit of down-home porch music that can be both boot-stomping fun\, and deeply soul moving. \n 
URL:https://southsoundblues.org/event/kimbrian-band-at-the-spanish-ballroom/
LOCATION:McMenaminsTacoma Elks\, 565 Broadway\, Tacoma\, WA\, 98402
CATEGORIES:Local South Sound Blues
END:VEVENT
BEGIN:VEVENT
DTSTART;TZID=America/Los_Angeles:20230203T200000
DTEND;TZID=America/Los_Angeles:20230203T220000
DTSTAMP:20260425T032545
CREATED:20230116T201426Z
LAST-MODIFIED:20230116T201732Z
UID:9603-1675454400-1675461600@southsoundblues.org
SUMMARY:Ross Robinson at the Lucky Dog Casino
DESCRIPTION:Ross Robinson at the Lucky Dog Casino\, February 3rd\, 8-10 pm\n \nRoss Robinson was born in Rhode Island in 1958 and lived mostly in Massachusetts until 2014 when he moved to Washington state. Ross has been playing Piedmont Blues\, Delta Blues\, and finger style guitar since 1989\, sings and writes his own material and has played in many fine venues in the Boston area including Club Passim the Original House of Blues and The Boston Blues Festival. Currently Ross is performing throughout western Washington with dates now scheduled for Fall of 2021!  From Bo Carter to David Bromberg Ross can deliver the real Folk-Blues.
URL:https://southsoundblues.org/event/ross-robinson-at-the-lucky-dog-casino-2/
LOCATION:Lucky Dog Casino\, 19330 US-101\, Skokomish\, WA\, 98584
CATEGORIES:Local South Sound Blues
END:VEVENT
BEGIN:VEVENT
DTSTART;TZID=America/Los_Angeles:20230203T190000
DTEND;TZID=America/Los_Angeles:20230203T210000
DTSTAMP:20260425T032545
CREATED:20230118T060000Z
LAST-MODIFIED:20230118T060000Z
UID:9613-1675450800-1675458000@southsoundblues.org
SUMMARY:Max Renshaw at the Black Angus\, Puyallup
DESCRIPTION:Friday\, Feb 3rd at the Black Angus\, Puyallup: Max Renshaw Solo\, 7pm
URL:https://southsoundblues.org/event/max-renshaw-at-the-black-angus-puyallup/
LOCATION:Black Angus\, Puyallup\, 203 35th Ave SE\, Puyallup\, WA\, 98374
CATEGORIES:Featured
END:VEVENT
BEGIN:VEVENT
DTSTART;TZID=America/Los_Angeles:20230203T190000
DTEND;TZID=America/Los_Angeles:20230203T210000
DTSTAMP:20260425T032545
CREATED:20221031T205136Z
LAST-MODIFIED:20221031T205136Z
UID:9130-1675450800-1675458000@southsoundblues.org
SUMMARY:The Jim Valley Project at Kimball's Coffeehouse
DESCRIPTION: The Jim Valley Project at Kimball’s Coffeehouse\, February 3rd\, 7-9 pm
URL:https://southsoundblues.org/event/the-jim-valley-project-at-kimballs-coffeehouse/
LOCATION:Kimball’s Coffeehouse\, 6659 Kimball Dr\, Gig Harbor\, WA\, 98335
CATEGORIES:Featured
END:VEVENT
BEGIN:VEVENT
DTSTART;TZID=America/Los_Angeles:20230203T160000
DTEND;TZID=America/Los_Angeles:20230203T170000
DTSTAMP:20260425T032545
CREATED:20221107T184709Z
LAST-MODIFIED:20221107T184709Z
UID:9185-1675440000-1675443600@southsoundblues.org
SUMMARY:Petty Theft\, Tribute to Tom Petty and The Heartbreakers at the Spanish Ballroom
DESCRIPTION:FRIDAY\, FEBRUARY 3\, 2023 AT 4 PM\n\nPetty Theft -Tribute to Tom Petty and The Heartbreakers at the Spanish Ballroom             FRIDAY\, FEBRUARY 3rd\, 4 PM
URL:https://southsoundblues.org/event/petty-theft-tribute-to-tom-petty-and-the-heartbreakers-at-the-spanish-ballroom/
LOCATION:McMenaminsTacoma Elks\, 565 Broadway\, Tacoma\, WA\, 98402
CATEGORIES:Featured
END:VEVENT
BEGIN:VEVENT
DTSTART;TZID=America/Los_Angeles:20230202T190000
DTEND;TZID=America/Los_Angeles:20230202T220000
DTSTAMP:20260425T032545
CREATED:20230201T201801Z
LAST-MODIFIED:20230201T201801Z
UID:9724-1675364400-1675375200@southsoundblues.org
SUMMARY:“BILLY THE POCKET JAM” Thursday nights at Dawson’s
DESCRIPTION:“BILLY THE POCKET JAM” Thursday nights at Dawson’s\, 7-10 pm
URL:https://southsoundblues.org/event/billy-the-pocket-jam-thursday-nights-at-dawsons-13/
LOCATION:Dawson’s Bar & Grill\, 5443 South Tacoma Way\, Tacoma\, WA\, 98409
CATEGORIES:Local South Sound Blues
END:VEVENT
END:VCALENDAR