BEGIN:VCALENDAR
VERSION:2.0
PRODID:-//South Sound Blues Association - ECPv6.15.18//NONSGML v1.0//EN
CALSCALE:GREGORIAN
METHOD:PUBLISH
X-WR-CALNAME:South Sound Blues Association
X-ORIGINAL-URL:https://southsoundblues.org
X-WR-CALDESC:Events for South Sound Blues Association
REFRESH-INTERVAL;VALUE=DURATION:PT1H
X-Robots-Tag:noindex
X-PUBLISHED-TTL:PT1H
BEGIN:VTIMEZONE
TZID:America/Los_Angeles
BEGIN:DAYLIGHT
TZOFFSETFROM:-0800
TZOFFSETTO:-0700
TZNAME:PDT
DTSTART:20240310T100000
END:DAYLIGHT
BEGIN:STANDARD
TZOFFSETFROM:-0700
TZOFFSETTO:-0800
TZNAME:PST
DTSTART:20241103T090000
END:STANDARD
BEGIN:DAYLIGHT
TZOFFSETFROM:-0800
TZOFFSETTO:-0700
TZNAME:PDT
DTSTART:20250309T100000
END:DAYLIGHT
BEGIN:STANDARD
TZOFFSETFROM:-0700
TZOFFSETTO:-0800
TZNAME:PST
DTSTART:20251102T090000
END:STANDARD
BEGIN:DAYLIGHT
TZOFFSETFROM:-0800
TZOFFSETTO:-0700
TZNAME:PDT
DTSTART:20260308T100000
END:DAYLIGHT
BEGIN:STANDARD
TZOFFSETFROM:-0700
TZOFFSETTO:-0800
TZNAME:PST
DTSTART:20261101T090000
END:STANDARD
END:VTIMEZONE
BEGIN:VEVENT
DTSTART;TZID=America/Los_Angeles:20250703T190000
DTEND;TZID=America/Los_Angeles:20250703T220000
DTSTAMP:20260423T134748
CREATED:20250526T203005Z
LAST-MODIFIED:20250526T203005Z
UID:14938-1751569200-1751580000@southsoundblues.org
SUMMARY:Thursday nights- Billy "The Pocket" Blues Jams at Dawsons
DESCRIPTION:Thursday nights- Billy “The Pocket” Blues Jams at Dawsons\, 7-10 pm\n 
URL:https://southsoundblues.org/event/thursday-nights-billy-the-pocket-blues-jams-at-dawsons/
LOCATION:Dawson’s Bar & Grill\, 5443 South Tacoma Way\, Tacoma\, WA\, 98409
CATEGORIES:Local South Sound Blues
END:VEVENT
BEGIN:VEVENT
DTSTART;TZID=America/Los_Angeles:20250703T193000
DTEND;TZID=America/Los_Angeles:20250703T230000
DTSTAMP:20260423T134748
CREATED:20250504T230755Z
LAST-MODIFIED:20250504T230755Z
UID:14869-1751571000-1751583600@southsoundblues.org
SUMMARY:John Stephan Band at The Royal Room\, Seattle
DESCRIPTION:John Stephan Band @ The Royal Room\, Seattle\n\nThu Jul 3rd 7:30pm – 11:00pm (PDT)\n4139 46th Ave SW map 
URL:https://southsoundblues.org/event/john-stephan-band-at-the-royal-room-seattle/
LOCATION:Royal Room\, 5000 Rainier Ave S\, Seattle\, WA\, 98118
CATEGORIES:Special Event
END:VEVENT
BEGIN:VEVENT
DTSTART;VALUE=DATE:20250704
DTEND;VALUE=DATE:20250707
DTSTAMP:20260423T134748
CREATED:20250319T012606Z
LAST-MODIFIED:20250319T012606Z
UID:14566-1751594400-1751767199@southsoundblues.org
SUMMARY:Waterfront Blues Festival\, McCall Waterfront Park\, Portland
DESCRIPTION:Waterfront Blues Festival in Portland July 4-5th\, 2025                               in the bowl of Tom McCall Waterfront Park        \nThe Biggest and the best!  \n  \nhttps://waterfrontbluesfest.com/
URL:https://southsoundblues.org/event/waterfront-blues-festival-mccall-waterfront-park-portland/
LOCATION:Tom McCall Waterfront Park\, 8 SW Naito Pkwy\, Portland\, OR\, 97204
CATEGORIES:Festival
END:VEVENT
BEGIN:VEVENT
DTSTART;VALUE=DATE:20250704
DTEND;VALUE=DATE:20250706
DTSTAMP:20260423T134748
CREATED:20250526T235717Z
LAST-MODIFIED:20250526T235717Z
UID:14965-1751594400-1751680799@southsoundblues.org
SUMMARY:Independence Day!
DESCRIPTION:Celebrate Freedom!
URL:https://southsoundblues.org/event/independence-day/
LOCATION:WA
CATEGORIES:Special Event
END:VEVENT
BEGIN:VEVENT
DTSTART;TZID=America/Los_Angeles:20250704T180000
DTEND;TZID=America/Los_Angeles:20250704T180000
DTSTAMP:20260423T134748
CREATED:20250702T160440Z
LAST-MODIFIED:20250702T160440Z
UID:15342-1751652000-1751652000@southsoundblues.org
SUMMARY:Michele D'Amour & The Love Dealers at 'The Keg and I'\, Chimacum WA
DESCRIPTION:Michele D’Amour & The Love Dealers at ‘The Keg and I’\, July 4th\, 6-8 pm\n \nThe Keg and I\nThe Peninsula’s Premier Taproom\nCraft beer\, cider\, kombucha\, and wine on tap\nBubble water\, Dry Soda\, Root Beer\, Ginger Ale\nSnacks from land and sea.  21+ only\n  \n\n  \n  \n  \n  \n  \n1291 Chimacum Rd.\nChimacum\, WA 98325\n(360) 344-2955 \n 
URL:https://southsoundblues.org/event/michele-damour-the-love-dealers-at-the-keg-and-i-chimacum-wa/
LOCATION:The Keg and I\, 1291 Chimacum Rd.\, Chimacum\, WA\, 98325
CATEGORIES:Featured
END:VEVENT
BEGIN:VEVENT
DTSTART;TZID=America/Los_Angeles:20250704T200000
DTEND;TZID=America/Los_Angeles:20250704T230000
DTSTAMP:20260423T134748
CREATED:20250618T003321Z
LAST-MODIFIED:20250618T003321Z
UID:15226-1751659200-1751670000@southsoundblues.org
SUMMARY:All Stars No Stripes at the Salmon Bay Eagles
DESCRIPTION:All Stars No Stripes\, Friday July 4th\, 8- 11:00pm at the Salmon Bay Eagles\n\n\n\n\n\n\n\nStan Eike and company are back to rock the club. With Stan and Scotty Lind on duo lead guitar & vocals; Howard Hooper on Bass; Billy Reed\, keyboards & vocals\, and Marty Vadalabene on drums\, and they will be tearing up the joint! Playing a vibrant mix of blues\, R&B\, rock & roll\, and jazz. All Stars No Stripes Band are truly all-stars and are known for delivering the goods!
URL:https://southsoundblues.org/event/all-stars-no-stripes-at-the-salmon-bay-eagles/
LOCATION:Salmon Bay Eagles\, 5216 20th Ave NW\, Seattle\, WA\, 98107
CATEGORIES:Featured
END:VEVENT
BEGIN:VEVENT
DTSTART;TZID=America/Los_Angeles:20250705T190000
DTEND;TZID=America/Los_Angeles:20250705T220000
DTSTAMP:20260423T134748
CREATED:20250628T235250Z
LAST-MODIFIED:20250628T235250Z
UID:15285-1751742000-1751752800@southsoundblues.org
SUMMARY:Tim Cox Band at the Spar
DESCRIPTION:Tim Cox Band at the Spar July 5th\, 7-10 pm
URL:https://southsoundblues.org/event/tim-cox-band-at-the-spar-4/
LOCATION:The Spar\, 2121 N 30th St\, Tacoma\, WA\, 98403
CATEGORIES:Featured
END:VEVENT
BEGIN:VEVENT
DTSTART;TZID=America/Los_Angeles:20250705T190000
DTEND;TZID=America/Los_Angeles:20250705T220000
DTSTAMP:20260423T134748
CREATED:20250703T164419Z
LAST-MODIFIED:20250703T164419Z
UID:15361-1751742000-1751752800@southsoundblues.org
SUMMARY:King Kom Beaux On The Deck at Johnny's Dock
DESCRIPTION:King Kom Beaux On The Deck at Johnny’s SATURDAY JULY 5TH 7-10PM
URL:https://southsoundblues.org/event/king-kom-beaux-on-the-deck-at-johnnys-dock/
LOCATION:Johnny’s Dock\, 1900 E D St\, Tacoma\, WA\, 98421
CATEGORIES:Local South Sound Blues
END:VEVENT
BEGIN:VEVENT
DTSTART;TZID=America/Los_Angeles:20250706T180000
DTEND;TZID=America/Los_Angeles:20250706T210000
DTSTAMP:20260423T134748
CREATED:20250411T004404Z
LAST-MODIFIED:20250411T004404Z
UID:14651-1751824800-1751835600@southsoundblues.org
SUMMARY:Tim Hall Blues Jam every Sunday at Zesty's
DESCRIPTION:Tim Hall Blues Jam every Sunday at Zesty’s Steakhouse\, 6-9pm
URL:https://southsoundblues.org/event/tim-hall-blues-jam-every-sunday-at-zestys-4/
LOCATION:Zesty’s Cajun Steakhouse\, 9905 Bridgeport Way Southwest\, Lakewood\, WA\, 98499
CATEGORIES:Local South Sound Blues
END:VEVENT
BEGIN:VEVENT
DTSTART;TZID=America/Los_Angeles:20250706T190000
DTEND;TZID=America/Los_Angeles:20250706T220000
DTSTAMP:20260423T134748
CREATED:20250524T020110Z
LAST-MODIFIED:20250630T155942Z
UID:14927-1751828400-1751839200@southsoundblues.org
SUMMARY:Sunday Blues at the Spar with the Joel Astley Band
DESCRIPTION:Sunday Blues at the Spar\, The Joel Astley Band July 6th\, 7-10 pm
URL:https://southsoundblues.org/event/sunday-blues-at-the-spar-24/
LOCATION:The Spar\, 2121 N 30th St\, Tacoma\, WA\, 98403
CATEGORIES:Local South Sound Blues
END:VEVENT
BEGIN:VEVENT
DTSTART;TZID=America/Los_Angeles:20250707T210000
DTEND;TZID=America/Los_Angeles:20250707T233000
DTSTAMP:20260423T134748
CREATED:20250504T193031Z
LAST-MODIFIED:20250504T193031Z
UID:14815-1751922000-1751931000@southsoundblues.org
SUMMARY:Mondays\, Andy Coe Band Grateful Dead tribute at the Blue Moon Tavern\, Seattle
DESCRIPTION:Mondays\, Andy Coe Band Grateful Dead tribute\, 9 pm at the Blue Moon Tavern
URL:https://southsoundblues.org/event/mondays-andy-coe-band-grateful-dead-tribute-at-the-blue-moon-tavern-seattle/
LOCATION:Blue Moon Tavern\, 712 NE 45th St\, Seattle\, WA\, 98105
CATEGORIES:Featured
END:VEVENT
BEGIN:VEVENT
DTSTART;TZID=America/Los_Angeles:20250708T190000
DTEND;TZID=America/Los_Angeles:20250708T220000
DTSTAMP:20260423T134748
CREATED:20250612T200445Z
LAST-MODIFIED:20250612T200445Z
UID:15133-1752001200-1752012000@southsoundblues.org
SUMMARY:Billy Shew hosts the Burien Eagles Tuesday Night Jams
DESCRIPTION:Billy Shew hosts the Burien Eagles Tuesday Night Jams\,  7:00pm
URL:https://southsoundblues.org/event/billy-shew-hosts-the-burien-eagles-tuesday-night-jams-14/
LOCATION:Burien Eagles\, 920 SW 150th St\, Burien\, WA\, 98166
CATEGORIES:Local South Sound Blues
END:VEVENT
BEGIN:VEVENT
DTSTART;TZID=America/Los_Angeles:20250708T190000
DTEND;TZID=America/Los_Angeles:20250708T220000
DTSTAMP:20260423T134748
CREATED:20250612T202106Z
LAST-MODIFIED:20250612T203203Z
UID:15137-1752001200-1752012000@southsoundblues.org
SUMMARY:Washington Blues Society Blues Bash at Aurora Borealis\, Shoreline
DESCRIPTION:Washington Blues Society Blues Bash at Aurora Borealis July 8th\, 7pm Featuring Diego Romero Band\, also\, Di And the Blue Hearts
URL:https://southsoundblues.org/event/washington-blues-society-blues-bash-at-aurora-borealis-2/
LOCATION:Aurora Borealis\, 16708 Aurora Ave N\, Shoreline\, WA\, 98133
CATEGORIES:Featured
END:VEVENT
BEGIN:VEVENT
DTSTART;TZID=America/Los_Angeles:20250708T200000
DTEND;TZID=America/Los_Angeles:20250708T233000
DTSTAMP:20260423T134748
CREATED:20250524T020701Z
LAST-MODIFIED:20250524T020701Z
UID:14931-1752004800-1752017400@southsoundblues.org
SUMMARY:Cory Wilds Band Tuesday open Jam Night at Elmer’s Bar and Grill
DESCRIPTION:Cory Wilds Band Tuesday open Jam Night at Elmer’s Bar and Grill\, 8-11:30 pm
URL:https://southsoundblues.org/event/cory-wilds-band-tuesday-open-jam-night-at-elmers-bar-and-grill-32/
LOCATION:Elmer’s Bar & Grill\, 15027 Ambaum Blvd SW\, Burien\, WA\, 98166
CATEGORIES:Local South Sound Blues
END:VEVENT
BEGIN:VEVENT
DTSTART;TZID=America/Los_Angeles:20250709T180000
DTEND;TZID=America/Los_Angeles:20250709T200000
DTSTAMP:20260423T134748
CREATED:20250610T184541Z
LAST-MODIFIED:20250707T190150Z
UID:15093-1752084000-1752091200@southsoundblues.org
SUMMARY:Annie Eastwood & Billy Stapleton Duo at the Sparrow\, Kirkland
DESCRIPTION:Annie Eastwood & Billy Stapleton Duo at the Sparrow\, Kirkland\,  July 9th\, 6pm to 8pm\n  \n\n\nAward Winning Guitarist Billy Stapleton & Vocalist Annie Eastwood perform an eclectic variety\nof Rhythm & Blues\, Rock\, Blues\, Soul\, Swing\, Jazz and original tunes.
URL:https://southsoundblues.org/event/annie-eastwood-billy-stapleton-duo-at-the-sparrow-kirkland/
LOCATION:Sparrow\, 9736 Northeast 120th Place\, Kirkland\, WA\, 98034
CATEGORIES:Featured
END:VEVENT
BEGIN:VEVENT
DTSTART;TZID=America/Los_Angeles:20250709T180000
DTEND;TZID=America/Los_Angeles:20250709T200000
DTSTAMP:20260423T134748
CREATED:20250617T230514Z
LAST-MODIFIED:20250617T230514Z
UID:15201-1752084000-1752091200@southsoundblues.org
SUMMARY:King Kom Beaux at University Place Music on the Square
DESCRIPTION:King Kom Beaux at University Place Music on the Square\n\nWed Jul 9th 6:00pm – 8:00pm (PDT)\n\n\n\n\nMarketplace Square\, 3609 Market Place West\, University Place\, WA 98466
URL:https://southsoundblues.org/event/king-kom-beaux-at-university-place-music-on-the-square/
LOCATION:University place Market Square\, 3609 Market Pl W\, University Place\, WA\, 98466
CATEGORIES:Local South Sound Blues
END:VEVENT
BEGIN:VEVENT
DTSTART;TZID=America/Los_Angeles:20250709T183000
DTEND;TZID=America/Los_Angeles:20250709T200000
DTSTAMP:20260423T134748
CREATED:20250707T204326Z
LAST-MODIFIED:20250707T204326Z
UID:15379-1752085800-1752091200@southsoundblues.org
SUMMARY:Stacy Jones Band at Summer Sounds\, Concerts in the Park\, Federal Way
DESCRIPTION:Stacy Jones Band at Summer Sounds\, Concerts in the Park July 9th\, 6:30-8:00 pm\n  \n2410 S. 312th St.\, Federal Way WA 98003
URL:https://southsoundblues.org/event/stacy-jones-band-at-summer-sounds-concerts-in-the-park-federal-way/
LOCATION:Steel Lake Park\, 2410 S. 312th St\, Federal Way\, WA\, 98003
CATEGORIES:Local South Sound Blues
END:VEVENT
BEGIN:VEVENT
DTSTART;TZID=America/Los_Angeles:20250709T190000
DTEND;TZID=America/Los_Angeles:20250709T210000
DTSTAMP:20260423T134748
CREATED:20250701T154632Z
LAST-MODIFIED:20250701T154632Z
UID:15330-1752087600-1752094800@southsoundblues.org
SUMMARY:Chad & Veronica at the Mill\, Milton
DESCRIPTION:Chad & Veronica duo brings you feel-good hits from the ’60s through the early 2000s.\nWednesday\, July 9th ·7:00 – 9:00pm
URL:https://southsoundblues.org/event/chad-veronica-at-the-mill-milton/
LOCATION:The Mill of Milton\, 900 Meridian E. #50\, Milton\, WA\, 98354
CATEGORIES:Featured
END:VEVENT
BEGIN:VEVENT
DTSTART;TZID=America/Los_Angeles:20250709T190000
DTEND;TZID=America/Los_Angeles:20250709T220000
DTSTAMP:20260423T134748
CREATED:20250607T230944Z
LAST-MODIFIED:20250628T234239Z
UID:15015-1752087600-1752098400@southsoundblues.org
SUMMARY:Funky Jazz at the Spar every Wednesday
DESCRIPTION:Funky Jazz at the Spar every Wednesday\, 7-10 pm
URL:https://southsoundblues.org/event/funky-jazz-at-the-spar-every-wednesday/
LOCATION:The Spar\, 2121 N 30th St\, Tacoma\, WA\, 98403
CATEGORIES:Featured
END:VEVENT
BEGIN:VEVENT
DTSTART;TZID=America/Los_Angeles:20250710T180000
DTEND;TZID=America/Los_Angeles:20250710T210000
DTSTAMP:20260423T134748
CREATED:20250611T223249Z
LAST-MODIFIED:20250611T223249Z
UID:15095-1752170400-1752181200@southsoundblues.org
SUMMARY:Annie Eastwood & Friends Featuring Kimball Conant at Bad Albert’s Tap & Grill\, Ballard
DESCRIPTION:Annie Eastwood & Friends Featuring Kimball Conant at Bad Albert’s Tap & Grill\, Ballard\, Thursday July 10\, 6pm to 9pm
URL:https://southsoundblues.org/event/annie-eastwood-friends-featuring-kimball-conant-at-bad-alberts-tap-grill-ballard/
LOCATION:Bad Albert’s\, 5100 Ballard Avenue Northwest\, Seattle\, WA\, 98107
CATEGORIES:Featured
END:VEVENT
BEGIN:VEVENT
DTSTART;TZID=America/Los_Angeles:20250710T183000
DTEND;TZID=America/Los_Angeles:20250710T200000
DTSTAMP:20260423T134748
CREATED:20250630T202448Z
LAST-MODIFIED:20250630T202733Z
UID:15313-1752172200-1752177600@southsoundblues.org
SUMMARY:Brohamm - Kings of R&B at Pioneer Park\, Puyallup
DESCRIPTION:Concerts in the Park | Puyallup\, WA\n\n7/10 – Brohamm – Kings of R&B play lively songs from the old school Motown Philly Classic Soul to the new upbeat Funky R&B songs of today and yesterday starts at 6:30 pm \n\n  \n\n333 S Meridian\, Puyallup\, WA 98371
URL:https://southsoundblues.org/event/brohamm-kings-of-rb-at-pioneer-park-puyallup/
LOCATION:Pioneer Park\, 333 S Meridian\, Puyallup\, WA\, 98371
CATEGORIES:Featured
END:VEVENT
BEGIN:VEVENT
DTSTART;TZID=America/Los_Angeles:20250710T190000
DTEND;TZID=America/Los_Angeles:20250710T210000
DTSTAMP:20260423T134748
CREATED:20250526T205256Z
LAST-MODIFIED:20250526T205256Z
UID:14946-1752174000-1752181200@southsoundblues.org
SUMMARY:Thursdays “Bluesland” radio show with Leo Schumaker on KMRE 88.3 FM
DESCRIPTION:Tune into Thursdays “Bluesland” radio show\, 7-9 pm\, with Leo Schumaker on KMRE 88.3 FM 
URL:https://southsoundblues.org/event/thursdays-bluesland-radio-show-with-leo-schumaker-on-kmre-88-3-fm/
LOCATION:WA
CATEGORIES:Featured
END:VEVENT
BEGIN:VEVENT
DTSTART;TZID=America/Los_Angeles:20250710T190000
DTEND;TZID=America/Los_Angeles:20250710T220000
DTSTAMP:20260423T134748
CREATED:20250526T203303Z
LAST-MODIFIED:20250526T203835Z
UID:14940-1752174000-1752184800@southsoundblues.org
SUMMARY:Thursdays Red Dog Saloon Jams\, Maple Valley\, with host Billy Shew
DESCRIPTION:Thursdays Red Dog Saloon Jams\, Maple Valley\, with host Billy Shew\, 7-10 pm
URL:https://southsoundblues.org/event/red-dog-saloon-jam-thursdays-with-host-billy-shew-3/
LOCATION:Red Dog Saloon\, 18605 Renton-Maple Valley Rd\, Maple Valley\, WA\, 98038
CATEGORIES:Local South Sound Blues
END:VEVENT
BEGIN:VEVENT
DTSTART;TZID=America/Los_Angeles:20250711T170000
DTEND;TZID=America/Los_Angeles:20250711T190000
DTSTAMP:20260423T134748
CREATED:20250501T003524Z
LAST-MODIFIED:20250501T003524Z
UID:14757-1752253200-1752260400@southsoundblues.org
SUMMARY:Octopus Ballet at Cockrell Cider Farm\, Puyallup
DESCRIPTION:Octopus Ballet at Cockrell Cider Farm\, July 11th\, 5-7 pm
URL:https://southsoundblues.org/event/octopus-ballet-at-cockrell-cider-farm-puyallup/
LOCATION:COCKRELL FARMS\, 6613 114TH AVE CT E\, PUYALLUP\, WA\, 98372
CATEGORIES:Featured
END:VEVENT
BEGIN:VEVENT
DTSTART;TZID=America/Los_Angeles:20250711T180000
DTEND;TZID=America/Los_Angeles:20250711T200000
DTSTAMP:20260423T134748
CREATED:20250526T213358Z
LAST-MODIFIED:20250526T213358Z
UID:14956-1752256800-1752264000@southsoundblues.org
SUMMARY:Billy Shew 'Unplugged' at Off Camber Brewing Company\, Puyallup
DESCRIPTION:July 11th\,  Billy Shew ‘Unplugged’ at Off Camber Brewing Company\, 6-8 pm\n\n\n\n\n\n\n\n6506 114th Ave Ct E\, Puyallup\, WA\, United States\, Washington\n\n\n\n\n\n\n(253) 312-8796
URL:https://southsoundblues.org/event/billy-shew-unplugged-at-off-camber-brewing-company-puyallup/
LOCATION:Off Camber Brewing Compayn\, Puyallup\, 6506 114th Ave Ct E\, Puyallup\,\, wA\, 98372
CATEGORIES:Featured
END:VEVENT
BEGIN:VEVENT
DTSTART;TZID=America/Los_Angeles:20250711T190000
DTEND;TZID=America/Los_Angeles:20250711T210000
DTSTAMP:20260423T134748
CREATED:20250504T011033Z
LAST-MODIFIED:20250504T011128Z
UID:14804-1752260400-1752267600@southsoundblues.org
SUMMARY:Mark Riley Trio at Kimball Coffeehouse
DESCRIPTION:Mark Riley Trio at Kimball Coffeehouse July 11th\, 7-9 pm
URL:https://southsoundblues.org/event/mark-riley-trio-at-kimball-coffeehouse/
LOCATION:Kimball’s Coffeehouse\, 6659 Kimball Dr\, Gig Harbor\, WA\, 98335
CATEGORIES:Local South Sound Blues
END:VEVENT
BEGIN:VEVENT
DTSTART;TZID=America/Los_Angeles:20250711T190000
DTEND;TZID=America/Los_Angeles:20250711T220000
DTSTAMP:20260423T134748
CREATED:20250611T223744Z
LAST-MODIFIED:20250611T223744Z
UID:15098-1752260400-1752271200@southsoundblues.org
SUMMARY:Annie Eastwood & Her All-Star Band Featuring Billy Stapleton at Pub 282\, Camano Island
DESCRIPTION:Friday July 11th\, Annie Eastwood & Her All-Star Band Featuring Billy Stapleton at Pub 282\, Camano Island\, 7pm to 10pm\, \n\n\n\n\n\n 
URL:https://southsoundblues.org/event/annie-eastwood-her-all-star-band-featuring-billy-stapleton-at-pub-282-camano-island/
LOCATION:Pub 282\, 370 NE Camano Dr #6\, Camano\, WA\, 98282
CATEGORIES:Featured
END:VEVENT
BEGIN:VEVENT
DTSTART;TZID=America/Los_Angeles:20250712T183000
DTEND;TZID=America/Los_Angeles:20250712T203000
DTSTAMP:20260423T134748
CREATED:20250702T161802Z
LAST-MODIFIED:20250702T161802Z
UID:15345-1752345000-1752352200@southsoundblues.org
SUMMARY:Michele D'Amour & The Love Dealers at Five Rights Brewing\, Marysville
DESCRIPTION:Michele D’Amour & The Love Dealers at Five Rights Brewing July 12th\, 6:30-8:30 pm\n \n\n\n\n5 Rights Brewing Company
URL:https://southsoundblues.org/event/michele-damour-the-love-dealers-at-five-rights-brewing-marysville/
LOCATION:Five Rights Brewing Company\, 1514 3rd St.\, Marysville\, WA\, 98270
CATEGORIES:Featured
END:VEVENT
BEGIN:VEVENT
DTSTART;TZID=America/Los_Angeles:20250712T190000
DTEND;TZID=America/Los_Angeles:20250712T210000
DTSTAMP:20260423T134748
CREATED:20250611T224235Z
LAST-MODIFIED:20250611T224235Z
UID:15101-1752346800-1752354000@southsoundblues.org
SUMMARY:Stickshift Annie with Kimball & The Fugitives at Third Place Commons\, Lake Forest Park
DESCRIPTION:Stickshift Annie with Kimball & The Fugitives  at Third Place Commons\, Lake Forest Park\, Saturday July 12th\,  7pm to 9pm
URL:https://southsoundblues.org/event/stickshift-annie-with-kimball-the-fugitives-at-third-place-commons-lake-forest-park/
LOCATION:Third Place Commons\, 17171 Bothell Way NE\, Lake Forest Park\, WA\, 98155
CATEGORIES:Featured
END:VEVENT
BEGIN:VEVENT
DTSTART;TZID=America/Los_Angeles:20250712T190000
DTEND;TZID=America/Los_Angeles:20250712T220000
DTSTAMP:20260423T134748
CREATED:20250703T173610Z
LAST-MODIFIED:20250703T173634Z
UID:15367-1752346800-1752357600@southsoundblues.org
SUMMARY:Tim Enders Band at Johnnys Dock\, Tacoma
DESCRIPTION:Tim Enders Band at Johnnys Dock July 12th\, 7-10 pm
URL:https://southsoundblues.org/event/tim-enders-band-at-johnnys-dock-tacoma/
LOCATION:Johnny’s Dock\, 1900 E D St\, Tacoma\, WA\, 98421
CATEGORIES:Featured
END:VEVENT
END:VCALENDAR