BEGIN:VCALENDAR
VERSION:2.0
PRODID:-//South Sound Blues Association - ECPv6.15.18//NONSGML v1.0//EN
CALSCALE:GREGORIAN
METHOD:PUBLISH
X-ORIGINAL-URL:https://southsoundblues.org
X-WR-CALDESC:Events for South Sound Blues Association
REFRESH-INTERVAL;VALUE=DURATION:PT1H
X-Robots-Tag:noindex
X-PUBLISHED-TTL:PT1H
BEGIN:VTIMEZONE
TZID:America/Los_Angeles
BEGIN:DAYLIGHT
TZOFFSETFROM:-0800
TZOFFSETTO:-0700
TZNAME:PDT
DTSTART:20240310T100000
END:DAYLIGHT
BEGIN:STANDARD
TZOFFSETFROM:-0700
TZOFFSETTO:-0800
TZNAME:PST
DTSTART:20241103T090000
END:STANDARD
BEGIN:DAYLIGHT
TZOFFSETFROM:-0800
TZOFFSETTO:-0700
TZNAME:PDT
DTSTART:20250309T100000
END:DAYLIGHT
BEGIN:STANDARD
TZOFFSETFROM:-0700
TZOFFSETTO:-0800
TZNAME:PST
DTSTART:20251102T090000
END:STANDARD
BEGIN:DAYLIGHT
TZOFFSETFROM:-0800
TZOFFSETTO:-0700
TZNAME:PDT
DTSTART:20260308T100000
END:DAYLIGHT
BEGIN:STANDARD
TZOFFSETFROM:-0700
TZOFFSETTO:-0800
TZNAME:PST
DTSTART:20261101T090000
END:STANDARD
END:VTIMEZONE
BEGIN:VEVENT
DTSTART;TZID=America/Los_Angeles:20250821T190000
DTEND;TZID=America/Los_Angeles:20250821T220000
DTSTAMP:20260423T111651
CREATED:20250607T232259Z
LAST-MODIFIED:20250607T232259Z
UID:15025-1755802800-1755813600@southsoundblues.org
SUMMARY:Thursday nights- Billy “The Pocket” Blues Jams at Dawsons
DESCRIPTION:Thursday nights- Billy “The Pocket” Blues Jams at Dawsons\, 7-10 pm
URL:https://southsoundblues.org/event/thursday-nights-billy-the-pocket-blues-jams-at-dawsons-3/
LOCATION:Dawson’s Bar & Grill\, 5443 South Tacoma Way\, Tacoma\, WA\, 98409
CATEGORIES:Local South Sound Blues
END:VEVENT
BEGIN:VEVENT
DTSTART;TZID=America/Los_Angeles:20250821T190000
DTEND;TZID=America/Los_Angeles:20250821T223000
DTSTAMP:20260423T111651
CREATED:20250808T220124Z
LAST-MODIFIED:20250808T220216Z
UID:15674-1755802800-1755815400@southsoundblues.org
SUMMARY:Every Thursday Blues Jam at Creole Soul\, Des Moines
DESCRIPTION:Every Thursday Blues Jam at Creole Soul\, Des Moines\, 7-10:30 pm\nFeaturing the Super Sonic Soul Pimps
URL:https://southsoundblues.org/event/every-thursday-blues-jam-at-creole-soul-des-moines/
LOCATION:Creole Soul\, 22341 Marine View Drive\, Des Moines\, WA\, 98198
CATEGORIES:Local South Sound Blues
END:VEVENT
BEGIN:VEVENT
DTSTART;TZID=America/Los_Angeles:20250822T170000
DTEND;TZID=America/Los_Angeles:20250822T190000
DTSTAMP:20260423T111651
CREATED:20250501T002837Z
LAST-MODIFIED:20250501T002837Z
UID:14755-1755882000-1755889200@southsoundblues.org
SUMMARY:Rob Tudor at Cockrell Cider Farm\, Puyallup
DESCRIPTION:Rob Tudor at Cockrell Cider Farm\, August 22nd\, 5-7 pm
URL:https://southsoundblues.org/event/rob-tudor-at-cockrell-cider-farm-puyallup/
LOCATION:COCKRELL FARMS\, 6613 114TH AVE CT E\, PUYALLUP\, WA\, 98372
END:VEVENT
BEGIN:VEVENT
DTSTART;TZID=America/Los_Angeles:20250822T190000
DTEND;TZID=America/Los_Angeles:20250822T210000
DTSTAMP:20260423T111651
CREATED:20250721T021342Z
LAST-MODIFIED:20250721T021847Z
UID:15518-1755889200-1755896400@southsoundblues.org
SUMMARY:The Profits at Kimball Coffeehouse\, Gig Harbor
DESCRIPTION:The Profits at Kimball Coffeehouse August 22nd\, 7-9 pm\nClassic Rock!
URL:https://southsoundblues.org/event/the-profits-at-kimball-coffeehouse-gig-harbor/
LOCATION:Kimball’s Coffeehouse\, 6659 Kimball Dr\, Gig Harbor\, WA\, 98335
CATEGORIES:Featured
END:VEVENT
BEGIN:VEVENT
DTSTART;TZID=America/Los_Angeles:20250822T190000
DTEND;TZID=America/Los_Angeles:20250822T220000
DTSTAMP:20260423T111651
CREATED:20250806T221148Z
LAST-MODIFIED:20250810T191611Z
UID:15639-1755889200-1755900000@southsoundblues.org
SUMMARY:Joel Astley Band at Aurora Borealis\, (Double bill with Alison Joy Williams & Indigo Edge)\, Shoreline
DESCRIPTION:Joel Astley Band at Aurora Borealis\, (Double bill with Alison Joy Williams & Indigo Edge)\, 7-10 pm\nThis show is right around the corner! Do you have your tickets yet? Joel Astley is the 2024 and 2025 winner of the Washington Blues Society Challenge. Alison Joy Williams was a 2024 finalist of the Washington Blues Society Challenge from Coeur D’ Alene. Both artist recent releases\, Astley’s ‘SEATTLE TO GREASELAND’ 2023 and Williams ‘HOW YOU LOOK AT THINGS have received national recognition on multiple Blues Charts and great reviews. Don’t miss the chance to catch both artist in one night at Aurora Borealis Friday\, Aug. 22\, 2025 @7:30
URL:https://southsoundblues.org/event/joel-astley-band-at-aurora-borealis-shoreline/
LOCATION:Aurora Borealis\, 16708 Aurora Ave N\, Shoreline\, WA\, 98133
CATEGORIES:Featured,Special Event
END:VEVENT
BEGIN:VEVENT
DTSTART;VALUE=DATE:20250823
DTEND;VALUE=DATE:20250825
DTSTAMP:20260423T111651
CREATED:20250423T034203Z
LAST-MODIFIED:20250610T014825Z
UID:14726-1755914400-1756000799@southsoundblues.org
SUMMARY:Poverty Bay Blues & Brews Festival
DESCRIPTION:Poverty Bay Blues & Brews Festival August 23rd\, 11:00 am – 7:00 Pm at the Des Moines Beach Park\nhttps://www.drinktomusic.org/ \n \nBand line-up for this year’s festival!\nHank Shreve Band 11:30 to 1:00\nAllison Joy Williams Band 1:30 to 3:00\nJoel Astley 3:30 to 5:00\nHillstomp 5:30 to 7:00\n\n\npoverty bayBlues & Brews festAugust 23\, 2025Des Moines\,wa
URL:https://southsoundblues.org/event/poverty-bay-blues-brews-festival/
LOCATION:Des Moines Beach Park\, 22030D Cliff Ave S\, Des Moines\, WA\, 98198
CATEGORIES:Festival,Local South Sound Blues,Special Event
END:VEVENT
BEGIN:VEVENT
DTSTART;VALUE=DATE:20250823
DTEND;VALUE=DATE:20250825
DTSTAMP:20260423T111651
CREATED:20250527T174916Z
LAST-MODIFIED:20250527T174916Z
UID:14974-1755914400-1756000799@southsoundblues.org
SUMMARY:The Spin-Offs at Nudestock\, Tiger Mountain Nudist Park\, Issaquah
DESCRIPTION:The Spin-Offs at Nudestock\, Tiger Mountain Nudist Park\, Issaquah\, August 23rd\, Fun starts at 11am\n \n\nMusic Festival: Nudestock\nTiger Mountain Nudist Park 24050 SE 127th Street\, Issaquah\, WA\n\n\nNudstock Music Festival 2025 “A Nude Rock\, Blues\, and Dance Experience” \n\n24050 Southeast 127th Street \nThis 40 acre family nudist park has been owned and operated by its members since 1945. Couples\, families and singles are welcome. The park is located on Tiger Mountain\, 3 miles south of downtown Issaquah.
URL:https://southsoundblues.org/event/the-spin-offs-at-nudestock-tiger-mountain-nudist-park-issaquah/
LOCATION:Tiger Mountain Nudist Park\, 24050 SE 127th Street\, Issaquah\, WA
CATEGORIES:Festival,Local South Sound Blues
END:VEVENT
BEGIN:VEVENT
DTSTART;TZID=America/Los_Angeles:20250823T143000
DTEND;TZID=America/Los_Angeles:20250823T170000
DTSTAMP:20260423T111651
CREATED:20250819T004631Z
LAST-MODIFIED:20250819T004631Z
UID:15750-1755959400-1755968400@southsoundblues.org
SUMMARY:Ross Robinson at Shiplap Coffeehouse
DESCRIPTION:Ross Robinson playing Shiplap Coffeehouse August 23rd\, 2:30-5pm\nwith Charlie Valentine on bass for the ‘Shiplap Summer Sendoff’ w car show\, food trucks and vendors. 112 E Yelm Ave\, Yelm\, WA 98597\n 
URL:https://southsoundblues.org/event/ross-robinson-at-shiplap-coffeehouse/
LOCATION:Shiplap Coffeehouse\, 112 Yelm Ave East\, Yelm\, WA\, 98597
CATEGORIES:Local South Sound Blues
END:VEVENT
BEGIN:VEVENT
DTSTART;TZID=America/Los_Angeles:20250823T170000
DTEND;TZID=America/Los_Angeles:20250823T210000
DTSTAMP:20260423T111651
CREATED:20250610T013602Z
LAST-MODIFIED:20250610T013735Z
UID:15080-1755968400-1755982800@southsoundblues.org
SUMMARY:DOWNTOWN TACOMA BLUES & JAZZ FESTIVAL\, Day One
DESCRIPTION:DOWNTOWN TACOMA BLUES & JAZZ FESTIVAL\, Day One!\nSATURDAY AUGUST 23\, 5-9PM at Ebony & Ivory (1145 Broadway\, Indoors)\nhttps://www.ltdpresentslive.com/
URL:https://southsoundblues.org/event/downtown-tacoma-blues-jazz-festival-day-one/
LOCATION:Ebony & Ivory\, 1145 Broadway\, Tacoma\, WA\, 98402
CATEGORIES:Special Event
END:VEVENT
BEGIN:VEVENT
DTSTART;TZID=America/Los_Angeles:20250823T173000
DTEND;TZID=America/Los_Angeles:20250823T210000
DTSTAMP:20260423T111651
CREATED:20250820T205353Z
LAST-MODIFIED:20250820T205353Z
UID:15775-1755970200-1755982800@southsoundblues.org
SUMMARY:Red House at the West Seattle Eagles
DESCRIPTION:Red House  Saturday August 23rd at the West Seattle Eagles\, 5:30 pm\n \n\n  \n\n\n\n\n\n\n\n\n\n\n\n4426 California Ave SW\, Seattle\, WA 98116-4109\, United States
URL:https://southsoundblues.org/event/red-house-at-the-west-seattle-eagles/
LOCATION:West Seattle Eagles\, 4426 California Ave SW\, Seattle\, WA\, 98116
CATEGORIES:Local South Sound Blues
END:VEVENT
BEGIN:VEVENT
DTSTART;TZID=America/Los_Angeles:20250823T190000
DTEND;TZID=America/Los_Angeles:20250823T213000
DTSTAMP:20260423T111651
CREATED:20250731T235927Z
LAST-MODIFIED:20250731T235927Z
UID:15599-1755975600-1755984600@southsoundblues.org
SUMMARY:Billy Stoops Duo at the Lake City Pub
DESCRIPTION:Billy Stoops Duo at the Lake City Pub August 23rd\, 7-9:30 pm\n 
URL:https://southsoundblues.org/event/billy-stoops-duo-at-the-lake-city-pub-2/
LOCATION:Lake City Pub\, 9106 Veterans Dr\, Lakewood\, WA\, 98498
CATEGORIES:Local South Sound Blues
END:VEVENT
BEGIN:VEVENT
DTSTART;TZID=America/Los_Angeles:20250823T190000
DTEND;TZID=America/Los_Angeles:20250823T220000
DTSTAMP:20260423T111651
CREATED:20250730T220431Z
LAST-MODIFIED:20250730T220431Z
UID:15579-1755975600-1755986400@southsoundblues.org
SUMMARY:Joel Astley Band at Johnny's Dock\, Tacoma
DESCRIPTION:Joel Astley Band at Johnny’s Dock August 23rd\, 7-10 pm
URL:https://southsoundblues.org/event/joel-astley-band-at-johnnys-dock-tacoma/
LOCATION:Johnny’s Dock\, 1900 E D St\, Tacoma\, WA\, 98421
CATEGORIES:Local South Sound Blues
END:VEVENT
BEGIN:VEVENT
DTSTART;TZID=America/Los_Angeles:20250823T200000
DTEND;TZID=America/Los_Angeles:20250823T230000
DTSTAMP:20260423T111651
CREATED:20250408T211742Z
LAST-MODIFIED:20250408T211742Z
UID:14615-1755979200-1755990000@southsoundblues.org
SUMMARY:Mark Hurwitz & Gin Creek at Rock the Dock
DESCRIPTION:Mark Hurwitz & Gin Creek at Rock the Dock August 23rd\, 8-11 pm
URL:https://southsoundblues.org/event/mark-hurwitz-gin-creek-at-rock-the-dock-4/
LOCATION:Rock the Dock\, 535 Dock St # 118\, Tacoma\, WA\, 98402
CATEGORIES:Local South Sound Blues
END:VEVENT
BEGIN:VEVENT
DTSTART;VALUE=DATE:20250824
DTEND;VALUE=DATE:20250826
DTSTAMP:20260423T111651
CREATED:20250127T204628Z
LAST-MODIFIED:20250728T214432Z
UID:14237-1756000800-1756087199@southsoundblues.org
SUMMARY:Downtown Tacoma Blues & Jazz Festival
DESCRIPTION:Downtown Tacoma Blues and Jazz festival Sunday August 24th!\nNOON-7PM on Broadway between 11th & 13th Street in Tacoma WA\nSTARRING: \nDANIELLE NICOLE \nD.K. HARRELL \nJOHN PRIMER & THE REAL DEAL BLUES BAND \nMARCEL SMITH & DERRICK “D’MAR” MARTIN \nCHRIS O’LEARY BAND \nELNAH JORDAN EXPERIENCE \n John Primer        Danielle Nicole \nNew downtown location! On Broadway between 11th and 13th streets. \nAUGUST 24 AT NOON\, THE DOWNTOWN TACOMA BLUES AND JAZZ FESTIVAL BEGINS AND WILL HAVE TWO STAGES OF MUSIC ALL DAY. \nDOWNTOWN TACOMA BLUES & JAZZ FESTIVAL\nSATURDAY AUGUST 23\, 5-9PM at Ebony & Ivory (1145 Broadway\, Indoors)\nSUNDAY AUGUST 24\, NOON-7PM on Broadway between 11th & 13th Street\, outdoors\nVIP PACKAGES AVAILABLE\n\n \n\nDowntown Tacoma Blues & Jazz Festival happening Sunday\, August 24th and brought to you by LTD Presents and title sponsors MJR Development & J Squared Investments.\nSponsors: Kat McNeill & Lance Bowman\, JD Pendergast Law\, South Sound Blues Association\, KNKX Public Radio\, Jerilyn Nikiel\, Bev & Dave Farrell and Susie Campbell.\n\n 
URL:https://southsoundblues.org/event/5th-annual-tacoma-dock-street-blues-jazz-festival/
LOCATION:Tacoma Blues & Jazz fest loacation\, 1114 Broadway\, Tacoma\, WA\, 98402
CATEGORIES:Festival,Local South Sound Blues,Special Event
END:VEVENT
BEGIN:VEVENT
DTSTART;TZID=America/Los_Angeles:20250824T170000
DTEND;TZID=America/Los_Angeles:20250824T200000
DTSTAMP:20260423T111651
CREATED:20250607T222702Z
LAST-MODIFIED:20250607T222702Z
UID:14996-1756054800-1756065600@southsoundblues.org
SUMMARY:Brother Don’s Bar and Grill Sunday Night Jams with Joe Faker
DESCRIPTION:Brother Don’s Bar and Grill Sunday Night Jams with Joe Faker 5-8 pm
URL:https://southsoundblues.org/event/brother-dons-bar-and-grill-sunday-night-jams-with-joe-faker-2/
LOCATION:Brother Don’s Bar & Grill\, 4200 Kitsap Way\, Bremerton\, WA\, 98312
CATEGORIES:Local South Sound Blues
END:VEVENT
BEGIN:VEVENT
DTSTART;TZID=America/Los_Angeles:20250824T190000
DTEND;TZID=America/Los_Angeles:20250824T203000
DTSTAMP:20260423T111651
CREATED:20250428T204854Z
LAST-MODIFIED:20250428T204854Z
UID:14737-1756062000-1756067400@southsoundblues.org
SUMMARY:Blues Vespers with Adam Levy and Tim Lerch at Kilworth Memorial Chapel\, UPS
DESCRIPTION:August 24th Blues Vespers with Adam Levy and Tim Lerch will include an opportunity to support the Bryant Neighborhood Center back to school drive to help kids in need. Stay tuned!  7:00 – 8:15 Kilworth Chapel UPS Campus\, Tacoma WA
URL:https://southsoundblues.org/event/blues-vespers-with-adam-levy-and-tim-lerch-at-kilworth-memorial-chapel-ups/
LOCATION:Kilworth Memorial Chapel\, 3410 N 18th St\, Tacoma\, WA\, 98416
CATEGORIES:Local South Sound Blues
END:VEVENT
BEGIN:VEVENT
DTSTART;TZID=America/Los_Angeles:20250825T180000
DTEND;TZID=America/Los_Angeles:20250825T210000
DTSTAMP:20260423T111651
CREATED:20250703T152152Z
LAST-MODIFIED:20250703T152152Z
UID:15359-1756144800-1756155600@southsoundblues.org
SUMMARY:Monday Jazz at Brother Don’s Bar & Grill\, Bremerton
DESCRIPTION:Monday Jazz at Brother Don’s Bar & Grill\, Bremerton\, 6-9 pm
URL:https://southsoundblues.org/event/monday-jazz-at-brother-dons-bar-grill-bremerton-20/
LOCATION:Brother Don’s Bar & Grill\, 4200 Kitsap Way\, Bremerton\, WA\, 98312
CATEGORIES:Local South Sound Blues
END:VEVENT
BEGIN:VEVENT
DTSTART;TZID=America/Los_Angeles:20250826T190000
DTEND;TZID=America/Los_Angeles:20250826T210000
DTSTAMP:20260423T111651
CREATED:20250617T232543Z
LAST-MODIFIED:20250617T232543Z
UID:15209-1756234800-1756242000@southsoundblues.org
SUMMARY:Georges BLT Tuesday Night Open Mic night hosted by Slim Wizzy & Friends
DESCRIPTION:Georges BLT Tuesday Night Open Mic night hosted by Slim Wizzy & Friends 7:00pm – 9:00pm
URL:https://southsoundblues.org/event/georges-blt-tuesday-night-open-mic-night-hosted-by-slim-wizzy-friends-2/
LOCATION:George’s BLT\, 18212 HWY 410 E\, Bonney Lake\, WA\, 98391
CATEGORIES:Local South Sound Blues
END:VEVENT
BEGIN:VEVENT
DTSTART;TZID=America/Los_Angeles:20250826T200000
DTEND;TZID=America/Los_Angeles:20250826T220000
DTSTAMP:20260423T111651
CREATED:20250607T230414Z
LAST-MODIFIED:20250607T230414Z
UID:15010-1756238400-1756245600@southsoundblues.org
SUMMARY:Every Tuesday at Billy Blues Bar & Grill\, Ben Rice & The PDX Hustle
DESCRIPTION:Every Tuesday at Billy Blues Bar & Grill\, Ben Rice & The PDX Hustle\, 8-10 pm\n“For our weekly Tuesday Groove Day at Billy Blues Bar & Grill\, we’ve been shaking things up a bit. We’ve been having fun throwing in new songs and bringing in some special guests to help us explore the music by artists who’ve influenced us. Come out and join us at our home court up in Vancouver\, 8:00 – 10:00 PM every Tuesday!
URL:https://southsoundblues.org/event/every-tuesday-at-billy-blues-bar-grill-ben-rice-the-pdx-hustle-3/
LOCATION:Billy Blues Bar & Grill\, 7115 NE Hazel Dell Ave\, Vancouver\, WA\, 98665
CATEGORIES:Featured
END:VEVENT
BEGIN:VEVENT
DTSTART;TZID=America/Los_Angeles:20250827T180000
DTEND;TZID=America/Los_Angeles:20250827T200000
DTSTAMP:20260423T111651
CREATED:20250803T235026Z
LAST-MODIFIED:20250803T235026Z
UID:15619-1756317600-1756324800@southsoundblues.org
SUMMARY:Mark Hurwitz and Gin Creek\, Market Square\, University Place
DESCRIPTION:August 27 – Mark Hurwitz and Gin Creek\, Market Square\,  6:00 PM – 8:00 PM.
URL:https://southsoundblues.org/event/mark-hurwitz-and-gin-creek-market-square-university-place/
LOCATION:University place Market Square\, 3609 Market Pl W\, University Place\, WA\, 98466
CATEGORIES:Local South Sound Blues
END:VEVENT
BEGIN:VEVENT
DTSTART;TZID=America/Los_Angeles:20250827T180000
DTEND;TZID=America/Los_Angeles:20250827T210000
DTSTAMP:20260423T111651
CREATED:20250620T010858Z
LAST-MODIFIED:20250620T010858Z
UID:15263-1756317600-1756328400@southsoundblues.org
SUMMARY:Wednesday Funky Jazz at the Spar
DESCRIPTION:Wednesday Funky Jazz at the Spar
URL:https://southsoundblues.org/event/wednesday-funky-jazz-at-the-spar-3/
LOCATION:The Spar\, 2121 N 30th St\, Tacoma\, WA\, 98403
CATEGORIES:Featured
END:VEVENT
BEGIN:VEVENT
DTSTART;TZID=America/Los_Angeles:20250827T183000
DTEND;TZID=America/Los_Angeles:20250827T203000
DTSTAMP:20260423T111651
CREATED:20250806T230041Z
LAST-MODIFIED:20250806T230041Z
UID:15652-1756319400-1756326600@southsoundblues.org
SUMMARY:Octopus Ballet at TK Irish Pub\, Puyallup
DESCRIPTION:Octopus Ballet at TK Irish Pub August 27th\, 6:30-8:30 pm
URL:https://southsoundblues.org/event/octopus-ballet-at-tk-irish-pub-puyallup/
LOCATION:Twisted Kilt\, 109 S Meridian\, Puyallup\, WA\, 98371
CATEGORIES:Featured
END:VEVENT
BEGIN:VEVENT
DTSTART;TZID=America/Los_Angeles:20250828T180000
DTEND;TZID=America/Los_Angeles:20250828T210000
DTSTAMP:20260423T111651
CREATED:20250710T211440Z
LAST-MODIFIED:20250710T211440Z
UID:15422-1756404000-1756414800@southsoundblues.org
SUMMARY:Annie Eastwood & Her All-Star Band Featuring Billy Stapleton at Bad Albert’s Tap & Grill\, Ballard 
DESCRIPTION:Annie Eastwood & Her All-Star Band Featuring Billy Stapleton at Bad Albert’s Tap & Grill\, Ballard \n\nThursday August 28th\, 6pm to 9pm\, 
URL:https://southsoundblues.org/event/annie-eastwood-her-all-star-band-featuring-billy-stapleton-at-bad-alberts-tap-grill-ballard-2/
LOCATION:Bad Albert’s\, 5100 Ballard Avenue Northwest\, Seattle\, WA\, 98107
CATEGORIES:Featured
END:VEVENT
BEGIN:VEVENT
DTSTART;TZID=America/Los_Angeles:20250828T180000
DTEND;TZID=America/Los_Angeles:20250828T210000
DTSTAMP:20260423T111651
CREATED:20250825T213321Z
LAST-MODIFIED:20250825T213321Z
UID:15830-1756404000-1756414800@southsoundblues.org
SUMMARY:Dusty 45's featuring Rod Cook at Tim's Tavern\, White Center
DESCRIPTION:Dusty 45’s featuring Rod Cook at Tim’s Tavern\, August 28th\, 6-9 pm\n Rod Cook
URL:https://southsoundblues.org/event/dusty-45s-featuring-rod-cook-at-tims-tavern-white-center/
LOCATION:Tims Tavern\, 9655 16th Av Sw\, Seattle\, WA\, 98106
CATEGORIES:Local South Sound Blues
END:VEVENT
BEGIN:VEVENT
DTSTART;TZID=America/Los_Angeles:20250828T190000
DTEND;TZID=America/Los_Angeles:20250828T210000
DTSTAMP:20260423T111651
CREATED:20250808T212113Z
LAST-MODIFIED:20250808T212113Z
UID:15668-1756407600-1756414800@southsoundblues.org
SUMMARY:Gas Station Blues at the Historic Shell station\, Issaquah
DESCRIPTION:Gas Station Blues at the Historic Shell station\, Issaquah 7-9 pm\n\nThursday\, August 28\, 2025\n\n\n\nThe Gas Station Blues series\, in collaboration with the Washington Blues Society\, showcases distinguished blues musicians every Thursday evening from 7:00 to 9:00 p.m. at the Historic Shell Station situated at 232 Front Street North. Join us for this free music celebration with friends. Hang out in the Beer & Wine Garden\, bring a picnic or take-out from our many restaurants within a short walk. \nDana Lupinacci will be perfoming. \nDana Lupinacci is a versatile and accomplished Seattle blues and roots performer. Whether she’s belting the blues or singing in a soulful whisper\, Dana conveys the love\, joy and passion of the music with an engaging presence. Previously nominated by the Washington Blues Society as Best Female Vocalist\, Dana’s ability and versatility afforded her the privilege of playing notable venues and festivals such as the Bite of Seattle\, The Pike Place market festival\, The Swinomish blues festival\, Highway 99\, The Spar\, The New Orleans\, Nordstrom and the Seattle Opera Christmas party. \n\n 
URL:https://southsoundblues.org/event/gas-station-blues-at-the-historic-shell-station-issaquah-3/
LOCATION:Historic Shell Station\, 232 Front St N\, Issaquah\, WA\, 98027
CATEGORIES:Local South Sound Blues
END:VEVENT
BEGIN:VEVENT
DTSTART;TZID=America/Los_Angeles:20250828T190000
DTEND;TZID=America/Los_Angeles:20250828T220000
DTSTAMP:20260423T111651
CREATED:20250607T232946Z
LAST-MODIFIED:20250607T232946Z
UID:15031-1756407600-1756418400@southsoundblues.org
SUMMARY:Thursdays Red Dog Saloon Jams\, Maple Valley\, with host Billy Shew
DESCRIPTION:Thursdays Red Dog Saloon Jams\, Maple Valley\, with host Billy Shew\, 7-10 pm
URL:https://southsoundblues.org/event/thursdays-red-dog-saloon-jams-maple-valley-with-host-billy-shew-3/
LOCATION:Red Dog Saloon\, 18605 Renton-Maple Valley Rd\, Maple Valley\, WA\, 98038
CATEGORIES:Local South Sound Blues
END:VEVENT
BEGIN:VEVENT
DTSTART;VALUE=DATE:20250829
DTEND;VALUE=DATE:20250902
DTSTAMP:20260423T111651
CREATED:20250417T005125Z
LAST-MODIFIED:20250417T005456Z
UID:14684-1756432800-1756691999@southsoundblues.org
SUMMARY:Kitsap Blues Music Festival\, Labor Day Weekend
DESCRIPTION:Kitsap Blues Music Festival\, Labor Day Weekend\, August 29-31\, 2025  kitsapblues.com\nBremerton’s Admiral Theatre Foundation and Kitsap Fair and Stampede Association proudly present the second annual Kitsap Blues Music Festival on Labor Day Weekend – Friday\, August 29 – Sunday\, August 31\, 2025 at the Kitsap Fairgrounds in Bremerton\, Washington. Enjoy a variety of incredible rhythm and blues artists over three days. BBQ\, Concessions & More. Beer & Wine Gardens. Only 21+ admitted. \n 
URL:https://southsoundblues.org/event/kitsap-blues-music-festival-labor-day-weekend-2/
LOCATION:Kitsap County Fairgrounds & Events Center\, 1200 Fairgrounds Rd NW\, Bremerton\, WA\, 98311
CATEGORIES:Festival
END:VEVENT
BEGIN:VEVENT
DTSTART;TZID=America/Los_Angeles:20250829T193000
DTEND;TZID=America/Los_Angeles:20250829T220000
DTSTAMP:20260423T111651
CREATED:20250806T220206Z
LAST-MODIFIED:20250806T220206Z
UID:15635-1756495800-1756504800@southsoundblues.org
SUMMARY:Joel Astley Band- "The Road to Memphis Show" at the Triple Door\, Seattle
DESCRIPTION:Joel Astley Band- “The Road to Memphis Show” at the Triple Door August 29th 7:30 pm\nSince forming his first band in 2014\, Joel Astley has established himself on the national Blues scene as a top frontman\, harmonica player\, singer and songwriter. His award winning four-piece band performs year-round\, tours regularly\, and appear on numerous recordings. They have amassed dozens of awards\, nominations and other accolades\, most recently sweeping the 2024 and 2025 Washington Blues Society Best of the Blues Awards. \nThe Road to Memphis: Joel Astley Band w/ Sutton and Pittman\n 
URL:https://southsoundblues.org/event/joel-astley-band-the-road-to-memphis-show-at-the-triple-door-seattle/
LOCATION:The Triple Door\, 216 Union St\,\, Seattle\, WA\, 98101
CATEGORIES:Featured,Special Event
END:VEVENT
BEGIN:VEVENT
DTSTART;TZID=America/Los_Angeles:20250829T200000
DTEND;TZID=America/Los_Angeles:20250829T230000
DTSTAMP:20260423T111651
CREATED:20250710T200156Z
LAST-MODIFIED:20250710T200156Z
UID:15385-1756497600-1756508400@southsoundblues.org
SUMMARY:Brother John & the Surrogates at Salmon Bay Eagles
DESCRIPTION:Brother John & the Surrogates at the Salmon Bay Eagles August 29th 8-11 pm\n\n  \n\n\n\n\n\nBrother John and the Surrogates is a Seattle-based music collaborative focusing on original Americana music and select cover material. The groups’ sound ranges from dreamy ballads to blues-based grooves to edgy progressive compositions. With rotating line-ups of top-notch players\, every BJS performance is unique & always designed to impress.
URL:https://southsoundblues.org/event/brother-john-the-surrogates-at-salmon-bay-eagles/
LOCATION:Salmon Bay Eagles\, 5216 20th Ave NW\, Seattle\, WA\, 98107
CATEGORIES:Featured
END:VEVENT
BEGIN:VEVENT
DTSTART;TZID=America/Los_Angeles:20250830T173000
DTEND;TZID=America/Los_Angeles:20250830T193000
DTSTAMP:20260423T111651
CREATED:20250710T213015Z
LAST-MODIFIED:20250710T213015Z
UID:15424-1756575000-1756582200@southsoundblues.org
SUMMARY:The Lonely Hearts Club - Beatles Tribute at the Evergreen State Fair
DESCRIPTION:The Lonely Hearts Club – Beatles Tribute at the  Evergreen State Fair\, Saturday August 30th\, 5:30pm to 7:30pm\n14405 179th Ave SE\nMonroe WA 98272
URL:https://southsoundblues.org/event/the-lonely-hearts-club-beatles-tribute-at-the-evergreen-state-fair/
LOCATION:Evergreen Fairgrounds\, 14405 179th Ave SE\, Monroe\, WA\, 98272
CATEGORIES:Featured
END:VEVENT
END:VCALENDAR