BEGIN:VCALENDAR
VERSION:2.0
PRODID:-//South Sound Blues Association - ECPv6.15.18//NONSGML v1.0//EN
CALSCALE:GREGORIAN
METHOD:PUBLISH
X-WR-CALNAME:South Sound Blues Association
X-ORIGINAL-URL:https://southsoundblues.org
X-WR-CALDESC:Events for South Sound Blues Association
REFRESH-INTERVAL;VALUE=DURATION:PT1H
X-Robots-Tag:noindex
X-PUBLISHED-TTL:PT1H
BEGIN:VTIMEZONE
TZID:America/Los_Angeles
BEGIN:DAYLIGHT
TZOFFSETFROM:-0800
TZOFFSETTO:-0700
TZNAME:PDT
DTSTART:20230312T100000
END:DAYLIGHT
BEGIN:STANDARD
TZOFFSETFROM:-0700
TZOFFSETTO:-0800
TZNAME:PST
DTSTART:20231105T090000
END:STANDARD
BEGIN:DAYLIGHT
TZOFFSETFROM:-0800
TZOFFSETTO:-0700
TZNAME:PDT
DTSTART:20240310T100000
END:DAYLIGHT
BEGIN:STANDARD
TZOFFSETFROM:-0700
TZOFFSETTO:-0800
TZNAME:PST
DTSTART:20241103T090000
END:STANDARD
BEGIN:DAYLIGHT
TZOFFSETFROM:-0800
TZOFFSETTO:-0700
TZNAME:PDT
DTSTART:20250309T100000
END:DAYLIGHT
BEGIN:STANDARD
TZOFFSETFROM:-0700
TZOFFSETTO:-0800
TZNAME:PST
DTSTART:20251102T090000
END:STANDARD
END:VTIMEZONE
BEGIN:VEVENT
DTSTART;TZID=America/Los_Angeles:20240708T173000
DTEND;TZID=America/Los_Angeles:20240708T220000
DTSTAMP:20260424T052056
CREATED:20240404T190254Z
LAST-MODIFIED:20240404T190254Z
UID:12514-1720459800-1720476000@southsoundblues.org
SUMMARY:Serpent Festival - celebration of the Blues at the Marymoor Amphitheatre\, Redmond
DESCRIPTION:Serpent Festival – celebration of the Blues\n\nMon July 8th 5:30pm – 10:00pm (PDT)    https://www.serpentfestival.com/\n\n\n\n\nMarymoor Amphitheatre 6046 W Lake Sammamish Parkway NE Redmond\, WA 98052  S.E.R.P.E.N.T FEST!\n\n\n\n\n\n\nThis is the inaugural S.E.R.P.E.N.T Festival\, Slash’s blues tour that accompanies the release of his latest blues album Orgy Of The Damned. \nExperience the soulful melodies and electrifying performances that define the blues\, all while contributing to a greater cause. \nJoin us for an unforgettable celebration of music and purpose at the S.E.R.P.E.N.T Festival.  https://www.serpentfestival.com/
URL:https://southsoundblues.org/event/serpent-festival-celebration-of-the-blues-at-the-marymoor-amphitheatre-redmond/
LOCATION:Marymoor Amphitheatre\, 6046 W Lake Sammamish Parkway NE\, Redmond\, WA\, 98052
CATEGORIES:Festival,Local South Sound Blues
END:VEVENT
BEGIN:VEVENT
DTSTART;TZID=America/Los_Angeles:20240707T190000
DTEND;TZID=America/Los_Angeles:20240707T230000
DTSTAMP:20260424T052056
CREATED:20240623T035033Z
LAST-MODIFIED:20240623T035033Z
UID:12914-1720378800-1720393200@southsoundblues.org
SUMMARY:Billy Shew Blues Jam\, every Sunday at Dawson’s
DESCRIPTION:Billy Shew Blues Jam\, every Sunday at Dawson’s\, 7-11 pm
URL:https://southsoundblues.org/event/billy-shew-blues-jam-every-sunday-at-dawsons-20/
LOCATION:Dawson’s Bar & Grill\, 5443 South Tacoma Way\, Tacoma\, WA\, 98409
CATEGORIES:Local South Sound Blues
END:VEVENT
BEGIN:VEVENT
DTSTART;TZID=America/Los_Angeles:20240707T190000
DTEND;TZID=America/Los_Angeles:20240707T220000
DTSTAMP:20260424T052056
CREATED:20240624T224247Z
LAST-MODIFIED:20240624T224247Z
UID:12935-1720378800-1720389600@southsoundblues.org
SUMMARY:Sunday Blues at the Spar with the Soulful 88's
DESCRIPTION:Sunday Blues at the Spar with the Soulful 88’s\, 7-10 pm
URL:https://southsoundblues.org/event/sunday-blues-at-the-spar-with-the-soulful-88s-2/
LOCATION:The Spar\, 2121 N 30th St\, Tacoma\, WA\, 98403
CATEGORIES:Local South Sound Blues
END:VEVENT
BEGIN:VEVENT
DTSTART;TZID=America/Los_Angeles:20240706T210000
DTEND;TZID=America/Los_Angeles:20240706T223000
DTSTAMP:20260424T052056
CREATED:20240702T000717Z
LAST-MODIFIED:20240702T000842Z
UID:12951-1720299600-1720305000@southsoundblues.org
SUMMARY:Mark DuFresne Band at Bake's Place Bar & Bistro\, Bellevue
DESCRIPTION:Saturday night\, July 6th\, at Bake’s Place Bar & Bistro in Bellevue 9-10:30pm it’s the mighty MARK DUFRESNE BAND.\n \nThe Grammy nominated tenor MARK DUFRESNE brings his super tight Rhythm and Blues Review to Bake’s place. A world class vocalist with a 3 octave range\, the big man will astound with his virtuoso harmonica chops as well. Bandleader Billy Stapleton plays lead and slide guitar on top of a rock solid rhythm section featuring Kelly Leifer on Fender Bass and the great Steve Peterson on drums. Great food and service\, wonderful stage and sound\, a chance to see a truly great Rhythm and Blues Show up close and personal.
URL:https://southsoundblues.org/event/mark-dufresne-band-at-bakes-place-bar-bistro-bellevue/
LOCATION:Bake’s Place\, 155 108th Ave NE Ste 110\, Bellevue\, WA\, 98004
CATEGORIES:Local South Sound Blues
END:VEVENT
BEGIN:VEVENT
DTSTART;TZID=America/Los_Angeles:20240706T200000
DTEND;TZID=America/Los_Angeles:20240706T220000
DTSTAMP:20260424T052056
CREATED:20240619T192644Z
LAST-MODIFIED:20240619T192937Z
UID:12885-1720296000-1720303200@southsoundblues.org
SUMMARY:Billy Stoops and the Dirt Angels on the Mill Town Stage\, Milton
DESCRIPTION:July 6th on the Mill Town Stage at the Mill\, Billy Stoops and the Dirt Angels\, 8-10 pm.\n \nJoin The Mill Town Stage in association with River Productions and Entertainment and the South Sound Blues Association as we welcome back Tacoma’s very own bad boy BILLY STOOPS AND THE DIRT ANGELS! Billy and company really need no introduction but if you like good old outlaw blues and rock\, look no further! They hit the MTS Saturday July 6th at 8pm. $5 cover.\n\n\n\n\n\n\n\n900 Meridian E #50\, Milton\, WA\, United States\, Washington 98354
URL:https://southsoundblues.org/event/billy-stoops-and-the-dirt-angels-on-the-mill-town-stage-milton/
LOCATION:The Mill of Milton\, 900 Meridian E. #50\, Milton\, WA\, 98354
CATEGORIES:Local South Sound Blues
END:VEVENT
BEGIN:VEVENT
DTSTART;TZID=America/Los_Angeles:20240704T190000
DTEND;TZID=America/Los_Angeles:20240704T220000
DTSTAMP:20260424T052056
CREATED:20240623T034757Z
LAST-MODIFIED:20240623T034757Z
UID:12911-1720119600-1720130400@southsoundblues.org
SUMMARY:“Billy the Pocket Jam” Thursday nights at Dawson’s
DESCRIPTION:“Billy the Pocket Jam” Thursday nights at Dawson’s\, 7-10 pm
URL:https://southsoundblues.org/event/billy-the-pocket-jam-thursday-nights-at-dawsons-35/
LOCATION:Dawson’s Bar & Grill\, 5443 South Tacoma Way\, Tacoma\, WA\, 98409
CATEGORIES:Local South Sound Blues
END:VEVENT
BEGIN:VEVENT
DTSTART;VALUE=DATE:20240704
DTEND;VALUE=DATE:20240709
DTSTAMP:20260424T052056
CREATED:20240229T002708Z
LAST-MODIFIED:20240229T002708Z
UID:12247-1720058400-1720403999@southsoundblues.org
SUMMARY:Waterfront Blues Festival in Portland\, OR
DESCRIPTION:Waterfront Blues Festival in Portland July 4-7th\, 2024  \nhttps://waterfrontbluesfest.com/
URL:https://southsoundblues.org/event/waterfront-blues-festival-in-portland-or/
LOCATION:Tom McCall Waterfront Park\, 8 SW Naito Pkwy\, Portland\, OR\, 97204
CATEGORIES:Festival
END:VEVENT
BEGIN:VEVENT
DTSTART;TZID=America/Los_Angeles:20240703T180000
DTEND;TZID=America/Los_Angeles:20240703T210000
DTSTAMP:20260424T052056
CREATED:20240623T034620Z
LAST-MODIFIED:20240623T034620Z
UID:12909-1720029600-1720040400@southsoundblues.org
SUMMARY:Billy Shew and Friends host an open Jam every Wednesday at Stockton’s
DESCRIPTION:Billy Shew and Friends host an open Jam every Wednesday at Stockton’s\, 6-9pm
URL:https://southsoundblues.org/event/billy-shew-and-friends-host-an-open-jam-every-wednesday-at-stocktons-20/
LOCATION:Stockton’s Restaurant & Spirits\, 23220 Maple Valley Black Diamond Rd SE\, Maple Valley\, WA\, 98038
CATEGORIES:Local South Sound Blues
END:VEVENT
BEGIN:VEVENT
DTSTART;TZID=America/Los_Angeles:20240702T190000
DTEND;TZID=America/Los_Angeles:20240702T220000
DTSTAMP:20260424T052056
CREATED:20240623T034343Z
LAST-MODIFIED:20240623T034343Z
UID:12907-1719946800-1719957600@southsoundblues.org
SUMMARY:Billy Shew and Friends Jam every Tuesday at the Burien Eagles
DESCRIPTION:Billy Shew and Friends Jam every Tuesday at the Burien Eagles\, 7-10 pm
URL:https://southsoundblues.org/event/billy-shew-and-friends-jam-every-tuesday-at-the-burien-eagles-23/
LOCATION:Burien Eagles\, 920 SW 150th St\, Burien\, WA\, 98166
CATEGORIES:Local South Sound Blues
END:VEVENT
BEGIN:VEVENT
DTSTART;TZID=America/Los_Angeles:20240630T190000
DTEND;TZID=America/Los_Angeles:20240630T220000
DTSTAMP:20260424T052056
CREATED:20240516T005221Z
LAST-MODIFIED:20240625T035054Z
UID:12730-1719774000-1719784800@southsoundblues.org
SUMMARY:Sunday Blues at the Spar with the Enders Brothers
DESCRIPTION:June 30th at the Spar\, Sunday Blues with The Enders Brothers\, 7pm
URL:https://southsoundblues.org/event/sunday-blues-at-the-spar-with-the-enders-brothers/
LOCATION:The Spar\, 2121 N 30th St\, Tacoma\, WA\, 98403
CATEGORIES:Local South Sound Blues
END:VEVENT
BEGIN:VEVENT
DTSTART;TZID=America/Los_Angeles:20240629T200000
DTEND;TZID=America/Los_Angeles:20240629T220000
DTSTAMP:20260424T052056
CREATED:20240419T202159Z
LAST-MODIFIED:20240419T202159Z
UID:12576-1719691200-1719698400@southsoundblues.org
SUMMARY:The Mark Dufresne band\, featuring Billy Stapleton at the Mill
DESCRIPTION:The Mark Dufresne band\, featuring Billy Stapleton at the Mill June 29th\, 8-10 pm.
URL:https://southsoundblues.org/event/the-mark-dufresne-band-featuring-billy-stapleton-at-the-mill/
LOCATION:The Mill of Milton\, 900 Meridian E. #50\, Milton\, WA\, 98354
CATEGORIES:Local South Sound Blues
END:VEVENT
BEGIN:VEVENT
DTSTART;TZID=America/Los_Angeles:20240629T200000
DTEND;TZID=America/Los_Angeles:20240629T200000
DTSTAMP:20260424T052056
CREATED:20240614T194402Z
LAST-MODIFIED:20240614T194402Z
UID:12868-1719691200-1719691200@southsoundblues.org
SUMMARY:Heather Jones & the Groove Masters at Dawson's Bar & Grill
DESCRIPTION:Heather Jones & the Groove Masters at Dawson’s Bar & Grill June 29th\, 8pm\n \n 
URL:https://southsoundblues.org/event/heather-jones-the-groove-masters-at-dawsons-bar-grill-4/
LOCATION:Dawson’s Bar & Grill\, 5443 South Tacoma Way\, Tacoma\, WA\, 98409
CATEGORIES:Local South Sound Blues
END:VEVENT
BEGIN:VEVENT
DTSTART;TZID=America/Los_Angeles:20240629T190000
DTEND;TZID=America/Los_Angeles:20240629T210000
DTSTAMP:20260424T052056
CREATED:20240516T011910Z
LAST-MODIFIED:20240516T011910Z
UID:12741-1719687600-1719694800@southsoundblues.org
SUMMARY:The Tim Hall Band at the Kimball Coffeehouse
DESCRIPTION:June 29th\, Kimball Coffeehouse\, Gig Harbor\, Tim Hall Band\, 7pm
URL:https://southsoundblues.org/event/the-tim-hall-band-at-the-kimball-coffeehouse/
LOCATION:Kimball’s Coffeehouse\, 6659 Kimball Dr\, Gig Harbor\, WA\, 98335
CATEGORIES:Local South Sound Blues
END:VEVENT
BEGIN:VEVENT
DTSTART;TZID=America/Los_Angeles:20240629T190000
DTEND;TZID=America/Los_Angeles:20240629T190000
DTSTAMP:20260424T052056
CREATED:20240311T214054Z
LAST-MODIFIED:20240311T214054Z
UID:12375-1719687600-1719687600@southsoundblues.org
SUMMARY:King Kom Beaux at Everybody's American Cookhouse & Sports Theater\, Port Orchard\, WA
DESCRIPTION:King Kom Beaux at Everybody’s American Cookhouse & Sports Theater\, 5/17\, at 7pm\n \n4215 SE Mile Hill Drive\nPort Orchard\, WA 98366 \n(360) 443-2979
URL:https://southsoundblues.org/event/king-kom-beaux-at-everybodys-american-cookhouse-sports-theater-port-orchard-wa/
LOCATION:Everybody’s American Cookhouse & Sports Theater\, 4215 SE Mile Hill Drive\, Port Orchard\, WA\, 98366
CATEGORIES:Local South Sound Blues
END:VEVENT
BEGIN:VEVENT
DTSTART;TZID=America/Los_Angeles:20240628T213000
DTEND;TZID=America/Los_Angeles:20240628T230000
DTSTAMP:20260424T052056
CREATED:20240516T011641Z
LAST-MODIFIED:20240516T011641Z
UID:12739-1719610200-1719615600@southsoundblues.org
SUMMARY:Billy Stapleton's POWERHOUSE at Bake's Place\, Bellevue
DESCRIPTION:June 28th at Bake’s Place\, Bellevue\, Billy Stapleton’s POWERHOUSE\, 9:30 -11pm
URL:https://southsoundblues.org/event/billy-stapletons-powerhouse-at-bakes-place-bellevue-2/
LOCATION:Bake’s Place\, 155 108th Ave NE Ste 110\, Bellevue\, WA\, 98004
CATEGORIES:Local South Sound Blues
END:VEVENT
BEGIN:VEVENT
DTSTART;TZID=America/Los_Angeles:20240627T200000
DTEND;TZID=America/Los_Angeles:20240627T200000
DTSTAMP:20260424T052056
CREATED:20240402T003006Z
LAST-MODIFIED:20240402T003006Z
UID:12507-1719518400-1719518400@southsoundblues.org
SUMMARY:Roy Rogers & The Delta Rhythm Kings at the Spanish Ballroom
DESCRIPTION:Roy Rogers & The Delta Rhythm Kings at the Spanish Ballroom June 27th\, 7 pm doors\, 8 pm show.\n \nRoy Rogers is considered one of the world’s preeminent master Delta slide guitarists. With over 20 recordings to his credit\, Rogers has garnered 8 Grammy nominations for producing\, as a recording artist\, and as a songwriter. \n$27 advance GA Seated\, $32 day of show GA Seated\, $25 advance GA Standing\, $28 day of show GA Standing\, $30 advance 21+ Mezzanine\, $35 day of show 21+ Mezzanine. All ages welcome!
URL:https://southsoundblues.org/event/roy-rogers-the-delta-rhythm-kings-at-the-spanish-ballroom/
LOCATION:McMenaminsTacoma Elks\, 565 Broadway\, Tacoma\, WA\, 98402
CATEGORIES:Local South Sound Blues,Special Event
END:VEVENT
BEGIN:VEVENT
DTSTART;TZID=America/Los_Angeles:20240627T190000
DTEND;TZID=America/Los_Angeles:20240627T210000
DTSTAMP:20260424T052056
CREATED:20240602T024226Z
LAST-MODIFIED:20240602T024226Z
UID:12825-1719514800-1719522000@southsoundblues.org
SUMMARY:Garage Mahal At APIZZA\, Little Italy\, Tacoma
DESCRIPTION:Thurs. June 27th – Garage Mahal (acoustic rock) at APIZZA\, Little Italy\, Tacoma\,  7-9 PM
URL:https://southsoundblues.org/event/garage-mahal-at-apizza-little-italy-tacoma/
LOCATION:APIZZA\, 821 Pacific Ave\, Tacoma\, WA\, 98402
CATEGORIES:Featured
END:VEVENT
BEGIN:VEVENT
DTSTART;TZID=America/Los_Angeles:20240627T190000
DTEND;TZID=America/Los_Angeles:20240627T190000
DTSTAMP:20260424T052056
CREATED:20240515T052623Z
LAST-MODIFIED:20240515T052623Z
UID:12715-1719514800-1719514800@southsoundblues.org
SUMMARY:Ben Rice & The PDX Hustle at the Slippery Pig
DESCRIPTION:Ben Rice & The PDX Hustle at the Slippery Pig June 27th\, 7pm\n 
URL:https://southsoundblues.org/event/ben-rice-the-pdx-hustle-at-the-slippery-pig/
LOCATION:Slippery Pig Brewery\, 18801 Front St NE\, Poulsbo\, WA\, 98370
CATEGORIES:Local South Sound Blues
END:VEVENT
BEGIN:VEVENT
DTSTART;TZID=America/Los_Angeles:20240626T190000
DTEND;TZID=America/Los_Angeles:20240626T230000
DTSTAMP:20260424T052056
CREATED:20240602T023035Z
LAST-MODIFIED:20240602T023035Z
UID:12817-1719428400-1719442800@southsoundblues.org
SUMMARY:Jerry Miller at the Golden West on South Tacoma Way Wednesdays
DESCRIPTION:Jerry Miller at the Golden West on South Tacoma Way Wednesdays\,  7 -11pm
URL:https://southsoundblues.org/event/jerry-miller-at-the-golden-west-on-south-tacoma-way-wednesdays/
LOCATION:Art’s Golden West\, 5228 So. Tacoma Way\, Tacoma\, WA\, 98409
CATEGORIES:Local South Sound Blues
END:VEVENT
BEGIN:VEVENT
DTSTART;TZID=America/Los_Angeles:20240626T180000
DTEND;TZID=America/Los_Angeles:20240626T210000
DTSTAMP:20260424T052056
CREATED:20240516T012044Z
LAST-MODIFIED:20240516T012044Z
UID:12743-1719424800-1719435600@southsoundblues.org
SUMMARY:Ben Rice at the Spar
DESCRIPTION:June 26th at The Spar\, Tacoma\, Ben Rice\, 6pm
URL:https://southsoundblues.org/event/ben-rice-at-the-spar/
LOCATION:The Spar\, 2121 N 30th St\, Tacoma\, WA\, 98403
CATEGORIES:Local South Sound Blues
END:VEVENT
BEGIN:VEVENT
DTSTART;TZID=America/Los_Angeles:20240625T190000
DTEND;TZID=America/Los_Angeles:20240625T210000
DTSTAMP:20260424T052056
CREATED:20240625T033613Z
LAST-MODIFIED:20240625T033613Z
UID:12937-1719342000-1719349200@southsoundblues.org
SUMMARY:WBS Blues Bash with Michele D'Amour & The Love Dealers at CCR\, Snohomish
DESCRIPTION:Washington Blues Society Blues Bash with Michele D’Amour & The Love Dealers at CCR in Snohomish\, June 25th 7-9pm\n\nFeaturing a night dancing and mayhem from Michele D’Amour and the Love Dealers.\nAward winning songwriter\, Michele brings her high energy 5pc band to CCR for a night Rockin’ Blues\, Jumpin’ Swing\, Sizzling Funk and Soul \nCCR Lounge\, 215 Cypress Ave\, Snohomish\, WA 98290
URL:https://southsoundblues.org/event/wbs-blues-bash-with-michele-damour-the-love-dealers-at-ccr-snohomish/
LOCATION:CCR Sports & Entertainment\, 215 Cypress Ave\, Snohomish\, WA\, 98290
CATEGORIES:Featured
END:VEVENT
BEGIN:VEVENT
DTSTART;TZID=America/Los_Angeles:20240625T190000
DTEND;TZID=America/Los_Angeles:20240625T210000
DTSTAMP:20260424T052056
CREATED:20240424T193343Z
LAST-MODIFIED:20240424T193343Z
UID:12602-1719342000-1719349200@southsoundblues.org
SUMMARY:'Tuesday Blues Showcase' featuring Linda Carroll and Retro-Gruve at Purdy's Public House & Arcade
DESCRIPTION:‘Tuesday Blues Showcase’ featuring Linda Carroll and Retro-Gruve at Purdy’s Public House & Arcade June 25th\, 7-9 pm.\n Linda Carroll \n 
URL:https://southsoundblues.org/event/tuesday-blues-showcase-featuring-linda-carroll-and-retro-gruve-at-purdys-public-house-arcade/
LOCATION:Purdy’s Public House & Arcade\, Sumner\, 16202 64th St E\, Sumner\, WA\, 98390
CATEGORIES:Local South Sound Blues
END:VEVENT
BEGIN:VEVENT
DTSTART;TZID=America/Los_Angeles:20240623T190000
DTEND;TZID=America/Los_Angeles:20240623T220000
DTSTAMP:20260424T052056
CREATED:20240516T004742Z
LAST-MODIFIED:20240516T004742Z
UID:12728-1719169200-1719180000@southsoundblues.org
SUMMARY:Sunday Blues at the Spar with Red House
DESCRIPTION:June 23rd\, Sunday Blues at The Spar with Red House\, 7-10 pm
URL:https://southsoundblues.org/event/sunday-blues-at-the-spar-with-red-house-3/
LOCATION:The Spar\, 2121 N 30th St\, Tacoma\, WA\, 98403
CATEGORIES:Local South Sound Blues
END:VEVENT
BEGIN:VEVENT
DTSTART;TZID=America/Los_Angeles:20240623T180000
DTEND;TZID=America/Los_Angeles:20240623T180000
DTSTAMP:20260424T052056
CREATED:20240505T004927Z
LAST-MODIFIED:20240505T004927Z
UID:12674-1719165600-1719165600@southsoundblues.org
SUMMARY:Mid-Nite Bourbon with Billy Stoops & The Dirt Angels at the Spanish Ballroom
DESCRIPTION:Mid-Nite Bourbon with Billy Stoops & The Dirt Angels at the Spanish Ballroom June 23rd. Sunday time TBD.\n 
URL:https://southsoundblues.org/event/mid-nite-bourbon-with-billy-stoops-the-dirt-angels-at-the-spanish-ballroom/
LOCATION:McMenaminsTacoma Elks\, 565 Broadway\, Tacoma\, WA\, 98402
CATEGORIES:Local South Sound Blues
END:VEVENT
BEGIN:VEVENT
DTSTART;VALUE=DATE:20240622
DTEND;VALUE=DATE:20240625
DTSTAMP:20260424T052056
CREATED:20240228T192101Z
LAST-MODIFIED:20240530T204532Z
UID:12234-1719021600-1719194399@southsoundblues.org
SUMMARY:Rhubarb Days in downtown Sumner\, two days\, three stages of music
DESCRIPTION:Rhubarb Days in downtown Sumner. June 22-23rd\, 10-5pm-Saturday\, and 10-4pm-Sunday.\nMain Stage \nSaturday \n12:00-12:45 – Champagne Sunday \n1:15-2pm – The Spinoffs \n2:30-3:15 – Cory Wilds Band \n3:45- 5pm -Townies \nSunday \n12:00-1pm – Kage Dallas \n1:30- 2:30pm – Fabulous Murphtones \n3:00-4pm – Amelia Day and The Cloves \nArtist Stage  \nSaturday \n12:45-1:45- Gina Belliveau \n2:00pm-3pm- Andy Shofner \n3:30pm-4:30pm- Kristen Marlo \nSunday \n11:00am-12:00- Kirk Lindsey \n1:00pm-2:00pm- Rob Tudor \n3:00pm-4:00pm- Stephanie Anderson \nFood Court Stage \nJim Meck: \nSaturday June 22- 11am- 4:30pm \nSunday June 23- 11am- 3:30pm \nhttps://www.sumnermainstreet.com/events/rhubarb-days-2024/ \nFeatures several music stages\, food and fun for the whole family in the beautiful town of Sumner\, WA.
URL:https://southsoundblues.org/event/rhubarb-days-festival-in-downtown-sumner/
LOCATION:Sumner Rhubarb festival\, 923 Kincaide Ave\, Sumner\, WA\, 98390
CATEGORIES:Festival
END:VEVENT
BEGIN:VEVENT
DTSTART;TZID=America/Los_Angeles:20240621T210000
DTEND;TZID=America/Los_Angeles:20240621T233000
DTSTAMP:20260424T052058
CREATED:20240617T003716Z
LAST-MODIFIED:20240617T003716Z
UID:12876-1719003600-1719012600@southsoundblues.org
SUMMARY:Mr. Billy Ray Charles and 'The Boyz in The Tarking Lot'\, at Tacoma Elk's Lodge #142
DESCRIPTION:Exciting news Southern Soul Blues lovers!!!! Mr. Billy Ray Charles and The Boyz in the parking lot are coming to town!!!!If you know the Las Vegas blues scenes\, then you know Mr. Billy Ray and the boyz!Come see them this Friday June 21st 9pm & Sunday June 22nd 4pm\nhttps://sites.google.com/…/loveforcei…/billy-ray-charles\nElk’s Lodge #1422114 Tacoma AveTacoma\, WA 98402
URL:https://southsoundblues.org/event/mr-billy-ray-charles-and-the-boyz-in-the-tarking-lot-at-tacoma-elks-lodge-142/
LOCATION:Tacoma Elks Lodge #142\, 2114 Tacoma Ave\, Tacoma\, WA\, 98402
CATEGORIES:Local South Sound Blues
END:VEVENT
BEGIN:VEVENT
DTSTART;TZID=America/Los_Angeles:20240621T193000
DTEND;TZID=America/Los_Angeles:20240621T193000
DTSTAMP:20260424T052058
CREATED:20240516T011248Z
LAST-MODIFIED:20240516T011248Z
UID:12737-1718998200-1718998200@southsoundblues.org
SUMMARY:LTD Presents: Rick Estrin & The Nightcats at the Palindrome Port Townsend Event Center
DESCRIPTION:June 21st at the Palindrome Port Townsend Event Center\, Port Townsend\, LTD Presents: Rick Estrin & The Nightcats 7:30pm\n 
URL:https://southsoundblues.org/event/ltd-presents-rick-estrin-the-nightcats-at-the-palindrome-port-townsend-event-center/
LOCATION:Palindrome Port Townsend Event Center\, 1893 S Jacob Miller Rd\, Port Townsend\, WA\, 98368
CATEGORIES:Local South Sound Blues,Special Event
END:VEVENT
BEGIN:VEVENT
DTSTART;VALUE=DATE:20240621
DTEND;VALUE=DATE:20240624
DTSTAMP:20260424T052058
CREATED:20240229T002352Z
LAST-MODIFIED:20240229T002352Z
UID:12245-1718935200-1719107999@southsoundblues.org
SUMMARY:Gorge Blues and Brews Festival\, Stevenson WA
DESCRIPTION:Gorge Blues and Brews\, June 21st and 22nd\, 2024\, Skamania County Fairgrounds\, Stevenson\, WA\nhttps://www.eventbrite.com/e/29th-annual-gorge-blues-and-brews-festival-tickets-269165229447
URL:https://southsoundblues.org/event/gorge-blues-and-brews-festival-stevenson-wa/
LOCATION:Skamania County Fairgrounds\, 710 SW Rock Creek Dr\, Stevenson\, WA\, 98648
CATEGORIES:Festival
END:VEVENT
BEGIN:VEVENT
DTSTART;TZID=America/Los_Angeles:20240620T190000
DTEND;TZID=America/Los_Angeles:20240620T220000
DTSTAMP:20260424T052058
CREATED:20240428T200625Z
LAST-MODIFIED:20240428T200625Z
UID:12616-1718910000-1718920800@southsoundblues.org
SUMMARY:LTD presents Rick Estrin & The Nightcat's at West of the Waterway
DESCRIPTION:LTD presents Rick Estrin & The Nightcat’s at West of the Waterway June 20th\, 7:30 pm.\n 
URL:https://southsoundblues.org/event/ltd-presents-rick-estrin-the-nightcats-at-west-of-the-waterway/
LOCATION:Dock Street Deli West of the Waterway\, 1901 Dock Street\, Tacoma\, WA\, 98402
CATEGORIES:Local South Sound Blues
END:VEVENT
BEGIN:VEVENT
DTSTART;TZID=America/Los_Angeles:20240619T190000
DTEND;TZID=America/Los_Angeles:20240619T220000
DTSTAMP:20260424T052058
CREATED:20240612T025733Z
LAST-MODIFIED:20240612T025733Z
UID:12856-1718823600-1718834400@southsoundblues.org
SUMMARY:LTD Presents: Blues Harmonica Summit at the Spar
DESCRIPTION:Blues Harmonica Summit\, WEDNESDAY\, JUNE 19th at The Spar\, 7-10 pm\nLTD Presents: The Tacoma Blues Harmonica Summit with Rick Estrin\, Kim Field\, Steve Bailey\, and Joel Astley.\nLegendary harmonica master RICK ESTRIN tops the bill at this blues harp extravaganza\, which also features Pacific Northwest faves KIM FIELD\, STEVE BAILEY\, JOEL ASTLEY and other special guests! A very special line-up never before seen on one stage.\n\n\nThis event is presented free of charge by LTD Presents LIVE and The Spar Tavern. 7-10pm
URL:https://southsoundblues.org/event/ltd-presents-blues-harmonica-summit-at-the-spar/
LOCATION:The Spar\, 2121 N 30th St\, Tacoma\, WA\, 98403
CATEGORIES:Local South Sound Blues
END:VEVENT
END:VCALENDAR