BEGIN:VCALENDAR
VERSION:2.0
PRODID:-//South Sound Blues Association - ECPv6.15.18//NONSGML v1.0//EN
CALSCALE:GREGORIAN
METHOD:PUBLISH
X-ORIGINAL-URL:https://southsoundblues.org
X-WR-CALDESC:Events for South Sound Blues Association
REFRESH-INTERVAL;VALUE=DURATION:PT1H
X-Robots-Tag:noindex
X-PUBLISHED-TTL:PT1H
BEGIN:VTIMEZONE
TZID:America/Los_Angeles
BEGIN:DAYLIGHT
TZOFFSETFROM:-0800
TZOFFSETTO:-0700
TZNAME:PDT
DTSTART:20220313T100000
END:DAYLIGHT
BEGIN:STANDARD
TZOFFSETFROM:-0700
TZOFFSETTO:-0800
TZNAME:PST
DTSTART:20221106T090000
END:STANDARD
BEGIN:DAYLIGHT
TZOFFSETFROM:-0800
TZOFFSETTO:-0700
TZNAME:PDT
DTSTART:20230312T100000
END:DAYLIGHT
BEGIN:STANDARD
TZOFFSETFROM:-0700
TZOFFSETTO:-0800
TZNAME:PST
DTSTART:20231105T090000
END:STANDARD
BEGIN:DAYLIGHT
TZOFFSETFROM:-0800
TZOFFSETTO:-0700
TZNAME:PDT
DTSTART:20240310T100000
END:DAYLIGHT
BEGIN:STANDARD
TZOFFSETFROM:-0700
TZOFFSETTO:-0800
TZNAME:PST
DTSTART:20241103T090000
END:STANDARD
END:VTIMEZONE
BEGIN:VEVENT
DTSTART;TZID=America/Los_Angeles:20230627T190000
DTEND;TZID=America/Los_Angeles:20230627T190000
DTSTAMP:20260425T045221
CREATED:20230531T214454Z
LAST-MODIFIED:20230531T214639Z
UID:10598-1687892400-1687892400@southsoundblues.org
SUMMARY:Mark Hurwitz & Gin Creek at the Washington Blues Society Blues Bash
DESCRIPTION:Mark Hurwitz & Gin Creek and Acoustic Avenue at the WBS Blues Bash June 27th\, Collectors Choice Restaurant\n 215 Cypress Ave\, Snohomish\, WA 98290\, 7-9:30 pm\, no cover\, 21+ 
URL:https://southsoundblues.org/event/mark-hurwitz-gin-creek-at-the-washington-blues-society-blues-bash/
LOCATION:Collectors Choice Restaurant\, 215 Cypress Ave\, Snohomish\, WA\, 98290
CATEGORIES:Featured
END:VEVENT
BEGIN:VEVENT
DTSTART;TZID=America/Los_Angeles:20230627T190000
DTEND;TZID=America/Los_Angeles:20230627T210000
DTSTAMP:20260425T045221
CREATED:20230409T192213Z
LAST-MODIFIED:20230409T192746Z
UID:10132-1687892400-1687899600@southsoundblues.org
SUMMARY:Purdy's "Tuesday Blues Showcase" with Eric's Main Connection at Purdy's Public House & Arcade\, Sumner
DESCRIPTION:June 27th\, Purdy’s “Tuesday Blues Showcase” with Eric’s Main Connection at Purdy’s Public House & Arcade\, 7-9 pm
URL:https://southsoundblues.org/event/purdys-tuesday-blues-showcase-with-erics-main-connection/
LOCATION:Purdy’s Public House & Arcade\, Sumner\, 16202 64th St E\, Sumner\, WA\, 98390
CATEGORIES:Local South Sound Blues
END:VEVENT
BEGIN:VEVENT
DTSTART;TZID=America/Los_Angeles:20230628T080000
DTEND;TZID=America/Los_Angeles:20230628T170000
DTSTAMP:20260425T045221
CREATED:20230628T190356Z
LAST-MODIFIED:20230628T190356Z
UID:10728-1687939200-1687971600@southsoundblues.org
SUMMARY:Michele D'Amour & The Love Dealers at Austin-Kvelstad Pavilion\, Poulsbo
DESCRIPTION:Michele D’Amour & The Love Dealers\, Tuesday\, July 18 – Poulsbo Summer Nights\, 6:30 – 8:30 p.m. \n \nLiberty Bay Waterfront Park \n18809 Anderson Parkway\, Poulsbo\, WA (Austin-Kvelstad Pavilion)
URL:https://southsoundblues.org/event/michele-damour-the-love-dealers-at-austin-kvelstad-pavilion-poulsbo/
LOCATION:Liberty Bay Waterfront Park\, 18809 Anderson Parkway\, Poulsbo\, WA\, 98370
END:VEVENT
BEGIN:VEVENT
DTSTART;TZID=America/Los_Angeles:20230628T180000
DTEND;TZID=America/Los_Angeles:20230628T200000
DTSTAMP:20260425T045221
CREATED:20230619T213805Z
LAST-MODIFIED:20230619T215726Z
UID:10655-1687975200-1687982400@southsoundblues.org
SUMMARY:The Spin-Offs at 'Concerts on the Pier\, Port Angeles
DESCRIPTION:June 28th\, 6-8 pm Concerts on the Pier\, City Pier Stage\, 315 N. Lincoln St.\, Port Angeles\, WA\n \n98362 \nPhone: 360-457-0411\nEmail Us\nMore contact info >
URL:https://southsoundblues.org/event/the-spin-offs-at-concerts-on-the-pier-port-angeles/
LOCATION:Port Angeles City Pier Stage\, 315 N. Lincoln St.\, Port Angeles\, WA\, 98362
CATEGORIES:Featured
END:VEVENT
BEGIN:VEVENT
DTSTART;TZID=America/Los_Angeles:20230628T190000
DTEND;TZID=America/Los_Angeles:20230628T220000
DTSTAMP:20260425T045221
CREATED:20230628T221722Z
LAST-MODIFIED:20230628T221722Z
UID:10760-1687978800-1687989600@southsoundblues.org
SUMMARY:Wednesday Night Jams at Des Moines Public House
DESCRIPTION:Wednesday Night Jams at Des Moines Public House\, 7-10 pm\, Rotating hosts
URL:https://southsoundblues.org/event/wednesday-night-jams-at-des-moines-public-house-2/
LOCATION:Des Moines Public House\, 22315 Marine View Dr S\, Des Moines\, WA\, 98198
CATEGORIES:Local South Sound Blues
END:VEVENT
BEGIN:VEVENT
DTSTART;TZID=America/Los_Angeles:20230628T200000
DTEND;TZID=America/Los_Angeles:20230628T233000
DTSTAMP:20260425T045221
CREATED:20230525T000834Z
LAST-MODIFIED:20230525T000834Z
UID:10463-1687982400-1687995000@southsoundblues.org
SUMMARY:Wednesdays ‘Jam Night’ with rotating hosts\, at the Des Moines Public House
DESCRIPTION:Wednesdays ‘Jam Night’ with rotating hosts\, at the Des Moines Public House\, 8-midnight\n22315 Marine View Dr S\, Des Moines\, WA 98198
URL:https://southsoundblues.org/event/wednesdays-jam-night-with-rotating-hosts-at-the-des-moines-public-house/
LOCATION:Des Moines Public House\, 22315 Marine View Dr S\, Des Moines\, WA\, 98198
CATEGORIES:Local South Sound Blues
END:VEVENT
BEGIN:VEVENT
DTSTART;TZID=America/Los_Angeles:20230629T190000
DTEND;TZID=America/Los_Angeles:20230629T220000
DTSTAMP:20260425T045221
CREATED:20230525T002314Z
LAST-MODIFIED:20230525T002314Z
UID:10475-1688065200-1688076000@southsoundblues.org
SUMMARY:“Billy the Pocket Jam” Thursday nights at Dawson’s
DESCRIPTION:“Billy the Pocket Jam” Thursday nights at Dawson’s\, 7-10 pm
URL:https://southsoundblues.org/event/billy-the-pocket-jam-thursday-nights-at-dawsons-17/
LOCATION:Dawson’s Bar & Grill\, 5443 South Tacoma Way\, Tacoma\, WA\, 98409
CATEGORIES:Local South Sound Blues
END:VEVENT
BEGIN:VEVENT
DTSTART;TZID=America/Los_Angeles:20230629T200000
DTEND;TZID=America/Los_Angeles:20230629T200000
DTSTAMP:20260425T045221
CREATED:20230628T210645Z
LAST-MODIFIED:20230628T211743Z
UID:10751-1688068800-1688068800@southsoundblues.org
SUMMARY:Red House at the Salmon Bay Eagles
DESCRIPTION:Thursday June 29th\, Salmon Bay Eagles – Red House at 8pm\n \n 
URL:https://southsoundblues.org/event/red-house-at-the-salmon-bay-eagles/
LOCATION:Salmon Bay Eagles\, 5216 20th Ave NW\, Seattle\, WA\, 98107
CATEGORIES:Local South Sound Blues
END:VEVENT
BEGIN:VEVENT
DTSTART;TZID=America/Los_Angeles:20230630T170000
DTEND;TZID=America/Los_Angeles:20230630T200000
DTSTAMP:20260425T045221
CREATED:20230628T202825Z
LAST-MODIFIED:20230628T202825Z
UID:10747-1688144400-1688155200@southsoundblues.org
SUMMARY:CD Woodbury Trio at Marrowstone Vinyards\, Nordland
DESCRIPTION:CD Woodbury Trio at Marrowstone Vinyards June 30th\, 5pm\n\nMarrowstone Vinyards\, 423 Meade Rd\, Nordland\, WA 98358
URL:https://southsoundblues.org/event/cd-woodbury-trio-at-marrowstone-vinyards-nordland/
LOCATION:Marrowstone vinyards\, 423 Meade Rd\, Nordland\, WA\, 98358
CATEGORIES:Featured
END:VEVENT
BEGIN:VEVENT
DTSTART;TZID=America/Los_Angeles:20230630T200000
DTEND;TZID=America/Los_Angeles:20230630T230000
DTSTAMP:20260425T045221
CREATED:20230701T002031Z
LAST-MODIFIED:20230701T002138Z
UID:10797-1688155200-1688166000@southsoundblues.org
SUMMARY:Red House at Doc's Riverside Taphouse\, Snohomish
DESCRIPTION:Red House @ Doc’s Riverside Taphouse\, 8-11 pm
URL:https://southsoundblues.org/event/red-house-at-docs-riverside-taphouse-snohomish/
LOCATION:Doc’s Riverside Taphouse\, 1423 S Machias Rd\, Snohomish\,\, WA\, 98290
CATEGORIES:Featured
END:VEVENT
BEGIN:VEVENT
DTSTART;TZID=America/Los_Angeles:20230630T213000
DTEND;TZID=America/Los_Angeles:20230630T213000
DTSTAMP:20260425T045221
CREATED:20230421T063433Z
LAST-MODIFIED:20230421T063433Z
UID:10222-1688160600-1688160600@southsoundblues.org
SUMMARY:Billy Stapleton's POWERHOUSE at Bake's Place Bistro
DESCRIPTION:Fri\, Jun 30th. Bake’s Place Bistro\, Bellevue: Billy Stapleton’s POWERHOUSE Band 9:30pm
URL:https://southsoundblues.org/event/billy-stapletons-powerhouse-at-bakes-place-bistro/
LOCATION:Bake’s Place\, 155 108th Ave NE Ste 110\, Bellevue\, WA\, 98004
CATEGORIES:Featured
END:VEVENT
BEGIN:VEVENT
DTSTART;TZID=America/Los_Angeles:20230701T190000
DTEND;TZID=America/Los_Angeles:20230701T190000
DTSTAMP:20260425T045221
CREATED:20230531T210052Z
LAST-MODIFIED:20230531T210052Z
UID:10589-1688238000-1688238000@southsoundblues.org
SUMMARY:Los Orchids at the Spar
DESCRIPTION:Saturday July 1st – Los Orchids at the Spar\, 7pm
URL:https://southsoundblues.org/event/los-orchids-at-the-spar-2/
LOCATION:The Spar\, 2121 N 30th St\, Tacoma\, WA\, 98403
CATEGORIES:Featured
END:VEVENT
BEGIN:VEVENT
DTSTART;TZID=America/Los_Angeles:20230701T193000
DTEND;TZID=America/Los_Angeles:20230701T193000
DTSTAMP:20260425T045221
CREATED:20230421T063949Z
LAST-MODIFIED:20230421T063949Z
UID:10224-1688239800-1688239800@southsoundblues.org
SUMMARY:Mark DuFresne Band at the Rockfish Grill & Anacortes Brewery
DESCRIPTION:Sat\, Jul 1st. Rockfish Grill & Anacortes Brewery\, Anacortes: Mark DuFresne Band feat. Billy Stapleton 7:30pm
URL:https://southsoundblues.org/event/mark-dufresne-band-at-the-rockfish-grill-anacortes-brewery/
LOCATION:Rockfish Grill & Brewery\, 320 Commercial Ave\, Anacortes\, WA\, 98221
CATEGORIES:Featured
END:VEVENT
BEGIN:VEVENT
DTSTART;TZID=America/Los_Angeles:20230701T200000
DTEND;TZID=America/Los_Angeles:20230701T230000
DTSTAMP:20260425T045221
CREATED:20230411T002259Z
LAST-MODIFIED:20230411T002259Z
UID:10149-1688241600-1688252400@southsoundblues.org
SUMMARY:King Kom Beaux at Siren’s Waterfront Gastropub\, Port Townsend\, WA
DESCRIPTION:King Kom Beaux at Siren’s Waterfront Gastropub\, July 1st\, Port Townsend\, WA 8-11 pm
URL:https://southsoundblues.org/event/king-kom-beaux-at-sirens-waterfront-gastropub-port-townsend-wa-3/
LOCATION:Siren’s Waterfront Gastropub\, 823 Water St.\, Port Townsend\, WA\, 98368
CATEGORIES:Local South Sound Blues
END:VEVENT
BEGIN:VEVENT
DTSTART;TZID=America/Los_Angeles:20230701T210000
DTEND;TZID=America/Los_Angeles:20230701T233000
DTSTAMP:20260425T045221
CREATED:20230424T210907Z
LAST-MODIFIED:20230628T203032Z
UID:10292-1688245200-1688254200@southsoundblues.org
SUMMARY:CD Woodbury Trio at Dawson's
DESCRIPTION:CD Woodbury Trio at Dawson’s Bar & Grill July 1st\, 9pm\n \n 
URL:https://southsoundblues.org/event/cd-woodbury-at-dawsons/
LOCATION:Dawson’s Bar & Grill\, 5443 South Tacoma Way\, Tacoma\, WA\, 98409
CATEGORIES:Local South Sound Blues
END:VEVENT
BEGIN:VEVENT
DTSTART;TZID=America/Los_Angeles:20230702T190000
DTEND;TZID=America/Los_Angeles:20230702T220000
DTSTAMP:20260425T045221
CREATED:20230531T194925Z
LAST-MODIFIED:20230531T194925Z
UID:10551-1688324400-1688335200@southsoundblues.org
SUMMARY:Sunday Blues at the Spar with 'All Funk 'n Games'
DESCRIPTION:Sunday July 2nd – All Funk ‘n Games at The Spar\, 7pm
URL:https://southsoundblues.org/event/sunday-blues-at-the-spar-with-all-funk-n-games/
LOCATION:The Spar\, 2121 N 30th St\, Tacoma\, WA\, 98403
CATEGORIES:Local South Sound Blues
END:VEVENT
BEGIN:VEVENT
DTSTART;TZID=America/Los_Angeles:20230702T190000
DTEND;TZID=America/Los_Angeles:20230702T230000
DTSTAMP:20260425T045221
CREATED:20230528T193252Z
LAST-MODIFIED:20230528T193252Z
UID:10495-1688324400-1688338800@southsoundblues.org
SUMMARY:Billy Shew Blues Jam\, every Sunday at Dawson’s
DESCRIPTION:Billy Shew Blues Jam\, every Sunday at Dawson’s\, 7-11 pm
URL:https://southsoundblues.org/event/billy-shew-blues-jam-every-sunday-at-dawsons-4/
LOCATION:Dawson’s Bar & Grill\, 5443 South Tacoma Way\, Tacoma\, WA\, 98409
CATEGORIES:Local South Sound Blues
END:VEVENT
BEGIN:VEVENT
DTSTART;TZID=America/Los_Angeles:20230703T180000
DTEND;TZID=America/Los_Angeles:20230703T210000
DTSTAMP:20260425T045221
CREATED:20230528T193703Z
LAST-MODIFIED:20230528T193703Z
UID:10497-1688407200-1688418000@southsoundblues.org
SUMMARY:“Muddy Monday Blues Jam” every Monday at Chi-Town\, Tacoma
DESCRIPTION:“Muddy Monday Blues Jam” every Monday at Chi-Town\, Tacoma\, 6pm\n  \n 
URL:https://southsoundblues.org/event/muddy-monday-blues-jam-every-monday-at-chi-town-tacoma-3/
LOCATION:Chitown Pizza\, 15619 Pacific Ave S\, Tacoma\, WA\, 98444
CATEGORIES:Local South Sound Blues
END:VEVENT
BEGIN:VEVENT
DTSTART;TZID=America/Los_Angeles:20230704T190000
DTEND;TZID=America/Los_Angeles:20230704T220000
DTSTAMP:20260425T045221
CREATED:20230528T195219Z
LAST-MODIFIED:20230528T195219Z
UID:10508-1688497200-1688508000@southsoundblues.org
SUMMARY:Tuesday Jam at Purdy’s with Jerry Miller\, Kim Workman\, and Glenn Hummel
DESCRIPTION:Tuesday Jam at Purdy’s with Jerry Miller\, Kim Workman\, and Glenn Hummel\, 7-10 pm
URL:https://southsoundblues.org/event/tuesday-jam-at-purdys-with-jerry-miller-kim-workman-and-glenn-hummel/
LOCATION:Purdy’s Public House & Arcade\, Sumner\, 16202 64th St E\, Sumner\, WA\, 98390
CATEGORIES:Local South Sound Blues
END:VEVENT
BEGIN:VEVENT
DTSTART;TZID=America/Los_Angeles:20230705T180000
DTEND;TZID=America/Los_Angeles:20230705T180000
DTSTAMP:20260425T045221
CREATED:20230531T205808Z
LAST-MODIFIED:20230531T205904Z
UID:10586-1688580000-1688580000@southsoundblues.org
SUMMARY:Solo (John Hanford of The Silver-Tongued Devils) at the Spar
DESCRIPTION:Wednesday July 5th – Solo (John Hanford of The Silver-Tongued Devils) at the Spar 6pm
URL:https://southsoundblues.org/event/solar-john-hanford-of-the-silver-tongued-devils-at-the-spar/
LOCATION:The Spar\, 2121 N 30th St\, Tacoma\, WA\, 98403
CATEGORIES:Featured
END:VEVENT
BEGIN:VEVENT
DTSTART;TZID=America/Los_Angeles:20230705T180000
DTEND;TZID=America/Los_Angeles:20230705T180000
DTSTAMP:20260425T045221
CREATED:20230628T230758Z
LAST-MODIFIED:20230628T230758Z
UID:10762-1688580000-1688580000@southsoundblues.org
SUMMARY:CD Woodbury Trio\, Concerts on the Pier\, Port Angeles
DESCRIPTION:CD Woodbury Trio\, Concerts on the Pier\, July 5th\, 6pm\, Port Angeles\, WA\n \nLocation:  Port Angeles City Pier Stage (315 N. Lincoln St.)\nRain Out Location: Gateway Transit Location.\nPlease call 360-457-5411 with questions or for more information.\n  \n 
URL:https://southsoundblues.org/event/cd-woodbury-trio-concerts-on-the-pier-port-angeles/
LOCATION:Port Angeles City Pier Stage\, 315 N. Lincoln St.\, Port Angeles\, WA\, 98362
END:VEVENT
BEGIN:VEVENT
DTSTART;TZID=America/Los_Angeles:20230705T183000
DTEND;TZID=America/Los_Angeles:20230705T183000
DTSTAMP:20260425T045221
CREATED:20230627T214923Z
LAST-MODIFIED:20230627T214923Z
UID:10711-1688581800-1688581800@southsoundblues.org
SUMMARY:Billy Stoops and the Dirt Angels at Old Town Park\, Tacoma Summer Concert Series kick-off
DESCRIPTION:Billy Stoops and the Dirt Angels at Old Town Park\, Tacoma\, Summer Concert Series kick-off July 5th at 6:30 pm\nOld town Summer Concert Series  \n\n\n\n\n\n\n\n\nOld Town Park\n\n\n\n\n\n\n\n\n\nThe Old Town Summer Concert Series kicks off with this Rockin Roots group!\n\n\n\n\n\n\n\n\nBorn and raised in Louisville\, KY\, Americana singer\, songwriter\, and guitarist Billy Stoops has called the Pacific Northwest home for over three decades.\nThe energetic and charismatic front man was named “Entertainer of the Year” and “Best Male Vocalist” by the Washington Blues Society\, while his distinctive guitar style on both electric and acoustic along with his groove-oriented songwriting garnered him a Tacoma Music Award for “Male Performer of the Year”.
URL:https://southsoundblues.org/event/billy-stoops-and-the-dirt-angels-at-old-town-park-tacoma-summer-concert-series-kick-off/
LOCATION:Old Town Park\, 2350 N 30th St\, Tacoma\, WA\, 98403\, United States
CATEGORIES:Local South Sound Blues
END:VEVENT
BEGIN:VEVENT
DTSTART;TZID=America/Los_Angeles:20230705T190000
DTEND;TZID=America/Los_Angeles:20230705T220000
DTSTAMP:20260425T045221
CREATED:20230528T195535Z
LAST-MODIFIED:20230528T195535Z
UID:10511-1688583600-1688594400@southsoundblues.org
SUMMARY:Wednesdays Blues Jams with Brian Olver and Glenn Hummel at Purdy’s
DESCRIPTION:Wednesdays Blues Jams with Brian Olver and Glenn Hummel at Purdy’s\, 7-10 pm
URL:https://southsoundblues.org/event/wednesdays-blues-jams-with-brian-olver-and-glenn-hummel-at-purdys/
LOCATION:Purdy’s Public House & Arcade\, Sumner\, 16202 64th St E\, Sumner\, WA\, 98390
CATEGORIES:Local South Sound Blues
END:VEVENT
BEGIN:VEVENT
DTSTART;TZID=America/Los_Angeles:20230706T183000
DTEND;TZID=America/Los_Angeles:20230706T200000
DTSTAMP:20260425T045221
CREATED:20230607T195622Z
LAST-MODIFIED:20230607T195733Z
UID:10622-1688668200-1688673600@southsoundblues.org
SUMMARY:Curran Apple Orchard Concert series featuring the Billy Shew Band
DESCRIPTION:July 6th\, Curran Apple Orchard Concert series featuring the Billy Shew Band\, 6:30-8 pm\n  \n 
URL:https://southsoundblues.org/event/curran-apple-orchard-concert-series-featuring-the-billy-shew-band/
LOCATION:Curran Apple Orchard\, 3920 Grandview Dr W\, University Place\, WA\, 98466
CATEGORIES:Local South Sound Blues
END:VEVENT
BEGIN:VEVENT
DTSTART;TZID=America/Los_Angeles:20230706T190000
DTEND;TZID=America/Los_Angeles:20230706T210000
DTSTAMP:20260425T045221
CREATED:20230619T235506Z
LAST-MODIFIED:20230620T000449Z
UID:10681-1688670000-1688677200@southsoundblues.org
SUMMARY:Every Thursday\, WBS-GAS STATION BLUES at the Historic Shell in Issaquah
DESCRIPTION:Every Thursday\, GAS STATION BLUES at the Historic Shell in Issaquah\, July\, and August\, 7:00-9:00 pm\nThe Washington Blues Society and Downtown Issaquah Association present: Gas Station Blues\, a free concert series Thursday Nights 7-9 pm at the Historic Shell Station\, 228 Front St N\, Issaquah\, WA 98027. Music from Regional and International Talent -plus a beer and wine garden. \n\nWashington Blues Society \n\nHistoric Shell Holiday Shop – Issaquah
URL:https://southsoundblues.org/event/every-thursday-wbs-gas-station-blues-at-the-historic-shell-in-issaquah/
LOCATION:Historic Shell Station\, 232 Front St N\, Issaquah\, WA\, 98027
CATEGORIES:Local South Sound Blues
END:VEVENT
BEGIN:VEVENT
DTSTART;TZID=America/Los_Angeles:20230706T190000
DTEND;TZID=America/Los_Angeles:20230706T220000
DTSTAMP:20260425T045221
CREATED:20230528T202444Z
LAST-MODIFIED:20230528T202444Z
UID:10527-1688670000-1688680800@southsoundblues.org
SUMMARY:“Billy the Pocket Jam” Thursday nights at Dawson’s
DESCRIPTION:“Billy the Pocket Jam” Thursday nights at Dawson’s\, 7-10 pm
URL:https://southsoundblues.org/event/billy-the-pocket-jam-thursday-nights-at-dawsons-19/
LOCATION:Dawson’s Bar & Grill\, 5443 South Tacoma Way\, Tacoma\, WA\, 98409
CATEGORIES:Local South Sound Blues
END:VEVENT
BEGIN:VEVENT
DTSTART;TZID=America/Los_Angeles:20230706T200000
DTEND;TZID=America/Los_Angeles:20230706T233000
DTSTAMP:20260425T045221
CREATED:20230528T201028Z
LAST-MODIFIED:20230528T201028Z
UID:10519-1688673600-1688686200@southsoundblues.org
SUMMARY:Thursdays at the Stars Bar & Grill\, Jam hosted by Billy Shew
DESCRIPTION:Thursdays at the Stars Bar & Grill\, Jam hosted by Billy Shew\, 8-11:30 pm
URL:https://southsoundblues.org/event/thursdays-at-the-stars-bar-grill-jam-hosted-by-billy-shew-13/
LOCATION:Stars Bar & Grill\, 31216 Pacific Hwy S\, Federal Way\, WA\, 98003
CATEGORIES:Local South Sound Blues
END:VEVENT
BEGIN:VEVENT
DTSTART;TZID=America/Los_Angeles:20230707T190000
DTEND;TZID=America/Los_Angeles:20230707T190000
DTSTAMP:20260425T045221
CREATED:20230531T204739Z
LAST-MODIFIED:20230531T204739Z
UID:10578-1688756400-1688756400@southsoundblues.org
SUMMARY:Max Renshaw\, Solo\, at the Black Angus\, Puyallup
DESCRIPTION:Friday July 7th – Max Renshaw Solo at the Black Angus\, Puyallup\, 7pm
URL:https://southsoundblues.org/event/max-renshaw-solo-at-the-black-angus-puyallup/
LOCATION:Black Angus\, Puyallup\, 203 35th Ave SE\, Puyallup\, WA\, 98374
CATEGORIES:Local South Sound Blues
END:VEVENT
BEGIN:VEVENT
DTSTART;TZID=America/Los_Angeles:20230707T190000
DTEND;TZID=America/Los_Angeles:20230707T210000
DTSTAMP:20260425T045221
CREATED:20230627T214146Z
LAST-MODIFIED:20230627T214146Z
UID:10709-1688756400-1688763600@southsoundblues.org
SUMMARY:Billy Stoops and the Dirt Angels at Kimball Coffeehouse
DESCRIPTION:Billy Stoops and the Dirt Angels at Kimball Coffeehouse July 7th\, 7-9 pm.
URL:https://southsoundblues.org/event/billy-stoops-and-the-dirt-angels-at-kimball-coffeehouse-2/
LOCATION:Kimball’s Coffeehouse\, 6659 Kimball Dr\, Gig Harbor\, WA\, 98335
CATEGORIES:Local South Sound Blues
END:VEVENT
BEGIN:VEVENT
DTSTART;TZID=America/Los_Angeles:20230707T200000
DTEND;TZID=America/Los_Angeles:20230707T230000
DTSTAMP:20260425T045221
CREATED:20230628T183921Z
LAST-MODIFIED:20230628T183921Z
UID:10719-1688760000-1688770800@southsoundblues.org
SUMMARY:Michele D'Amour & The Love Dealers at JP's Barroom\, Renton
DESCRIPTION:Michele D’Amour & The Love Dealers\, July 7th at JP’s Barroom\, 8-11 p.m.
URL:https://southsoundblues.org/event/michele-damour-the-love-dealers-at-jps-barroom-renton/
LOCATION:JP’s Barroom\, 214 Williams Ave S\, Renton\, WA\, 98057
CATEGORIES:Local South Sound Blues
END:VEVENT
END:VCALENDAR