BEGIN:VCALENDAR
VERSION:2.0
PRODID:-//South Sound Blues Association - ECPv6.15.18//NONSGML v1.0//EN
CALSCALE:GREGORIAN
METHOD:PUBLISH
X-ORIGINAL-URL:https://southsoundblues.org
X-WR-CALDESC:Events for South Sound Blues Association
REFRESH-INTERVAL;VALUE=DURATION:PT1H
X-Robots-Tag:noindex
X-PUBLISHED-TTL:PT1H
BEGIN:VTIMEZONE
TZID:America/Los_Angeles
BEGIN:DAYLIGHT
TZOFFSETFROM:-0800
TZOFFSETTO:-0700
TZNAME:PDT
DTSTART:20250309T100000
END:DAYLIGHT
BEGIN:STANDARD
TZOFFSETFROM:-0700
TZOFFSETTO:-0800
TZNAME:PST
DTSTART:20251102T090000
END:STANDARD
BEGIN:DAYLIGHT
TZOFFSETFROM:-0800
TZOFFSETTO:-0700
TZNAME:PDT
DTSTART:20260308T100000
END:DAYLIGHT
BEGIN:STANDARD
TZOFFSETFROM:-0700
TZOFFSETTO:-0800
TZNAME:PST
DTSTART:20261101T090000
END:STANDARD
BEGIN:DAYLIGHT
TZOFFSETFROM:-0800
TZOFFSETTO:-0700
TZNAME:PDT
DTSTART:20270314T100000
END:DAYLIGHT
BEGIN:STANDARD
TZOFFSETFROM:-0700
TZOFFSETTO:-0800
TZNAME:PST
DTSTART:20271107T090000
END:STANDARD
END:VTIMEZONE
BEGIN:VEVENT
DTSTART;TZID=America/Los_Angeles:20260519T190000
DTEND;TZID=America/Los_Angeles:20260519T220000
DTSTAMP:20260423T041218
CREATED:20260330T224950Z
LAST-MODIFIED:20260330T224950Z
UID:17456-1779217200-1779228000@southsoundblues.org
SUMMARY:Billy Shew Jam every Tuesday night at the Burien Eagles
DESCRIPTION:Billy Shew Jam every Tuesday night at the Burien Eagles 7-10 pm\n 
URL:https://southsoundblues.org/event/billy-shew-jam-every-tuesday-night-at-the-burien-eagles-4/
LOCATION:Burien Eagles\, 920 SW 150th St\, Burien\, WA\, 98166
CATEGORIES:Local South Sound Blues
END:VEVENT
BEGIN:VEVENT
DTSTART;TZID=America/Los_Angeles:20260519T193000
DTEND;TZID=America/Los_Angeles:20260519T220000
DTSTAMP:20260423T041218
CREATED:20260331T200028Z
LAST-MODIFIED:20260421T201641Z
UID:17470-1779219000-1779228000@southsoundblues.org
SUMMARY:Tuesday Vic Sorisio Jam at the Billy Blues Bar and Grill\, Vancouver WA
DESCRIPTION:Tuesday Vic Sorisio Jam at the Billy Blues Bar and Grill\nEverybody plays. Signups start at 7pm. Jam starts at 7:30. All styles\, original or cover\, all levels\n\n\n\n\n\n\n\n\n\n\n\n\n\nBilly Blues Bar and Grill\n7115 NE Hazel Dell Ave.\nVancouver\, WA 98665\n360-694-3114)
URL:https://southsoundblues.org/event/ben-rice-and-the-hustle-at-the-billy-blues-bar-and-grill-vancouver-wa/
LOCATION:Billy Blues Bar & Grill\, 7115 NE Hazel Dell Ave\, Vancouver\, WA\, 98665
CATEGORIES:Featured
END:VEVENT
BEGIN:VEVENT
DTSTART;TZID=America/Los_Angeles:20260519T200000
DTEND;TZID=America/Los_Angeles:20260519T233000
DTSTAMP:20260423T041218
CREATED:20260325T232100Z
LAST-MODIFIED:20260325T232100Z
UID:17394-1779220800-1779233400@southsoundblues.org
SUMMARY:Cory Wilds Band Tuesday open Jam Night at Elmer’s Bar and Grill
DESCRIPTION:Cory Wilds Band Tuesday open Jam Night at Elmer’s Bar and Grill\, 8-11:30 pm
URL:https://southsoundblues.org/event/cory-wilds-band-tuesday-open-jam-night-at-elmers-bar-and-grill-51/
LOCATION:Elmer’s Bar & Grill\, 15027 Ambaum Blvd SW\, Burien\, WA\, 98166
CATEGORIES:Local South Sound Blues
END:VEVENT
BEGIN:VEVENT
DTSTART;TZID=America/Los_Angeles:20260520T180000
DTEND;TZID=America/Los_Angeles:20260520T210000
DTSTAMP:20260423T041218
CREATED:20260331T200551Z
LAST-MODIFIED:20260331T200551Z
UID:17474-1779300000-1779310800@southsoundblues.org
SUMMARY:Funky Jazz Wednesdays at the Spar
DESCRIPTION:Funky Jazz Wednesdays at the Spar 6-9 pm
URL:https://southsoundblues.org/event/funky-jazz-wednesdays-at-the-spar-25/
LOCATION:The Spar\, 2121 N 30th St\, Tacoma\, WA\, 98403
CATEGORIES:Featured
END:VEVENT
BEGIN:VEVENT
DTSTART;TZID=America/Los_Angeles:20260520T190000
DTEND;TZID=America/Los_Angeles:20260520T220000
DTSTAMP:20260423T041218
CREATED:20260417T190627Z
LAST-MODIFIED:20260417T190713Z
UID:17540-1779303600-1779314400@southsoundblues.org
SUMMARY:McMenamins Presents: The Bruce Maier Blues Band with Backlash at the Spanish Ballroom
DESCRIPTION:McMenamins Presents: THE BRUCE MAIER BLUES BAND with Backlash at the Spanish Ballroom with Backlash May 20th\, 7pm\nDoors 6PM\, All ages Event\, $12.23\nhttps://www.etix.com/ticket/p/32135872/the-bruce-maier-blues-band-tacoma-mcmenamins-spanish-ballroom-elks-temple\n\nTHE BRUCE MAIER BLUES BAND\n\nBruce made his living as a musician and singer throughout the seventies and into the nineties. He became a recording engineer with television production eventually owning a small studio writing over 200 of his own songs. His shows always incorporate at least six originals. He is a member of both the SSBA and the Washington Blues Society. He often visits musicians in Vegas helping in the studio playing guitar\, bass piano or mandolin and also performs at the annual ‘Jam on the Rocks’ Blues Jam each year with other international musicians. Bruce was born in Pasadena CA and currently resides in the Centralia area in Washington.\n\nBACKLASH BackLash is a 5-piece cover band playing a variety of rock\, country and blues music. Their selection of songs are classic hits that evoke good memories of another time and place. The band consists of Drums\, Bass\, Keyboard\, two Guitars\, Harmonica and four vocalists. The band has been together since 2011 playing throughout the South Sound and is based out of Olympia\, Washington.
URL:https://southsoundblues.org/event/mcmenamins-presents-the-bruce-maier-blues-band-with-backlash-at-the-spanish-ballroom/
LOCATION:McMenaminsTacoma Elks\, 565 Broadway\, Tacoma\, WA\, 98402
CATEGORIES:Featured,Local South Sound Blues
END:VEVENT
BEGIN:VEVENT
DTSTART;TZID=America/Los_Angeles:20260521T190000
DTEND;TZID=America/Los_Angeles:20260521T230000
DTSTAMP:20260423T041218
CREATED:20260306T011821Z
LAST-MODIFIED:20260306T011821Z
UID:17210-1779390000-1779404400@southsoundblues.org
SUMMARY:Acoustic Open Jam every Thursday at North End on Pearl
DESCRIPTION:Acoustic Open Jam every Thursday at North End on Pearl. Hosted by Lynn Sorensen\, Manuel Morais\, and Al Maier 7-11pm\nBring your guitar\, your voice\, or just come enjoy the music.\n 7–11PM\n No Cover | 21+\n Ruston
URL:https://southsoundblues.org/event/acoustic-open-jam-every-thursday-at-north-end-on-pearl-6/
LOCATION:North End On Pearl\, 5037 North Pearl Street\, Tacoma\, WA\, 98407
CATEGORIES:Featured
END:VEVENT
BEGIN:VEVENT
DTSTART;TZID=America/Los_Angeles:20260522T190000
DTEND;TZID=America/Los_Angeles:20260522T210000
DTSTAMP:20260423T041218
CREATED:20260331T201106Z
LAST-MODIFIED:20260331T201106Z
UID:17478-1779476400-1779483600@southsoundblues.org
SUMMARY:Mark Dufresne band at Kimball Coffeehouse\, Gig Harbor
DESCRIPTION:mark dufresne\n\nFri May 22nd 7:00pm (PDT)\n\n\n\n\nKimball Coffee House\, 6659 Kimball Dr a102\, Gig Harbor\, WA 98335\, USA  \n\nMay 22nd Kimball’s Gig Harbor\, Mark Dufresne 7-9pm
URL:https://southsoundblues.org/event/mark-dufresne-band-at-kimball-coffeehouse-gig-harbor/
LOCATION:Kimball’s Coffeehouse\, 6659 Kimball Dr\, Gig Harbor\, WA\, 98335
CATEGORIES:Local South Sound Blues
END:VEVENT
BEGIN:VEVENT
DTSTART;TZID=America/Los_Angeles:20260522T200000
DTEND;TZID=America/Los_Angeles:20260522T223000
DTSTAMP:20260423T041218
CREATED:20260417T192106Z
LAST-MODIFIED:20260417T192426Z
UID:17545-1779480000-1779489000@southsoundblues.org
SUMMARY:Mcmenamins Presents: One Way Out (Allman Brothers tribute) at the Spanish Ballroom\, Also- Rafael Tranquilino\, Tacoma
DESCRIPTION:One Way Out (Allman Brothers tribute) Friday May 22nd 8pm at the Mcmenamins Spanish Ballroom in Tacoma. Doors- 7pm\nhttps://www.etix.com/ticket/p/94427063/one-way-out-allman-brother-tribute-tacoma-mcmenamins-spanish-ballroom-elks-temple\nOne Way Out PDX is the Portland\, OR based 8-member powerhouse tribute to the music of the great Allman Brothers Band. One way Out is taking the Northwest by storm with their high energy and inspired live performances of the music of one of the best live rock bands of all time. Everyone One Way Out show is a different experience\, with the repertoire representing the long history of this great band.\nWebsite: https://onewayoutpdx.com/\nRafael Tranquilino was Awarded “2023 Best Electric Blues Guitar” – He gained popularity in the U.S. playing guitar and as acting musical director for the Randy Oxford Band (2007 – 2011) before branching out and forming the Rafael Tranquilino Band in 2011. Additionally\, during this time\, Rafael became a skilled music producer\, with past and ongoing projects in the works. In the year of 2020\, Rafael decided to use his production skills and started his career as a Music Producer and adding his own special touch to any music genre that comes his way\, including his own.  “The music I play is to rock your heart & soul- to expand your awareness.” – Rafael Tranquilino
URL:https://southsoundblues.org/event/mcmenamins-presents-one-way-out-allman-brothers-tribute-at-the-spanish-ballroom-also-rafael-tranquilino-tacoma/
LOCATION:McMenaminsTacoma Elks\, 565 Broadway\, Tacoma\, WA\, 98402
CATEGORIES:Featured,Local South Sound Blues
END:VEVENT
BEGIN:VEVENT
DTSTART;TZID=America/Los_Angeles:20260523T193000
DTEND;TZID=America/Los_Angeles:20260523T220000
DTSTAMP:20260423T041218
CREATED:20260331T201521Z
LAST-MODIFIED:20260331T201521Z
UID:17480-1779564600-1779573600@southsoundblues.org
SUMMARY:Blood Sweat & Tears at Jazz Alley\, Seattle
DESCRIPTION:blood sweat & tears\n\nSat May 23rd 7:30pm (PDT)\n\n\n\n\nDimitriou’s Jazz Alley\, 2033 6th Ave\, Seattle\, WA 98121\, USA  \n\n\n \nEvent by Dimitriou’s Jazz Alley and Washington Blues Society \n2033 6th Ave\, Seattle\, WA\, United States\, Washington 98121 \nPublic · Anyone on or off Facebook \nDimitriou’s Jazz Alley welcomes Blood Sweat & Tears for four nights and six shows. Sam Ryan (Vocals)\, Brad Mason (MD & Trumpet)\, Bryan Davis (Trumpet)\, Anibal Rojas (Sax)\, Ozzie Melendez (Trombone)\, Adam Klipple (Keys)\, Ric Fierabracci (Bas and Dylan Elise (Drums) Show times Thursday and Sunday at 7:30pm. Show times Friday and Saturday at 7:30pm and 9:30pm. Doors open at 6:00pm Thursday and 5:30pm Friday – Sunday. \nartist info\nIt’s been five decades since drummer/producer Bobby Colomby and friends assembled the first group to successfully blend rock and jazz into a genre-crossing sound and style. So successfully in fact\, that the band’s second album\, Blood Sweat & Tears\, topped the Billboard charts for many weeks and beat out the Beatles’ Abbey Road for the prestigious Album of the Year Grammy award. That album produced three major hit singles: “You Made me so Very Happy\,” “Spinning Wheel\,” and “And When I Die.”
URL:https://southsoundblues.org/event/blood-sweat-tears-at-jazz-alley-seattle/
LOCATION:Dimitriou’s Jazz Alley\, 2033 6th Avenue\, Seattle\, WA\, 98121
CATEGORIES:Featured
END:VEVENT
BEGIN:VEVENT
DTSTART;TZID=America/Los_Angeles:20260524T190000
DTEND;TZID=America/Los_Angeles:20260524T230000
DTSTAMP:20260423T041218
CREATED:20260211T013623Z
LAST-MODIFIED:20260211T013623Z
UID:17052-1779649200-1779663600@southsoundblues.org
SUMMARY:Billy Shew Jam at Dawsons every Sunday
DESCRIPTION:Billy Shew Jam at Dawsons every Sunday 7-11 pm
URL:https://southsoundblues.org/event/billy-shew-jam-at-dawsons-every-sunday-4/
LOCATION:Dawson’s Bar & Grill\, 5443 South Tacoma Way\, Tacoma\, WA\, 98409
CATEGORIES:Local South Sound Blues
END:VEVENT
BEGIN:VEVENT
DTSTART;TZID=America/Los_Angeles:20260525T180000
DTEND;TZID=America/Los_Angeles:20260525T210000
DTSTAMP:20260423T041218
CREATED:20260325T233309Z
LAST-MODIFIED:20260325T233309Z
UID:17406-1779732000-1779742800@southsoundblues.org
SUMMARY:Monday Jazz at Brother Don’s Bar & Grill\, Bremerton
DESCRIPTION:Monday Jazz at Brother Don’s Bar & Grill\, Bremerton\, 6-9 pm
URL:https://southsoundblues.org/event/monday-jazz-at-brother-dons-bar-grill-bremerton-44/
LOCATION:Brother Don’s Bar & Grill\, 4200 Kitsap Way\, Bremerton\, WA\, 98312
CATEGORIES:Featured
END:VEVENT
BEGIN:VEVENT
DTSTART;TZID=America/Los_Angeles:20260526T190000
DTEND;TZID=America/Los_Angeles:20260526T210000
DTSTAMP:20260423T041218
CREATED:20251227T210353Z
LAST-MODIFIED:20260406T231721Z
UID:16637-1779822000-1779829200@southsoundblues.org
SUMMARY:Purdy's Tuesday Blues Showcase featuring Stevie & The Blue Flames\, Sumner
DESCRIPTION:Purdy’s Tuesday Blues Showcase featuring Stevie & The Blue Flames May 26th\, 7-9 pm at Purdy’s Public House & Arcade\n  Steve Bailey
URL:https://southsoundblues.org/event/purdys-tuesday-blues-showcase-featuring-stevie-the-blue-flames-sumner/
LOCATION:Purdy’s Public House & Arcade\, Sumner\, 16202 64th St E\, Sumner\, WA\, 98390
CATEGORIES:Local South Sound Blues
END:VEVENT
BEGIN:VEVENT
DTSTART;TZID=America/Los_Angeles:20260527T180000
DTEND;TZID=America/Los_Angeles:20260527T210000
DTSTAMP:20260423T041218
CREATED:20260227T222432Z
LAST-MODIFIED:20260227T222432Z
UID:17149-1779904800-1779915600@southsoundblues.org
SUMMARY:Funky Jazz Wednesdays at the Spar
DESCRIPTION:Funky Jazz Wednesdays at the Spar 6-9 pm
URL:https://southsoundblues.org/event/funky-jazz-wednesdays-at-the-spar-17/
LOCATION:The Spar\, 2121 N 30th St\, Tacoma\, WA\, 98403
CATEGORIES:Featured
END:VEVENT
BEGIN:VEVENT
DTSTART;TZID=America/Los_Angeles:20260528T190000
DTEND;TZID=America/Los_Angeles:20260528T220000
DTSTAMP:20260423T041218
CREATED:20260306T012453Z
LAST-MODIFIED:20260306T012453Z
UID:17216-1779994800-1780005600@southsoundblues.org
SUMMARY:Thursday nights- Billy “The Pocket” Blues Jams at Dawsons
DESCRIPTION:Thursday nights- Billy “The Pocket” Blues Jams at Dawsons\, 7-10 pm
URL:https://southsoundblues.org/event/thursday-nights-billy-the-pocket-blues-jams-at-dawsons-22/
LOCATION:Dawson’s Bar & Grill\, 5443 South Tacoma Way\, Tacoma\, WA\, 98409
CATEGORIES:Local South Sound Blues
END:VEVENT
BEGIN:VEVENT
DTSTART;TZID=America/Los_Angeles:20260528T193000
DTEND;TZID=America/Los_Angeles:20260528T220000
DTSTAMP:20260423T041218
CREATED:20260419T193554Z
LAST-MODIFIED:20260419T193808Z
UID:17575-1779996600-1780005600@southsoundblues.org
SUMMARY:Canned Heat\, with Jimmy Vivino\, at the Triple Door\, Seattle
DESCRIPTION:Canned Heat\n\nThu\, May 28 @ 7:30PM \nMainstage Theatre\, 216 Union Street\, Seattle \n\n\nFounded in 1966\, Canned Heat rose to fame because their knowledge and love of blues music was both wide and deep. Canned Heat attained three worldwide hits with their rock anthems “On The Road Again\,” “Going Up The Country\,” and “Let’s Work Together.” They secured their niche in rock ‘n roll history with their performances at the 1967 Monterey Pop Festival and a headlining slot at the original Woodstock Festival in 1969. \nNow\, almost sixty years later and with forty albums to their credit\, Canned Heat is still going strong. They have been anchored throughout the past fifty-eight years by the steady hand of drummer/band leader and historian\, Adolfo “Fito” de la Parra. Continuing on into his eighteenth year\, New Orleans’ legend\, Dale Spalding is on harmonica\, guitar and lead vocals and for the past four years\, inventive bassist\, Rick Reed became part of the lineup after stints with Paul Butterfield\, John Mayall and the Chicago Blues Reunion. The newest addition on lead guitar and vocals is the incredible Jimmy Vivino. Jimmy is best known for his 28 year association as guitarist\, arranger and music director for Late Night with Conan O’Brien. Before that\, he had a 20 year career playing with artists including Al Kooper\, Charlie Musselwhite\, Michael McDonald and many others. \n$30 General // $40 Premium \n\nhttps://thetripledoor.net/mainstage-calendar
URL:https://southsoundblues.org/event/canned-heat-with-jimmy-vivino-at-the-triple-door-seattle/
LOCATION:The Triple Door\, 216 Union St\,\, Seattle\, WA\, 98101
CATEGORIES:Featured
END:VEVENT
BEGIN:VEVENT
DTSTART;TZID=America/Los_Angeles:20260529T183000
DTEND;TZID=America/Los_Angeles:20260529T213000
DTSTAMP:20260423T041218
CREATED:20260228T015139Z
LAST-MODIFIED:20260228T021044Z
UID:17167-1780079400-1780090200@southsoundblues.org
SUMMARY:The Black Keys at Remlinger Farms\, Carnation
DESCRIPTION:May 29\, 2026 Fri 6:30 PM The Black Keys   Remlinger Farms – WA\, Carnation\, WA\n\nRemlinger Summer Concerts \n\n\n\n\n\n\n\n\n$68-$100 (lawn/seats)\n\nalso:\n\n\n\n\n\nMay 30\, 2026 Sat 6:30 PM  The Black Keys  Remlinger Farms – WA\, Carnation\, WA
URL:https://southsoundblues.org/event/the-black-keys-at-remlinger-farms-carnation/
LOCATION:remlinger farms\, 32610 NE 32nd Street\, Carnation\, WA\, 98014
CATEGORIES:Special Event
END:VEVENT
BEGIN:VEVENT
DTSTART;TZID=America/Los_Angeles:20260530T183000
DTEND;TZID=America/Los_Angeles:20260530T213000
DTSTAMP:20260423T041218
CREATED:20260228T015408Z
LAST-MODIFIED:20260228T020945Z
UID:17169-1780165800-1780176600@southsoundblues.org
SUMMARY: The Black Keys at  Remlinger Farms\, Carnation
DESCRIPTION:May 30\, 2026 Sat 6:30 PM  The Black Keys  Remlinger Farms – WA\, Carnation\, WA\n\nRemlinger Summer Concerts \n\n$68-$100 (lawn/seats)
URL:https://southsoundblues.org/event/the-black-keys-at-remlinger-farms-carnation-2/
LOCATION:remlinger farms\, 32610 NE 32nd Street\, Carnation\, WA\, 98014
CATEGORIES:Special Event
END:VEVENT
BEGIN:VEVENT
DTSTART;TZID=America/Los_Angeles:20260531T190000
DTEND;TZID=America/Los_Angeles:20260531T220000
DTSTAMP:20260423T041218
CREATED:20251117T020406Z
LAST-MODIFIED:20251117T020406Z
UID:16576-1780254000-1780264800@southsoundblues.org
SUMMARY:Sunday Blues at the Spar
DESCRIPTION:Sunday Blues at the Spar 7-10 pm
URL:https://southsoundblues.org/event/sunday-blues-at-the-spar-57/
LOCATION:The Spar\, 2121 N 30th St\, Tacoma\, WA\, 98403
CATEGORIES:Local South Sound Blues
END:VEVENT
BEGIN:VEVENT
DTSTART;TZID=America/Los_Angeles:20260601T200000
DTEND;TZID=America/Los_Angeles:20260601T220000
DTSTAMP:20260423T041218
CREATED:20260206T003349Z
LAST-MODIFIED:20260206T003349Z
UID:16957-1780344000-1780351200@southsoundblues.org
SUMMARY:Mike Witmer hosts “Mojo Mike’s Blues Revue” every Monday on KVSH 101.9 FM
DESCRIPTION:Mike Witmer hosts “Mojo Mike’s Blues Revue” every Monday on KVSH 101.9 FM\, 8-10 pm
URL:https://southsoundblues.org/event/mike-witmer-hosts-mojo-mikes-blues-revue-every-monday-on-kvsh-101-9-fm-52/
LOCATION:KVSH\, 17643 Vashon Hwy SW\, Vashon Island\, WA\, 98070
CATEGORIES:Local South Sound Blues
END:VEVENT
BEGIN:VEVENT
DTSTART;TZID=America/Los_Angeles:20260602T200000
DTEND;TZID=America/Los_Angeles:20260602T233000
DTSTAMP:20260423T041218
CREATED:20260325T231551Z
LAST-MODIFIED:20260325T231551Z
UID:17390-1780430400-1780443000@southsoundblues.org
SUMMARY:Cory Wilds Band Tuesday open Jam Night at Elmer’s Bar and Grill
DESCRIPTION:Cory Wilds Band Tuesday open Jam Night at Elmer’s Bar and Grill\, 8-11:30 pm
URL:https://southsoundblues.org/event/cory-wilds-band-tuesday-open-jam-night-at-elmers-bar-and-grill-49/
LOCATION:Elmer’s Bar & Grill\, 15027 Ambaum Blvd SW\, Burien\, WA\, 98166
CATEGORIES:Local South Sound Blues
END:VEVENT
BEGIN:VEVENT
DTSTART;TZID=America/Los_Angeles:20260603T180000
DTEND;TZID=America/Los_Angeles:20260603T210000
DTSTAMP:20260423T041218
CREATED:20260331T200811Z
LAST-MODIFIED:20260331T200811Z
UID:17476-1780509600-1780520400@southsoundblues.org
SUMMARY:Funky Jazz Wednesdays at the Spar
DESCRIPTION:Funky Jazz Wednesdays at the Spar 6-9 pm
URL:https://southsoundblues.org/event/funky-jazz-wednesdays-at-the-spar-26/
LOCATION:The Spar\, 2121 N 30th St\, Tacoma\, WA\, 98403
CATEGORIES:Featured
END:VEVENT
BEGIN:VEVENT
DTSTART;TZID=America/Los_Angeles:20260604T190000
DTEND;TZID=America/Los_Angeles:20260604T210000
DTSTAMP:20260423T041218
CREATED:20260206T002759Z
LAST-MODIFIED:20260206T002759Z
UID:16951-1780599600-1780606800@southsoundblues.org
SUMMARY:Bluesland on KMRE 88.3 FM Every Thursday
DESCRIPTION:Bluesland on KMRE 88.3 FM Every Thursday live at 7pm \nLot’s of fine blues\, soul and rock n roll.  Check out the show at 88.3 FM\, kmre.org \n\nTunein app and OnDemand.\n\n\nBluesland (Live ) Every week on Thursday at 7:00 PM\nBluesland host Leo Schumaker features the best of vintage\, classic\, and new Blues music\, plus interviews with artists\, producers\, writers\, and blues club owners. Leo is a lifetime member of The Santa Barbara Blues Society\, and holds membership in The Washington Blues Society\, The Cascade Blues Society\, and The Blues Foundation\, where he was a judge for The International Blues Challenge in Memphis\, TN.
URL:https://southsoundblues.org/event/bluesland-on-kmre-88-3-fm-every-thursday-4/
LOCATION:KMRE\, Bellingham\, WA
CATEGORIES:Featured
END:VEVENT
BEGIN:VEVENT
DTSTART;TZID=America/Los_Angeles:20260604T190000
DTEND;TZID=America/Los_Angeles:20260604T213000
DTSTAMP:20260423T041218
CREATED:20260324T013906Z
LAST-MODIFIED:20260324T014009Z
UID:17361-1780599600-1780608600@southsoundblues.org
SUMMARY:BELL BOTTOM BLUES (Clapton Tribute) at the Blue Mouse\, Tacoma
DESCRIPTION:BELL BOTTOM BLUES (Clapton Tribute)\,LIVE AND UNPLUGGED in TACOMA!!! June 4th\, 7pm at The Blue Mouse
URL:https://southsoundblues.org/event/bell-bottom-blues-clapton-tribute-at-the-blue-mouse-tacoma/
LOCATION:Blue Mouse Theatre\, 2611 N Proctor\, Tacoma\, WA\, 98407
CATEGORIES:Local South Sound Blues
END:VEVENT
BEGIN:VEVENT
DTSTART;TZID=America/Los_Angeles:20260605T200000
DTEND;TZID=America/Los_Angeles:20260605T230000
DTSTAMP:20260423T041218
CREATED:20260331T202858Z
LAST-MODIFIED:20260331T202858Z
UID:17482-1780689600-1780700400@southsoundblues.org
SUMMARY:Live music at Dawsons Bar & Grill\, Tacoma
DESCRIPTION:Live music at Dawsons Friday Nights 8-11 pm\n \n 
URL:https://southsoundblues.org/event/live-music-at-dawsons-bar-grill-tacoma/
LOCATION:Dawson’s Bar & Grill\, 5443 South Tacoma Way\, Tacoma\, WA\, 98409
CATEGORIES:Featured
END:VEVENT
BEGIN:VEVENT
DTSTART;TZID=America/Los_Angeles:20260606T180000
DTEND;TZID=America/Los_Angeles:20260607T000000
DTSTAMP:20260423T041218
CREATED:20260211T011903Z
LAST-MODIFIED:20260211T011951Z
UID:17038-1780768800-1780790400@southsoundblues.org
SUMMARY:All Blues\, Every Saturday and Sunday night on KNKX 88.5 fm
DESCRIPTION:All Blues\, Every Saturday and Sunday night on KNKX 88.5 fm 6pm-Midnight\nFrom Tacoma/Seattle\, blues party; hosted by John Kessler. For a full six hours each evening\, John draws from the full spectrum of the blues in his award-winning shows and offers a unique look at blues recording history.  https://www.knkx.org/listening-options
URL:https://southsoundblues.org/event/all-blues-every-saturday-and-sunday-night-on-knkx-88-5-fm-5/
LOCATION:KNKX\, 930 Broadway Tacoma\, WA\, 98402\, Tacoma\, WA\, 98402
CATEGORIES:Local South Sound Blues
END:VEVENT
BEGIN:VEVENT
DTSTART;TZID=America/Los_Angeles:20260607T190000
DTEND;TZID=America/Los_Angeles:20260607T230000
DTSTAMP:20260423T041218
CREATED:20260115T023505Z
LAST-MODIFIED:20260115T023505Z
UID:16789-1780858800-1780873200@southsoundblues.org
SUMMARY:Billy Shew Blues Jam\, every Sunday at Dawson’s
DESCRIPTION:Billy Shew Blues Jam\, every Sunday at Dawson’s\, 7-11 pm
URL:https://southsoundblues.org/event/billy-shew-blues-jam-every-sunday-at-dawsons-55/
LOCATION:Dawson’s Bar & Grill\, 5443 South Tacoma Way\, Tacoma\, WA\, 98409
CATEGORIES:Local South Sound Blues
END:VEVENT
BEGIN:VEVENT
DTSTART;TZID=America/Los_Angeles:20260607T193000
DTEND;TZID=America/Los_Angeles:20260607T220000
DTSTAMP:20260423T041218
CREATED:20260204T030640Z
LAST-MODIFIED:20260204T030640Z
UID:16919-1780860600-1780869600@southsoundblues.org
SUMMARY:Tab Benoit at the Neptune Theatre\, Seattle
DESCRIPTION:Tab Benoit at the Neptune Theatre June 7th\, 7:30 pm\n 
URL:https://southsoundblues.org/event/tab-benoit-at-the-neptune-theatre-seattle/
LOCATION:Neptune Theatre\, 1303 NE 45th St\, Seattle\, WA\, 98105
CATEGORIES:Featured
END:VEVENT
BEGIN:VEVENT
DTSTART;TZID=America/Los_Angeles:20260608T180000
DTEND;TZID=America/Los_Angeles:20260608T210000
DTSTAMP:20260423T041218
CREATED:20260325T233434Z
LAST-MODIFIED:20260325T233434Z
UID:17408-1780941600-1780952400@southsoundblues.org
SUMMARY:Monday Jazz at Brother Don’s Bar & Grill\, Bremerton
DESCRIPTION:Monday Jazz at Brother Don’s Bar & Grill\, Bremerton\, 6-9 pm
URL:https://southsoundblues.org/event/monday-jazz-at-brother-dons-bar-grill-bremerton-45/
LOCATION:Brother Don’s Bar & Grill\, 4200 Kitsap Way\, Bremerton\, WA\, 98312
CATEGORIES:Featured
END:VEVENT
BEGIN:VEVENT
DTSTART;TZID=America/Los_Angeles:20260609T190000
DTEND;TZID=America/Los_Angeles:20260609T220000
DTSTAMP:20260423T041218
CREATED:20260325T232712Z
LAST-MODIFIED:20260325T232712Z
UID:17400-1781031600-1781042400@southsoundblues.org
SUMMARY:Jam every Tuesday at Brother Don’s Bar & Grill with the Tim Hall band
DESCRIPTION:Jam every Tuesday at Brother Don’s Bar & Grill with the Tim Hall band 7-10 pm
URL:https://southsoundblues.org/event/jam-every-tuesday-at-brother-dons-bar-grill-with-the-tim-hall-band-34/
LOCATION:Brother Don’s Bar & Grill\, 4200 Kitsap Way\, Bremerton\, WA\, 98312
CATEGORIES:Local South Sound Blues
END:VEVENT
BEGIN:VEVENT
DTSTART;TZID=America/Los_Angeles:20260610T180000
DTEND;TZID=America/Los_Angeles:20260610T210000
DTSTAMP:20260423T041218
CREATED:20260227T222557Z
LAST-MODIFIED:20260227T222557Z
UID:17151-1781114400-1781125200@southsoundblues.org
SUMMARY:Funky Jazz Wednesdays at the Spar
DESCRIPTION:Funky Jazz Wednesdays at the Spar 6-9 pm
URL:https://southsoundblues.org/event/funky-jazz-wednesdays-at-the-spar-18/
LOCATION:The Spar\, 2121 N 30th St\, Tacoma\, WA\, 98403
CATEGORIES:Featured
END:VEVENT
END:VCALENDAR