BEGIN:VCALENDAR
VERSION:2.0
PRODID:-//South Sound Blues Association - ECPv6.15.18//NONSGML v1.0//EN
CALSCALE:GREGORIAN
METHOD:PUBLISH
X-WR-CALNAME:South Sound Blues Association
X-ORIGINAL-URL:https://southsoundblues.org
X-WR-CALDESC:Events for South Sound Blues Association
REFRESH-INTERVAL;VALUE=DURATION:PT1H
X-Robots-Tag:noindex
X-PUBLISHED-TTL:PT1H
BEGIN:VTIMEZONE
TZID:America/Los_Angeles
BEGIN:DAYLIGHT
TZOFFSETFROM:-0800
TZOFFSETTO:-0700
TZNAME:PDT
DTSTART:20240310T100000
END:DAYLIGHT
BEGIN:STANDARD
TZOFFSETFROM:-0700
TZOFFSETTO:-0800
TZNAME:PST
DTSTART:20241103T090000
END:STANDARD
BEGIN:DAYLIGHT
TZOFFSETFROM:-0800
TZOFFSETTO:-0700
TZNAME:PDT
DTSTART:20250309T100000
END:DAYLIGHT
BEGIN:STANDARD
TZOFFSETFROM:-0700
TZOFFSETTO:-0800
TZNAME:PST
DTSTART:20251102T090000
END:STANDARD
BEGIN:DAYLIGHT
TZOFFSETFROM:-0800
TZOFFSETTO:-0700
TZNAME:PDT
DTSTART:20260308T100000
END:DAYLIGHT
BEGIN:STANDARD
TZOFFSETFROM:-0700
TZOFFSETTO:-0800
TZNAME:PST
DTSTART:20261101T090000
END:STANDARD
END:VTIMEZONE
BEGIN:VEVENT
DTSTART;TZID=America/Los_Angeles:20250510T190000
DTEND;TZID=America/Los_Angeles:20250510T213000
DTSTAMP:20260423T170955
CREATED:20250504T194604Z
LAST-MODIFIED:20250504T194604Z
UID:14819-1746903600-1746912600@southsoundblues.org
SUMMARY:Reji Marc at George's Bonney Lake Tavern
DESCRIPTION:Reji Marc at George’s Bonney Lake Tavern\, May 10th at 7 pm
URL:https://southsoundblues.org/event/reji-marc-at-georges-bonney-lake-tavern/
LOCATION:George’s BLT\, 18212 HWY 410 E\, Bonney Lake\, WA\, 98391
CATEGORIES:Local South Sound Blues
END:VEVENT
BEGIN:VEVENT
DTSTART;TZID=America/Los_Angeles:20250509T200000
DTEND;TZID=America/Los_Angeles:20250509T230000
DTSTAMP:20260423T170955
CREATED:20250418T013231Z
LAST-MODIFIED:20250418T013231Z
UID:14714-1746820800-1746831600@southsoundblues.org
SUMMARY:Tumbling Dice at Salmon Bay Eagles
DESCRIPTION:Tumbling Dice\, May 9th at Salmon Bay Eagles\, 8-11 pm \n\n\n\nTumbling Dice is on the journey to becoming the Pacific Northwest’s premier Rolling Stones cover band. While formed only a few years ago\, all five members are not only lovers of the Stone’s timeless music\, but are all experienced musicians who don’t just “play” the songs\, but bring true energy and love of music to their performances.” Band member: David Walthew – lead singer\, Ciggy Carter – rhythm guitar\, Patrick McKenna – lead guitar\, Dom Campese – drums and Jimmy Boal – bass
URL:https://southsoundblues.org/event/tumbling-dice-at-salmon-bay-eagles/
LOCATION:Salmon Bay Eagles\, 5216 20th Ave NW\, Seattle\, WA\, 98107
CATEGORIES:Local South Sound Blues
END:VEVENT
BEGIN:VEVENT
DTSTART;TZID=America/Los_Angeles:20250509T200000
DTEND;TZID=America/Los_Angeles:20250509T223000
DTSTAMP:20260423T170955
CREATED:20250210T195703Z
LAST-MODIFIED:20250210T200207Z
UID:14303-1746820800-1746829800@southsoundblues.org
SUMMARY:Stacy Jones Band at Jazzbones\, Tacoma
DESCRIPTION:Stacy Jones Band at Jazzbones Friday\, May 9th at 8pm\,                      Doors at 7:00PM / Show at 8:00PM\, $10.00\n \nBlues
URL:https://southsoundblues.org/event/stacy-jones-band-at-jazzbones/
LOCATION:Jazzbones\, 2803 6th Ave\, Tacoma\, WA\, 98406
CATEGORIES:Local South Sound Blues
END:VEVENT
BEGIN:VEVENT
DTSTART;TZID=America/Los_Angeles:20250509T190000
DTEND;TZID=America/Los_Angeles:20250509T210000
DTSTAMP:20260423T170955
CREATED:20250418T012821Z
LAST-MODIFIED:20250418T012821Z
UID:14712-1746817200-1746824400@southsoundblues.org
SUMMARY:Michele D'Amour & The Love Dealers at Kimball Coffee House
DESCRIPTION:Michele D’Amour & The Love Dealers at Kimball Coffeehouse\, May 9th\, 7-9 pm\n\n\n\n\n \nFriday Night Music at Kimball Coffeehouse Presents:\nMichele D’Amour & The Love Dealers\nFun\, funky blues and classic R&B — Michele D’Amour & The Love Dealers will keep you groovin’ all night!\n***\nKimball Coffeehouse – Doors Open at 6pm – Music Starts at 7pm
URL:https://southsoundblues.org/event/michele-damour-the-love-dealers-at-kimball-coffee-house/
LOCATION:Kimball’s Coffeehouse\, 6659 Kimball Dr\, Gig Harbor\, WA\, 98335
CATEGORIES:Local South Sound Blues
END:VEVENT
BEGIN:VEVENT
DTSTART;TZID=America/Los_Angeles:20250508T200000
DTEND;TZID=America/Los_Angeles:20250508T230000
DTSTAMP:20260423T170955
CREATED:20250504T194231Z
LAST-MODIFIED:20250504T194231Z
UID:14817-1746734400-1746745200@southsoundblues.org
SUMMARY:McPage and Powell at Salmon Bay Eagles
DESCRIPTION:McPage and Powell May 8th at the Salmon Bay Eagles\, 8pm
URL:https://southsoundblues.org/event/mcpage-and-powell-at-salmon-bay-eagles/
LOCATION:Salmon Bay Eagles\, 5216 20th Ave NW\, Seattle\, WA\, 98107
CATEGORIES:Local South Sound Blues
END:VEVENT
BEGIN:VEVENT
DTSTART;TZID=America/Los_Angeles:20250508T190000
DTEND;TZID=America/Los_Angeles:20250508T210000
DTSTAMP:20260423T170955
CREATED:20250408T204738Z
LAST-MODIFIED:20250408T204738Z
UID:14599-1746730800-1746738000@southsoundblues.org
SUMMARY:Rock the Dock open Mic with Dustin Lafferty\, Thursdays
DESCRIPTION:Dustin Lafferty hosts open mic Thursdays at Rock the Dock in Tacoma\, 7-9 pm 
URL:https://southsoundblues.org/event/rock-the-dock-open-mic-with-dustin-lafferty-thursdays/
LOCATION:Rock the Dock\, 535 Dock St # 118\, Tacoma\, WA\, 98402
CATEGORIES:Featured
END:VEVENT
BEGIN:VEVENT
DTSTART;TZID=America/Los_Angeles:20250507T180000
DTEND;TZID=America/Los_Angeles:20250507T210000
DTSTAMP:20260423T170955
CREATED:20250428T205257Z
LAST-MODIFIED:20250428T205257Z
UID:14739-1746640800-1746651600@southsoundblues.org
SUMMARY:Funky Jazz Wednesdays at the Spar
DESCRIPTION:Funky Jazz Wednesdays at the Spar \n6-9 pm
URL:https://southsoundblues.org/event/funky-jazz-wednesdays-at-the-spar-2/
LOCATION:The Spar\, 2121 N 30th St\, Tacoma\, WA\, 98403
CATEGORIES:Featured
END:VEVENT
BEGIN:VEVENT
DTSTART;TZID=America/Los_Angeles:20250506T190000
DTEND;TZID=America/Los_Angeles:20250506T220000
DTSTAMP:20260423T170955
CREATED:20250313T000550Z
LAST-MODIFIED:20250313T000550Z
UID:14474-1746558000-1746568800@southsoundblues.org
SUMMARY:Jam every Tuesday at Brother Don’s Bar & Grill with the Tim Hall band
DESCRIPTION:Jam every Tuesday at Brother Don’s Bar & Grill with the Tim Hall band\, 7-10 pm.
URL:https://southsoundblues.org/event/jam-every-tuesday-at-brother-dons-bar-grill-with-the-tim-hall-band-13/
LOCATION:Brother Don’s Bar & Grill\, 4200 Kitsap Way\, Bremerton\, WA\, 98312
CATEGORIES:Local South Sound Blues
END:VEVENT
BEGIN:VEVENT
DTSTART;TZID=America/Los_Angeles:20250505T180000
DTEND;TZID=America/Los_Angeles:20250505T210000
DTSTAMP:20260423T170955
CREATED:20250313T003151Z
LAST-MODIFIED:20250313T003151Z
UID:14492-1746468000-1746478800@southsoundblues.org
SUMMARY:Monday Jazz at Brother Don’s Bar & Grill\, Bremerton
DESCRIPTION:Monday Jazz at Brother Don’s Bar & Grill\, Bremerton\, 6-9 pm
URL:https://southsoundblues.org/event/monday-jazz-at-brother-dons-bar-grill-bremerton-15/
LOCATION:Brother Don’s Bar & Grill\, 4200 Kitsap Way\, Bremerton\, WA\, 98312
CATEGORIES:Local South Sound Blues
END:VEVENT
BEGIN:VEVENT
DTSTART;TZID=America/Los_Angeles:20250504T190000
DTEND;TZID=America/Los_Angeles:20250504T230000
DTSTAMP:20260423T170955
CREATED:20250313T004216Z
LAST-MODIFIED:20250313T004216Z
UID:14498-1746385200-1746399600@southsoundblues.org
SUMMARY:Billy Shew Blues Jam\, every Sunday at Dawson’s
DESCRIPTION:Billy Shew Blues Jam\, every Sunday at Dawson’s\, 7-11 pm
URL:https://southsoundblues.org/event/billy-shew-blues-jam-every-sunday-at-dawsons-38/
LOCATION:Dawson’s Bar & Grill\, 5443 South Tacoma Way\, Tacoma\, WA\, 98409
CATEGORIES:Local South Sound Blues
END:VEVENT
BEGIN:VEVENT
DTSTART;TZID=America/Los_Angeles:20250504T180000
DTEND;TZID=America/Los_Angeles:20250504T210000
DTSTAMP:20260423T170955
CREATED:20250411T004139Z
LAST-MODIFIED:20250411T004139Z
UID:14647-1746381600-1746392400@southsoundblues.org
SUMMARY:Tim Hall Blues Jam every Sunday at Zesty's
DESCRIPTION:Tim Hall Blues Jam every Sunday at Zesty’s Steakhouse\, 6-9pm
URL:https://southsoundblues.org/event/tim-hall-blues-jam-every-sunday-at-zestys-2/
LOCATION:Zesty’s Cajun Steakhouse\, 9905 Bridgeport Way Southwest\, Lakewood\, WA\, 98499
CATEGORIES:Local South Sound Blues
END:VEVENT
BEGIN:VEVENT
DTSTART;TZID=America/Los_Angeles:20250503T200000
DTEND;TZID=America/Los_Angeles:20250503T233000
DTSTAMP:20260423T170955
CREATED:20250428T212440Z
LAST-MODIFIED:20250428T212440Z
UID:14743-1746302400-1746315000@southsoundblues.org
SUMMARY:Sons of Palmer at the City Hall Saloon\, Cumberland\, WA
DESCRIPTION:Sons of Palmer at the City Hall Saloon May 3rd\, 8-Midnight\n\n\n\n\n\n\n\n\n\n\n\n\n\n\n\n\n\n\n\n\n\n\n\n\n\n\n\nSons of Palmer are back at The City Hall Saloon!  Playing everything from classic rock to pop\, and Blues to heavy rock. The City Hall Saloon has great food\, strong drinks\, and a great dive bar vibe.    35317 314th Way SE\, Cumberland\, WA.\n\n\n\n\n\n(360) 886-0569\n\n\n\n\n\n\n\ncityhallsaloon1893@yahoo.com\n\n\n\n\n\n\n\n\ncityhallsaloon.com
URL:https://southsoundblues.org/event/sons-of-palmer-at-the-city-hall-saloon-cumberland-wa/
LOCATION:City Hall Saloon\, 35317 314th Way SE\, Cumberland\, WA\, 98022
CATEGORIES:Local South Sound Blues
END:VEVENT
BEGIN:VEVENT
DTSTART;TZID=America/Los_Angeles:20250503T200000
DTEND;TZID=America/Los_Angeles:20250503T233000
DTSTAMP:20260423T170955
CREATED:20250313T012135Z
LAST-MODIFIED:20250313T012135Z
UID:14528-1746302400-1746315000@southsoundblues.org
SUMMARY:McPage & Powell Band at Engel’s Pub
DESCRIPTION:McPage & Powell Band at Engel’s Pub May 3rd\, 8-11:30 pm
URL:https://southsoundblues.org/event/mcpage-powell-band-at-engels-pub/
LOCATION:Engels Pub\, 113 5th Ave S\, Edmonds\, WA\, 98020
CATEGORIES:Local South Sound Blues
END:VEVENT
BEGIN:VEVENT
DTSTART;TZID=America/Los_Angeles:20250503T200000
DTEND;TZID=America/Los_Angeles:20250503T230000
DTSTAMP:20260423T170955
CREATED:20250408T205753Z
LAST-MODIFIED:20250408T205753Z
UID:14604-1746302400-1746313200@southsoundblues.org
SUMMARY:Billy Shew band at Rock the Dock
DESCRIPTION:Billy Shew band at Rock the Dock May 3rd\, 8-11 pm
URL:https://southsoundblues.org/event/billy-shew-band-at-rock-the-dock-2/
LOCATION:Rock the Dock\, 535 Dock St # 118\, Tacoma\, WA\, 98402
CATEGORIES:Local South Sound Blues
END:VEVENT
BEGIN:VEVENT
DTSTART;TZID=America/Los_Angeles:20250503T110000
DTEND;TZID=America/Los_Angeles:20250503T150000
DTSTAMP:20260423T170955
CREATED:20250406T124216Z
LAST-MODIFIED:20250406T124216Z
UID:14586-1746270000-1746284400@southsoundblues.org
SUMMARY:Ross Robinson at the West Central Park\, Olympia
DESCRIPTION:Ross Robinson\, May 3rd at the  West Central Park\, Olympia 11-3pm
URL:https://southsoundblues.org/event/ross-robinson-at-the-west-central-park-olympia-2/
LOCATION:West Central Park\, 1919 Harrison Ave NW\, Olympia\, WA\, 98502
CATEGORIES:Local South Sound Blues
END:VEVENT
BEGIN:VEVENT
DTSTART;TZID=America/Los_Angeles:20250502T200000
DTEND;TZID=America/Los_Angeles:20250502T230000
DTSTAMP:20260423T170955
CREATED:20250313T011855Z
LAST-MODIFIED:20250313T011855Z
UID:14526-1746216000-1746226800@southsoundblues.org
SUMMARY:Stacy Jones Band at Aurora Borealis\, Shoreline
DESCRIPTION:Stacy Jones Band at the Aurora Borealis May 2nd\,  8-11pm 
URL:https://southsoundblues.org/event/stacy-jones-band-at-aurora-borealis-shoreline/
LOCATION:Aurora Borealis\, 16708 Aurora Ave N\, Shoreline\, WA\, 98133
END:VEVENT
BEGIN:VEVENT
DTSTART;TZID=America/Los_Angeles:20250502T190000
DTEND;TZID=America/Los_Angeles:20250502T220000
DTSTAMP:20260423T170955
CREATED:20250423T211638Z
LAST-MODIFIED:20250423T211638Z
UID:14730-1746212400-1746223200@southsoundblues.org
SUMMARY:Ocean5 presents The Profits
DESCRIPTION:Ocean5 presents The Profits\, May 2nd at Ocean5\, Gig Harbor\, 7pm\n\nThe Profits don’t stick to one genre—they’re here to play everything.\n70s funk? Check. 90s pop? Yup. 80s new wave\, punk\, R&B\, country\, rock\, yacht rock\, reggae? Absolutely. \nWhether you’re a dancer\, a singer\, a toe-tapper\, or just here for a good time—this show’s for you! \nGo to Eventbrite for tickets.  https://www.eventbrite.com/ \n\nThe ultimate destination for fun\, Ocean5 combines bowling\, arcade\, laser\, live entertainment & flexible event spaces. Gather\, play & dine in an elevated setting for family fun\, celebrations\, corporate events\, or a casual night out—all under one roof!
URL:https://southsoundblues.org/event/ocean5-presents-the-profits/
LOCATION:Ocean 5\, Table 47\, 5268 Point Fosdick Drive\, Gig Harbor\, WA\, 98335
CATEGORIES:Featured
END:VEVENT
BEGIN:VEVENT
DTSTART;TZID=America/Los_Angeles:20250502T190000
DTEND;TZID=America/Los_Angeles:20250502T210000
DTSTAMP:20260423T170955
CREATED:20250423T034609Z
LAST-MODIFIED:20250423T034609Z
UID:14728-1746212400-1746219600@southsoundblues.org
SUMMARY:Melanie Vale & Friends at Kimball Coffeehouse
DESCRIPTION:Melanie Vale & Friends at Kimball Coffeehouse May 2nd\, 7-9 pm
URL:https://southsoundblues.org/event/melanie-vale-friends-at-kimball-coffeehouse/
LOCATION:Kimball’s Coffeehouse\, 6659 Kimball Dr\, Gig Harbor\, WA\, 98335
CATEGORIES:Featured
END:VEVENT
BEGIN:VEVENT
DTSTART;TZID=America/Los_Angeles:20250502T190000
DTEND;TZID=America/Los_Angeles:20250502T203000
DTSTAMP:20260423T170955
CREATED:20250418T011830Z
LAST-MODIFIED:20250418T011830Z
UID:14710-1746212400-1746217800@southsoundblues.org
SUMMARY:Rod Cook & Toast at Crossroads\, Bellevue
DESCRIPTION:Rod Cook and Toast at Crossroads\, Bellevue May 2nd\, 7 – 8:30 pm\n\n\n\n \nRod Cook @ Market Stage\nRod Cook and Toast has been thrilling audiences around the Pacific NW for over twenty five years performing an eclectic mix of American roots music based in the blues. The band consists of Rod Cook\, guitar\, vocals; Jon Bayless\, bass\, vocals and Chris Leighton\, drums. Toast offers an energetic mix of originals and covers encompassing a wide variety of styles.\n\nCrossroads Bellevue\, 15600 NE 8th St\, Bellevue\, WA 98008
URL:https://southsoundblues.org/event/rod-cook-toast-at-crossroads-bellevue/
LOCATION:Crossroads Market Stage\, 15600 NE 8th St\, Bellevue\, WA\, 98008
CATEGORIES:Local South Sound Blues
END:VEVENT
BEGIN:VEVENT
DTSTART;TZID=America/Los_Angeles:20250502T180000
DTEND;TZID=America/Los_Angeles:20250502T210000
DTSTAMP:20260423T170955
CREATED:20250501T000832Z
LAST-MODIFIED:20250501T000832Z
UID:14747-1746208800-1746219600@southsoundblues.org
SUMMARY:The Enders Brothers at the Garage Bar and Grill
DESCRIPTION:The Enders Brothers at the Garage Bar and Grill May 2nd\, 6pm.\n\n\n\n\n\n· 
URL:https://southsoundblues.org/event/the-enders-brothers-at-the-garage-bar-and-grill/
LOCATION:Garage Bar and Grill\, 6812 Kitsap Way\, Bremerton\, WA\, 98312
CATEGORIES:Local South Sound Blues
END:VEVENT
BEGIN:VEVENT
DTSTART;TZID=America/Los_Angeles:20250501T190000
DTEND;TZID=America/Los_Angeles:20250501T220000
DTSTAMP:20260423T170955
CREATED:20250313T011112Z
LAST-MODIFIED:20250313T011112Z
UID:14522-1746126000-1746136800@southsoundblues.org
SUMMARY:“Billy the Pocket Jam” Thursday nights at Dawson’s
DESCRIPTION:“Billy the Pocket Jam” Thursday nights at Dawson’s\, 7-10 pm
URL:https://southsoundblues.org/event/billy-the-pocket-jam-thursday-nights-at-dawsons-6/
LOCATION:Dawson’s Bar & Grill\, 5443 South Tacoma Way\, Tacoma\, WA\, 98409
CATEGORIES:Local South Sound Blues
END:VEVENT
BEGIN:VEVENT
DTSTART;TZID=America/Los_Angeles:20250430T190000
DTEND;TZID=America/Los_Angeles:20250430T220000
DTSTAMP:20260423T170955
CREATED:20250313T010215Z
LAST-MODIFIED:20250313T010215Z
UID:14514-1746039600-1746050400@southsoundblues.org
SUMMARY:Wednesdays Blues “Jam Night” with Brian Olver and Glenn Hummel at Purdy’s\, Sumner
DESCRIPTION:Wednesdays Blues “Jam Night” with Brian Olver and Glenn Hummel at Purdy’s\, Sumner\, WA. 7-10 pm
URL:https://southsoundblues.org/event/wednesdays-blues-jam-night-with-brian-olver-and-glenn-hummel-at-purdys-sumner-25/
LOCATION:Purdy’s Public House & Arcade\, Sumner\, 16202 64th St E\, Sumner\, WA\, 98390
CATEGORIES:Local South Sound Blues
END:VEVENT
BEGIN:VEVENT
DTSTART;TZID=America/Los_Angeles:20250430T080000
DTEND;TZID=America/Los_Angeles:20250430T170000
DTSTAMP:20260423T170955
CREATED:20250312T234329Z
LAST-MODIFIED:20250312T234329Z
UID:14465-1746000000-1746032400@southsoundblues.org
SUMMARY:King Dre at the Spar
DESCRIPTION:Wed\, Apr 30th – King Dre at the Spar\, 6-9 pm
URL:https://southsoundblues.org/event/king-dre-at-the-spar-3/
LOCATION:The Spar\, 2121 N 30th St\, Tacoma\, WA\, 98403
CATEGORIES:Featured
END:VEVENT
BEGIN:VEVENT
DTSTART;TZID=America/Los_Angeles:20250429T190000
DTEND;TZID=America/Los_Angeles:20250429T210000
DTSTAMP:20260423T170955
CREATED:20250226T191254Z
LAST-MODIFIED:20250226T191254Z
UID:14370-1745953200-1745960400@southsoundblues.org
SUMMARY:Purdy's "Tuesday Blues Showcase" featuring the Joel Astley Band\, Sumner
DESCRIPTION:Joel Astley Band featured at Purdy’s “Tuesday Blues Showcase”\, April 29th\, 7-9 pm
URL:https://southsoundblues.org/event/purdys-tuesday-blues-showcase-featuring-the-joel-astley-band-sumner/
LOCATION:Purdy’s Public House & Arcade\, Sumner\, 16202 64th St E\, Sumner\, WA\, 98390
CATEGORIES:Local South Sound Blues
END:VEVENT
BEGIN:VEVENT
DTSTART;TZID=America/Los_Angeles:20250427T200000
DTEND;TZID=America/Los_Angeles:20250427T223000
DTSTAMP:20260423T170955
CREATED:20250406T120548Z
LAST-MODIFIED:20250406T120548Z
UID:14579-1745784000-1745793000@southsoundblues.org
SUMMARY:Robert Cray Band and Ayron Jones at the Tulalip Amphitheatre
DESCRIPTION:Robert Cray Band and Ayron Jones at the Tulalip Amphitheatre April 27th\, 8pm\nRobert Cray © Unknown \n10400 Quil Ceda Blvd\, Marysville\, WA
URL:https://southsoundblues.org/event/robert-cray-band-and-ayron-jones-at-the-tulalip-amphitheatre/
LOCATION:Tulalip Amphitheatre\, 10400 Quil Ceda Blvd\, Marysville\, WA\, 98271
CATEGORIES:Special Event
END:VEVENT
BEGIN:VEVENT
DTSTART;TZID=America/Los_Angeles:20250427T193000
DTEND;TZID=America/Los_Angeles:20250427T223000
DTSTAMP:20260423T170955
CREATED:20250319T010612Z
LAST-MODIFIED:20250319T010737Z
UID:14558-1745782200-1745793000@southsoundblues.org
SUMMARY:The Fabulous Thunderbirds at Jazz Alley
DESCRIPTION:The Fabulous Thunderbirds at Jazz Alley\, April 27th\, 7:30 pm\n\n\n\n\n\n$39.50Includes a $11.00 Handling Fee. All purchases are nonrefundable/nonexchangeable.  https://jazzalley.com/www-home/ \nTickets may be purchased on-line or by phone. Night of show seating typically available. \n\n\nDimitriou’s Jazz Alley welcome quintessential American band The Fabulous Thunderbirds for four nights and six shows. The current lineup includes original member Kim Wilson (lead vocals/harmonica)\, Bob Welsh of Elvin Bishop’s Big Fun Trio (piano/guitar)\, Johnny Moeller (guitar)\, Steve Kirsty (bass)\, Rudy Albin of Sugarman 3\, Lee Fields and The James Hunter 6 (drums)\, TBA (sax) and TBA (trombone). Show times Thursday and Sunday at 7:30pm. Show times Friday and Saturday at 7:30pm and 9:30pm. Doors open at 6:00pm Thursday and 5:30pm Friday – Sunday. This show is supported by KNKX and The Washington Blues Society.
URL:https://southsoundblues.org/event/the-fabulous-thunderbirds-at-jazz-alley/
LOCATION:Dimitriou’s Jazz Alley\, 2033 6th Avenue\, Seattle\, WA\, 98121
CATEGORIES:Featured
END:VEVENT
BEGIN:VEVENT
DTSTART;TZID=America/Los_Angeles:20250427T190000
DTEND;TZID=America/Los_Angeles:20250427T220000
DTSTAMP:20260423T170955
CREATED:20250128T222453Z
LAST-MODIFIED:20250128T222546Z
UID:14243-1745780400-1745791200@southsoundblues.org
SUMMARY:Sunday Blues at the Spar with the Lucky Losers
DESCRIPTION:Sunday Blues at the Spar with the Lucky Losers 7-10 pm\nThe Lucky Losers\, a nationally touring band which has recorded five critically acclaimed albums since 2015. The Lucky Losers are also recent winners of 5 Independent Blues Awards including 2021 Artist Of The Year & Song Of The Year. \nStreaming Link: https://ffm.to/llall\nYouTube Channel:\nhttps://www.youtube.com/TheLuckyLosersSF
URL:https://southsoundblues.org/event/sunday-blues-at-the-spar-with-the-lucky-losers-2/
LOCATION:The Spar\, 2121 N 30th St\, Tacoma\, WA\, 98403
CATEGORIES:Local South Sound Blues
END:VEVENT
BEGIN:VEVENT
DTSTART;TZID=America/Los_Angeles:20250427T140000
DTEND;TZID=America/Los_Angeles:20250427T170000
DTSTAMP:20260423T170955
CREATED:20250113T204740Z
LAST-MODIFIED:20250319T011028Z
UID:14138-1745762400-1745773200@southsoundblues.org
SUMMARY:Washington Blues Society's Best of the Blues Awards Show
DESCRIPTION:2025 “Best of the Blues” Awards Show!  Sunday April 27th\,  time and location TBD                                               https://wablues.org/wbs-best-of-the-blues-awards/\nHonoring achievements in the PNW music community in over 30 categories and induction into the Washington Blues Society Hall of Fame with performances from Select Nominees.\nWashington Blues Society
URL:https://southsoundblues.org/event/washington-blues-societys-best-of-the-blues-awards-show/
LOCATION:Aurora Borealis\, 16708 Aurora Ave N\, Shoreline\, WA\, 98133
CATEGORIES:Special Event
END:VEVENT
BEGIN:VEVENT
DTSTART;TZID=America/Los_Angeles:20250426T190000
DTEND;TZID=America/Los_Angeles:20250426T220000
DTSTAMP:20260423T170955
CREATED:20250406T114531Z
LAST-MODIFIED:20250406T114531Z
UID:14573-1745694000-1745704800@southsoundblues.org
SUMMARY:Mark Hurwitz Gin Creek Trio at Rock the Dock
DESCRIPTION:Mark Hurwitz Gin Creek Trio at Rock the Dock April 26th\, 7pm
URL:https://southsoundblues.org/event/mark-hurwitz-gin-creek-trio-at-rock-the-dock/
LOCATION:Rock the Dock\, 535 Dock St # 118\, Tacoma\, WA\, 98402
CATEGORIES:Local South Sound Blues
END:VEVENT
BEGIN:VEVENT
DTSTART;TZID=America/Los_Angeles:20250426T190000
DTEND;TZID=America/Los_Angeles:20250426T220000
DTSTAMP:20260423T170955
CREATED:20250312T234055Z
LAST-MODIFIED:20250312T234055Z
UID:14463-1745694000-1745704800@southsoundblues.org
SUMMARY:Stonepony at the Spar
DESCRIPTION:Sat\, Apr 26th – Stonepony at the Spar 7-10 pm\n 
URL:https://southsoundblues.org/event/stonepony-at-the-spar/
LOCATION:The Spar\, 2121 N 30th St\, Tacoma\, WA\, 98403
CATEGORIES:Featured
END:VEVENT
END:VCALENDAR