BEGIN:VCALENDAR
VERSION:2.0
PRODID:-//South Sound Blues Association - ECPv6.15.18//NONSGML v1.0//EN
CALSCALE:GREGORIAN
METHOD:PUBLISH
X-WR-CALNAME:South Sound Blues Association
X-ORIGINAL-URL:https://southsoundblues.org
X-WR-CALDESC:Events for South Sound Blues Association
REFRESH-INTERVAL;VALUE=DURATION:PT1H
X-Robots-Tag:noindex
X-PUBLISHED-TTL:PT1H
BEGIN:VTIMEZONE
TZID:America/Los_Angeles
BEGIN:DAYLIGHT
TZOFFSETFROM:-0800
TZOFFSETTO:-0700
TZNAME:PDT
DTSTART:20240310T100000
END:DAYLIGHT
BEGIN:STANDARD
TZOFFSETFROM:-0700
TZOFFSETTO:-0800
TZNAME:PST
DTSTART:20241103T090000
END:STANDARD
BEGIN:DAYLIGHT
TZOFFSETFROM:-0800
TZOFFSETTO:-0700
TZNAME:PDT
DTSTART:20250309T100000
END:DAYLIGHT
BEGIN:STANDARD
TZOFFSETFROM:-0700
TZOFFSETTO:-0800
TZNAME:PST
DTSTART:20251102T090000
END:STANDARD
BEGIN:DAYLIGHT
TZOFFSETFROM:-0800
TZOFFSETTO:-0700
TZNAME:PDT
DTSTART:20260308T100000
END:DAYLIGHT
BEGIN:STANDARD
TZOFFSETFROM:-0700
TZOFFSETTO:-0800
TZNAME:PST
DTSTART:20261101T090000
END:STANDARD
END:VTIMEZONE
BEGIN:VEVENT
DTSTART;TZID=America/Los_Angeles:20250913T190000
DTEND;TZID=America/Los_Angeles:20250913T210000
DTSTAMP:20260423T121419
CREATED:20250825T204326Z
LAST-MODIFIED:20250829T011947Z
UID:15817-1757790000-1757797200@southsoundblues.org
SUMMARY:'The Names' at Johnny's Dock
DESCRIPTION:‘The Names’ at Johnny’s Dock September 13th\, 7-9 pm\n 
URL:https://southsoundblues.org/event/annie-eastwood-allstars-at-johnnys-dock/
LOCATION:Johnny’s Dock\, 1900 E D St\, Tacoma\, WA\, 98421
CATEGORIES:Featured
END:VEVENT
BEGIN:VEVENT
DTSTART;TZID=America/Los_Angeles:20250913T180000
DTEND;TZID=America/Los_Angeles:20250913T200000
DTSTAMP:20260423T121419
CREATED:20250902T005032Z
LAST-MODIFIED:20250902T005032Z
UID:16005-1757786400-1757793600@southsoundblues.org
SUMMARY:Michele D'Amour & The Love Dealers trio at The Keg and I\, Chimacum\, WA
DESCRIPTION:Michele D’Amour & The Love Dealers trio at The Keg and I\, September 13th\, 6-8 pm\n \nThe Keg and I\, 1291 Chimacum Road\, Chimacum\, WA
URL:https://southsoundblues.org/event/michele-damour-the-love-dealers-trio-at-the-keg-and-i-chimacum-wa/
LOCATION:The Keg and I\, 1291 Chimacum Rd.\, Chimacum\, WA\, 98325
CATEGORIES:Featured
END:VEVENT
BEGIN:VEVENT
DTSTART;TZID=America/Los_Angeles:20250912T200000
DTEND;TZID=America/Los_Angeles:20250912T230000
DTSTAMP:20260423T121419
CREATED:20250815T012909Z
LAST-MODIFIED:20250815T012909Z
UID:15700-1757707200-1757718000@southsoundblues.org
SUMMARY:Annie Eastwood & Her All-Star Band Featuring Billy Stapleton at the Salmon Bay Eagles\, Ballard
DESCRIPTION:Annie Eastwood & Her All-Star Band Featuring Billy Stapleton at the Salmon Bay Eagles\, Ballard\, Friday September 12\, 8pm to11pm \n\n 
URL:https://southsoundblues.org/event/annie-eastwood-her-all-star-band-featuring-billy-stapleton-at-the-salmon-bay-eagles-ballard/
LOCATION:Salmon Bay Eagles\, 5216 20th Ave NW\, Seattle\, WA\, 98107
CATEGORIES:Local South Sound Blues
END:VEVENT
BEGIN:VEVENT
DTSTART;TZID=America/Los_Angeles:20250912T190000
DTEND;TZID=America/Los_Angeles:20250912T210000
DTSTAMP:20260423T121419
CREATED:20250501T012304Z
LAST-MODIFIED:20250501T012304Z
UID:14774-1757703600-1757710800@southsoundblues.org
SUMMARY:Billy Shew band at Kimball Coffee House
DESCRIPTION:September 12th\, Billy Shew band at Kimball Coffee House\, 7-9 pm
URL:https://southsoundblues.org/event/billy-shew-band-at-kimball-coffee-house/
LOCATION:Kimball’s Coffeehouse\, 6659 Kimball Dr\, Gig Harbor\, WA\, 98335
CATEGORIES:Local South Sound Blues
END:VEVENT
BEGIN:VEVENT
DTSTART;TZID=America/Los_Angeles:20250911T190000
DTEND;TZID=America/Los_Angeles:20250911T220000
DTSTAMP:20260423T121419
CREATED:20250819T013056Z
LAST-MODIFIED:20250819T013056Z
UID:15757-1757617200-1757628000@southsoundblues.org
SUMMARY:Thursdays Red Dog Saloon Jams\, Maple Valley\, with host Billy Shew
DESCRIPTION:Thursdays Red Dog Saloon Jams\, Maple Valley\, with host Billy Shew\, 7-10 pm
URL:https://southsoundblues.org/event/thursdays-red-dog-saloon-jams-maple-valley-with-host-billy-shew-4/
LOCATION:Red Dog Saloon\, 18605 Renton-Maple Valley Rd\, Maple Valley\, WA\, 98038
CATEGORIES:Local South Sound Blues
END:VEVENT
BEGIN:VEVENT
DTSTART;TZID=America/Los_Angeles:20250911T180000
DTEND;TZID=America/Los_Angeles:20250911T210000
DTSTAMP:20260423T121419
CREATED:20250815T012552Z
LAST-MODIFIED:20250815T012552Z
UID:15698-1757613600-1757624400@southsoundblues.org
SUMMARY:Annie Eastwood & Friends Featuring Kimball Conant at Bad Albert’s Tap & Grill\, Ballard 
DESCRIPTION:Annie Eastwood & Friends Featuring Kimball Conant at Bad Albert’s Tap & Grill\, Ballard\, Thursday September 11th\, 6pm to 9pm
URL:https://southsoundblues.org/event/annie-eastwood-friends-featuring-kimball-conant-at-bad-alberts-tap-grill-ballard-2/
LOCATION:Bad Albert’s\, 5100 Ballard Avenue Northwest\, Seattle\, WA\, 98107
CATEGORIES:Featured
END:VEVENT
BEGIN:VEVENT
DTSTART;VALUE=DATE:20250911
DTEND;VALUE=DATE:20250916
DTSTAMP:20260423T121419
CREATED:20250420T013853Z
LAST-MODIFIED:20250420T013853Z
UID:14724-1757556000-1757901599@southsoundblues.org
SUMMARY:Sunbanks Rock Festival
DESCRIPTION:Sunbanks Rock Festival\, September 11-14th 2025  http://www.sunbanksfestival.com/
URL:https://southsoundblues.org/event/sunbanks-rock-festival/
LOCATION:Sunbanks Resort\, 57662 Hwy 155 N\, Electric City\, WA\, 99123
CATEGORIES:Festival
END:VEVENT
BEGIN:VEVENT
DTSTART;TZID=America/Los_Angeles:20250910T193000
DTEND;TZID=America/Los_Angeles:20250910T213000
DTSTAMP:20260423T121419
CREATED:20250819T014719Z
LAST-MODIFIED:20250819T014753Z
UID:15761-1757532600-1757539800@southsoundblues.org
SUMMARY:Walter Trout at Dimitriou's Jazz Alley
DESCRIPTION:Walter Trout Wednesday  September 10th 7:30pm – 9:30pm \n\n\n\n\n\nDimitriou’s Jazz Alley\, 2033 6th Ave\, Seattle\, WA 98121\, USA  \n\n\n \n\nWalter Trout\n\n\nTue\, Sep 9th -Wed\, Sep 10\, 2025\nChoose a Performance Tue\, Sep 9\, 2025 7:30 PM Wed\, Sep 10\, 2025 7:30 PM \n\n\n$39.50 Includes a $11.00 Handling Fee. All purchases are nonrefundable/nonexchangeable. \nTickets may be purchased on-line or by phone.\nNight of show seating typically available. \n\n\nDimitriou’s Jazz Alley welcomes Billboard Chart-topping iconic blues-rock guitarist and vocalist Walter Trout touring in support of his new release Broken for two nights and two shows. Band members are: Walter Trout (guitar/vocals)\, Richard T. Bear (keys)\, Michael Leasure (drums) and John Avila (bass). Show times Tuesday and Wednesday at 7:30pm. Doors open at 6:00pm. This show is supported by the Washington Blues Society.\n\n 
URL:https://southsoundblues.org/event/walter-trout-at-dimitrious-jazz-alley/
LOCATION:Dimitriou’s Jazz Alley\, 2033 6th Avenue\, Seattle\, WA\, 98121
CATEGORIES:Featured
END:VEVENT
BEGIN:VEVENT
DTSTART;TZID=America/Los_Angeles:20250910T180000
DTEND;TZID=America/Los_Angeles:20250910T210000
DTSTAMP:20260423T121419
CREATED:20250828T012440Z
LAST-MODIFIED:20250828T012440Z
UID:15843-1757527200-1757538000@southsoundblues.org
SUMMARY:Wednesday Night Jams at Stockton's with Billy Shew & Friends
DESCRIPTION:Wednesday Night Jams at Stockton’s with Billy Shew & Friends\, 6-9 pm\n  \n  \nStocktons 23220 Msaple Valley Black diamond road se Maple valley Wa 98038
URL:https://southsoundblues.org/event/wednesday-night-jams-at-stocktons-with-billy-shew-friends/
LOCATION:Stockton’s Restaurant & Spirits\, 23220 Maple Valley Black Diamond Rd SE\, Maple Valley\, WA\, 98038
CATEGORIES:Local South Sound Blues
END:VEVENT
BEGIN:VEVENT
DTSTART;TZID=America/Los_Angeles:20250910T180000
DTEND;TZID=America/Los_Angeles:20250910T210000
DTSTAMP:20260423T121419
CREATED:20250815T015425Z
LAST-MODIFIED:20250815T015425Z
UID:15709-1757527200-1757538000@southsoundblues.org
SUMMARY:Wednesday Funky Jazz at the Spar
DESCRIPTION:Wednesday Funky Jazz at the Spar 6-9 pm
URL:https://southsoundblues.org/event/wednesday-funky-jazz-at-the-spar-6/
LOCATION:WA
CATEGORIES:Featured
END:VEVENT
BEGIN:VEVENT
DTSTART;TZID=America/Los_Angeles:20250909T190000
DTEND;TZID=America/Los_Angeles:20250909T220000
DTSTAMP:20260423T121419
CREATED:20250831T224153Z
LAST-MODIFIED:20250831T224153Z
UID:15864-1757444400-1757455200@southsoundblues.org
SUMMARY:Billy Shew hosts the Burien Eagles Tuesday Night Jams
DESCRIPTION:Billy Shew hosts the Burien Eagles Tuesday Night Jams\,  7:00pm
URL:https://southsoundblues.org/event/billy-shew-hosts-the-burien-eagles-tuesday-night-jams-16/
LOCATION:Burien Eagles\, 920 SW 150th St\, Burien\, WA\, 98166
CATEGORIES:Local South Sound Blues
END:VEVENT
BEGIN:VEVENT
DTSTART;TZID=America/Los_Angeles:20250909T190000
DTEND;TZID=America/Los_Angeles:20250909T213000
DTSTAMP:20260423T121419
CREATED:20250617T225527Z
LAST-MODIFIED:20250617T225527Z
UID:15197-1757444400-1757453400@southsoundblues.org
SUMMARY:The Washington Blues Society Blues Bash at Aurora Borealis\, Shoreline
DESCRIPTION:The Washington Blues Society Blues Bash at Aurora Borealis  16708 Aurora Ave N Shoreline. The Second Tuesday of each month   7 – 930 PM\, FREE – ALL AGES – Public Always Welcome
URL:https://southsoundblues.org/event/the-washington-blues-society-blues-bash-at-aurora-borealis-shoreline-2/
LOCATION:Aurora Borealis\, 16708 Aurora Ave N\, Shoreline\, WA\, 98133
CATEGORIES:Featured
END:VEVENT
BEGIN:VEVENT
DTSTART;TZID=America/Los_Angeles:20250908T180000
DTEND;TZID=America/Los_Angeles:20250908T210000
DTSTAMP:20260423T121419
CREATED:20250819T000329Z
LAST-MODIFIED:20250819T000329Z
UID:15735-1757354400-1757365200@southsoundblues.org
SUMMARY:Monday Jazz at Brother Don’s Bar & Grill\, Bremerton
DESCRIPTION:Monday Jazz at Brother Don’s Bar & Grill\, Bremerton\, 6-9 pm
URL:https://southsoundblues.org/event/monday-jazz-at-brother-dons-bar-grill-bremerton-21/
LOCATION:Brother Don’s Bar & Grill\, 4200 Kitsap Way\, Bremerton\, WA\, 98312
CATEGORIES:Featured
END:VEVENT
BEGIN:VEVENT
DTSTART;TZID=America/Los_Angeles:20250907T190000
DTEND;TZID=America/Los_Angeles:20250907T220000
DTSTAMP:20260423T121419
CREATED:20250825T190843Z
LAST-MODIFIED:20250825T190843Z
UID:15789-1757271600-1757282400@southsoundblues.org
SUMMARY:Sunday Blues at the Spar with Piper & The Hard Times Band
DESCRIPTION:LTD Presents Sunday Blues at the Spar with Piper & The Hard Times Band September 7th\, 7-10 pm\n 
URL:https://southsoundblues.org/event/sunday-blues-at-the-spar-with-piper-the-hard-times-band/
LOCATION:The Spar\, 2121 N 30th St\, Tacoma\, WA\, 98403
CATEGORIES:Local South Sound Blues
END:VEVENT
BEGIN:VEVENT
DTSTART;TZID=America/Los_Angeles:20250907T180000
DTEND;TZID=America/Los_Angeles:20250907T210000
DTSTAMP:20260423T121419
CREATED:20250718T223634Z
LAST-MODIFIED:20250818T235026Z
UID:15469-1757268000-1757278800@southsoundblues.org
SUMMARY:Tim Hall Blues Jam every Sunday at Zesty’s Steakhouse
DESCRIPTION:Tim Hall Blues Jam every Sunday at Zesty’s Steakhouse\, 6-9pm
URL:https://southsoundblues.org/event/tim-hall-blues-jam-every-sunday-at-zestys-steakhouse-5/
LOCATION:Zesty’s Cajun Steakhouse\, 9905 Bridgeport Way Southwest\, Lakewood\, WA\, 98499
CATEGORIES:Local South Sound Blues
END:VEVENT
BEGIN:VEVENT
DTSTART;TZID=America/Los_Angeles:20250907T110000
DTEND;TZID=America/Los_Angeles:20250907T140000
DTSTAMP:20260423T121419
CREATED:20250815T012145Z
LAST-MODIFIED:20250815T012145Z
UID:15696-1757242800-1757253600@southsoundblues.org
SUMMARY:Kimball & The Fugitives with Annie Eastwood at Mercer Island Farmers Market
DESCRIPTION:Kimball & The Fugitives with Annie Eastwood at Mercer Island Farmers Market September 7th\, 11am-2pm
URL:https://southsoundblues.org/event/kimball-the-fugitives-with-annie-eastwood-at-mercer-island-farmers-market/
LOCATION:Mercer Island Sunday Market\, 7700 SE 32nd St\, Mercer Island\, WA\, 98040
CATEGORIES:Featured
END:VEVENT
BEGIN:VEVENT
DTSTART;TZID=America/Los_Angeles:20250906T200000
DTEND;TZID=America/Los_Angeles:20250906T230000
DTSTAMP:20260423T121419
CREATED:20250409T002759Z
LAST-MODIFIED:20250409T002759Z
UID:14618-1757188800-1757199600@southsoundblues.org
SUMMARY:Billy Shew Band at Rock the Dock
DESCRIPTION:Billy Shew Band at Rock the Dock September 6th\, 8-11 pm
URL:https://southsoundblues.org/event/billy-shew-band-at-rock-the-dock-4/
LOCATION:Rock the Dock\, 535 Dock St # 118\, Tacoma\, WA\, 98402
END:VEVENT
BEGIN:VEVENT
DTSTART;TZID=America/Los_Angeles:20250906T190000
DTEND;TZID=America/Los_Angeles:20250906T220000
DTSTAMP:20260423T121419
CREATED:20250906T232925Z
LAST-MODIFIED:20250906T232925Z
UID:16051-1757185200-1757196000@southsoundblues.org
SUMMARY:Nolan Garrett at the Spar
DESCRIPTION:Tacoma’s own Nolan Garrett will take the stage at The Spar this Saturday\, September 6\, at 7 p.m.\n“Garrett’s musical path is a full-circle journey full of adventure and nostalgia. As a child in Tacoma\, he picked up the guitar at eight\, writing his first song at nine inspired by a Dr. Seuss tale. In one of his earliest gigs\, he performed “Folsom Prison Blues” in front of a crowd of 200—his first audience outside of family. Between ages nine and sixteen\, he relentlessly gigged\, wrote\, toured the Pacific Northwest\, and even opened for acts like Chris Isaak at a sold-out show at Chateau St. Michelle”. \nBY SUZY STUMP for WEEKLY VOLCANO
URL:https://southsoundblues.org/event/nolan-garrett-at-the-spar/
LOCATION:The Spar\, 2121 N 30th St\, Tacoma\, WA\, 98403
CATEGORIES:Featured
END:VEVENT
BEGIN:VEVENT
DTSTART;TZID=America/Los_Angeles:20250906T190000
DTEND;TZID=America/Los_Angeles:20250906T210000
DTSTAMP:20260423T121419
CREATED:20250825T203819Z
LAST-MODIFIED:20250825T203819Z
UID:15815-1757185200-1757192400@southsoundblues.org
SUMMARY:HiWay16 Blues Band at Johnny's Dock
DESCRIPTION:HiWay16 Blues Band at Johnny’s Dock September 6th 7-9 pm\n  \n 
URL:https://southsoundblues.org/event/hiway16-blues-band-at-johnnys-dock/
LOCATION:Johnny’s Dock\, 1900 E D St\, Tacoma\, WA\, 98421
CATEGORIES:Local South Sound Blues
END:VEVENT
BEGIN:VEVENT
DTSTART;TZID=America/Los_Angeles:20250906T180000
DTEND;TZID=America/Los_Angeles:20250906T180000
DTSTAMP:20260423T121419
CREATED:20250810T193743Z
LAST-MODIFIED:20250810T193743Z
UID:15683-1757181600-1757181600@southsoundblues.org
SUMMARY:ALL BLUES all night long from KNKX 88.5 radio
DESCRIPTION:ALL BLUES all night long from KNKX radio\, 6-Midnight\n\n\nhttps://www.knkx.org/listening-options
URL:https://southsoundblues.org/event/all-blues-all-night-long-from-knkx-88-5-radio/
LOCATION:WA
CATEGORIES:Featured
END:VEVENT
BEGIN:VEVENT
DTSTART;TZID=America/Los_Angeles:20250906T150000
DTEND;TZID=America/Los_Angeles:20250906T200000
DTSTAMP:20260423T121419
CREATED:20250815T005148Z
LAST-MODIFIED:20250815T011825Z
UID:15690-1757170800-1757188800@southsoundblues.org
SUMMARY:The Lonely Hearts Club - Beatles Tribute\, "Rock The Barn #3"- fundraiser\, at Barn Stars Animal Rescue- Woodinville
DESCRIPTION:The Lonely Hearts Club – Beatles Tribute\, Rock The Barn #3\, fundraising event\, September 6th\, 3-8pm\n\nRock the Barn 2025: All They Need Is Love\n\n\n\nOn Saturday\, September 6th\, from 3 PM to 8 PM\, we will be hosting our THIRD Farm Fest fundraiser for the animals at our farm in the Maltby area! In addition to the live band\, Off the Vine Catering will\, once again\, be serving their off-the-hook delectable bites. There will be a rousing silent auction & raffle as well as a wine & beer bar to liven up your dancing shoes.\nBarn Stars Animal Rescue\, General Admission: $100\, https://barnstarsanimalrescue.org/events/ \n(360) 668-0693   Call for more details \nhttps://www.zeffy.com/en-US/ticketing/rock-the-barn-all-they-need-is-love \nLocation: 10216 219th St SE\, Snohomish\, WA 98296\nat the farm in the Maltby area of Snohomish County\, Washington
URL:https://southsoundblues.org/event/the-lonely-hearts-club-beatles-tribute-rock-the-barn-3-fundraiser-woodinville/
LOCATION:Barn Stars Animal Rescue\, 10216 219th St SE\, Snohomish\, WA\, 98296
CATEGORIES:Special Event
END:VEVENT
BEGIN:VEVENT
DTSTART;TZID=America/Los_Angeles:20250906T140000
DTEND;TZID=America/Los_Angeles:20250906T200000
DTSTAMP:20260423T121420
CREATED:20250830T215457Z
LAST-MODIFIED:20250830T215457Z
UID:15851-1757167200-1757188800@southsoundblues.org
SUMMARY:Boots on the Ground Blues Street Festival at Jazz's
DESCRIPTION:BOOTS ON THE GROUND BLUES STREET FESTIVAL Tacoma\, it’s time to turn up the soul and stomp the streets!Join the fun at Jazzy’s Event Center for a day of music\, food\, and unforgettable vibes!\n\n Saturday\, September 6th 2 PM – 8 PM 3701 S Lawrence St.\, Tacoma\, WA\n\n Live Performances By: OB Buchanan – National Blues Legend\nBorn in Mound Bayou\, Mississippi\, Buchanan spent his childhood in Clarksdale. O.B. began singing when he was only 8 in the gospel choir at his Baptist church. By the time he was a teenager the gospel group Mighty Suns Of God selected him to be their lead singer. In the early 1990’s O.B. signed with the record label Blue River and he recorded his first hit single “Back Up Lover”. His first disc “It’s Over” followed to critical acclaim. Next he signed with Suzie Q Records for “I Got Caught”. His career has truly taken off after signing with Ecko Records\n DJ Smooth T Lady Vee Michael Hershman\n Food Trucks |  Local Vendors |  21+ Beer Garden\n TICKET INFO: Early Bird (Aug 1–15): Just $25 After Aug 15: $30 At the Gate: $35 Grab yours now at www.Jazzys.cafe
URL:https://southsoundblues.org/event/boots-on-the-ground-blues-street-festival-at-jazzs/
LOCATION:Jazzy’s Cafe\, 3701 S Lawrence St.\, Tacoma\, WA\, 98409
CATEGORIES:Festival
END:VEVENT
BEGIN:VEVENT
DTSTART;TZID=America/Los_Angeles:20250905T203000
DTEND;TZID=America/Los_Angeles:20250905T230000
DTSTAMP:20260423T121420
CREATED:20250904T203243Z
LAST-MODIFIED:20250904T203243Z
UID:16018-1757104200-1757113200@southsoundblues.org
SUMMARY:Trailer Park Kings at The Oxford Saloon
DESCRIPTION:September 5th – Trailer Park Kings are at The Oxford Saloon\, 8:30pm
URL:https://southsoundblues.org/event/trailer-park-kings-at-the-oxford-saloon/
LOCATION:Oxford Saloon\, 913 1st St\, Snohomish\, WA\, 98290
CATEGORIES:Featured
END:VEVENT
BEGIN:VEVENT
DTSTART;TZID=America/Los_Angeles:20250905T203000
DTEND;TZID=America/Los_Angeles:20250905T220000
DTSTAMP:20260423T121420
CREATED:20250806T220548Z
LAST-MODIFIED:20250806T220548Z
UID:15637-1757104200-1757109600@southsoundblues.org
SUMMARY:Joel Astley Band at Bake's Place\, Bellevue
DESCRIPTION:Joel Astley Band at Bake’s Place September 5th\, 8:30 pm
URL:https://southsoundblues.org/event/joel-astley-band-at-bakes-place-bellevue/
LOCATION:Bake’s Place\, 155 108th Ave NE Ste 110\, Bellevue\, WA\, 98004
CATEGORIES:Local South Sound Blues
END:VEVENT
BEGIN:VEVENT
DTSTART;TZID=America/Los_Angeles:20250905T190000
DTEND;TZID=America/Los_Angeles:20250905T210000
DTSTAMP:20260423T121420
CREATED:20250825T215014Z
LAST-MODIFIED:20250825T215641Z
UID:15837-1757098800-1757106000@southsoundblues.org
SUMMARY:Rod Cook & Toast at the Crossroads
DESCRIPTION:Rod Cook & Toast at the Crossroads September 5th 7-9 pm\n 
URL:https://southsoundblues.org/event/rod-cook-toast-at-the-crossroads/
LOCATION:Crossroads Market Stage\, 15600 NE 8th St\, Bellevue\, WA\, 98008
CATEGORIES:Local South Sound Blues
END:VEVENT
BEGIN:VEVENT
DTSTART;TZID=America/Los_Angeles:20250905T190000
DTEND;TZID=America/Los_Angeles:20250905T210000
DTSTAMP:20260423T121420
CREATED:20250719T002311Z
LAST-MODIFIED:20250719T002311Z
UID:15514-1757098800-1757106000@southsoundblues.org
SUMMARY:Billy Stapleton’s POWERHOUSE at Kimball Coffeehouse\, Gig Harbor
DESCRIPTION:Billy Stapleton’s POWERHOUSE with the great Don Wilhelm on lead vocals and bass\, Mr. Rhythm\, Steve Peterson on drums and vocals and Guitar slinger Billy Stapleton on lead and slide guitar. Rock\, Blues\, Soul\, Jazz\, many styles tightly performed for your listening and dancing pleasure\, see you there!!!***Kimball Coffeehouse – Doors Open at 6pm – Music Starts at 7pm
URL:https://southsoundblues.org/event/billy-stapletons-powerhouse-at-kimball-coffeehouse-gig-harbor/
LOCATION:Kimball’s Coffeehouse\, 6659 Kimball Dr\, Gig Harbor\, WA\, 98335
CATEGORIES:Local South Sound Blues
END:VEVENT
BEGIN:VEVENT
DTSTART;VALUE=DATE:20250905
DTEND;VALUE=DATE:20250909
DTSTAMP:20260423T121420
CREATED:20250710T201038Z
LAST-MODIFIED:20250710T201038Z
UID:15387-1757037600-1757296799@southsoundblues.org
SUMMARY:Mukilteo Lighthouse Festival at Light House Park\, Mukilteo
DESCRIPTION:Mukilteo Lighthouse Festival\n\n\n\n \n\n\nFriday Sept 5th 4pm – 10pm | Saturday Sept 6th 11am-10pm | Sunday Sept 7th 11am-5pm\n\n\n\n\nCome enjoy music from local bands\, with beer\, wine\, hard cider and seltzer available. This is a 21+ event – please be prepared to present ID. No animals. No Children. No outside drinks. \n\nTickets available at the gate – no presale.\n$8 admission/cover charge\nBeer/wine/cider/seltzer tickets can be purchased for $8 each.\n\nSept 5th from 4-6pm – SEAHAWKS Blue Friday\, FREE entry for anyone wearing Seahawks Gear\nSept 7th from 11-5pm – Slow Sip’n Mimosa Sunday – Come enjoy Live Music other main stage entertainment while Sip’n on some Mimosa’s. We will be giving away prizes every 30 mins in the Beer Garden from 11-4pm.
URL:https://southsoundblues.org/event/mukilteo-lighthouse-festival-at-light-house-park-mukilteo/
LOCATION:Light House Park\, 608 Front St\, Mukilteo\, WA\, 98275
CATEGORIES:Festival
END:VEVENT
BEGIN:VEVENT
DTSTART;TZID=America/Los_Angeles:20250904T190000
DTEND;TZID=America/Los_Angeles:20250904T210000
DTSTAMP:20260423T121420
CREATED:20250607T234118Z
LAST-MODIFIED:20250607T234118Z
UID:15037-1757012400-1757019600@southsoundblues.org
SUMMARY:Tune into Thursdays “Bluesland” radio show with Leo Schumaker KMRE 88.3 FM
DESCRIPTION:Tune into Thursdays “Bluesland” radio show with Leo Schumaker 7-9 pm on KMRE 88.3 FM
URL:https://southsoundblues.org/event/tune-into-thursdays-bluesland-radio-show-with-leo-schumaker-kmre-88-3-fm/
LOCATION:WA
CATEGORIES:Featured
END:VEVENT
BEGIN:VEVENT
DTSTART;TZID=America/Los_Angeles:20250904T180000
DTEND;TZID=America/Los_Angeles:20250904T210000
DTSTAMP:20260423T121420
CREATED:20250825T214752Z
LAST-MODIFIED:20250825T214752Z
UID:15835-1757008800-1757019600@southsoundblues.org
SUMMARY:Dusty 45's featuring Rod Cook at Tim's Tavern
DESCRIPTION:Dusty 45’s featuring Rod Cook at Tim’s Tavern September 4th\, 6-9 pm\n 
URL:https://southsoundblues.org/event/dusty-45s-featuring-rod-cook-at-tims-tavern/
LOCATION:Tims Tavern\, 9655 16th Av Sw\, Seattle\, WA\, 98106
CATEGORIES:Local South Sound Blues
END:VEVENT
BEGIN:VEVENT
DTSTART;TZID=America/Los_Angeles:20250904T180000
DTEND;TZID=America/Los_Angeles:20250904T210000
DTSTAMP:20260423T121420
CREATED:20250710T202022Z
LAST-MODIFIED:20250710T202022Z
UID:15390-1757008800-1757019600@southsoundblues.org
SUMMARY:Blues night Thursdays at The Spot\, West Seattle
DESCRIPTION:Blues night Thursdays at The Spot with great local musical talent. \nOld school Delta style blues\, 6- 9 pm
URL:https://southsoundblues.org/event/blues-night-thursdays-at-the-spot-west-seattle-5/
LOCATION:The Spot\, West Seattle\, 2920 SW Avalon Way\, Seattle\, WA\, 98126
CATEGORIES:Local South Sound Blues
END:VEVENT
END:VCALENDAR