BEGIN:VCALENDAR
VERSION:2.0
PRODID:-//South Sound Blues Association - ECPv6.15.18//NONSGML v1.0//EN
CALSCALE:GREGORIAN
METHOD:PUBLISH
X-ORIGINAL-URL:https://southsoundblues.org
X-WR-CALDESC:Events for South Sound Blues Association
REFRESH-INTERVAL;VALUE=DURATION:PT1H
X-Robots-Tag:noindex
X-PUBLISHED-TTL:PT1H
BEGIN:VTIMEZONE
TZID:America/Los_Angeles
BEGIN:DAYLIGHT
TZOFFSETFROM:-0800
TZOFFSETTO:-0700
TZNAME:PDT
DTSTART:20240310T100000
END:DAYLIGHT
BEGIN:STANDARD
TZOFFSETFROM:-0700
TZOFFSETTO:-0800
TZNAME:PST
DTSTART:20241103T090000
END:STANDARD
BEGIN:DAYLIGHT
TZOFFSETFROM:-0800
TZOFFSETTO:-0700
TZNAME:PDT
DTSTART:20250309T100000
END:DAYLIGHT
BEGIN:STANDARD
TZOFFSETFROM:-0700
TZOFFSETTO:-0800
TZNAME:PST
DTSTART:20251102T090000
END:STANDARD
BEGIN:DAYLIGHT
TZOFFSETFROM:-0800
TZOFFSETTO:-0700
TZNAME:PDT
DTSTART:20260308T100000
END:DAYLIGHT
BEGIN:STANDARD
TZOFFSETFROM:-0700
TZOFFSETTO:-0800
TZNAME:PST
DTSTART:20261101T090000
END:STANDARD
END:VTIMEZONE
BEGIN:VEVENT
DTSTART;TZID=America/Los_Angeles:20251122T180000
DTEND;TZID=America/Los_Angeles:20251122T200000
DTSTAMP:20260423T134938
CREATED:20251105T022718Z
LAST-MODIFIED:20251105T022718Z
UID:16489-1763834400-1763841600@southsoundblues.org
SUMMARY:Michele D'Amour & the Love Dealers trio at The Keg and I\, Olalla
DESCRIPTION:Michele D’Amour & the Love Dealers trio at The Keg and I November 22nd\, 6-8 pm\n  \n  \n 
URL:https://southsoundblues.org/event/michele-damour-the-love-dealers-trio-at-the-keg-and-i-olalla/
LOCATION:The Keg and I\, 1291 Chimacum Rd.\, Chimacum\, WA\, 98325
CATEGORIES:Featured
END:VEVENT
BEGIN:VEVENT
DTSTART;TZID=America/Los_Angeles:20251122T180000
DTEND;TZID=America/Los_Angeles:20251122T223000
DTSTAMP:20260423T134938
CREATED:20250824T005532Z
LAST-MODIFIED:20250824T005532Z
UID:15781-1763834400-1763850600@southsoundblues.org
SUMMARY:Samantha Fish at the Crocodile\, Seattle
DESCRIPTION:Samantha Fish at the Crocodile November 22nd\, 6 pm
URL:https://southsoundblues.org/event/samantha-fish-at-the-crocodile-seattle/
LOCATION:Crocodile\, 2200 2nd Ave\, Seattle\, WA\, 98121
CATEGORIES:Featured
END:VEVENT
BEGIN:VEVENT
DTSTART;TZID=America/Los_Angeles:20251122T200000
DTEND;TZID=America/Los_Angeles:20251122T230000
DTSTAMP:20260423T134938
CREATED:20250501T012544Z
LAST-MODIFIED:20250501T012544Z
UID:14776-1763841600-1763852400@southsoundblues.org
SUMMARY:Billy Shew and the Sole Providers at Rock the Dock
DESCRIPTION:November 22nd\, Billy Shew and the Sole Providers at Rock the Dock\, 8:00 PM
URL:https://southsoundblues.org/event/billy-shew-and-the-sole-providers-at-rock-the-dock/
LOCATION:Rock the Dock\, 535 Dock St # 118\, Tacoma\, WA\, 98402
CATEGORIES:Featured
END:VEVENT
BEGIN:VEVENT
DTSTART;TZID=America/Los_Angeles:20251122T200000
DTEND;TZID=America/Los_Angeles:20251122T230000
DTSTAMP:20260423T134938
CREATED:20251007T010502Z
LAST-MODIFIED:20251007T010659Z
UID:16217-1763841600-1763852400@southsoundblues.org
SUMMARY:Rod Cook & Toast at the Salmon Bay Eagles\, Seattle
DESCRIPTION:Rod Cook & Toast at the Salmon Bay Eagles November 22nd\, 8-11pm\n\n\n\n\nRod Cook and Toast has been thrilling audiences around the Pacific NW for over twenty-five years performing an eclectic mix of American roots music based in but not restricted to blues. The band consists of Rod Cook\, guitar\, vocals; Jon Bayless\, bass\, vocals and Chris Leighton\, drums. All three members have an extensive resume and are well respected throughout the Northwest music community. Rod Cook\, apart from his work with Toast\, has played and/or recorded with former Mercury recording artist\, Laura Love\, NBC’s The Voice Finalist Vicci Martinez\, former Steve Miller Band member the late James “Curley” Cooke\, Northwest Blues and Rock and Roll icon Little Bill Englehart\, The Dusty 45s\, in addition to many other musical endeavors. Jon Bayless is known for his work as bassist with Rock and Roll Hall of Famers\, Heart\, in addition to holding down the groove with countless bands in the Northwest. Chris Leighton also has played with too many Northwest bands to count in the last forty years as well as national acts Randy Bachmann and Laura Love. The band has recorded two albums\, 1998’s “I Ain’t The Fool” and 2006’s “Troublemaker.” Toast offers an energetic mix of originals and covers encompassing a wide variety of styles.
URL:https://southsoundblues.org/event/rod-cook-toast-at-the-salmon-bay-eagles-seattle/
LOCATION:Salmon Bay Eagles\, 5216 20th Ave NW\, Seattle\, WA\, 98107
CATEGORIES:Local South Sound Blues
END:VEVENT
BEGIN:VEVENT
DTSTART;TZID=America/Los_Angeles:20251122T200000
DTEND;TZID=America/Los_Angeles:20251122T230000
DTSTAMP:20260423T134938
CREATED:20251030T193128Z
LAST-MODIFIED:20251030T193128Z
UID:16348-1763841600-1763852400@southsoundblues.org
SUMMARY:The 'Names' at Dawson's
DESCRIPTION:The ‘Names’ at Dawson’s November 22nd\, 8-11 pm\n 
URL:https://southsoundblues.org/event/the-names-at-dawsons/
LOCATION:Dawson’s Bar & Grill\, 5443 South Tacoma Way\, Tacoma\, WA\, 98409
CATEGORIES:Featured
END:VEVENT
BEGIN:VEVENT
DTSTART;TZID=America/Los_Angeles:20251123T170000
DTEND;TZID=America/Los_Angeles:20251123T183000
DTSTAMP:20260423T134938
CREATED:20251102T234631Z
LAST-MODIFIED:20251102T234908Z
UID:16441-1763917200-1763922600@southsoundblues.org
SUMMARY:Blues Vespers featuring the John Kessler Band at Kilworth Memorial Chapel\, UPS\, Tacoma
DESCRIPTION:Blues Vespers featuring the John Kessler Band at Kilworth Memorial Chapel\, UPS\, Tacoma at 5pm\nA little Jazzy Blues Vespers. John Kessler’s band makes its south sound debut November 23rd.
URL:https://southsoundblues.org/event/blues-vespers-featuring-the-john-kessler-band-at-kilworth-memorial-chapel-ups-tacoma/
LOCATION:Kilworth Memorial Chapel\, 3410 N 18th St\, Tacoma\, WA\, 98416
CATEGORIES:Featured
END:VEVENT
BEGIN:VEVENT
DTSTART;TZID=America/Los_Angeles:20251123T180000
DTEND;TZID=America/Los_Angeles:20251123T210000
DTSTAMP:20260423T134938
CREATED:20250901T191306Z
LAST-MODIFIED:20250901T191339Z
UID:15988-1763920800-1763931600@southsoundblues.org
SUMMARY:Tim Hall Blues Jam every Sunday at Zesty’s Steakhouse
DESCRIPTION:Tim Hall Blues Jam every Sunday at Zesty’s Steakhouse\, 6-9pm
URL:https://southsoundblues.org/event/tim-hall-blues-jam-every-sunday-at-zestys-steakhouse-13/
LOCATION:Zesty’s Cajun Steakhouse\, 9905 Bridgeport Way Southwest\, Lakewood\, WA\, 98499
CATEGORIES:Local South Sound Blues
END:VEVENT
BEGIN:VEVENT
DTSTART;TZID=America/Los_Angeles:20251123T180000
DTEND;TZID=America/Los_Angeles:20251123T210000
DTSTAMP:20260423T134938
CREATED:20251017T202929Z
LAST-MODIFIED:20251017T202929Z
UID:16255-1763920800-1763931600@southsoundblues.org
SUMMARY:FRIENDS GIVING SHOW at Jazzbones- Erina McLaren & Friends including The James Coates Band at Jazzbones\, Tacoma
DESCRIPTION:FRIENDS GIVING SHOW at Jazzbones- Erina McLaren & Friends including The James Coates Band Sunday November 23rd. doors/5pm\, Show/6pm\nhttps://tickets.venuepilot.com/e/erina-mclaren-james-coates-kurt-lindsay-2025-11-23-jazzbones-tacoma-dc2c6e\n\nMinimum age:21 and over  $21.61
URL:https://southsoundblues.org/event/friends-giving-show-at-jazzbones-erina-mclaren-friends-including-the-james-coates-band-at-jazzbones-tacoma/
LOCATION:Jazzbones\, 2803 6th Ave\, Tacoma\, WA\, 98406
CATEGORIES:Featured
END:VEVENT
BEGIN:VEVENT
DTSTART;TZID=America/Los_Angeles:20251123T190000
DTEND;TZID=America/Los_Angeles:20251123T220000
DTSTAMP:20260423T134938
CREATED:20250718T231823Z
LAST-MODIFIED:20251102T222625Z
UID:15497-1763924400-1763935200@southsoundblues.org
SUMMARY:Sunday Blues at the Spar featuring Big Road Blues
DESCRIPTION:Sunday Blues at the Spar 7-10 pm featuring Big Road Blues\n 
URL:https://southsoundblues.org/event/sunday-blues-at-the-spar-40/
LOCATION:The Spar\, 2121 N 30th St\, Tacoma\, WA\, 98403
CATEGORIES:Featured
END:VEVENT
BEGIN:VEVENT
DTSTART;TZID=America/Los_Angeles:20251124T200000
DTEND;TZID=America/Los_Angeles:20251124T220000
DTSTAMP:20260423T134938
CREATED:20250831T234603Z
LAST-MODIFIED:20250831T234603Z
UID:15910-1764014400-1764021600@southsoundblues.org
SUMMARY:Mike Witmer hosts “Mojo Mike’s Blues Revue” every Monday on KVSH 101.9 FM
DESCRIPTION:Mike Witmer hosts “Mojo Mike’s Blues Revue” every Monday on KVSH 101.9 FM\, 8-10 pm
URL:https://southsoundblues.org/event/mike-witmer-hosts-mojo-mikes-blues-revue-every-monday-on-kvsh-101-9-fm-45/
LOCATION:KVSH\, 17643 Vashon Hwy SW\, Vashon Island\, WA\, 98070
CATEGORIES:Local South Sound Blues
END:VEVENT
BEGIN:VEVENT
DTSTART;TZID=America/Los_Angeles:20251125T190000
DTEND;TZID=America/Los_Angeles:20251125T210000
DTSTAMP:20260423T134938
CREATED:20251029T233755Z
LAST-MODIFIED:20251029T233755Z
UID:16313-1764097200-1764104400@southsoundblues.org
SUMMARY:SSBA "Tuesday Blues Showcase" at Purdy's Public House\, Sumner\, Featuring The CD Woodbury Trio
DESCRIPTION:South Sound Blues Association “Tuesday Blues Showcase” at Purdy’s Public House November 25th\, 7-9 pm featuring The CD Woodbury Trio!
URL:https://southsoundblues.org/event/ssba-tuesday-blues-showcase-at-purdys-public-house-sumner-featuring-the-cd-woodbury-trio/
LOCATION:Purdy’s Public House & Arcade\, 16202 64th St E\, Sumner\, WA\, 98390
CATEGORIES:Local South Sound Blues,SSBA Event
END:VEVENT
BEGIN:VEVENT
DTSTART;TZID=America/Los_Angeles:20251125T190000
DTEND;TZID=America/Los_Angeles:20251125T220000
DTSTAMP:20260423T134938
CREATED:20250831T231241Z
LAST-MODIFIED:20250831T231241Z
UID:15886-1764097200-1764108000@southsoundblues.org
SUMMARY:Jam every Tuesday at Brother Don’s Bar & Grill with the Tim Hall band
DESCRIPTION:Jam every Tuesday at Brother Don’s Bar & Grill with the Tim Hall band\, 7-10 pm.
URL:https://southsoundblues.org/event/jam-every-tuesday-at-brother-dons-bar-grill-with-the-tim-hall-band-21/
LOCATION:Brother Don’s Bar & Grill\, 4200 Kitsap Way\, Bremerton\, WA\, 98312
CATEGORIES:Local South Sound Blues
END:VEVENT
BEGIN:VEVENT
DTSTART;TZID=America/Los_Angeles:20251126T180000
DTEND;TZID=America/Los_Angeles:20251126T210000
DTSTAMP:20260423T134938
CREATED:20251110T002918Z
LAST-MODIFIED:20251110T002918Z
UID:16511-1764180000-1764190800@southsoundblues.org
SUMMARY:Funky Jazz at the Spar
DESCRIPTION:Funky Jazz at the Spar 6-9 pm
URL:https://southsoundblues.org/event/funky-jazz-at-the-spar-4/
LOCATION:The Spar\, 2121 N 30th St\, Tacoma\, WA\, 98403
CATEGORIES:Featured
END:VEVENT
BEGIN:VEVENT
DTSTART;TZID=America/Los_Angeles:20251127T190000
DTEND;TZID=America/Los_Angeles:20251127T220000
DTSTAMP:20260423T134938
CREATED:20250901T005100Z
LAST-MODIFIED:20250901T005100Z
UID:15967-1764270000-1764280800@southsoundblues.org
SUMMARY:Thursdays Red Dog Saloon Jams\, Maple Valley\, with host Billy Shew
DESCRIPTION:Thursdays Red Dog Saloon Jams\, Maple Valley\, with host Billy Shew\, 7-10 pm
URL:https://southsoundblues.org/event/thursdays-red-dog-saloon-jams-maple-valley-with-host-billy-shew-8/
LOCATION:Red Dog Saloon\, 18605 Renton-Maple Valley Rd\, Maple Valley\, WA\, 98038
CATEGORIES:Local South Sound Blues
END:VEVENT
BEGIN:VEVENT
DTSTART;TZID=America/Los_Angeles:20251128T200000
DTEND;TZID=America/Los_Angeles:20251128T230000
DTSTAMP:20260423T134938
CREATED:20251007T011009Z
LAST-MODIFIED:20251007T011009Z
UID:16220-1764360000-1764370800@southsoundblues.org
SUMMARY:Tim Turner Band at the Salmon Bay Eagles\, Seattle
DESCRIPTION:Tim Turner Band at the Salmon Bay Eagles November 28th\, 8-11 pm\n\n“Singer\, songwriter\, guitar player extraordinaire\, Tim Turner has been plying his craft in the Seattle area for four decades. Give Tim a “hollow-body” electric guitar and a stage and the outcome is always the same: first-rate guitar playing\, great singing and outstanding original tunes.”\n\n\n\n“Blues Boss” from Blues To Do Magazine. Tim has been playing his unique and special brand of blues\, rock and rhythm n blues since the 1970’s.\nWhenever he’s on stage\, he has the uncanny ability to bring out the best in whatever musicians are on stage with him. Tim also has a way of making the audience feel good and part of the music.
URL:https://southsoundblues.org/event/tim-turner-band-at-the-salmon-bay-eagles-seattle/
LOCATION:Salmon Bay Eagles\, 5216 20th Ave NW\, Seattle\, WA\, 98107
CATEGORIES:Local South Sound Blues
END:VEVENT
BEGIN:VEVENT
DTSTART;TZID=America/Los_Angeles:20251128T200000
DTEND;TZID=America/Los_Angeles:20251128T230000
DTSTAMP:20260423T134938
CREATED:20251030T014815Z
LAST-MODIFIED:20251030T014815Z
UID:16339-1764360000-1764370800@southsoundblues.org
SUMMARY:My Guilty Pleasure band at the Zesty Steakhouse
DESCRIPTION:My Guilty Pleasure band at the Zesty Steakhouse November 28th\, 8-11 pm\n  \n  \nMy Guilty Pleasure Band \n\n\n\n\n\n 
URL:https://southsoundblues.org/event/my-guilty-pleasure-band-at-the-zesty-steakhouse/
LOCATION:Zesty’s Cajun Steakhouse\, 9905 Bridgeport Way Southwest\, Lakewood\, WA\, 98499
CATEGORIES:Featured
END:VEVENT
BEGIN:VEVENT
DTSTART;TZID=America/Los_Angeles:20251129T170000
DTEND;TZID=America/Los_Angeles:20251129T200000
DTSTAMP:20260423T134938
CREATED:20251021T222345Z
LAST-MODIFIED:20251021T222345Z
UID:16306-1764435600-1764446400@southsoundblues.org
SUMMARY:Mark Du Fresne Band featuring Billy Stapleton\, at Johnny's Dock\, Tacoma
DESCRIPTION:Mark Du Fresne Band featuring Billy Stapleton\, at Johnny’s Dock November 29th\, 5-8 pm
URL:https://southsoundblues.org/event/mark-du-fresne-band-featuring-billy-stapleton-at-johnnys-dock-tacoma/
LOCATION:Johnny’s Dock\, 1900 E D St\, Tacoma\, WA\, 98421
CATEGORIES:Local South Sound Blues
END:VEVENT
BEGIN:VEVENT
DTSTART;TZID=America/Los_Angeles:20251129T190000
DTEND;TZID=America/Los_Angeles:20251129T220000
DTSTAMP:20260423T134938
CREATED:20250501T012810Z
LAST-MODIFIED:20250501T012810Z
UID:14778-1764442800-1764453600@southsoundblues.org
SUMMARY:Billy Shew and the sole Providers @ South Tacoma Eagles
DESCRIPTION:Nov 29th\, Billy Shew and the sole Providers at South Tacoma Eagles\, 7:00 PM
URL:https://southsoundblues.org/event/billy-shew-and-the-sole-providers-south-tacoma-eagles/
LOCATION:South Tacoma Eagles\, 7037 S Pine St\, Tacoma\, WA\, 98409
CATEGORIES:Featured
END:VEVENT
BEGIN:VEVENT
DTSTART;TZID=America/Los_Angeles:20251129T200000
DTEND;TZID=America/Los_Angeles:20251129T230000
DTSTAMP:20260423T134938
CREATED:20250926T011515Z
LAST-MODIFIED:20250926T011515Z
UID:16120-1764446400-1764457200@southsoundblues.org
SUMMARY:Tim Hall Band at Zesty's Steakhouse
DESCRIPTION:Tim Hall Band at Zesty’s Steakhouse 8-11 pm
URL:https://southsoundblues.org/event/tim-hall-band-at-zestys-steakhouse-3/
LOCATION:Zesty’s Cajun Steakhouse\, 9905 Bridgeport Way Southwest\, Lakewood\, WA\, 98499
CATEGORIES:Local South Sound Blues
END:VEVENT
BEGIN:VEVENT
DTSTART;TZID=America/Los_Angeles:20251129T200000
DTEND;TZID=America/Los_Angeles:20251129T230000
DTSTAMP:20260423T134938
CREATED:20251007T011301Z
LAST-MODIFIED:20251007T011301Z
UID:16222-1764446400-1764457200@southsoundblues.org
SUMMARY:Polly O'Keary & the Rhythm Method at the Salmon Bay Eagles\, Seattle
DESCRIPTION:Polly O’Keary & the Rhythm Method at the Salmon Bay Eagles November 29th 8-11 pm\n\nPolly O’Keary is today’s blues Woman\, rooted in tradition\, but informed by the 21st Century. Pulling in influences from zydeco\, country\, funk\, jazz\, rockabilly\, surf and rock and roll\, she and her trio\, Polly O’Keary and the Rhythm Method\, bring a searing and joyful performance of today’s blues to audiences across the U.S. and Canada. Polly O’Keary and the Rhythm Method is a trio she built with her husband Tommy Cook\, a three-time winner of WBS Drummer award and David Miller from California\, who one reviewer described his “jaw-dropping guitar licks”.
URL:https://southsoundblues.org/event/polly-okeary-the-rhythm-method-at-the-salmon-bay-eagles-seattle/
LOCATION:Salmon Bay Eagles\, 5216 20th Ave NW\, Seattle\, WA\, 98107
CATEGORIES:Local South Sound Blues
END:VEVENT
BEGIN:VEVENT
DTSTART;TZID=America/Los_Angeles:20251129T200000
DTEND;TZID=America/Los_Angeles:20251129T230000
DTSTAMP:20260423T134938
CREATED:20251030T193539Z
LAST-MODIFIED:20251030T193539Z
UID:16350-1764446400-1764457200@southsoundblues.org
SUMMARY:The T-Birds at Dawson's
DESCRIPTION:The T-Birds at Dawson’s November 29th\, 8-11 pm
URL:https://southsoundblues.org/event/the-t-birds-at-dawsons/
LOCATION:Dawson’s Bar & Grill\, 5443 South Tacoma Way\, Tacoma\, WA\, 98409
CATEGORIES:Featured
END:VEVENT
BEGIN:VEVENT
DTSTART;TZID=America/Los_Angeles:20251130T170000
DTEND;TZID=America/Los_Angeles:20251130T190000
DTSTAMP:20260423T134938
CREATED:20251021T204709Z
LAST-MODIFIED:20251021T204709Z
UID:16267-1764522000-1764529200@southsoundblues.org
SUMMARY:Annie Eastwood with Kimball Conant & The Fugitive at the Sea Monster Lounge\, Wallingford/Seattle
DESCRIPTION:Annie Eastwood with Kimball Conant & The Fugitive at the Sea Monster Lounge Sunday November 30th\, 5pm to 7pm
URL:https://southsoundblues.org/event/annie-eastwood-with-kimball-conant-the-fugitive-at-the-sea-monster-lounge-wallingford-seattle/
LOCATION:Sea Monster Lounge\, 2202 N 45th St\, Seattle\, WA\, 98103
CATEGORIES:Featured
END:VEVENT
BEGIN:VEVENT
DTSTART;TZID=America/Los_Angeles:20251130T180000
DTEND;TZID=America/Los_Angeles:20251130T210000
DTSTAMP:20260423T134938
CREATED:20250901T191547Z
LAST-MODIFIED:20250901T191547Z
UID:15990-1764525600-1764536400@southsoundblues.org
SUMMARY:Tim Hall Blues Jam every Sunday at Zesty’s Steakhouse
DESCRIPTION:Tim Hall Blues Jam every Sunday at Zesty’s Steakhouse\, 6-9pm
URL:https://southsoundblues.org/event/tim-hall-blues-jam-every-sunday-at-zestys-steakhouse-14/
LOCATION:Zesty’s Cajun Steakhouse\, 9905 Bridgeport Way Southwest\, Lakewood\, WA\, 98499
CATEGORIES:Local South Sound Blues
END:VEVENT
BEGIN:VEVENT
DTSTART;TZID=America/Los_Angeles:20251130T190000
DTEND;TZID=America/Los_Angeles:20251130T220000
DTSTAMP:20260423T134938
CREATED:20250718T232000Z
LAST-MODIFIED:20251102T222901Z
UID:15499-1764529200-1764540000@southsoundblues.org
SUMMARY:Sunday Blues at the Spar featuring an evening with BB King\, (LTD presentation)
DESCRIPTION:Sunday Blues at the Spar 7-10 pm featuring an evening with BB King\, (LTD presentation)\n 
URL:https://southsoundblues.org/event/sunday-blues-at-the-spar-41/
LOCATION:The Spar\, 2121 N 30th St\, Tacoma\, WA\, 98403
CATEGORIES:Local South Sound Blues
END:VEVENT
BEGIN:VEVENT
DTSTART;TZID=America/Los_Angeles:20251201T180000
DTEND;TZID=America/Los_Angeles:20251201T210000
DTSTAMP:20260423T134938
CREATED:20250831T232254Z
LAST-MODIFIED:20250831T232254Z
UID:15894-1764612000-1764622800@southsoundblues.org
SUMMARY:Monday Jazz at Brother Don’s Bar & Grill\, Bremerton
DESCRIPTION:Monday Jazz at Brother Don’s Bar & Grill\, Bremerton\, 6-9 pm
URL:https://southsoundblues.org/event/monday-jazz-at-brother-dons-bar-grill-bremerton-28/
LOCATION:Brother Don’s Bar & Grill\, 4200 Kitsap Way\, Bremerton\, WA\, 98312
CATEGORIES:Featured
END:VEVENT
BEGIN:VEVENT
DTSTART;TZID=America/Los_Angeles:20251202T190000
DTEND;TZID=America/Los_Angeles:20251202T210000
DTSTAMP:20260423T134938
CREATED:20250723T223204Z
LAST-MODIFIED:20250723T223204Z
UID:15553-1764702000-1764709200@southsoundblues.org
SUMMARY:Rob Tudor and Dave McKibbin at the Twisted Fork Saloon every Tuesday
DESCRIPTION:Rob Tudor and Dave McKibbin at the Twisted Fork Saloon every Tuesday\, Open mic\, 7-9 pm
URL:https://southsoundblues.org/event/rob-tudor-and-dave-mckibbin-at-the-twisted-fork-saloon-every-tuesday-16/
LOCATION:Twisted Fork Saloon\, 5005 Main St\, Tacoma\, WA\, 98407
CATEGORIES:Featured
END:VEVENT
BEGIN:VEVENT
DTSTART;TZID=America/Los_Angeles:20251202T200000
DTEND;TZID=America/Los_Angeles:20251202T223000
DTSTAMP:20260423T134938
CREATED:20250918T211328Z
LAST-MODIFIED:20250918T211328Z
UID:16079-1764705600-1764714600@southsoundblues.org
SUMMARY:Jesse Roper at Jazzbones\, Tacoma
DESCRIPTION:Jesse Roper at Jazzbones\, December 2nd\, 8pm\, Minimum age: 21 and over\, Doors open: 7:00 PM\nhttps://jesseroper.ca/#tour\nBased in Victoria\, BC\, Jesse Roper is a blues/Americana artist with a penchant for writing modern indie infused blues music and delivering bombastic live performances buoyed by his virtuosic guitar playing. His innate and impressive musical talent has served him well in recent years. It has given him the flexibility to play with soul icon Booker T. Jones\, rock veteran Colin James\, blues belter Beth Hart\, and Canadian legend Burton Cummings\, then turn around and headline nightclubs and festivals to younger audiences\, and look perfectly comfortable in each scenario. The stage is where Roper shines. It has been his home since overcoming crippling stage fright during his early twenties. Fear is a part of Roper’s past that barely seems real today – especially when you see the in-concert image of a six-string soldier\, hair matted to his face\, tearing up the stage\, without a hint of second-guessing. \nRoper’s new album ‘Horizons’ marks a sonic high point in his career thus far. Working closely with famed JUNO-nominated producer Gus van Go (Metric\, The Stills\, Whitehorse\, Arkells\, The Trews\, Sam Roberts) on this new collection of songs has pushed Roper into creating some of his best work. “Recording with Gus and Werner F was on a whole new level. They really cared where the songs were headed and that they ended up just right”\, Roper confides. “Everything was broken down to the finest details and nothing was allowed to sit at just ‘ok’. It was all about getting the vibe right.” \nAnd the vibe is certainly right. There’s a depth\, a vulnerability\, to this new body of work that hasn’t necessarily been at the forefront of Roper’s previous offerings. With a richer infusion of vintage rhythm and blues as background\, Roper’s unique\, soulful vocals are given space to soar. Like contemporaries Nathaniel Rateliff and Jack White\, Roper tells his story with heart. \nAdventuresome doesn’t properly describe Roper as an artist\, because when the guitar-wielding dynamo sets out to accomplish something\, there’s no telling where his mind will wander\, or when his energy will go. \nhttps://jazzbones.com/contact-location/
URL:https://southsoundblues.org/event/jesse-roper-at-jazzbones-tacoma/
LOCATION:Jazzbones\, 2803 6th Ave\, Tacoma\, WA\, 98406
CATEGORIES:Featured
END:VEVENT
BEGIN:VEVENT
DTSTART;TZID=America/Los_Angeles:20251202T200000
DTEND;TZID=America/Los_Angeles:20251202T233000
DTSTAMP:20260423T134938
CREATED:20250831T225751Z
LAST-MODIFIED:20250831T225751Z
UID:15878-1764705600-1764718200@southsoundblues.org
SUMMARY:Cory Wilds Band Tuesday open Jam Night at Elmer’s Bar and Grill
DESCRIPTION:Cory Wilds Band Tuesday open Jam Night at Elmer’s Bar and Grill\, 8-11:30 pm
URL:https://southsoundblues.org/event/cory-wilds-band-tuesday-open-jam-night-at-elmers-bar-and-grill-38/
LOCATION:Elmer’s Bar & Grill\, 15027 Ambaum Blvd SW\, Burien\, WA\, 98166
CATEGORIES:Local South Sound Blues
END:VEVENT
BEGIN:VEVENT
DTSTART;TZID=America/Los_Angeles:20251203T180000
DTEND;TZID=America/Los_Angeles:20251203T210000
DTSTAMP:20260423T134938
CREATED:20251102T230338Z
LAST-MODIFIED:20251102T230338Z
UID:16425-1764784800-1764795600@southsoundblues.org
SUMMARY:King Grand at the Spar
DESCRIPTION:King Grand at the Spar December 3rd\, 6-9 pm
URL:https://southsoundblues.org/event/king-grand-at-the-spar-5/
LOCATION:The Spar\, 2121 N 30th St\, Tacoma\, WA\, 98403
CATEGORIES:Featured
END:VEVENT
BEGIN:VEVENT
DTSTART;TZID=America/Los_Angeles:20251204T080000
DTEND;TZID=America/Los_Angeles:20251204T230000
DTSTAMP:20260423T134938
CREATED:20251007T012432Z
LAST-MODIFIED:20251007T012432Z
UID:16228-1764835200-1764889200@southsoundblues.org
SUMMARY:Lonnie Williams Band at the Salmon Bay Eagles\, Seattle
DESCRIPTION:Lonnie Williams Band at the Salmon Bay Eagles December 4th\, 8-11 pm\n\n\n\n\nLonnie Williams is a dynamic musician who has graced many stages with his music. Deep routed in blues and jazz\, he has played with national acts such as Otis Rush\, Floyd Dickson\, Albert Collins and Margie Evans. He has shared the stage with local legends; Isaac Scott\, David Brewer\, Robert Cray… Lonnie on wind instruments is joined by Steve Nowak on guitar and vocals\, Andrew Seliber on drums\, and Patrick Mc Danel on bass.
URL:https://southsoundblues.org/event/lonnie-williams-band-at-the-salmon-bay-eagles-seattle/
LOCATION:Salmon Bay Eagles\, 5216 20th Ave NW\, Seattle\, WA\, 98107
CATEGORIES:Local South Sound Blues
END:VEVENT
END:VCALENDAR