BEGIN:VCALENDAR
VERSION:2.0
PRODID:-//South Sound Blues Association - ECPv6.15.18//NONSGML v1.0//EN
CALSCALE:GREGORIAN
METHOD:PUBLISH
X-ORIGINAL-URL:https://southsoundblues.org
X-WR-CALDESC:Events for South Sound Blues Association
REFRESH-INTERVAL;VALUE=DURATION:PT1H
X-Robots-Tag:noindex
X-PUBLISHED-TTL:PT1H
BEGIN:VTIMEZONE
TZID:America/Los_Angeles
BEGIN:DAYLIGHT
TZOFFSETFROM:-0800
TZOFFSETTO:-0700
TZNAME:PDT
DTSTART:20220313T100000
END:DAYLIGHT
BEGIN:STANDARD
TZOFFSETFROM:-0700
TZOFFSETTO:-0800
TZNAME:PST
DTSTART:20221106T090000
END:STANDARD
BEGIN:DAYLIGHT
TZOFFSETFROM:-0800
TZOFFSETTO:-0700
TZNAME:PDT
DTSTART:20230312T100000
END:DAYLIGHT
BEGIN:STANDARD
TZOFFSETFROM:-0700
TZOFFSETTO:-0800
TZNAME:PST
DTSTART:20231105T090000
END:STANDARD
BEGIN:DAYLIGHT
TZOFFSETFROM:-0800
TZOFFSETTO:-0700
TZNAME:PDT
DTSTART:20240310T100000
END:DAYLIGHT
BEGIN:STANDARD
TZOFFSETFROM:-0700
TZOFFSETTO:-0800
TZNAME:PST
DTSTART:20241103T090000
END:STANDARD
END:VTIMEZONE
BEGIN:VEVENT
DTSTART;TZID=America/Los_Angeles:20231201T190000
DTEND;TZID=America/Los_Angeles:20231201T210000
DTSTAMP:20260424T081406
CREATED:20231122T020420Z
LAST-MODIFIED:20231122T020420Z
UID:11745-1701457200-1701464400@southsoundblues.org
SUMMARY:Jim Valley Project at Kimball Coffeehouse
DESCRIPTION:Jim Valley Project with a great night of 60’s and 70’s classics that never get old\, blended with original tunes. December 1st\, 7-9 pm at Kimball Coffeehouse\, Gig Harbor.
URL:https://southsoundblues.org/event/jim-valley-project-at-kimball-coffeehouse/
LOCATION:Kimball’s Coffeehouse\, 6659 Kimball Dr\, Gig Harbor\, WA\, 98335
CATEGORIES:Featured
END:VEVENT
BEGIN:VEVENT
DTSTART;TZID=America/Los_Angeles:20231201T200000
DTEND;TZID=America/Los_Angeles:20231201T233000
DTSTAMP:20260424T081406
CREATED:20231110T013648Z
LAST-MODIFIED:20231110T013648Z
UID:11615-1701460800-1701473400@southsoundblues.org
SUMMARY:Heather Jones & The Groove Masters at JP's Barroom\, Renton
DESCRIPTION:December 1st\, Heather Jones & The Groove Masters at JP’s Barroom\, 8-11:30 pm\n \n214 Williams Ave So.\, Renton WA
URL:https://southsoundblues.org/event/heather-jones-the-groove-masters-at-jps-barroom-renton/
LOCATION:JP’s Bar and Grill\, 1055 Sunset Blvd NE\, Renton\, WA\, 98056
CATEGORIES:Local South Sound Blues
END:VEVENT
BEGIN:VEVENT
DTSTART;TZID=America/Los_Angeles:20231202T160000
DTEND;TZID=America/Los_Angeles:20231202T190000
DTSTAMP:20260424T081406
CREATED:20230418T223653Z
LAST-MODIFIED:20230418T223653Z
UID:10178-1701532800-1701543600@southsoundblues.org
SUMMARY:Michele D'Amour & The Love Dealers at the Urban Elk
DESCRIPTION:Michele D’Amour & The Love Dealers at the Urban Elk\, December 2nd\, 4 pm
URL:https://southsoundblues.org/event/michele-damour-the-love-dealers-at-the-urban-elk-4/
LOCATION:Urban Elk\, 2013 S Cedar St\, Tacoma\, WA\, 98405
CATEGORIES:Local South Sound Blues
END:VEVENT
BEGIN:VEVENT
DTSTART;TZID=America/Los_Angeles:20231202T190000
DTEND;TZID=America/Los_Angeles:20231202T213000
DTSTAMP:20260424T081406
CREATED:20231102T230145Z
LAST-MODIFIED:20231102T230145Z
UID:11588-1701543600-1701552600@southsoundblues.org
SUMMARY:Billy Stoops Duo at the Lake City Pub
DESCRIPTION:Great Music at the Lake City Pub with Billy Stoops\, December 2nd\, 7 – 9:30 pm\nLake City Pub was Voted “Best Venue for Acoustic music” in the South Sound\, Lakewood\, WA.
URL:https://southsoundblues.org/event/billy-stoops-duo-at-the-lake-city-pub/
LOCATION:Lake City Pub\, 9106 Veterans Dr\, Lakewood\, WA\, 98498
CATEGORIES:Featured
END:VEVENT
BEGIN:VEVENT
DTSTART;TZID=America/Los_Angeles:20231202T193000
DTEND;TZID=America/Los_Angeles:20231202T220000
DTSTAMP:20260424T081406
CREATED:20231022T200127Z
LAST-MODIFIED:20231022T200127Z
UID:11520-1701545400-1701554400@southsoundblues.org
SUMMARY:Joel Astley Band at Pub 282\, Camano Island
DESCRIPTION:Joel Astley Band\, December 2nd\, Camano Island\, WA at pub 282 7:30-10:00pm
URL:https://southsoundblues.org/event/joel-astley-band-at-pub-282-camano-island/
LOCATION:Pub 282\, 370 NE Camano Dr #6\, Camano\, WA\, 98282
CATEGORIES:Featured
END:VEVENT
BEGIN:VEVENT
DTSTART;TZID=America/Los_Angeles:20231202T200000
DTEND;TZID=America/Los_Angeles:20231202T223000
DTSTAMP:20260424T081406
CREATED:20231110T193035Z
LAST-MODIFIED:20231110T195607Z
UID:11640-1701547200-1701556200@southsoundblues.org
SUMMARY:The Rhapsody Project presents Blues at Benaroya Hall
DESCRIPTION:Three Generations of Blues & Soul! December 2nd\, 8pm.\nJoin the Rhapsody Project to celebrate the community’s 10th anniversary at Benaroya Hall!\nAmerican roots music highlighting the contributions of Black American artists will be performed by award-winning blues musician Justin Golden and Seattle legend\, John Oliver III alongside The Rhapsody Project Songsters\, and staff members who lead the organization. \nJustin Golden and John Oliver III are the featured artists\, and will have Freddy Fuego and Jane Covert-Bowlds playing horns\, as well as longtime students including Tate Linden\, Ari Whidbey\, Fredy Andres Pesante Castro\, and Mariah Roberson sharing their talents. \nhttps://www.seattlesymphony.org/en/benaroyahall/bh-calendar/2023-2024/23rhapsody-project?fbclid=IwAR3jJvsNyOoaHN4wexBsh38YhsetcMrf9aiH2mWE9h2ZojMsKSUsOTM \n  \n  \n 
URL:https://southsoundblues.org/event/the-rhapsody-project-presents-blues-at-benaroya-hall/
LOCATION:Benaroya Hall\, 200 University St.\, Seattle\, WA\, 98101
CATEGORIES:Special Event
END:VEVENT
BEGIN:VEVENT
DTSTART;TZID=America/Los_Angeles:20231202T200000
DTEND;TZID=America/Los_Angeles:20231202T230000
DTSTAMP:20260424T081411
CREATED:20231116T171251Z
LAST-MODIFIED:20231116T171251Z
UID:11726-1701547200-1701558000@southsoundblues.org
SUMMARY:Linda Carroll & Retro Gruve at Rock the Dock
DESCRIPTION:December 2nd\, Linda Carroll & Retro Gruve\, at Rock the Dock\, 8-11 pm
URL:https://southsoundblues.org/event/linda-carroll-retro-gruve-at-rock-the-dock/
LOCATION:Rock the Dock\, 535 Dock St # 118\, Tacoma\, WA\, 98402
CATEGORIES:Local South Sound Blues
END:VEVENT
BEGIN:VEVENT
DTSTART;TZID=America/Los_Angeles:20231203T160000
DTEND;TZID=America/Los_Angeles:20231203T210000
DTSTAMP:20260424T081411
CREATED:20231018T234259Z
LAST-MODIFIED:20231018T234845Z
UID:11506-1701619200-1701637200@southsoundblues.org
SUMMARY:Washington Blues Society Holiday Party featuring The Rae Gordon Band at Aurora Borealis
DESCRIPTION:Washington Blues Society Holiday Party featuring The Rae Gordon Band at Aurora Borealis\, 4-9 pm\n photo by Debra Penk \nThis party also features a Salute to The Fat James Band featuring Chris Eger w Chip Hart\, Dave Cashin and Randall Eger. \n$10 suggested donation
URL:https://southsoundblues.org/event/washington-blues-society-holiday-party-featuring-the-rae-gordon-band-at-aurora-borealis/
LOCATION:Aurora Borealis\, 16708 Aurora Ave N\, Shoreline\, WA\, 98133
CATEGORIES:Special Event
END:VEVENT
BEGIN:VEVENT
DTSTART;TZID=America/Los_Angeles:20231203T190000
DTEND;TZID=America/Los_Angeles:20231203T220000
DTSTAMP:20260424T081411
CREATED:20230912T004333Z
LAST-MODIFIED:20230912T004333Z
UID:11360-1701630000-1701640800@southsoundblues.org
SUMMARY:Sunday Blues at the Spar with Stevie & The Blue Flames
DESCRIPTION:Sunday Blues at the Spar with Stevie & The Blue Flames December 3rd\, 7-10 pm
URL:https://southsoundblues.org/event/sunday-blues-at-the-spar-with-stevie-the-blue-flames/
LOCATION:The Spar\, 2121 N 30th St\, Tacoma\, WA\, 98403
CATEGORIES:Local South Sound Blues
END:VEVENT
BEGIN:VEVENT
DTSTART;TZID=America/Los_Angeles:20231203T190000
DTEND;TZID=America/Los_Angeles:20231203T230000
DTSTAMP:20260424T081411
CREATED:20231111T001322Z
LAST-MODIFIED:20231111T001322Z
UID:11687-1701630000-1701644400@southsoundblues.org
SUMMARY:Billy Shew Blues Jam\, every Sunday at Dawson’s
DESCRIPTION:Billy Shew Blues Jam\, every Sunday at Dawson’s\, 7-11 pm
URL:https://southsoundblues.org/event/billy-shew-blues-jam-every-sunday-at-dawsons-12/
LOCATION:Dawson’s Bar & Grill\, 5443 South Tacoma Way\, Tacoma\, WA\, 98409
CATEGORIES:Local South Sound Blues
END:VEVENT
BEGIN:VEVENT
DTSTART;TZID=America/Los_Angeles:20231205T190000
DTEND;TZID=America/Los_Angeles:20231205T190000
DTSTAMP:20260424T081411
CREATED:20231111T000437Z
LAST-MODIFIED:20231111T000437Z
UID:11681-1701802800-1701802800@southsoundblues.org
SUMMARY:Billy Shew and friends Jam every Tuesday at the Burien Eagles
DESCRIPTION:Billy Shew and friends Jam every Tuesday at the Burien Eagles\, 7pm
URL:https://southsoundblues.org/event/billy-shew-and-friends-jam-every-tuesday-at-the-burien-eagles-17/
LOCATION:Burien Eagles\, 920 SW 150th St\, Burien\, WA\, 98166
CATEGORIES:Local South Sound Blues
END:VEVENT
BEGIN:VEVENT
DTSTART;TZID=America/Los_Angeles:20231206T180000
DTEND;TZID=America/Los_Angeles:20231206T180000
DTSTAMP:20260424T081411
CREATED:20231110T234003Z
LAST-MODIFIED:20231110T234027Z
UID:11661-1701885600-1701885600@southsoundblues.org
SUMMARY:Farrell\, Hudson & Friends at The Spar
DESCRIPTION:December 6th. The Spar\, Farrell\, Hudson & Friends 6pm
URL:https://southsoundblues.org/event/farrell-hudson-friends-at-the-spar-2/
LOCATION:The Spar\, 2121 N 30th St\, Tacoma\, WA\, 98403
CATEGORIES:Featured
END:VEVENT
BEGIN:VEVENT
DTSTART;TZID=America/Los_Angeles:20231206T190000
DTEND;TZID=America/Los_Angeles:20231206T220000
DTSTAMP:20260424T081411
CREATED:20231111T000735Z
LAST-MODIFIED:20231111T000735Z
UID:11683-1701889200-1701900000@southsoundblues.org
SUMMARY:Wednesdays Blues “Jam Night” with Brian Olver and Glenn Hummel at Purdy’s\, Sumner
DESCRIPTION:Wednesdays Blues “Jam Night” with Brian Olver and Glenn Hummel at Purdy’s\, Sumner\, WA. 7-10 pm
URL:https://southsoundblues.org/event/wednesdays-blues-jam-night-with-brian-olver-and-glenn-hummel-at-purdys-sumner/
LOCATION:Purdy’s Public House & Arcade\, Sumner\, 16202 64th St E\, Sumner\, WA\, 98390
CATEGORIES:Local South Sound Blues
END:VEVENT
BEGIN:VEVENT
DTSTART;TZID=America/Los_Angeles:20231207T190000
DTEND;TZID=America/Los_Angeles:20231207T190000
DTSTAMP:20260424T081411
CREATED:20231030T205911Z
LAST-MODIFIED:20231030T205911Z
UID:11544-1701975600-1701975600@southsoundblues.org
SUMMARY:LTD Presents LIVE: KID ANDERSEN’S GREASELAND ALL-STARS at West of the Waterway\, Tacoma
DESCRIPTION:Thursday\, December 7th 7:00 pm – LTD Presents LIVE: KID ANDERSEN’S GREASELAND ALL-STARS feat. ALABAMA MIKE\, DK HARRELL and LISA ANDERSEN with Lorenzo Farrell\, David Hudson\, and Brady Kish at West of the Waterway!\nThis show promises to be a real knock-out – Four of the most dynamic and in-demand stars on the contemporary blues + soul + funk scene – together LIVE in Tacoma! \nKid Andersen is the Norwegian-born guitar phenom who tours the world with the multi-award-winning band Rick Estrin and the Nightcats\, AND produces and engineers many of the biggest blues albums each year at his internationally renowned Greaseland Studios in San Jose\, California. \nTalladega-born Alabama Mike is a force to be reckoned with – an award-winning masterful\, hard-driving blues singer and harmonica player\, Mike is one of the most creative and prolific songwriters working today. Alabama can blaze up a good old blues shuffle that’ll have you moving and grooving\, then effortlessly transport you through his unique style\, offering a soulful gospel-tinged ballad\, and his jovial style of storytelling will send you through a range of exhilarating emotions. \nD.K. Harrell is a 25-year-old\, award-winning emerging Blues artist from Ruston\, Louisiana. D.K. has shared the stage with some of the Blues’ most recognizable contemporary artists — Gary Clark Jr.  Mr. Sipp\, Tedeschi-Trucks band\, and Christone “Kingfish” Ingram — to name just a few. As a Blues artist\, D. K. Harrell is dedicated to the preservation of the Traditional Blues created and performed by B.B. King\, Little Milton and other great Blues artists. \nSome people were just born to make music. Lisa Leuschner Andersen is of this rare and beautiful breed. Andersen is a vocal instructor\, singer with Foreverland (San Francisco based tribute to the music of Michael Jackson)\, Alumni of American Idol seasons 2 and 3\, and Showtime at The Apollo alumni. As the Queen of Greaseland\, Lisa has been involved in and performed on over 50 album releases in the last 10 years\, including Grammy award winners and Blues Music Award winners. \nLorenzo Farrell of Rick Estrin and The Nightcats\, David Hudson of The T-Town Aces\, and Brady Kish of The Joe Cook Blues Band will join The Greaseland All-Stars for a night of smoking blues + soul + funk. \nTickets are on sale NOW – https://LTDGreaselandTacoma.rsvpify.com
URL:https://southsoundblues.org/event/ltd-presents-live-kid-andersens-greaseland-all-stars-at-west-of-the-waterway-tacoma/
LOCATION:Dock Street Deli West of the Waterway\, 1901 Dock Street\, Tacoma\, WA\, 98402
CATEGORIES:Local South Sound Blues,Special Event
END:VEVENT
BEGIN:VEVENT
DTSTART;TZID=America/Los_Angeles:20231207T190000
DTEND;TZID=America/Los_Angeles:20231207T220000
DTSTAMP:20260424T081411
CREATED:20231111T000958Z
LAST-MODIFIED:20231111T000958Z
UID:11685-1701975600-1701986400@southsoundblues.org
SUMMARY:“Billy the Pocket Jam” Thursday nights at Dawson’s
DESCRIPTION:“Billy the Pocket Jam” Thursday nights at Dawson’s\, 7-10 pm
URL:https://southsoundblues.org/event/billy-the-pocket-jam-thursday-nights-at-dawsons-24/
LOCATION:Dawson’s Bar & Grill\, 5443 South Tacoma Way\, Tacoma\, WA\, 98409
CATEGORIES:Local South Sound Blues
END:VEVENT
BEGIN:VEVENT
DTSTART;TZID=America/Los_Angeles:20231207T200000
DTEND;TZID=America/Los_Angeles:20231207T233000
DTSTAMP:20260424T081411
CREATED:20231110T233645Z
LAST-MODIFIED:20231110T233645Z
UID:11659-1701979200-1701991800@southsoundblues.org
SUMMARY:Thursdays at the Stars Bar & Grill\, Jam hosted by Billy Shew
DESCRIPTION:Thursdays at the Stars Bar & Grill\, Jam hosted by Billy Shew\, 8-11:30 pm
URL:https://southsoundblues.org/event/thursdays-at-the-stars-bar-grill-jam-hosted-by-billy-shew-18/
LOCATION:Stars Bar & Grill\, 31216 Pacific Hwy S\, Federal Way\, WA\, 98003
CATEGORIES:Local South Sound Blues
END:VEVENT
BEGIN:VEVENT
DTSTART;TZID=America/Los_Angeles:20231208T190000
DTEND;TZID=America/Los_Angeles:20231208T210000
DTSTAMP:20260424T081411
CREATED:20231110T235345Z
LAST-MODIFIED:20231110T235345Z
UID:11674-1702062000-1702069200@southsoundblues.org
SUMMARY:The Undertones at Kimball Coffeehouse
DESCRIPTION:December 8th\, at Kimball Coffeehouse\, Gig Harbor: The Undertones 7pm
URL:https://southsoundblues.org/event/the-undertones-at-kimball-coffeehouse-2/
LOCATION:Kimball’s Coffeehouse\, 6659 Kimball Dr\, Gig Harbor\, WA\, 98335
CATEGORIES:Featured
END:VEVENT
BEGIN:VEVENT
DTSTART;TZID=America/Los_Angeles:20231208T190000
DTEND;TZID=America/Los_Angeles:20231208T213000
DTSTAMP:20260424T081411
CREATED:20231110T042303Z
LAST-MODIFIED:20231110T042303Z
UID:11632-1702062000-1702071000@southsoundblues.org
SUMMARY:Mark DuFresne Band feat. Billy Stapleton at the Salmon Bay Eagles
DESCRIPTION:December 8th\, Salmon Bay Eagles\, Mark DuFresne Band with Billy Stapleton\, 7pm
URL:https://southsoundblues.org/event/mark-dufresne-band-feat-billy-stapleton-at-the-salmon-bay-eagles/
LOCATION:Salmon Bay Eagles\, 5216 20th Ave NW\, Seattle\, WA\, 98107
CATEGORIES:Local South Sound Blues
END:VEVENT
BEGIN:VEVENT
DTSTART;TZID=America/Los_Angeles:20231208T193000
DTEND;TZID=America/Los_Angeles:20231208T193000
DTSTAMP:20260424T081411
CREATED:20231110T043517Z
LAST-MODIFIED:20231110T043517Z
UID:11638-1702063800-1702063800@southsoundblues.org
SUMMARY:LTD Presents - Kid Andersen's Greaseland All-Stars at the Palindrome Port Townsend Event Center
DESCRIPTION:Dec 8th. Palindrome Port Townsend Event Center\, Port Townsend : LTD Presents – Kid Andersen’s Greaseland All-Stars feat. Alabama Mike\, D.K. Harrell and Lisa Andersen 7:30pm
URL:https://southsoundblues.org/event/ltd-presents-kid-andersens-greaseland-all-stars-at-the-palindrome-port-townsend-event-center/
LOCATION:Palindrome Port Townsend Event Center\, 1893 S Jacob Miller Rd\, Port Townsend\, WA\, 98368
CATEGORIES:Local South Sound Blues
END:VEVENT
BEGIN:VEVENT
DTSTART;TZID=America/Los_Angeles:20231209T160000
DTEND;TZID=America/Los_Angeles:20231209T190000
DTSTAMP:20260424T081411
CREATED:20231126T215443Z
LAST-MODIFIED:20231126T215443Z
UID:11752-1702137600-1702148400@southsoundblues.org
SUMMARY:Mark Hurwitz and Gin Creek at the Urban Elk
DESCRIPTION:Mark Hurwitz and Gin Creek at the Urban Elk December 9th\, 4-7 pm
URL:https://southsoundblues.org/event/mark-hurwitz-and-gin-creek-at-the-urban-elk-5/
LOCATION:Urban Elk\, 2013 S Cedar St\, Tacoma\, WA\, 98405
CATEGORIES:Local South Sound Blues
END:VEVENT
BEGIN:VEVENT
DTSTART;TZID=America/Los_Angeles:20231209T190000
DTEND;TZID=America/Los_Angeles:20231209T220000
DTSTAMP:20260424T081411
CREATED:20231110T235117Z
LAST-MODIFIED:20231110T235117Z
UID:11672-1702148400-1702159200@southsoundblues.org
SUMMARY:Twang Junkies at The Spar
DESCRIPTION:December 9th at The Spar\, Twang Junkies\, 7pm
URL:https://southsoundblues.org/event/twang-junkies-at-the-spar-3/
LOCATION:The Spar\, 2121 N 30th St\, Tacoma\, WA\, 98403
CATEGORIES:Featured
END:VEVENT
BEGIN:VEVENT
DTSTART;TZID=America/Los_Angeles:20231210T170000
DTEND;TZID=America/Los_Angeles:20231210T210000
DTSTAMP:20260424T081411
CREATED:20230531T193322Z
LAST-MODIFIED:20231109T004527Z
UID:10549-1702227600-1702242000@southsoundblues.org
SUMMARY:South Sound Blues Association Holiday Party with music guests: The Chris Eger Band and RT Collective\, (Rafael Tranquillino & Patrick McDanel) at the Spanish Ballroom\, Tacoma
DESCRIPTION:South Sound Blues Association Holiday Party with music guests: The Chris Eger Band and RT Collective\, at the Spanish Ballroom\, 5-9 pm.\nTickets are $10. and can be purchased at the door or ahead of time through the box office.\nhttps://www.mcmenamins.com/events/248658-south-sound-blues-association-holiday-party \nCurrent SSBA members get in free\, membership checked at the door.\n \n  \n \nChris Eger Band \nGuitarist and vocalist Chris Eger has been fronting his own band for over a decade\, impressing a growing audience both in person and online. Chris has won the Washington Blues Society “BB Award” as Best Male Vocalist for the past four years in a row\, and the band’s exciting live performances have made them  one of the most in-demand acts in the Pacific Northwest. Chris’ video series\, \nOne Take Weekly @ Plum Tree Recording Studio\, is into its fourth season and has garnered over 180k views on YouTube alone! \nThe band’s latest release\, “Show Me Where to Sign\,” was recorded in Nashville and co-produced by Chris and his guitar hero Eric Heatherly. This high energy record\, which includes several of Chris’s original songs\, blends straight electric blues with blue-eyed soul\, Hendrix inspired rock\, and horn infused funk. \nFor this SSBA Holiday Party show the Chris Eger Band will consists of Chris on guitar and vocals\, his father Randall\, a 35-year music veteran\, on bass\, Matt Clark on drums\, and Rick Jiles on keys. The band’s sound is tight and soulful\, and this performance\, their first at The Spanish Ballroom\, is sure to please their many devoted fans and win new ones. \n  \n \nRT Collective \nRT Collective came about as the result of two extraordinary musicians having a desire to get back to their roots. Guitarist Rafael Tranquilino\, (this year’s Washington Blues Society “BB Award) and bass player Patrick McDanel are both widely known as electric instrument players. But when they got together to jam in 2021\, they decided to go acoustic. The music felt fresh and creative\, and they enjoyed this new collaboration so much that they began bringing this “old school” approach to live audiences. In these duo shows they perform an eclectic mix of songs with a fun\, improvisational approach that engages listeners and provides a unique musical experience.
URL:https://southsoundblues.org/event/south-sound-blues-association-holiday-party-at-the-spanish-ballroom-3/
LOCATION:McMenaminsTacoma Elks\, 565 Broadway\, Tacoma\, WA\, 98402
CATEGORIES:Featured,Local South Sound Blues,Special Event,SSBA Event
END:VEVENT
BEGIN:VEVENT
DTSTART;TZID=America/Los_Angeles:20231210T180000
DTEND;TZID=America/Los_Angeles:20231210T180000
DTSTAMP:20260424T081411
CREATED:20230613T180119Z
LAST-MODIFIED:20231113T225122Z
UID:10647-1702231200-1702231200@southsoundblues.org
SUMMARY:Jazzbones Jazz & Blues Holiday Show\, Maia Santell & House Blend
DESCRIPTION:Jazzbones Holiday Show with Maia Santell and House Blend\, 6pm\nAnnual Maia Santell and House Blend Holiday Jazz and Blues Show at Jazzbones on Saturday\, Dec. 10th. It’s an all-ages event\, and kids\, twelve and under\, are admitted free of charge. House Blend instrumentalists include Gary Crooks on guitar\, Jay Mabin on harmonica\, Ted Dortch on tenor sax\, Steve Luceno on bass and Mike Slivka on drums. A special feature of the night is “Santa Doug Pacific Northwest\,” a Santa and Mrs. Claus duo who entertains families and brings the magic and the spirit of the season to all! (For tickets and details\, see www.Jazzbones.com. \nDoors open at 5pm\, $12 tickets at the door \n\n\n\n  \n  \n 
URL:https://southsoundblues.org/event/jazzbones-jazz-blues-holiday-show/
LOCATION:Jazzbones\, 2803 6th Ave\, Tacoma\, WA\, 98406
CATEGORIES:Local South Sound Blues,Special Event
END:VEVENT
BEGIN:VEVENT
DTSTART;TZID=America/Los_Angeles:20231210T190000
DTEND;TZID=America/Los_Angeles:20231210T220000
DTSTAMP:20260424T081411
CREATED:20231110T005108Z
LAST-MODIFIED:20231110T005108Z
UID:11607-1702234800-1702245600@southsoundblues.org
SUMMARY:Sunday Blues at the Spar with The Cold 102s
DESCRIPTION:December 10th at The Spar\, Sunday Blues with The Cold 102s featuring Anthony Estrada\, 7pm
URL:https://southsoundblues.org/event/sunday-blues-at-the-spar-with-the-cold-102s/
LOCATION:WA
CATEGORIES:Local South Sound Blues
END:VEVENT
BEGIN:VEVENT
DTSTART;TZID=America/Los_Angeles:20231211T200000
DTEND;TZID=America/Los_Angeles:20231211T220000
DTSTAMP:20260424T081411
CREATED:20231111T005414Z
LAST-MODIFIED:20231128T213832Z
UID:11712-1702324800-1702332000@southsoundblues.org
SUMMARY:Mike Witmer hosts “Mojo Mike’s Blues Revue” every Monday on KVSH 101.9 FM
DESCRIPTION:Mike Witmer hosts “Mojo Mike’s Blues Revue” every Monday on KVSH 101.9 FM 8-10 pm
URL:https://southsoundblues.org/event/mike-witmer-hosts-mojo-mikes-blues-revue-every-monday-on-kvsh-101-9-fm-12/
LOCATION:WA
CATEGORIES:Local South Sound Blues
END:VEVENT
BEGIN:VEVENT
DTSTART;TZID=America/Los_Angeles:20231212T190000
DTEND;TZID=America/Los_Angeles:20231212T190000
DTSTAMP:20260424T081411
CREATED:20230912T004542Z
LAST-MODIFIED:20230912T004542Z
UID:11362-1702407600-1702407600@southsoundblues.org
SUMMARY:Stevie & The Blue Flames at Aurora Borealis
DESCRIPTION:Stevie & The Blue Flames at Aurora Borealis December 12th\, 7pm
URL:https://southsoundblues.org/event/stevie-the-blue-flames-at-aurora-borealis/
LOCATION:Aurora Borealis\, 16708 Aurora Ave N\, Shoreline\, WA\, 98133
CATEGORIES:Featured
END:VEVENT
BEGIN:VEVENT
DTSTART;TZID=America/Los_Angeles:20231212T190000
DTEND;TZID=America/Los_Angeles:20231212T190000
DTSTAMP:20260424T081411
CREATED:20231211T222111Z
LAST-MODIFIED:20231211T222111Z
UID:11795-1702407600-1702407600@southsoundblues.org
SUMMARY:Washington Blues Society Blues Bash at Aurora Borealis featuring Steve Itterly & Jonathan Pittman and Stevie & The Blue Flames
DESCRIPTION:Washington Blues Society Blues Bash at Aurora Borealis featuring Steve Itterly & Jonathan Pittman and Stevie & The Blue Flames\, December 12th\, 7pm\n 
URL:https://southsoundblues.org/event/washington-blues-society-blues-bash-at-aurora-borealis-featuring-steve-itterly-jonathan-pittman-and-stevie-the-blue-flames/
LOCATION:Aurora Borealis\, 16708 Aurora Ave N\, Shoreline\, WA\, 98133
CATEGORIES:Featured
END:VEVENT
BEGIN:VEVENT
DTSTART;TZID=America/Los_Angeles:20231212T200000
DTEND;TZID=America/Los_Angeles:20231212T233000
DTSTAMP:20260424T081411
CREATED:20231111T005157Z
LAST-MODIFIED:20231111T005157Z
UID:11710-1702411200-1702423800@southsoundblues.org
SUMMARY:Cory Wilds Band Tuesday open Jam Night at Elmer’s Bar and Grill
DESCRIPTION:Cory Wilds Band Tuesday open Jam Night at Elmer’s Bar and Grill\, 8-11:30 pm
URL:https://southsoundblues.org/event/cory-wilds-band-tuesday-open-jam-night-at-elmers-bar-and-grill-13/
LOCATION:Elmer’s Bar & Grill\, 15027 Ambaum Blvd SW\, Burien\, WA\, 98166
CATEGORIES:Local South Sound Blues
END:VEVENT
BEGIN:VEVENT
DTSTART;TZID=America/Los_Angeles:20231213T180000
DTEND;TZID=America/Los_Angeles:20231213T180000
DTSTAMP:20260424T081411
CREATED:20231110T234234Z
LAST-MODIFIED:20231110T234234Z
UID:11664-1702490400-1702490400@southsoundblues.org
SUMMARY:Butch Harrison & Friends at The Spar
DESCRIPTION:December 13th. The Spar\, Butch Harrison & Friends 6pm
URL:https://southsoundblues.org/event/butch-harrison-friends-at-the-spar-2/
LOCATION:The Spar\, 2121 N 30th St\, Tacoma\, WA\, 98403
CATEGORIES:Featured
END:VEVENT
BEGIN:VEVENT
DTSTART;TZID=America/Los_Angeles:20231213T180000
DTEND;TZID=America/Los_Angeles:20231213T210000
DTSTAMP:20260424T081411
CREATED:20231111T003120Z
LAST-MODIFIED:20231111T003120Z
UID:11697-1702490400-1702501200@southsoundblues.org
SUMMARY:Billy Shew and Friends host an open Jam every Wednesday at Stockton’s
DESCRIPTION:Billy Shew and Friends host an open Jam every Wednesday at Stockton’s\, 6-9pm
URL:https://southsoundblues.org/event/billy-shew-and-friends-host-an-open-jam-every-wednesday-at-stocktons-12/
LOCATION:Stockton’s Restaurant & Spirits\, 23220 Maple Valley Black Diamond Rd SE\, Maple Valley\, WA\, 98038
CATEGORIES:Local South Sound Blues
END:VEVENT
END:VCALENDAR