BEGIN:VCALENDAR
VERSION:2.0
PRODID:-//South Sound Blues Association - ECPv6.15.18//NONSGML v1.0//EN
CALSCALE:GREGORIAN
METHOD:PUBLISH
X-ORIGINAL-URL:https://southsoundblues.org
X-WR-CALDESC:Events for South Sound Blues Association
REFRESH-INTERVAL;VALUE=DURATION:PT1H
X-Robots-Tag:noindex
X-PUBLISHED-TTL:PT1H
BEGIN:VTIMEZONE
TZID:America/Los_Angeles
BEGIN:DAYLIGHT
TZOFFSETFROM:-0800
TZOFFSETTO:-0700
TZNAME:PDT
DTSTART:20230312T100000
END:DAYLIGHT
BEGIN:STANDARD
TZOFFSETFROM:-0700
TZOFFSETTO:-0800
TZNAME:PST
DTSTART:20231105T090000
END:STANDARD
BEGIN:DAYLIGHT
TZOFFSETFROM:-0800
TZOFFSETTO:-0700
TZNAME:PDT
DTSTART:20240310T100000
END:DAYLIGHT
BEGIN:STANDARD
TZOFFSETFROM:-0700
TZOFFSETTO:-0800
TZNAME:PST
DTSTART:20241103T090000
END:STANDARD
BEGIN:DAYLIGHT
TZOFFSETFROM:-0800
TZOFFSETTO:-0700
TZNAME:PDT
DTSTART:20250309T100000
END:DAYLIGHT
BEGIN:STANDARD
TZOFFSETFROM:-0700
TZOFFSETTO:-0800
TZNAME:PST
DTSTART:20251102T090000
END:STANDARD
END:VTIMEZONE
BEGIN:VEVENT
DTSTART;TZID=America/Los_Angeles:20241001T190000
DTEND;TZID=America/Los_Angeles:20241001T190000
DTSTAMP:20260423T172703
CREATED:20240820T234326Z
LAST-MODIFIED:20240820T234326Z
UID:13273-1727809200-1727809200@southsoundblues.org
SUMMARY:Billy Shew hosts the Burien Eagles Tuesday Night Jams
DESCRIPTION:Billy Shew hosts the Burien Eagles Tuesday Night Jams\,  7:00pm
URL:https://southsoundblues.org/event/billy-shew-hosts-the-burien-eagles-tuesday-night-jams-2/
LOCATION:Burien Eagles\, 920 SW 150th St\, Burien\, WA\, 98166
CATEGORIES:Local South Sound Blues
END:VEVENT
BEGIN:VEVENT
DTSTART;TZID=America/Los_Angeles:20241002T190000
DTEND;TZID=America/Los_Angeles:20241002T220000
DTSTAMP:20260423T172703
CREATED:20240820T234621Z
LAST-MODIFIED:20240820T234621Z
UID:13275-1727895600-1727906400@southsoundblues.org
SUMMARY:Wednesdays Blues “Jam Night” with Brian Olver and Glenn Hummel at Purdy’s\, Sumner
DESCRIPTION:Wednesdays Blues “Jam Night” with Brian Olver and Glenn Hummel at Purdy’s\, Sumner\, WA. 7-10 pm
URL:https://southsoundblues.org/event/wednesdays-blues-jam-night-with-brian-olver-and-glenn-hummel-at-purdys-sumner-13/
LOCATION:Purdy’s Public House & Arcade\, Sumner\, 16202 64th St E\, Sumner\, WA\, 98390
CATEGORIES:Local South Sound Blues
END:VEVENT
BEGIN:VEVENT
DTSTART;TZID=America/Los_Angeles:20241002T190000
DTEND;TZID=America/Los_Angeles:20241002T220000
DTSTAMP:20260423T172703
CREATED:20240902T202424Z
LAST-MODIFIED:20240902T202424Z
UID:13342-1727895600-1727906400@southsoundblues.org
SUMMARY:Brian Kirk Quartet at the Spar
DESCRIPTION:Oct 2nd\, Brian Kirk Quartet\, 7-10pm
URL:https://southsoundblues.org/event/brian-kirk-quartet-at-the-spar-2/
LOCATION:The Spar\, 2121 N 30th St\, Tacoma\, WA\, 98403
CATEGORIES:Featured
END:VEVENT
BEGIN:VEVENT
DTSTART;TZID=America/Los_Angeles:20241003T190000
DTEND;TZID=America/Los_Angeles:20241003T190000
DTSTAMP:20260423T172703
CREATED:20240821T193558Z
LAST-MODIFIED:20240821T193558Z
UID:13294-1727982000-1727982000@southsoundblues.org
SUMMARY:‘Firehouse Jam’ every Thursday Night with host Billy Shew at the L&M Firehouse\, Orting
DESCRIPTION:‘Firehouse Jam’ every Thursday Night with host Billy Shew at the L&M Firehouse\, 7pm
URL:https://southsoundblues.org/event/firehouse-jam-every-thursday-night-with-host-billy-shew-at-the-lm-firehouse-orting-2/
LOCATION:L and M Firehouse\, Orting\, 533 Harman Way S\, Orting\, WA\, 98360
CATEGORIES:Local South Sound Blues
END:VEVENT
BEGIN:VEVENT
DTSTART;TZID=America/Los_Angeles:20241003T190000
DTEND;TZID=America/Los_Angeles:20241003T210000
DTSTAMP:20260423T172703
CREATED:20240927T221809Z
LAST-MODIFIED:20240927T225000Z
UID:13470-1727982000-1727989200@southsoundblues.org
SUMMARY:Octopus Ballett at APIZZA\, Tacoma
DESCRIPTION:Octopus Ballett at APIZZA in Tacoma\, October 3rd\,  7-9 pm
URL:https://southsoundblues.org/event/octopus-ballett-at-apizza-tacoma/
LOCATION:APIZZA\, 821 Pacific Ave\, Tacoma\, WA\, 98402
CATEGORIES:Featured
END:VEVENT
BEGIN:VEVENT
DTSTART;TZID=America/Los_Angeles:20241003T190000
DTEND;TZID=America/Los_Angeles:20241003T220000
DTSTAMP:20260423T172703
CREATED:20240820T234939Z
LAST-MODIFIED:20240820T234939Z
UID:13277-1727982000-1727992800@southsoundblues.org
SUMMARY:“Billy the Pocket Jam” Thursday nights at Dawson’s
DESCRIPTION:“Billy the Pocket Jam” Thursday nights at Dawson’s\, 7-10 pm
URL:https://southsoundblues.org/event/billy-the-pocket-jam-thursday-nights-at-dawsons-38/
LOCATION:Dawson’s Bar & Grill\, 5443 South Tacoma Way\, Tacoma\, WA\, 98409
CATEGORIES:Local South Sound Blues
END:VEVENT
BEGIN:VEVENT
DTSTART;TZID=America/Los_Angeles:20241004T190000
DTEND;TZID=America/Los_Angeles:20241004T190000
DTSTAMP:20260423T172703
CREATED:20240820T232536Z
LAST-MODIFIED:20240826T213207Z
UID:13267-1728068400-1728068400@southsoundblues.org
SUMMARY:Joel Astley Band Featuring Johnny Burgin at the Meydenbauer Center Theatre\, Bellevue Jazz & Blues
DESCRIPTION:Joel Astley Band Featuring Johnny Burgin\, Friday\, October 4th\, 7:30 p.m. at the Meydenbauer Center Theatre\, headliner performances at the Bellevue Jazz & Blues\n​Northwest blues artist Joel Astley delivers an energetic mix of original music\, swing\, roots rock\, jazz\, and blues. Since forming his first band in 2014\, he has won 23 Blues Music Awards and gained national recognition with his debut album\, *Seattle to Greaseland*. Praised for his harmonica skills\, smooth vocals\, and songwriting\, Astley teams up with Blues Music Award nominee Johnny Burgin\, known for his relentless touring and vibrant Chicago blues roots.\n  \n  \nJoel Astley Band featuring Johnny Burgin: https://www.eventbrite.com/e/joel-astley-band-featuring-johnny-burgin-tickets-921066182747 \n 
URL:https://southsoundblues.org/event/joel-astley-band-featuring-johnny-burgin-at-the-meydenbauer-center-theatre/
LOCATION:Meydenbauer Center\, 11100 NE 6th St\, Bellevue\, WA\, 98004
CATEGORIES:Local South Sound Blues,Special Event
END:VEVENT
BEGIN:VEVENT
DTSTART;TZID=America/Los_Angeles:20241004T190000
DTEND;TZID=America/Los_Angeles:20241004T210000
DTSTAMP:20260423T172703
CREATED:20240903T175408Z
LAST-MODIFIED:20240903T175408Z
UID:13389-1728068400-1728075600@southsoundblues.org
SUMMARY:Budapest West at Kimball Coffeehouse
DESCRIPTION:Oct0ber 4th\, Budapest West at Kimball Coffeehouse\, 7-9 pm\n\n\n\n 6659 Kimball Drive\, Suite A102\, Gig Harbor\, WA
URL:https://southsoundblues.org/event/budapest-west-at-kimball-coffeehouse-2/
LOCATION:Kimball’s Coffeehouse\, 6659 Kimball Dr\, Gig Harbor\, WA\, 98335
CATEGORIES:Featured
END:VEVENT
BEGIN:VEVENT
DTSTART;TZID=America/Los_Angeles:20241004T200000
DTEND;TZID=America/Los_Angeles:20241004T200000
DTSTAMP:20260423T172703
CREATED:20240214T221202Z
LAST-MODIFIED:20240214T222554Z
UID:12131-1728072000-1728072000@southsoundblues.org
SUMMARY:Bonnie Raitt at the Paramount Theatre\, Seattle
DESCRIPTION:Bonnie Raitt at the Paramount Theatre\, Seattle\, Friday\, October 4th\, 8:00 pm\n \nSEATTLE THEATRE GROUP\n\n911 Pine Street\, Seattle\, WA 98101\nDirections\nGeneral info: 206.682.1414\nParamount Theatre Box Office\n\n  \n 
URL:https://southsoundblues.org/event/bonnie-raitt-at-the-paramount-theatre-seattle/
LOCATION:Paramount Theater\, 911 Pine St\, Seattle\, WA\, 98101
CATEGORIES:Featured,Special Event
END:VEVENT
BEGIN:VEVENT
DTSTART;TZID=America/Los_Angeles:20241004T200000
DTEND;TZID=America/Los_Angeles:20241004T220000
DTSTAMP:20260423T172703
CREATED:20240816T054526Z
LAST-MODIFIED:20240816T055530Z
UID:13233-1728072000-1728079200@southsoundblues.org
SUMMARY:LeRoy Bell and His Only Friends at Jazzbones
DESCRIPTION:LeRoy Bell and His Only Friends\, October 4TH at Jazzbones\, 8pmAdvanced Tickets $25.00\, Doors 6PM\, Show 8PM 21+\nLeRoy Bell is an American singer and songwriter. He and friend Casey James formed the duo Bell and James\, composing songs that were hits for other artists most notably two charting hit singles for Elton John. Later Bell with bassist Terry Morgan formed the group\, LeRoy Bell & his Only Friends. \nLeRoy Bells amazing career as a  singer/songwriter\, evolving his rhythm & blues inspired rock music to an international stage. \nLeRoy Bell and His Only Friends are fabulous performers who bring great energy and substance to their live shows. This will be a wonderful evening of music at a great venue. Come see for your self. \n  www.jazzbones.com \nJazzbones 2803 6TH AVE TACOMA
URL:https://southsoundblues.org/event/leroy-bell-and-his-only-friends-at-jazzbones-2/
LOCATION:Jazzbones\, 2803 6th Ave\, Tacoma\, WA\, 98406
CATEGORIES:Featured
END:VEVENT
BEGIN:VEVENT
DTSTART;TZID=America/Los_Angeles:20241005T180000
DTEND;TZID=America/Los_Angeles:20241005T233000
DTSTAMP:20260423T172703
CREATED:20240229T013632Z
LAST-MODIFIED:20240919T001130Z
UID:12278-1728151200-1728171000@southsoundblues.org
SUMMARY:North Bend Blues Walk
DESCRIPTION:North Bend Blues Walk\, October 5th\,  6pm to Midnight\nhttps://tickets.jazzclubsnw.org/event/2024-north-bend-blues-walk \n \nSee full musician schedule with this link\,   https://www.northbendblueswalk.com/schedule \nJohnny Burgin Band\n@North Bend Theatre\n9pm to Midnight\nMichele D’Amour & The Love Dealers\n@The Moose Lodge\n9pm – Midnight\nBilly Stoops & The Dirt Angels\n@Main Street Pilates\n7pm – 10pm\nMark Hurwitz and Gin Creek\n@Pro Ski\n7pm – 10pm\nOctopus Ballet\n@DT Vintage Antiques\n6pm – 9pm\n  \n 
URL:https://southsoundblues.org/event/north-bend-blues-walk-2/
LOCATION:North Bend Blues Walk\, 112 W 2nd St\, North Bend\, WA\, 98045
CATEGORIES:Festival,Special Event
END:VEVENT
BEGIN:VEVENT
DTSTART;TZID=America/Los_Angeles:20241005T190000
DTEND;TZID=America/Los_Angeles:20241005T190000
DTSTAMP:20260423T172703
CREATED:20240902T202618Z
LAST-MODIFIED:20240902T202618Z
UID:13344-1728154800-1728154800@southsoundblues.org
SUMMARY:Stonepony at the Spar
DESCRIPTION:Oct 5th\, Stonepony at the Spar 7-10 pm
URL:https://southsoundblues.org/event/stonepony-at-the-spar-3/
LOCATION:The Spar\, 2121 N 30th St\, Tacoma\, WA\, 98403
CATEGORIES:Featured
END:VEVENT
BEGIN:VEVENT
DTSTART;TZID=America/Los_Angeles:20241005T200000
DTEND;TZID=America/Los_Angeles:20241005T200000
DTSTAMP:20260423T172703
CREATED:20240930T005346Z
LAST-MODIFIED:20240930T005346Z
UID:13483-1728158400-1728158400@southsoundblues.org
SUMMARY:Heather Jones & The Groove Masters at Stockton's
DESCRIPTION:Heather Jones & The Groove Masters at Stockton’s in Maple Valley\, 8pm
URL:https://southsoundblues.org/event/heather-jones-the-groove-masters-at-stocktons-3/
LOCATION:Stockton’s Restaurant & Spirits\, 23220 Maple Valley Black Diamond Rd SE\, Maple Valley\, WA\, 98038
CATEGORIES:Local South Sound Blues
END:VEVENT
BEGIN:VEVENT
DTSTART;TZID=America/Los_Angeles:20241006T190000
DTEND;TZID=America/Los_Angeles:20241006T220000
DTSTAMP:20260423T172703
CREATED:20240902T202936Z
LAST-MODIFIED:20240902T202936Z
UID:13346-1728241200-1728252000@southsoundblues.org
SUMMARY:Sunday Blues at the Spar with Mr. Hasty
DESCRIPTION:Oct 6th\, Mr. Hasty at the Spar\, 7-10 pm
URL:https://southsoundblues.org/event/sunday-blues-at-the-spar-with-mr-hasty-2/
LOCATION:The Spar\, 2121 N 30th St\, Tacoma\, WA\, 98403
CATEGORIES:Local South Sound Blues
END:VEVENT
BEGIN:VEVENT
DTSTART;TZID=America/Los_Angeles:20241006T190000
DTEND;TZID=America/Los_Angeles:20241006T230000
DTSTAMP:20260423T172703
CREATED:20240820T233729Z
LAST-MODIFIED:20240820T233729Z
UID:13269-1728241200-1728255600@southsoundblues.org
SUMMARY:Billy Shew Blues Jam\, every Sunday at Dawson’s
DESCRIPTION:Billy Shew Blues Jam\, every Sunday at Dawson’s\, 7-11 pm
URL:https://southsoundblues.org/event/billy-shew-blues-jam-every-sunday-at-dawsons-23/
LOCATION:Dawson’s Bar & Grill\, 5443 South Tacoma Way\, Tacoma\, WA\, 98409
CATEGORIES:Local South Sound Blues
END:VEVENT
BEGIN:VEVENT
DTSTART;TZID=America/Los_Angeles:20241007T180000
DTEND;TZID=America/Los_Angeles:20241007T210000
DTSTAMP:20260423T172703
CREATED:20240820T234136Z
LAST-MODIFIED:20240820T234136Z
UID:13271-1728324000-1728334800@southsoundblues.org
SUMMARY:Monday Jazz at Brother Don’s Bar & Grill\, Bremerton
DESCRIPTION:Monday Jazz at Brother Don’s Bar & Grill\, Bremerton\, 6-9 pm.
URL:https://southsoundblues.org/event/monday-jazz-at-brother-dons-bar-grill-bremerton-3/
LOCATION:Brother Don’s Bar & Grill\, 4200 Kitsap Way\, Bremerton\, WA\, 98312
CATEGORIES:Featured
END:VEVENT
BEGIN:VEVENT
DTSTART;TZID=America/Los_Angeles:20241008T200000
DTEND;TZID=America/Los_Angeles:20241008T233000
DTSTAMP:20260423T172703
CREATED:20240821T000317Z
LAST-MODIFIED:20240821T000317Z
UID:13283-1728417600-1728430200@southsoundblues.org
SUMMARY:Cory Wilds Band Tuesday open Jam Night at Elmer’s Bar and Grill
DESCRIPTION:Cory Wilds Band Tuesday open Jam Night at Elmer’s Bar and Grill\, 8-11:30 pm
URL:https://southsoundblues.org/event/cory-wilds-band-tuesday-open-jam-night-at-elmers-bar-and-grill-23/
LOCATION:Elmer’s Bar & Grill\, 15027 Ambaum Blvd SW\, Burien\, WA\, 98166
CATEGORIES:Local South Sound Blues
END:VEVENT
BEGIN:VEVENT
DTSTART;TZID=America/Los_Angeles:20241009T180000
DTEND;TZID=America/Los_Angeles:20241009T210000
DTSTAMP:20260423T172703
CREATED:20240821T002142Z
LAST-MODIFIED:20240821T002142Z
UID:13289-1728496800-1728507600@southsoundblues.org
SUMMARY:Billy Shew and Friends host an open Jam every Wednesday at Stockton’s
DESCRIPTION:Billy Shew and Friends host an open Jam every Wednesday at Stockton’s\, 6-9pm
URL:https://southsoundblues.org/event/billy-shew-and-friends-host-an-open-jam-every-wednesday-at-stocktons-22/
LOCATION:Stockton’s Restaurant & Spirits\, 23220 Maple Valley Black Diamond Rd SE\, Maple Valley\, WA\, 98038
CATEGORIES:Local South Sound Blues
END:VEVENT
BEGIN:VEVENT
DTSTART;TZID=America/Los_Angeles:20241009T190000
DTEND;TZID=America/Los_Angeles:20241009T190000
DTSTAMP:20260423T172703
CREATED:20240902T203153Z
LAST-MODIFIED:20240902T203153Z
UID:13348-1728500400-1728500400@southsoundblues.org
SUMMARY:King Grand at the Spar
DESCRIPTION:Oct 9th\, King Grand at the Spar\, 7-10 pm
URL:https://southsoundblues.org/event/king-grand-at-the-spar-4/
LOCATION:The Spar\, 2121 N 30th St\, Tacoma\, WA\, 98403
CATEGORIES:Local South Sound Blues
END:VEVENT
BEGIN:VEVENT
DTSTART;TZID=America/Los_Angeles:20241010T200000
DTEND;TZID=America/Los_Angeles:20241010T200000
DTSTAMP:20260423T172703
CREATED:20241007T221425Z
LAST-MODIFIED:20241007T221425Z
UID:13588-1728590400-1728590400@southsoundblues.org
SUMMARY:Stevie and the Blue Flames with Dee Smith at the Salmon Bay Eagles
DESCRIPTION:Thursday 10/10 blues night at Salmon Bay Eagles Blues. Stevie and the Blue Flames with Dee Smith\, 8:00 PM.\n Dee Smith
URL:https://southsoundblues.org/event/stevie-and-the-blue-flames-with-dee-smith-at-the-salmon-bay-eagles/
LOCATION:Salmon Bay Eagles\, 5216 20th Ave NW\, Seattle\, WA\, 98107
CATEGORIES:Local South Sound Blues
END:VEVENT
BEGIN:VEVENT
DTSTART;TZID=America/Los_Angeles:20241011T190000
DTEND;TZID=America/Los_Angeles:20241011T210000
DTSTAMP:20260423T172703
CREATED:20240903T174000Z
LAST-MODIFIED:20240903T174000Z
UID:13383-1728673200-1728680400@southsoundblues.org
SUMMARY:Melanie Vail & Friends at Kimball Coffeehouse
DESCRIPTION:October 11th\,Melanie Vail & Friends LIVE at Kimball Coffeehouse\, 7-9 pm\n\n\n\n\n 6659 Kimball Drive\, Suite A102\, Gig Harbor\, W
URL:https://southsoundblues.org/event/melanie-vail-friends-at-kimball-coffeehouse-2/
LOCATION:Kimball’s Coffeehouse\, 6659 Kimball Dr\, Gig Harbor\, WA\, 98335
CATEGORIES:Featured
END:VEVENT
BEGIN:VEVENT
DTSTART;TZID=America/Los_Angeles:20241011T200000
DTEND;TZID=America/Los_Angeles:20241011T200000
DTSTAMP:20260423T172703
CREATED:20240902T180534Z
LAST-MODIFIED:20240902T192250Z
UID:13333-1728676800-1728676800@southsoundblues.org
SUMMARY:Stacy Jones Birthday Harmonica Blow Out at Aurora Borealis
DESCRIPTION:Stacy Jones Birthday Harmonica Blow Out at Aurora Borealis\, Friday October 11th – 8pm\n\n\n\n\n\n\n\n\n\n\n\n\n\n© 2018 Brian and Jo Benedetti \n\n\n\n\n\n\n\n\n\n\n\n\n\nTickets · $20 – $25\nwww.eventbrite.com/e/stacy-jones-birthday-harmonica-blow-out-tickets-1000807451027\n\n\n\n\n\n\n\n\n\nThe Stacy Jones Band w Special guests Lee Oskar\, Bill Davis\, Mitch Pumpian\n\n\n\n\n\nTickets are $20 advance\, $25 doorAll Ages Welcome\npresented by Stacy Jones Band and Lee Oskar Harmonicas
URL:https://southsoundblues.org/event/stacy-jones-birthday-harmonica-blow-out-at-aurora-borealis/
LOCATION:Aurora Borealis\, 16708 Aurora Ave N\, Shoreline\, WA\, 98133
CATEGORIES:Featured
END:VEVENT
BEGIN:VEVENT
DTSTART;TZID=America/Los_Angeles:20241011T210000
DTEND;TZID=America/Los_Angeles:20241011T233000
DTSTAMP:20260423T172703
CREATED:20241008T011427Z
LAST-MODIFIED:20241008T011917Z
UID:13643-1728680400-1728689400@southsoundblues.org
SUMMARY:Billy Stapleton's Powerhouse at the Brick Saloon\, Roslyn
DESCRIPTION:Friday\, October 11th in Roslyn WA at the legendary Brick Saloon\, Billy Stapleton’s POWERHOUSE plays from 9-midnight.\n \n100 W Pennsylvania Ave\,\nRoslyn\, WA 98941\n(509) 649-2643
URL:https://southsoundblues.org/event/billy-stapletons-powerhouse-at-the-brick-saloon-roslyn/
LOCATION:Brick Saloon\, 100 W Pennsylvania Ave\, Roslyn\, WA\, 98941
CATEGORIES:Featured
END:VEVENT
BEGIN:VEVENT
DTSTART;TZID=America/Los_Angeles:20241012T190000
DTEND;TZID=America/Los_Angeles:20241012T190000
DTSTAMP:20260423T172703
CREATED:20240902T203416Z
LAST-MODIFIED:20240902T203416Z
UID:13350-1728759600-1728759600@southsoundblues.org
SUMMARY:Lost and Found at the Spar
DESCRIPTION:Oct 12th\, Lost and Found at the Spar\, 7-10 pm
URL:https://southsoundblues.org/event/lost-and-found-at-the-spar-2/
LOCATION:The Spar\, 2121 N 30th St\, Tacoma\, WA\, 98403
CATEGORIES:Featured
END:VEVENT
BEGIN:VEVENT
DTSTART;TZID=America/Los_Angeles:20241012T200000
DTEND;TZID=America/Los_Angeles:20241012T200000
DTSTAMP:20260423T172703
CREATED:20240916T220945Z
LAST-MODIFIED:20240916T221247Z
UID:13448-1728763200-1728763200@southsoundblues.org
SUMMARY:Randy Hansen (A Tribute to Jimi Hendrix) at Jazzbones
DESCRIPTION:Saturday\, October 12th\, Randy Hansen\, (A tribute to Jimi Hendrix) at Jazzbones\, 8pm with special guest Stonehouse Wednesday\n\n\n Randy Hansen\n\n\n\nOne full night of the incredible Randy Hansen! Randy Hansen (A Tribute to Jimi Hendrix) w/ his original band Stonehouse Wednesday! \nJazzbones ticket office:   https://jazzbones.com/ \nFor over thirty years\, Hansen has been building a reputation as the foremost Hendrix tribute on Earth. As one of the few players officially recognized by the Hendrix family\, he has been successfully doing his act since the ’70s\, stunning audiences worldwide as he channels the spirit of Jimi and perfectly recreates the stage presence and skill of the legendary axeman. Aside from his loyal fanbase\, Hansen’s guitar work is respected throughout the music business. He’s played alongside some of the greats\, including Stevie Ray Vaughan\, Steve Miller\, Paul Rodgers\, Herbie Hancock\, and original Jimi Hendrix Experience members Noel Redding and Mitch Mitchell… Also original Band Of Gypsies members\, Buddy Miles and Billy Cox. \nDoors: 7:00PM | Show: 8:00PM 21+
URL:https://southsoundblues.org/event/randy-hansen-a-tribute-to-jimi-hendrix-at-jazzbones/
LOCATION:Jazzbones\, 2803 6th Ave\, Tacoma\, WA\, 98406
CATEGORIES:Featured,Local South Sound Blues,Special Event
END:VEVENT
BEGIN:VEVENT
DTSTART;TZID=America/Los_Angeles:20241013T130000
DTEND;TZID=America/Los_Angeles:20241013T210000
DTSTAMP:20260423T172703
CREATED:20240912T003909Z
LAST-MODIFIED:20240912T003909Z
UID:13434-1728824400-1728853200@southsoundblues.org
SUMMARY:WBS Snohomish Blues Invasion\, Snohomish\, WA
DESCRIPTION:October 13th\, WBS Snohomish Blues Invasion\, Snohomish\, WA \nWashington Blues Society \n\nSun Oct 13th 1:00pm – 9:00pm (PDT)\nOxford Saloon\, 913 1st Street\, Snohomish\, WA 98290
URL:https://southsoundblues.org/event/wbs-snohomish-blues-invasion-snohomish-wa/
LOCATION:Oxford Saloon\, 913 1st St\, Snohomish\, WA\, 98290
CATEGORIES:Featured
END:VEVENT
BEGIN:VEVENT
DTSTART;TZID=America/Los_Angeles:20241013T190000
DTEND;TZID=America/Los_Angeles:20241013T190000
DTSTAMP:20260423T172703
CREATED:20240822T191257Z
LAST-MODIFIED:20240822T192755Z
UID:13297-1728846000-1728846000@southsoundblues.org
SUMMARY:Lisa Mann & Lara Price\, at the Slippery Pig\, Poulsbo
DESCRIPTION:October 13th\, Lisa Mann & Lara Price\, at the Slippery Pig In Poulsbo\, 7pm\n  \nSee their website\, Poulsbobluesandjazzfestival.com or their Facebook page @poulsbobluesandjazzfestival for tickets and more information
URL:https://southsoundblues.org/event/lisa-mann-lara-price-at-the-slippery-pig-poulsbo/
LOCATION:Slippery Pig Brewery\, 18801 Front St NE\, Poulsbo\, WA\, 98370
CATEGORIES:Local South Sound Blues
END:VEVENT
BEGIN:VEVENT
DTSTART;TZID=America/Los_Angeles:20241013T190000
DTEND;TZID=America/Los_Angeles:20241013T220000
DTSTAMP:20260423T172703
CREATED:20240902T203718Z
LAST-MODIFIED:20240902T203718Z
UID:13352-1728846000-1728856800@southsoundblues.org
SUMMARY:Sunday Blues at the Spar\, JoMamma with Sheri Roberts Greimes
DESCRIPTION:Oct 13th\, JoMamma with Sheri Roberts Greimes at the Spar\, 7-10 pm
URL:https://southsoundblues.org/event/sunday-blues-at-the-spar-jomamma-with-sheri-roberts-greimes/
LOCATION:The Spar\, 2121 N 30th St\, Tacoma\, WA\, 98403
CATEGORIES:Local South Sound Blues
END:VEVENT
BEGIN:VEVENT
DTSTART;TZID=America/Los_Angeles:20241014T200000
DTEND;TZID=America/Los_Angeles:20241014T220000
DTSTAMP:20260423T172703
CREATED:20240827T011025Z
LAST-MODIFIED:20240827T012011Z
UID:13328-1728936000-1728943200@southsoundblues.org
SUMMARY:Mike Witmer hosts “Mojo Mike’s Blues Revue” every Monday on KVSH 101.9 FM
DESCRIPTION:Mike Witmer hosts “Mojo Mike’s Blues Revue” every Monday on KVSH 101.9 FM 8-10 pm
URL:https://southsoundblues.org/event/mike-witmer-hosts-mojo-mikes-blues-revue-every-monday-on-kvsh-101-9-fm-25/
LOCATION:KVSH\, 17643 Vashon Hwy SW\, Vashon Island\, WA\, 98070
CATEGORIES:Local South Sound Blues
END:VEVENT
BEGIN:VEVENT
DTSTART;TZID=America/Los_Angeles:20241015T190000
DTEND;TZID=America/Los_Angeles:20241015T220000
DTSTAMP:20260423T172703
CREATED:20240821T000545Z
LAST-MODIFIED:20240821T000545Z
UID:13285-1729018800-1729029600@southsoundblues.org
SUMMARY:Jam every Tuesday at Brother Don’s Bar & Grill with the Tim Hall band
DESCRIPTION:Jam every Tuesday at Brother Don’s Bar & Grill with the Tim Hall band\, 7-10 pm.
URL:https://southsoundblues.org/event/jam-every-tuesday-at-brother-dons-bar-grill-with-the-tim-hall-band-6/
LOCATION:Brother Don’s Bar & Grill\, 4200 Kitsap Way\, Bremerton\, WA\, 98312
CATEGORIES:Local South Sound Blues
END:VEVENT
END:VCALENDAR