BEGIN:VCALENDAR
VERSION:2.0
PRODID:-//South Sound Blues Association - ECPv6.15.18//NONSGML v1.0//EN
CALSCALE:GREGORIAN
METHOD:PUBLISH
X-ORIGINAL-URL:https://southsoundblues.org
X-WR-CALDESC:Events for South Sound Blues Association
REFRESH-INTERVAL;VALUE=DURATION:PT1H
X-Robots-Tag:noindex
X-PUBLISHED-TTL:PT1H
BEGIN:VTIMEZONE
TZID:America/Los_Angeles
BEGIN:DAYLIGHT
TZOFFSETFROM:-0800
TZOFFSETTO:-0700
TZNAME:PDT
DTSTART:20240310T100000
END:DAYLIGHT
BEGIN:STANDARD
TZOFFSETFROM:-0700
TZOFFSETTO:-0800
TZNAME:PST
DTSTART:20241103T090000
END:STANDARD
BEGIN:DAYLIGHT
TZOFFSETFROM:-0800
TZOFFSETTO:-0700
TZNAME:PDT
DTSTART:20250309T100000
END:DAYLIGHT
BEGIN:STANDARD
TZOFFSETFROM:-0700
TZOFFSETTO:-0800
TZNAME:PST
DTSTART:20251102T090000
END:STANDARD
BEGIN:DAYLIGHT
TZOFFSETFROM:-0800
TZOFFSETTO:-0700
TZNAME:PDT
DTSTART:20260308T100000
END:DAYLIGHT
BEGIN:STANDARD
TZOFFSETFROM:-0700
TZOFFSETTO:-0800
TZNAME:PST
DTSTART:20261101T090000
END:STANDARD
END:VTIMEZONE
BEGIN:VEVENT
DTSTART;TZID=America/Los_Angeles:20251001T180000
DTEND;TZID=America/Los_Angeles:20251001T210000
DTSTAMP:20260423T011643
CREATED:20250620T011202Z
LAST-MODIFIED:20250620T011202Z
UID:15267-1759341600-1759352400@southsoundblues.org
SUMMARY:Wednesday Funky Jazz at the Spar
DESCRIPTION:Wednesday Funky Jazz at the Spar
URL:https://southsoundblues.org/event/wednesday-funky-jazz-at-the-spar-5/
LOCATION:The Spar\, 2121 N 30th St\, Tacoma\, WA\, 98403
CATEGORIES:Featured
END:VEVENT
BEGIN:VEVENT
DTSTART;TZID=America/Los_Angeles:20251001T180000
DTEND;TZID=America/Los_Angeles:20251001T210000
DTSTAMP:20260423T011643
CREATED:20250901T000137Z
LAST-MODIFIED:20250901T000202Z
UID:15920-1759341600-1759352400@southsoundblues.org
SUMMARY:Wednesday Night Jams at Stockton’s with Billy Shew & Friends
DESCRIPTION:Wednesday Night Jams at Stockton’s with Billy Shew & Friends\, 6-9 pm
URL:https://southsoundblues.org/event/wednesday-night-jams-at-stocktons-with-billy-shew-friends-2/
LOCATION:Stockton’s Restaurant & Spirits\, 23220 Maple Valley Black Diamond Rd SE\, Maple Valley\, WA\, 98038
CATEGORIES:Local South Sound Blues
END:VEVENT
BEGIN:VEVENT
DTSTART;TZID=America/Los_Angeles:20251002T173000
DTEND;TZID=America/Los_Angeles:20251002T200000
DTSTAMP:20260423T011643
CREATED:20250918T215831Z
LAST-MODIFIED:20250918T215831Z
UID:16095-1759426200-1759435200@southsoundblues.org
SUMMARY:Annie Eastwood Trio Featuring Billy Stapleton Cellar Cat\, Kingston
DESCRIPTION:Thursday October 2nd\, 5:30pm to 8pm\, Annie Eastwood Trio Featuring Billy Stapleton at the Cellar Cat\, Kingston
URL:https://southsoundblues.org/event/annie-eastwood-trio-featuring-billy-stapleton-cellar-cat-kingston/
LOCATION:Cellar Cat\, 11253 State Highway 104 NE\, Kingston\, WA\, 98346
CATEGORIES:Featured
END:VEVENT
BEGIN:VEVENT
DTSTART;TZID=America/Los_Angeles:20251002T190000
DTEND;TZID=America/Los_Angeles:20251002T220000
DTSTAMP:20260423T011643
CREATED:20250824T010529Z
LAST-MODIFIED:20250824T010941Z
UID:15783-1759431600-1759442400@southsoundblues.org
SUMMARY:Thursday nights- Billy “The Pocket” Blues Jams at Dawsons
DESCRIPTION:Thursday nights- Billy “The Pocket” Blues Jams at Dawsons\, 7-10 pm
URL:https://southsoundblues.org/event/thursday-nights-billy-the-pocket-blues-jams-at-dawsons-5/
LOCATION:Dawson’s Bar & Grill\, 5443 South Tacoma Way\, Tacoma\, WA\, 98409
CATEGORIES:Local South Sound Blues
END:VEVENT
BEGIN:VEVENT
DTSTART;TZID=America/Los_Angeles:20251002T190000
DTEND;TZID=America/Los_Angeles:20251002T220000
DTSTAMP:20260423T011643
CREATED:20250901T004415Z
LAST-MODIFIED:20250901T004415Z
UID:15961-1759431600-1759442400@southsoundblues.org
SUMMARY:Thursdays Red Dog Saloon Jams\, Maple Valley\, with host Billy Shew
DESCRIPTION:Thursdays Red Dog Saloon Jams\, Maple Valley\, with host Billy Shew\, 7-10 pm
URL:https://southsoundblues.org/event/thursdays-red-dog-saloon-jams-maple-valley-with-host-billy-shew-5/
LOCATION:Red Dog Saloon\, 18605 Renton-Maple Valley Rd\, Maple Valley\, WA\, 98038
CATEGORIES:Local South Sound Blues
END:VEVENT
BEGIN:VEVENT
DTSTART;TZID=America/Los_Angeles:20251003T190000
DTEND;TZID=America/Los_Angeles:20251003T210000
DTSTAMP:20260423T011643
CREATED:20250904T205321Z
LAST-MODIFIED:20250904T205321Z
UID:16020-1759518000-1759525200@southsoundblues.org
SUMMARY:Eric's Maine Connection at Kimball Coffeehouse\, Gig Harbor
DESCRIPTION:Eric’s Maine Connection at Kimball Coffeehouse October 3rd\, 7-9 pm\n \nTake three multiple WBS Award Winning and nominated artists headed up by guitarist extraordinaire\, Eric Rice with Scotty Harris on bass and Andrew Cloutier on drums and you have a recipe for a fantastic night of great classic rock and blues that is sure to satisfy!! Don’t miss this rare performance!
URL:https://southsoundblues.org/event/erics-maine-connection-at-kimball-coffeehouse-gig-harbor/
LOCATION:Kimball’s Coffeehouse\, 6659 Kimball Dr\, Gig Harbor\, WA\, 98335
CATEGORIES:Local South Sound Blues
END:VEVENT
BEGIN:VEVENT
DTSTART;TZID=America/Los_Angeles:20251003T190000
DTEND;TZID=America/Los_Angeles:20251003T220000
DTSTAMP:20260423T011643
CREATED:20250825T222642Z
LAST-MODIFIED:20250825T222642Z
UID:15841-1759518000-1759528800@southsoundblues.org
SUMMARY:Live Music at the Spar
DESCRIPTION:Live Music at the Spar October 3rd\, 7-10 pm
URL:https://southsoundblues.org/event/live-music-at-the-spar-4/
LOCATION:The Spar\, 2121 N 30th St\, Tacoma\, WA\, 98403
CATEGORIES:Featured
END:VEVENT
BEGIN:VEVENT
DTSTART;VALUE=DATE:20251004
DTEND;VALUE=DATE:20251006
DTSTAMP:20260423T011643
CREATED:20250615T195352Z
LAST-MODIFIED:20250918T203715Z
UID:15160-1759543200-1759629599@southsoundblues.org
SUMMARY:North Bend Blues Walk
DESCRIPTION:North Bend Blues Walk\, Saturday\, October 4th\, 2025 • 6 pm-Midnight \nOne Ticket – One Night – 18 Venues – 27 Bands +90 Musicians. \ntickets:  https://www.jazzclubsnw.org/northbendblueswalktickets.html \n \nhttps://www.jazzclubsnw.org/northbendblueswalk.html \nWill Call and Ticket Sales open at 4PM. If you pre-ordered tickets or you are walking up\, this is where you pick them up after 4PM.\n125 Bendigo Blvd N\, North Bend\, WA 98045 \n 
URL:https://southsoundblues.org/event/north-bend-blues-walk/
LOCATION:North Bend Blues Walk\, 112 W 2nd St\, North Bend\, WA\, 98045
CATEGORIES:Festival
END:VEVENT
BEGIN:VEVENT
DTSTART;TZID=America/Los_Angeles:20251004T180000
DTEND;TZID=America/Los_Angeles:20251004T213000
DTSTAMP:20260423T011643
CREATED:20251002T221650Z
LAST-MODIFIED:20251002T221650Z
UID:16180-1759600800-1759613400@southsoundblues.org
SUMMARY:Dennis Jones Band at The Valley\, Tacoma
DESCRIPTION:Dennis Jones Band Back In Tacoma at The Valley October 4th\, 6pm\nWith his high-energy stage performance. Backed by a rhythm section that is second to none\, this IS Dennis Jones. Check out a live show\, and you’ll instantly agree\, this band ROCKS the blues!\nhttps://dennisjonescentral.com
URL:https://southsoundblues.org/event/dennis-jones-band-at-the-valley-tacoma-2/
LOCATION:The Valley\, 1206 Puyallup Ave\, Tacoma\, WA\, 98421
CATEGORIES:Local South Sound Blues
END:VEVENT
BEGIN:VEVENT
DTSTART;TZID=America/Los_Angeles:20251004T180000
DTEND;TZID=America/Los_Angeles:20251004T220000
DTSTAMP:20260423T011643
CREATED:20250904T212005Z
LAST-MODIFIED:20250918T210722Z
UID:16024-1759600800-1759615200@southsoundblues.org
SUMMARY:Five SSBA member Bands at North Bend Blues Walk
DESCRIPTION:Five SSBA member bands at the North Bend Blues Walk\nThe Joel Astley band\, John Stephan Band\, Mark Dufresne\, Michele D’Amour & the Love Dealers\, Billy Stoops & the Dirt Angels and many more excellent musicians.\n\n\nOctober 4th\, 5-midnight!\nOne Ticket – One Night – 18 Venues – 27 Bands +90 Musicians
URL:https://southsoundblues.org/event/john-stephan-band-at-north-bend-blues-walk/
LOCATION:North Bend Blues Walk\, 112 W 2nd St\, North Bend\, WA\, 98045
CATEGORIES:Festival
END:VEVENT
BEGIN:VEVENT
DTSTART;TZID=America/Los_Angeles:20251004T190000
DTEND;TZID=America/Los_Angeles:20251004T210000
DTSTAMP:20260423T011643
CREATED:20250825T220011Z
LAST-MODIFIED:20250825T220210Z
UID:15839-1759604400-1759611600@southsoundblues.org
SUMMARY:Live Music at Johnny's Dock\, Tacoma
DESCRIPTION:Live Music at Johnny’s Dock October 4th\, 7-9 pm
URL:https://southsoundblues.org/event/live-music-at-johnnys-dock-tacoma/
LOCATION:Johnny’s Dock\, 1900 E D St\, Tacoma\, WA\, 98421
CATEGORIES:Local South Sound Blues
END:VEVENT
BEGIN:VEVENT
DTSTART;TZID=America/Los_Angeles:20251004T200000
DTEND;TZID=America/Los_Angeles:20251004T223000
DTSTAMP:20260423T011643
CREATED:20250918T212856Z
LAST-MODIFIED:20250918T212856Z
UID:16082-1759608000-1759617000@southsoundblues.org
SUMMARY:Heather Jones & The Groove Masters at the Twisted Monkey Bar & Grill\, Lacey
DESCRIPTION:Heather Jones & The Groove Masters at the Twisted Monkey October 4th\, 8pm
URL:https://southsoundblues.org/event/heather-jones-the-groove-masters-at-the-twisted-monkey-bar-grill-lacey/
LOCATION:Twisted Monkey\, 5805 Lacey Blvd SE\, Lacey\, WA\, 98503
END:VEVENT
BEGIN:VEVENT
DTSTART;TZID=America/Los_Angeles:20251004T200000
DTEND;TZID=America/Los_Angeles:20251004T230000
DTSTAMP:20260423T011643
CREATED:20250906T212626Z
LAST-MODIFIED:20250906T212917Z
UID:16040-1759608000-1759618800@southsoundblues.org
SUMMARY:Cory Wilds Band at the Sand Bar and Grill
DESCRIPTION:Cory Wilds Band at the Sand Bar and Grill October 4th\, 8-11 pm\n\n\n 
URL:https://southsoundblues.org/event/cory-wilds-band-at-the-sand-bar-and-grill/
LOCATION:Sandbar & Grill\, 1941 Marine View Dr\, Tacoma\, WA\, 98422
CATEGORIES:Local South Sound Blues
END:VEVENT
BEGIN:VEVENT
DTSTART;TZID=America/Los_Angeles:20251005T160000
DTEND;TZID=America/Los_Angeles:20251005T180000
DTSTAMP:20260423T011643
CREATED:20250918T220402Z
LAST-MODIFIED:20250918T220402Z
UID:16097-1759680000-1759687200@southsoundblues.org
SUMMARY:The Lonely Hearts Club - Beatles Tribute at the Thumbnail Theater\, Snohomish
DESCRIPTION:The Lonely Hearts Club – Beatles Tribute at the Thumbnail Theater\, Sunday October 5th\, 4 – 6pm
URL:https://southsoundblues.org/event/the-lonely-hearts-club-beatles-tribute-at-the-thumbnail-theater-snohomish/
LOCATION:Thumbnail Theater\, 1211 4th St\, Snohomish\, WA\, 98290
CATEGORIES:Featured
END:VEVENT
BEGIN:VEVENT
DTSTART;TZID=America/Los_Angeles:20251005T180000
DTEND;TZID=America/Los_Angeles:20251005T210000
DTSTAMP:20260423T011643
CREATED:20250718T224352Z
LAST-MODIFIED:20250718T224352Z
UID:15473-1759687200-1759698000@southsoundblues.org
SUMMARY:Tim Hall Blues Jam every Sunday at Zesty’s Steakhouse
DESCRIPTION:Tim Hall Blues Jam every Sunday at Zesty’s Steakhouse\, 6-9pm
URL:https://southsoundblues.org/event/tim-hall-blues-jam-every-sunday-at-zestys-steakhouse-7/
LOCATION:Zesty’s Cajun Steakhouse\, 9905 Bridgeport Way Southwest\, Lakewood\, WA\, 98499
CATEGORIES:Featured
END:VEVENT
BEGIN:VEVENT
DTSTART;TZID=America/Los_Angeles:20251005T190000
DTEND;TZID=America/Los_Angeles:20251005T220000
DTSTAMP:20260423T011643
CREATED:20250818T000157Z
LAST-MODIFIED:20250818T000157Z
UID:15728-1759690800-1759701600@southsoundblues.org
SUMMARY:Sunday Blues at the Spar with the Taylor Hardin Blues Band
DESCRIPTION:Sunday Blues at the Spar with the Taylor Hardin Blues Band 7-10 pm
URL:https://southsoundblues.org/event/sunday-blues-at-the-spar-with-the-taylor-hardin-blues-band/
LOCATION:The Spar\, 2121 N 30th St\, Tacoma\, WA\, 98403
CATEGORIES:Local South Sound Blues
END:VEVENT
BEGIN:VEVENT
DTSTART;TZID=America/Los_Angeles:20251006T180000
DTEND;TZID=America/Los_Angeles:20251006T210000
DTSTAMP:20260423T011643
CREATED:20250819T000957Z
LAST-MODIFIED:20250819T000957Z
UID:15743-1759773600-1759784400@southsoundblues.org
SUMMARY:Monday Jazz at Brother Don’s Bar & Grill\, Bremerton
DESCRIPTION:Monday Jazz at Brother Don’s Bar & Grill\, Bremerton\, 6-9 pm
URL:https://southsoundblues.org/event/monday-jazz-at-brother-dons-bar-grill-bremerton-25/
LOCATION:Brother Don’s Bar & Grill\, 4200 Kitsap Way\, Bremerton\, WA\, 98312
CATEGORIES:Featured
END:VEVENT
BEGIN:VEVENT
DTSTART;TZID=America/Los_Angeles:20251007T190000
DTEND;TZID=America/Los_Angeles:20251007T220000
DTSTAMP:20260423T011643
CREATED:20250831T224349Z
LAST-MODIFIED:20250831T224349Z
UID:15866-1759863600-1759874400@southsoundblues.org
SUMMARY:Billy Shew hosts the Burien Eagles Tuesday Night Jams
DESCRIPTION:Billy Shew hosts the Burien Eagles Tuesday Night Jams\,  7:00pm
URL:https://southsoundblues.org/event/billy-shew-hosts-the-burien-eagles-tuesday-night-jams-17/
LOCATION:Burien Eagles\, 920 SW 150th St\, Burien\, WA\, 98166
CATEGORIES:Local South Sound Blues
END:VEVENT
BEGIN:VEVENT
DTSTART;TZID=America/Los_Angeles:20251007T190000
DTEND;TZID=America/Los_Angeles:20251007T220000
DTSTAMP:20260423T011643
CREATED:20250831T231023Z
LAST-MODIFIED:20250831T231023Z
UID:15884-1759863600-1759874400@southsoundblues.org
SUMMARY:Jam every Tuesday at Brother Don’s Bar & Grill with the Tim Hall band
DESCRIPTION:Jam every Tuesday at Brother Don’s Bar & Grill with the Tim Hall band\, 7-10 pm.
URL:https://southsoundblues.org/event/jam-every-tuesday-at-brother-dons-bar-grill-with-the-tim-hall-band-20/
LOCATION:Brother Don’s Bar & Grill\, 4200 Kitsap Way\, Bremerton\, WA\, 98312
CATEGORIES:Local South Sound Blues
END:VEVENT
BEGIN:VEVENT
DTSTART;TZID=America/Los_Angeles:20251008T180000
DTEND;TZID=America/Los_Angeles:20251008T210000
DTSTAMP:20260423T011643
CREATED:20250901T000356Z
LAST-MODIFIED:20250901T000356Z
UID:15922-1759946400-1759957200@southsoundblues.org
SUMMARY:Wednesday Night Jams at Stockton’s with Billy Shew & Friends
DESCRIPTION:Wednesday Night Jams at Stockton’s with Billy Shew & Friends\, 6-9 pm
URL:https://southsoundblues.org/event/wednesday-night-jams-at-stocktons-with-billy-shew-friends-3/
LOCATION:Stockton’s Restaurant & Spirits\, 23220 Maple Valley Black Diamond Rd SE\, Maple Valley\, WA\, 98038
CATEGORIES:Local South Sound Blues
END:VEVENT
BEGIN:VEVENT
DTSTART;TZID=America/Los_Angeles:20251008T183000
DTEND;TZID=America/Los_Angeles:20251008T203000
DTSTAMP:20260423T011643
CREATED:20250918T214249Z
LAST-MODIFIED:20250918T214249Z
UID:16089-1759948200-1759955400@southsoundblues.org
SUMMARY:Heather & Donnie Duo at TK's Irish Pub\, Puyallup
DESCRIPTION:Heather & Donnie Jones Duo at the Twisted Kilt Irish Pub\, Puyallup\, October 8th\, 6:30 pm
URL:https://southsoundblues.org/event/heather-donnie-duo-at-tks-irish-pub-puyallup/
LOCATION:Twisted Kilt\, 109 S Meridian\, Puyallup\, WA\, 98371
CATEGORIES:Local South Sound Blues
END:VEVENT
BEGIN:VEVENT
DTSTART;TZID=America/Los_Angeles:20251009T180000
DTEND;TZID=America/Los_Angeles:20251009T210000
DTSTAMP:20260423T011643
CREATED:20250918T220810Z
LAST-MODIFIED:20250918T220831Z
UID:16100-1760032800-1760043600@southsoundblues.org
SUMMARY:Annie Eastwood & The Miles from Chicago Band at Bad Albert’s Tap & Grill\, Ballard 
DESCRIPTION:Annie Eastwood & The Miles From Chicago Band at Bad Albert’s Tap & Grill\, Ballard\n \n\nThursday October 9\, 6pm to 9pm\,
URL:https://southsoundblues.org/event/annie-eastwood-the-miles-from-chicago-band-at-bad-alberts-tap-grill-ballard/
LOCATION:Bad Albert’s\, 5100 Ballard Avenue Northwest\, Seattle\, WA\, 98107
CATEGORIES:Featured
END:VEVENT
BEGIN:VEVENT
DTSTART;TZID=America/Los_Angeles:20251009T190000
DTEND;TZID=America/Los_Angeles:20251009T220000
DTSTAMP:20260423T011643
CREATED:20250901T004642Z
LAST-MODIFIED:20250901T004642Z
UID:15963-1760036400-1760047200@southsoundblues.org
SUMMARY:Thursdays Red Dog Saloon Jams\, Maple Valley\, with host Billy Shew
DESCRIPTION:Thursdays Red Dog Saloon Jams\, Maple Valley\, with host Billy Shew\, 7-10 pm
URL:https://southsoundblues.org/event/thursdays-red-dog-saloon-jams-maple-valley-with-host-billy-shew-6/
LOCATION:Red Dog Saloon\, 18605 Renton-Maple Valley Rd\, Maple Valley\, WA\, 98038
CATEGORIES:Local South Sound Blues
END:VEVENT
BEGIN:VEVENT
DTSTART;TZID=America/Los_Angeles:20251009T193000
DTEND;TZID=America/Los_Angeles:20251009T220000
DTSTAMP:20260423T011643
CREATED:20250723T213339Z
LAST-MODIFIED:20250723T213339Z
UID:15535-1760038200-1760047200@southsoundblues.org
SUMMARY:Lucinda Williams at the 5th Avenue Theatre\, Seattle
DESCRIPTION:Lucinda Williams at the 5th Avenue Theatre October 9th\, 7:30 pm\nLucinda Williams\n\n\n\nhttps://gotickets.com/venues/5th-avenue-theatre\n\n1308 5th Ave.\, Seattle WA 98101\n206-625-1900
URL:https://southsoundblues.org/event/lucinda-williams-at-the-5th-avenue-theatre-seattle/
LOCATION:5th Avenue Theatre\, 1308 5th Ave.\, Seattle\, WA\, 98101
CATEGORIES:Featured
END:VEVENT
BEGIN:VEVENT
DTSTART;TZID=America/Los_Angeles:20251010T180000
DTEND;TZID=America/Los_Angeles:20251010T213000
DTSTAMP:20260423T011643
CREATED:20251007T001627Z
LAST-MODIFIED:20251007T001627Z
UID:16194-1760119200-1760131800@southsoundblues.org
SUMMARY:Billy Shew & The Sole Providers at the Garage Bar & Grill\, Bremerton
DESCRIPTION:Billy Shew & The Sole Providers at the Garage Bar & Grill\, October 6th\, 6pm\n  \n \n\n\n\n\n\n Billy Shew
URL:https://southsoundblues.org/event/billy-shew-the-sole-providers-at-the-garage-bar-grill-bremerton/
LOCATION:Garage Bar and Grill\, 6812 Kitsap Way\, Bremerton\, WA\, 98312
CATEGORIES:Featured
END:VEVENT
BEGIN:VEVENT
DTSTART;TZID=America/Los_Angeles:20251010T190000
DTEND;TZID=America/Los_Angeles:20251010T210000
DTSTAMP:20260423T011643
CREATED:20250918T233020Z
LAST-MODIFIED:20250918T233020Z
UID:16106-1760122800-1760130000@southsoundblues.org
SUMMARY:Mark DuFresne Band featuring Billy Stapleton at Kimball Coffeehouse\, Gig Harbor
DESCRIPTION:Mark DuFresne Band featuring Billy Stapleton at Kimball Coffeehouse October 10th\, 7-9 pm
URL:https://southsoundblues.org/event/mark-dufresne-band-featuring-billy-stapleton-at-kimball-coffeehouse-gig-harbor/
LOCATION:Kimball’s Coffeehouse\, 6659 Kimball Dr\, Gig Harbor\, WA\, 98335
CATEGORIES:Local South Sound Blues
END:VEVENT
BEGIN:VEVENT
DTSTART;TZID=America/Los_Angeles:20251010T200000
DTEND;TZID=America/Los_Angeles:20251010T230000
DTSTAMP:20260423T011643
CREATED:20250905T003118Z
LAST-MODIFIED:20250905T003638Z
UID:16026-1760126400-1760137200@southsoundblues.org
SUMMARY:Stacy Jones 'Birthday Harmonica Blowout at Aurora Borealis\, Shoreline
DESCRIPTION:Stacy Jones ‘Birthday Harmonica Blowout featuring Joe Cook\, Joel Astley and Jonathan Pitman October 10th\, 8-11 pm at Aurora Borealis\, Shoreline\nAll Ages Welcome\nAurora Borealis 16708 Aurora Ave N.\, Shoreline\, Washington 98133\, 16708 Aurora Ave N\, Shoreline\, WA 98133\, USA  \n\n\n \nThe 2nd Annual ‘Stacy Jones -Birthday Harmonica Blowout’
URL:https://southsoundblues.org/event/stacy-jones-birthday-harmonica-blowout-at-aurora-borealis-shoreline/
LOCATION:Aurora Borealis\, 16708 Aurora Ave N\, Shoreline\, WA\, 98133
CATEGORIES:Special Event
END:VEVENT
BEGIN:VEVENT
DTSTART;TZID=America/Los_Angeles:20251011T190000
DTEND;TZID=America/Los_Angeles:20251011T220000
DTSTAMP:20260423T011643
CREATED:20250918T214637Z
LAST-MODIFIED:20250918T214910Z
UID:16091-1760209200-1760220000@southsoundblues.org
SUMMARY:Heather & Donnie Duo at Rock the Dock\, Tacoma
DESCRIPTION:Heather & Donnie Jones Duo at Rock the Dock October 11th\, 7pm
URL:https://southsoundblues.org/event/heather-donnie-duo-at-rock-the-dock-tacoma/
LOCATION:Rock the Dock\, 535 Dock St # 118\, Tacoma\, WA\, 98402
CATEGORIES:Local South Sound Blues
END:VEVENT
BEGIN:VEVENT
DTSTART;TZID=America/Los_Angeles:20251011T190000
DTEND;TZID=America/Los_Angeles:20251011T220000
DTSTAMP:20260423T011643
CREATED:20251007T002014Z
LAST-MODIFIED:20251007T002014Z
UID:16196-1760209200-1760220000@southsoundblues.org
SUMMARY:Kimball & The Rocking Fugitives at the Spar
DESCRIPTION:Kimball & The Rocking Fugitives at the Spar October 11th\, 7-10 pm\n 
URL:https://southsoundblues.org/event/kimball-the-rocking-fugitives-at-the-spar/
LOCATION:The Spar\, 2121 N 30th St\, Tacoma\, WA\, 98403
CATEGORIES:Featured
END:VEVENT
BEGIN:VEVENT
DTSTART;TZID=America/Los_Angeles:20251011T193000
DTEND;TZID=America/Los_Angeles:20251011T230000
DTSTAMP:20260423T011643
CREATED:20250927T011029Z
LAST-MODIFIED:20250927T011029Z
UID:16129-1760211000-1760223600@southsoundblues.org
SUMMARY:Michele D'Amour & The Love Dealers at The Madison Avenue Pub\, Everett
DESCRIPTION:Michele D’Amour & The Love Dealers at The Madison Avenue Pub October 11th\, 7:30-11:00 pm
URL:https://southsoundblues.org/event/michele-damour-the-love-dealers-at-the-madison-avenue-pub-everett/
LOCATION:Madison Avenue Pub\, 905 Madison St\, Everett\, WA\, 98203
CATEGORIES:Featured
END:VEVENT
END:VCALENDAR